{"text_format":"1","workbook":"xlsx","n_sheets":10,"sheets":["Read Me","Model Map","Dashboard","Projects Inputs ","Working Inputs","T&E","Project Cashflows","Fiscal Model","Results","Charts"],"not_rendered":{"charts":22,"images":2,"macros":1,"external_links":0,"defined_names":60,"comments":0,"pivot_tables":0},"unopened":[],"bounds":{"document_bytes":16777216,"sheet_cells":100000,"rows_first":2000,"rows_last":500,"rows_between":2000,"halvings":0,"cell_chars":16384,"cell_head_chars":4096},"cells_cut":0,"cells_raw":0,"read":"whole","date_system":"1900"}

{"sheet":"Read Me","index":0,"n_rows":73,"n_cols":5,"rows_kept":73,"cut":false,"hidden":false,"merged":[[17,3,17,26],[19,3,19,26],[65,3,65,26],[11,3,11,26],[12,3,12,26],[15,3,15,26],[26,3,26,26],[27,3,27,26]]}
[{"$f":" RIGHT( CELL(\"filename\",$B$1), LEN( CELL(\"filename\",$B$1)) - SEARCH(\"]\", CELL(\"filename\",$B$1)))","v":"Read Me"}]
[]
[null,null,"Authors","Lingyi YANG"]
[null,null,"Contact in IGF","Thomas Lassourd: tlassourd@iisd.org"]
[null,null,"Owner","IGF"]
[null,null,"Version Date","2026-03-11"]
[]
[]
[]
["User guide"]
[null,null,"Model structure"]
[null,null,null,"The model applies user-configured fiscal regimes to user-configured mining project. This simplified model is currently configured to handle deep sea mining projects for Polymetallic nodules. The model structure is set out in the MODEL MAP sheet."]
[null,null,"Checks","The model has a number of checks to test its internal consistency. These checks will remain green. If the master check cell is red, there is a problem in the model. It can be an error needs to be corrected, or the check itself refined, or the assumptions made is not going to be reached (for example: the cashflow is not enough to repay the debt as expected in the assumptions). In all case, red checks must be addressed."]
[]
[null,null,"FAST modeling standard"]
[null,null,null,"This model has been structured broadly in line with the FAST modeling standard (www.fast-standard.org/). Color coding: is set out in the ModelMap sheet Key part.  The user should only need to change cells with yellow background. "]
[null,"Inputs"]
[null,null,null,"The model utilizes data from the Technical Report Summaries for the NORI Area D Prefeasibility Study and the TOML/NORI Initial Assessment (prepared for TMC). Both projects assume a light capital strategy where the collection system is managed and recovered by a contractor through a 10-year tolling agreement with TMC.However, deviating from the reports, the model assumes no refining facility will be built. As a result, the final sale products are alloys or mattes, rather than sulfates."]
[null,null,"Project data"]
[null,null,null,"Project Assumptions are entered in INPUT sheet, including : "]
[null,null,null,null,"Project lifecycle and production: project lifecycle is composed of pre-production phase, ramp up phase, full operation phase and closure phase. Production date and nodules grades, recovery rate are provide based on technical reports."]
[null,null,null,null,"Metal price: The Polymetallic nodule collected contains mainly 4 metals to be processed and sold: Manganese, Nickel, Cobalt and Copper. Prices are set up based market analysis found in the technical reports."]
[null,null,null,null,"Project capital expenditures, sustaining capital expenditure, closure cost and their depreciations."]
[null,null,null,null,"Operating expenditures and other costs and fees"]
[null,null,null,null,"Fiscal Assumptions which can be changed in Dashboard"]
[null,null,"Financing and economic assumptions"]
[null,null,null,"Debt financing inputs are included in each fiscal regime, however in the base case there is no debt applied for both projects."]
[null,null,null,"Proportion of costs financed, interest rate and repayment period are included in fiscal regime parameters."]
[]
[null,"Dashboard"]
[null,null,null,"The DASHBOARD is where the user will spend most time driving the model."]
[null,null,null,"Select project: drop-down list on top left"]
[null,null,null,null,"NORI-D or NORI - TOML (excl. NORI-D)"]
[null,null,null,"Input fiscal assumptions"]
[null,null,null,null,"Royalty rate, corresponding stage, and Additional profits share rate can be easily input there."]
[]
[null,null,"Dashboard results"]
[null,null,null,"Project Cashflows (table and chart top-centre) : Present the project cashflows during the life of the project."]
[null,null,null,"Participants cashflows (table and chart top center-right). Breakdown of collector cashflows to different participants including: International Seabed Authority, Sponsoring State, Equity Shareholder and External Lender"]
[null,null,null,"ISA Revenue composition (table and chart right). Summary of ISA revenues by category."]
[null,null,null,"Participant Discount Cashflow including: International Seabed Authority, Sponsoring State, Collector Shareholder and Collector Shareholder Return rate  (table  and chart lower-Left)  "]
[null,null,null,"Comparison of 2 projects (table and chart below) : Comparison of cashflows for two projects , together with participants cashflows and shares."]
[]
[null,"Sensitivity Analysis"]
[null,null,{"$f":"Dashboard!A74","v":"Price Sensitivity"}]
[null,null,null,"Sensitivity analysis showing results of cashflows for different participants and ISA and Sponsoring states share of the project profits across a user-defined price range."]
[]
[null,null,{"$f":"Dashboard!A103","v":"Production Sensitivity"}]
[null,null,null,"Sensitivity analysis showing results of cashflows for different participants and ISA and Sponsoring states share of the project profits across a user-defined production range."]
[]
[null,null,{"$f":"Dashboard!A132","v":"Opex Sensitivity "}]
[null,null,null,"Sensitivity analysis showing results of cashflows for different participants and ISA and Sponsoring states share of the project profits across a user-defined opex range."]
[]
[null,null,{"$f":"Dashboard!A161","v":"Capex Sensitivity"}]
[null,null,null,"Sensitivity analysis showing results of cashflows for different participants and ISA and Sponsoring states share of the project profits across a user-defined capex range."]
[]
[null,"Workings/calculations"]
[null,null,null,"The logic flow in the model is as set out in the MODELMAP:"]
[null,null,null,"Select applicable project in Dashboard"]
[null,null,null,"Set fiscal assumptions in Dashboard"]
[]
[null,null,null,"Enter project data in INPUT sheet"]
[null,null,null,"WORKING INPUT sheet will apply inputs for selected project"]
[null,null,null,"The PROJECTCASHFLOWS sheet imports project inputs from the WORKING INPUT sheet"]
[null,null,null,"Fiscal calculations are done in the FISCALMODEL sheet"]
[null,null,null,"The RESULT sheet compiles results from the model and derives outcomes for each participants and cashflows. Different cashflows under nominal and real terms are calculated and then exported to CHARTS sheet with charts presentation and Dashboard."]
[]
[]
[]
[]
[]
[]
[null,null,null,"\\"]

{"sheet":"Model Map","index":1,"n_rows":36,"n_cols":21,"rows_kept":36,"cut":false,"hidden":false,"merged":[]}
[{"$f":" RIGHT( CELL(\"filename\",$A$1), LEN( CELL(\"filename\",$A$1)) - SEARCH(\"]\", CELL(\"filename\",$A$1)))","v":"Model Map"},null,null,null,null,{"$f":" 'Model Map'!E$25","v":"Global labels"},null,null,null,null,null,null,null,"Key"]
[]
[null,null,{"$f":"Dashboard!A1","v":"Dashboard"},null,{"$f":"Dashboard!#REF!","v":{"$error":"#REF!"}},null,{"$f":"+'T&E'!A1","v":"T&E"},null,{"$f":" Results!A1","v":"Results"},null,null,null,null,"Key"]
[null,null,null,null,{"$f":"Dashboard!A74","v":"Price Sensitivity"},null,{"$f":"+'T&E'!A5","v":"Flags and Counters"},null,{"$f":"Results!A5","v":"Project Cash Flow Allocation"},null,null,null,null,null,"Sheet tabs"]
[null,null,null,null,{"$f":"Dashboard!A103","v":"Production Sensitivity"},null,null,null,{"$f":"Results!A29","v":"Project Cashflow"},null,null,null,null,null,null,null,"Documentation Sheet",null,null,null,"Grey"]
[null,null,null,null,{"$f":" Dashboard!A132","v":"Opex Sensitivity "},null,{"$f":" 'Project Cashflows'!A1","v":"Project Cashflows"},null,{"$f":"Results!A45","v":"Projects comparison"},null,null,null,null,null,null,null,"Presentation & Control Sheet",null,null,null,"White"]
[null,null,null,null,{"$f":" Dashboard!A$161","v":"Capex Sensitivity"},null,{"$f":"'Project Cashflows'!A5","v":"Project data with sensitivity factors applied"},null,null,null,null,null,null,null,null,null,"Foundation (Input) sheets",null,null,null,"Yellow"]
[null,null,null,null,null,null,{"$f":"'Project Cashflows'!A165","v":"Project data"},null,null,null,null,null,null,null,null,null,"Working Sheet",null,null,null,"Transparent/light gray"]
[null,null,null,null,{"$f":"'Projects Inputs '!A1","v":"Projects Inputs "},null,{"$f":"'Project Cashflows'!A258","v":"Project Cashflow "},null,{"$f":" Charts!A1","v":"Charts"}]
[null,null,null,null,{"$f":"'Projects Inputs '!A5","v":"Project General Assumptions"},null,{"$f":"'Project Cashflows'!A406","v":"Project Cashflow Summary"},null,{"$f":" Charts!A4","v":"Participants Cashflows"},null,null,null,null,null,"Cells"]
[null,null,null,null,{"$f":"'Projects Inputs '!A199","v":"Other Operation Fees Assumptions"},null,null,null,{"$f":"+Charts!A40","v":"Project Cashflow "},null,null,null,null,null,null,null,"Input cell",null,null,null,"Yellow cell"]
[null,null,null,null,{"$f":"'Projects Inputs '!A210","v":"Fiscal Assumptions"},null,{"$f":" 'Fiscal Model'!A1","v":"Fiscal Model"},null,null,null,null,null,null,null,null,null,"Imported line item",null,null,null,"Blue text"]
[null,null,null,null,{"$f":"'Projects Inputs '!A226","v":"Financing Assumptions"},null,{"$f":"'Fiscal Model'!A5","v":"Royalty"},null,null,null,null,null,null,null,null,null,"Exported line item",null,null,null,"Red text"]
[null,null,null,null,{"$f":"'Projects Inputs '!A235","v":"Economic assumptions"},null,{"$f":"'Fiscal Model'!A47","v":"Debt financing"},null,null,null,null,null,null,null,null,null,"Imported Fiscal inputs from based on fiscal assumptions",null,null,null,"Green text"]
[null,null,null,null,{"$f":"'Projects Inputs '!A241","v":"Technical parameters"},null,{"$f":"'Fiscal Model'!A85","v":"Depreciation"},null,null,null,null,null,null,null,null,null,"Intra-sheet counter-flow",null,null,null,"Grey cell"]
[null,null,null,null,{"$f":"'Projects Inputs '!A251","v":"Global labels"},null,{"$f":"'Fiscal Model'!A156","v":"Project Accounting Profit & Income tax"},null,null,null,null,null,null,null,null,null,"Used for all other line items (links and formulas)",null,null,null,"Black text"]
[null,null,null,null,null,null,{"$f":"'Fiscal Model'!A184","v":"Additional Profit Share"}]
[null,null,null,null,{"$f":" 'Working Inputs'!A1","v":"Working Inputs"},null,{"$f":"'Fiscal Model'!A238","v":"Revenue Allocation"},null,null,null,null,null,null,null,"Error checks & alerts"]
[null,null,null,null,{"$f":"'Working Inputs'!A5","v":"Project General Assumptions"},null,null,null,null,null,null,null,null,null,null,null,"OK",null,null,null,"Green shade"]
[null,null,null,null,{"$f":"'Working Inputs'!A199","v":"Other Operation Fees Assumptions"},null,null,null,null,null,null,null,null,null,null,null,"Error",null,null,null,"Red shade"]
[null,null,null,null,{"$f":"'Working Inputs'!A210","v":"Fiscal Assumptions"}]
[null,null,null,null,{"$f":"'Working Inputs'!A226","v":"Financing Assumptions"},null,null,null,null,null,null,null,null,null,"Abbreviations"]
[null,null,null,null,{"$f":"'Working Inputs'!A235","v":"Economic assumptions"},null,null,null,null,null,null,null,null,null,null,null,"Average effective tax rate",null,null,null,"AETR"]
[null,null,null,null,{"$f":"'Working Inputs'!A241","v":"Technical parameters"},null,null,null,null,null,null,null,null,null,null,null,"Corporate income tax",null,null,null,"CIT"]
[null,null,null,null,{"$f":"'Working Inputs'!A251","v":"Global labels"},null,null,null,null,null,null,null,null,null,null,null,"Internal rate of return",null,null,null,"IRR"]
[null,null,null,null,null,null,null,null,null,null,null,null,null,null,null,null,"Net present value",null,null,null,"NPV"]
[null,null,null,null,null,null,null,null,null,null,null,null,null,null,null,null,"Interests",null,null,null,"Int."]
[null,null,null,null,null,null,null,null,null,null,null,null,null,null,null,null,"Millions of dry tonnes",null,null,null,"DMT"]
[null,null,null,null,null,null,null,null,null,null,null,null,null,null,null,null,"United States Dollars",null,null,null,"US$"]
[null,null,null,null,null,null,null,null,null,null,null,null,null,null,null,null,"Operating Expenditure",null,null,null,"Opex "]
[null,null,null,null,null,null,null,null,null,null,null,null,null,null,null,null,"Capital Expenditure",null,null,null,"Capex"]
[]
[]
[]
[]
[null,null,null,null,null,null,null,null,null,null,null,null,null,null,"Name ranges used in the model",null,"CHK_TOL","=Inputs!$F$73"]

{"sheet":"Dashboard","index":2,"n_rows":181,"n_cols":23,"rows_kept":181,"cut":false,"hidden":false,"merged":[]}
[{"$f":" RIGHT( CELL(\"filename\",$A$1), LEN( CELL(\"filename\",$A$1)) - SEARCH(\"]\", CELL(\"filename\",$A$1)))","v":"Dashboard"}]
[]
[null,"Overall checks",{"$f":"'Project Cashflows'!F4+'Fiscal Model'!F4+Dashboard!L72+Results!F4","v":0}]
[null,"Project, Fiscal Regime & Sensitivity factor",null,null,null,null,"Project Cashflows",null,null,null,null,null,null,null,"Participants Cashflows",null,null,null,null,"ISA Revenue Composition"]
[null,"Project selected","NORI-D","Option",null,null,"Project Cashflows - Real",null,null,null,null,null,null,null,"Participants Cashflows",null,null,null,null,"ISA Revenue Composition - Real"]
[null,null,null,null,null,null,null,"Total Cash flow",null,null,null,null,null,null,null,"US$ mn (Real)","Share%","%",null,null,null,"Total revenue","% of ISA Revenue"]
[null,"Fiscal Assumption",null,null,null,null,"Total Revenue",{"$f":"Results!I32","v":58574.18437056597},"US$ mn",null,null,null,null,null,{"$f":"'Fiscal Model'!E244","v":"ISA Revenue"},{"$f":"Results!I8","v":5220.7974809999996},"ISA %",{"$f":"Charts!F10","v":0.2712252730719083},null,"Royalty",null,{"$f":"Results!I17","v":5189.2974809999996},{"$f":"V7/$P$7","v":0.99396643901345771}]
[null,"Royalty - stage 1",2.5000000000000001E-2,"%",null,null,"Total Capital Expenditure",{"$f":"Results!I34","v":2156.6},"US$ mn",null,null,null,null,null,{"$f":"'Fiscal Model'!E254","v":"Sponsoring State Revenue"},{"$f":"Results!I10","v":3683.4742223914936},"Sponsoring State %",{"$f":"Charts!F12","v":0.19135990343569276},null,"Additional profit share",null,{"$f":"Results!I18","v":0},{"$f":"V8/$P$7","v":0}]
[null,"Royalty stage 1 duration",5,"years into production",null,null,"Operating Expenditure",{"$f":"Results!I33","v":36709.170000000013},"US$ mn",null,null,null,null,null,"All payments to public entities",{"$f":"+P8+P7","v":8904.2717033914923},"AETR",{"$f":"+R8+R7","v":0.46258517650760106},null,"Annual fees",null,{"$f":"Results!I19","v":31.5},6.0335609865423169E-3]
[null,"Royalty - stage 2",7.4999999999999997E-2,"%",null,null,"Total fees, Royalties, taxes",{"$f":"Results!I35","v":9363.7517033914937},"US$ mn",null,null,null,null,null,{"$f":"'Fiscal Model'!E248","v":"Project equity cashflow"},{"$f":"Results!I9","v":10344.662667174485},"Project Equity Shareholder %",{"$f":"Charts!F11","v":0.53741482349239877}]
[null,"Additional profit share",0.25,"%",null,null,"Project Net Cashflow",{"$f":"Results!I36","v":10344.662667174485},"US$ mn",null,null,null,null,null,{"$f":"'Fiscal Model'!E257","v":"Loan provider cashflow"},{"$f":"Results!I11","v":0},"Loan provider %",{"$f":"Charts!F13","v":0},null,"Check: ISA Revenue",null,{"$f":" IF( ABS( V7+V8+V9-Dashboard!P7 ) > CHK_TOL, 1, 0)","v":0}]
[null,"Additional Profits share adjustment factor",1.1000000000000001,null,null,null,null,null,null,null,"Go to:",null,null,null,"Check: Participant cashflow",{"$f":" IF( ABS( P10+P9+P11-Results!I12 ) > CHK_TOL, 1, 0)","v":0}]
[null,"CIT Rate - Sponsoring state",0.25,null,null,null,"Check: Project Net Cashflow",{"$f":" IF( ABS( H7-H8-H9-H10-H11 ) > CHK_TOL, 1, 0)","v":0},null,null,{"$f":"Charts!A40","v":"Project Cashflow "}]
[null,"Additionam profit share reductible for CIT",0,"1 = Yes, 0 = No"]
[]
[null,"Price sensitivity",1,"factor"]
[null,"Production sensitivity",1,"factor"]
[null,"Opex sensitivity",1,"factor"]
[null,"Capex sensitivity ",1,"factor"]
[]
[null,"Participants Discount Cashflow "]
[null,"ISA Revenue NPV8",{"$f":"Results!F24","v":1826.0537368732887},"US$ mn"]
[null,"Sponsoring State Revenue NPV8",{"$f":"Results!F25","v":1387.5686824838008},"US$ mn"]
[null,"Project equity Shareholder NPV8",{"$f":"Results!F40","v":3668.4920052265015},"US$ mn"]
[null,"Project equity Shareholder IRR (real term CF)",{"$f":"Results!F41","v":0.41413745697278181},"%"]
[null,"Project equity Shareholder Payback Period",{"$f":"Results!F42","v":6},"Years"]
[]
[]
[]
[]
[]
[]
[]
[]
[null,"Results for two projects"]
[]
[null,null,null,null,null,null,null,null,null,null,null,null,null,null,null,null,null,null,null,"Project cashflow","US$ mn",{"$f":"'Projects Inputs '!F2","v":"NORI-D"},{"$f":"'Projects Inputs '!G2","v":"NORI - TOML (excl. NORI-D)"}]
[null,null,null,null,null,null,null,null,null,null,null,null,null,null,null,null,null,null,null,{"$f":"G7","v":"Total Revenue"},{"$f":"H7","v":58574.18437056597},58574.18437056597,231455.57088643668]
[null,null,null,null,null,null,null,null,null,null,null,null,null,null,null,null,null,null,null,{"$f":"G8","v":"Total Capital Expenditure"},{"$f":"H8","v":2156.6},2156.6,5428]
[null,null,null,null,null,null,null,null,null,null,null,null,null,null,null,null,null,null,null,"Operating Expenditure",36709.170000000013,36709.170000000013,110221.57999999997]
[null,null,null,null,null,null,null,null,null,null,null,null,null,null,null,null,null,null,null,"Total fees, Royalties, taxes",9363.7517033914937,9363.7517033914937,46517.935677094734]
[null,null,null,null,null,null,null,null,null,null,null,null,null,null,null,null,null,null,null,"Project Net Cashflow",10344.662667174485,10344.662667174485,69288.055209341954]
[null,null,null,null,null,null,null,null,null,null,null,null,null,null,null,null,null,null,null,null,null,0,0]
[null,null,null,null,null,null,null,null,null,null,null,null,null,null,null,null,null,null,null,"Participant cashflows",null,0,0]
[null,null,null,null,null,null,null,null,null,null,null,null,null,null,null,null,null,null,null,{"$f":"O7","v":"ISA Revenue"},{"$f":"P7","v":5220.7974809999996},5220.7974809999996,22423.966091897415]
[null,null,null,null,null,null,null,null,null,null,null,null,null,null,null,null,null,null,null,{"$f":"O8","v":"Sponsoring State Revenue"},{"$f":"P8","v":3683.4742223914936},3683.4742223914936,23423.929585197322]
[null,null,null,null,null,null,null,null,null,null,null,null,null,null,null,null,null,null,null,{"$f":"O9","v":"All payments to public entities"},8904.2717033914923,8904.2717033914923,45847.895677094741]
[null,null,null,null,null,null,null,null,null,null,null,null,null,null,null,null,null,null,null,{"$f":"O10","v":"Project equity cashflow"},10344.662667174485,10344.662667174485,69288.055209341954]
[null,null,null,null,null,null,null,null,null,null,null,null,null,null,null,null,null,null,null,{"$f":"O11","v":"Loan provider cashflow"},0,0,0]
[null,null,null,null,null,null,null,null,null,null,null,null,null,null,null,null,null,null,null,null,null,0,0]
[null,null,null,null,null,null,null,null,null,null,null,null,null,null,null,null,null,null,null,"Participant cashflows %",null,0,0]
[null,null,null,null,null,null,null,null,null,null,null,null,null,null,null,null,null,null,null,{"$f":"$Q$7","v":"ISA %"},{"$f":"R7","v":0.2712252730719083},0.2712252730719083,0.19476076689560751]
[null,null,null,null,null,null,null,null,null,null,null,null,null,null,null,null,null,null,null,{"$f":"$Q$8","v":"Sponsoring State %"},{"$f":"R8","v":0.19135990343569276},0.19135990343569276,0.20344583429289867]
[null,null,null,null,null,null,null,null,null,null,null,null,null,null,null,null,null,null,null,{"$f":"$Q$9","v":"AETR"},0.46258517650760106,0.46258517650760106,0.39820660118850615]
[null,null,null,null,null,null,null,null,null,null,null,null,null,null,null,null,null,null,null,{"$f":"$Q$10","v":"Project Equity Shareholder %"},0.53741482349239877,0.53741482349239877,0.60179339881149363]
[null,null,null,null,null,null,null,null,null,null,null,null,null,null,null,null,null,null,null,{"$f":"$Q$11","v":"Loan provider %"},0,0,0]
[null,null,null,null,null,null,null,null,null,null,null,null,null,null,null,null,null,null,null,null,null,0,0]
[null,null,null,null,null,null,null,null,null,null,null,null,null,null,null,null,null,null,null,"ISA Revenue Composition",null,0,0]
[null,null,null,null,null,null,null,null,null,null,null,null,null,null,null,null,null,null,null,{"$f":"T7","v":"Royalty"},{"$f":"V7","v":5189.2974809999996},5189.2974809999996,22136.369745647418]
[null,null,null,null,null,null,null,null,null,null,null,null,null,null,null,null,null,null,null,{"$f":"T8","v":"Additional profit share"},{"$f":"V8","v":0},0,245.59634624999751]
[null,null,null,null,null,null,null,null,null,null,null,null,null,null,null,null,null,null,null,{"$f":"T9","v":"Annual fees"},{"$f":"V9","v":31.5},31.5,42]
[]
[]
[{"$f":" RIGHT( CELL(\"filename\",$A$1), LEN( CELL(\"filename\",$A$1)) - SEARCH(\"]\", CELL(\"filename\",$A$1)))","v":"Dashboard"}]
[]
[null,"Links to analytical routines",null,null,null,null,"Dashboard Check"]
[]
[null,{"$f":"A74","v":"Price Sensitivity"},null,null,null,null,{"$f":"G13","v":"Check: Project Net Cashflow"},null,null,null,null,{"$f":"H13","v":0},"Check"]
[null,{"$f":"A103","v":"Production Sensitivity"},null,null,null,null,{"$f":"O12","v":"Check: Participant cashflow"},null,null,null,null,{"$f":"P12","v":0},"Check"]
[null,{"$f":"A132","v":"Opex Sensitivity "},null,null,null,null,{"$f":"T11","v":"Check: ISA Revenue"},null,null,null,null,{"$f":"V11","v":0},"Check"]
[null,{"$f":"A161","v":"Capex Sensitivity"}]
[null,null,null,null,null,null,"Check: Dashboard",null,null,null,null,{"$f":"+SUM(L68:L70)","v":0},"Check"]
["Sensitivity Analysis"]
["Price Sensitivity",null,null,null,null,"Go to",{"$f":"$A$1","v":"Dashboard"}]
[]
[]
[]
[null,null,null,null,null,null,null,null,null,null,null,null,null,null,null,{"$f":"B$5","v":"Project selected"},{"$f":"C$5","v":"NORI-D"},{"$f":"D$5","v":"Option"}]
[]
[]
[null,null,null,null,null,null,null,null,null,null,null,null,null,null,null,{"$f":"B16","v":"Price sensitivity"},{"$f":"C16","v":1},{"$f":"D16","v":"factor"}]
[null,null,null,null,null,null,null,null,null,null,null,null,null,null,null,"Starting price multiplier",0.8,"%"]
[null,null,null,null,null,null,null,null,null,null,null,null,null,null,null,"Increment",0.1,"%"]
[]
[null,null,null,null,null,null,null,null,null,null,null,null,null,null,null,{"$f":"$O$5&\" - \"&P81","v":"Participants Cashflows - Price sensitivity"}]
[null,null,null,null,null,null,null,null,null,null,null,null,null,null,null,"US$ mn",null,{"$f":"$Q$82","v":0.8},{"$f":"R86+$Q$83","v":0.9},{"$f":"S86+$Q$83","v":1},{"$f":"T86+$Q$83","v":1.1000000000000001},{"$f":"U86+$Q$83","v":1.2000000000000002}]
[null,null,null,null,null,null,null,null,null,null,null,null,null,null,null,{"$f":"$O$7","v":"ISA Revenue"},{"$f":"$P$7","v":5220.7974809999996},4182.9379848000008,4701.8677329000002,5220.7974809999996,5739.7272291000008,6258.6569771999984]
[null,null,null,null,null,null,null,null,null,null,null,null,null,null,null,{"$f":"$O$8","v":"Sponsoring State Revenue"},{"$f":"$P$8","v":3683.4742223914936},1014.2298779131978,2348.8520501523458,3683.4742223914936,5018.0963946306465,6352.7185668697948]
[null,null,null,null,null,null,null,null,null,null,null,null,null,null,null,{"$f":"$O$9","v":"All payments to public entities"},{"$f":"$P$9","v":8904.2717033914923},5197.1678627131987,7050.7197830523455,8904.2717033914923,10757.823623730648,12611.375544069793]
[null,null,null,null,null,null,null,null,null,null,null,null,null,null,null,{"$f":"$O$10","v":"Project equity cashflow"},{"$f":"$P$10","v":10344.662667174485},2336.9296337395917,6340.7961504570394,10344.662667174485,14348.529183891942,18352.395700609384]
[null,null,null,null,null,null,null,null,null,null,null,null,null,null,null,{"$f":"$O$11","v":"Loan provider cashflow"},{"$f":"$P$11","v":0},0,0,0,0,0]
[null,null,null,null,null,null,null,null,null,null,null,null,null,null,null,{"$f":"$Q$6&\" - \"&P81","v":"Share% - Price sensitivity"},null,0,0,0,0,0]
[null,null,null,null,null,null,null,null,null,null,null,null,null,null,null,{"$f":"$Q$9","v":"AETR"},{"$f":"$R$9","v":0.46258517650760106},0.68981956566929659,0.52650647007105744,0.46258517650760106,0.42849009994253107,0.40729455867676118]
[null,null,null,null,null,null,null,null,null,null,null,null,null,null,null,{"$f":"$Q$7","v":"ISA %"},{"$f":"$R$7","v":0.2712252730719083},0.55520093637883172,0.35110795194848626,0.2712252730719083,0.22861652877583047,0.20212838183512571]
[null,null,null,null,null,null,null,null,null,null,null,null,null,null,null,{"$f":"$Q$8","v":"Sponsoring State %"},{"$f":"$R$8","v":0.19135990343569276},0.13461862929046489,0.17539851812257118,0.19135990343569276,0.19987357116670063,0.20516617684163546]
[null,null,null,null,null,null,null,null,null,null,null,null,null,null,null,{"$f":"$R$7","v":0.2712252730719083}]
[]
[]
[]
[]
[]
[]
["Production Sensitivity",null,null,null,null,"Go to",{"$f":"$A$1","v":"Dashboard"}]
[]
[]
[null,null,null,null,null,null,null,null,null,null,null,null,null,null,null,{"$f":"B$5","v":"Project selected"},{"$f":"C$5","v":"NORI-D"},{"$f":"D$5","v":"Option"}]
[]
[]
[null,null,null,null,null,null,null,null,null,null,null,null,null,null,null,{"$f":"B17","v":"Production sensitivity"},{"$f":"C17","v":1},{"$f":"D17","v":"factor"}]
[null,null,null,null,null,null,null,null,null,null,null,null,null,null,null,"Starting production multiplier",0.8,"%"]
[null,null,null,null,null,null,null,null,null,null,null,null,null,null,null,"Increment",0.1,"%"]
[]
[null,null,null,null,null,null,null,null,null,null,null,null,null,null,null,{"$f":"$O$5&\" - \"&P109","v":"Participants Cashflows - Production sensitivity"}]
[null,null,null,null,null,null,null,null,null,null,null,null,null,null,null,"US$ mn",null,{"$f":"$Q$110","v":0.8},{"$f":"R114+$Q$111","v":0.9},{"$f":"S114+$Q$111","v":1},{"$f":"T114+$Q$111","v":1.1000000000000001},{"$f":"U114+$Q$111","v":1.2000000000000002}]
[null,null,null,null,null,null,null,null,null,null,null,null,null,null,null,{"$f":"$O$7","v":"ISA Revenue"},{"$f":"$P$7","v":5220.7974809999996},4182.9379848000008,4701.8677329000002,5220.7974809999996,5739.7272291000008,6258.6569772000003]
[null,null,null,null,null,null,null,null,null,null,null,null,null,null,null,{"$f":"$O$8","v":"Sponsoring State Revenue"},{"$f":"$P$8","v":3683.4742223914936},2843.1243779131951,3263.2993001523459,3683.4742223914936,4103.6491446306463,4523.8240668697954]
[null,null,null,null,null,null,null,null,null,null,null,null,null,null,null,{"$f":"$O$9","v":"All payments to public entities"},{"$f":"$P$9","v":8904.2717033914923},7026.0623627131954,7965.1670330523466,8904.2717033914923,9843.3763737306472,10782.481044069795]
[null,null,null,null,null,null,null,null,null,null,null,null,null,null,null,{"$f":"$O$10","v":"Project equity cashflow"},{"$f":"$P$10","v":10344.662667174485},7941.7651337395864,9143.2139004570345,10344.662667174485,11546.111433891936,12747.560200609383]
[null,null,null,null,null,null,null,null,null,null,null,null,null,null,null,{"$f":"$O$11","v":"Loan provider cashflow"},{"$f":"$P$11","v":0},0,0,0,0,0]
[null,null,null,null,null,null,null,null,null,null,null,null,null,null,null,{"$f":"$Q$6&\" - \"&P109","v":"Share% - Production sensitivity"},null,0,0,0,0,0]
[null,null,null,null,null,null,null,null,null,null,null,null,null,null,null,{"$f":"$Q$9","v":"AETR"},{"$f":"$R$9","v":0.46258517650760106},0.46941096591194009,0.46557105923748454,0.46258517650760106,0.46019691833026299,0.45824318503938133]
[null,null,null,null,null,null,null,null,null,null,null,null,null,null,null,{"$f":"$Q$7","v":"ISA %"},{"$f":"$R$7","v":0.2712252730719083},0.27946193165249356,0.2748283283598551,0.2712252730719083,0.2683433694496663,0.26598580563964219]
[null,null,null,null,null,null,null,null,null,null,null,null,null,null,null,{"$f":"$Q$8","v":"Sponsoring State %"},{"$f":"$R$8","v":0.19135990343569276},0.18994903425944654,0.19074273087762941,0.19135990343569276,0.19185354888059666,0.19225737939973916]
[]
[]
[]
[]
[]
[]
[]
[]
["Opex Sensitivity ",null,null,null,null,"Go to",{"$f":"$A$1","v":"Dashboard"}]
[]
[]
[null,null,null,null,null,null,null,null,null,null,null,null,null,null,null,{"$f":"B$5","v":"Project selected"},{"$f":"C$5","v":"NORI-D"},{"$f":"D$5","v":"Option"}]
[null,null,null,null,null,null,null,null,null,null,null,null,null,null,null,{"$f":"B$6","v":0},{"$f":"C$6","v":0},{"$f":"D$6","v":0}]
[]
[null,null,null,null,null,null,null,null,null,null,null,null,null,null,null,{"$f":"B18","v":"Opex sensitivity"},{"$f":"C18","v":1},{"$f":"D18","v":"factor"}]
[null,null,null,null,null,null,null,null,null,null,null,null,null,null,null,"Starting opex multiplier",0.8,"%"]
[null,null,null,null,null,null,null,null,null,null,null,null,null,null,null,"Increment",0.1,"%"]
[]
[null,null,null,null,null,null,null,null,null,null,null,null,null,null,null,{"$f":"$O$5&\" - \"&P138","v":"Participants Cashflows - Opex sensitivity"}]
[null,null,null,null,null,null,null,null,null,null,null,null,null,null,null,"US$ mn",null,{"$f":"$Q$139","v":0.8},{"$f":"R143+$Q$140","v":0.9},{"$f":"S143+$Q$140","v":1},{"$f":"T143+$Q$140","v":1.1000000000000001},{"$f":"U143+$Q$140","v":1.2000000000000002}]
[null,null,null,null,null,null,null,null,null,null,null,null,null,null,null,{"$f":"$O$7","v":"ISA Revenue"},{"$f":"$P$7","v":5220.7974809999996},5220.7974809999996,5220.7974809999996,5220.7974809999996,5279.4290804671164,5349.2587529671164]
[null,null,null,null,null,null,null,null,null,null,null,null,null,null,null,{"$f":"$O$8","v":"Sponsoring State Revenue"},{"$f":"$P$8","v":3683.4742223914936},5596.4327223914934,4639.953472391494,3683.4742223914936,2726.9949723914933,1770.5157223914921]
[null,null,null,null,null,null,null,null,null,null,null,null,null,null,null,{"$f":"$O$9","v":"All payments to public entities"},{"$f":"$P$9","v":8904.2717033914923},10817.230203391493,9860.7509533914927,8904.2717033914923,8006.4240528586097,7119.7744753586085]
[null,null,null,null,null,null,null,null,null,null,null,null,null,null,null,{"$f":"$O$10","v":"Project equity cashflow"},{"$f":"$P$10","v":10344.662667174485},16083.538167174482,13214.100417174481,10344.662667174485,7416.593317707363,4477.3258952073584]
[null,null,null,null,null,null,null,null,null,null,null,null,null,null,null,{"$f":"$O$11","v":"Loan provider cashflow"},{"$f":"$P$11","v":0},0,0,0,0,0]
[null,null,null,null,null,null,null,null,null,null,null,null,null,null,null,{"$f":"$Q$6&\" - \"&P138","v":"Share% - Opex sensitivity"},null,0,0,0,0,0]
[null,null,null,null,null,null,null,null,null,null,null,null,null,null,null,{"$f":"$Q$9","v":"AETR"},{"$f":"$R$9","v":0.46258517650760106},0.40211603082785485,0.42733757175873988,0.46258517650760106,0.519121768489897,0.6139271238376931]
[null,null,null,null,null,null,null,null,null,null,null,null,null,null,null,{"$f":"$Q$7","v":"ISA %"},{"$f":"$R$7","v":0.2712252730719083},0.19407614715988711,0.22625486930154584,0.2712252730719083,0.34230844416622597,0.46125829578433319]
[null,null,null,null,null,null,null,null,null,null,null,null,null,null,null,{"$f":"$Q$8","v":"Sponsoring State %"},{"$f":"$R$8","v":0.19135990343569276},0.20803988366796777,0.20108270245719406,0.19135990343569276,0.176813324323671,0.15266882805335993]
[]
[]
[]
[]
[]
[]
[]
[]
["Capex Sensitivity",null,null,null,null,"Go to",{"$f":"$A$1","v":"Dashboard"}]
[]
[]
[null,null,null,null,null,null,null,null,null,null,null,null,null,null,null,{"$f":"B$5","v":"Project selected"},{"$f":"C$5","v":"NORI-D"},{"$f":"D$5","v":"Option"}]
[null,null,null,null,null,null,null,null,null,null,null,null,null,null,null,{"$f":"B$6","v":0},{"$f":"C$6","v":0},{"$f":"D$6","v":0}]
[]
[null,null,null,null,null,null,null,null,null,null,null,null,null,null,null,{"$f":"B19","v":"Capex sensitivity "},{"$f":"C19","v":1},{"$f":"D19","v":"factor"}]
[null,null,null,null,null,null,null,null,null,null,null,null,null,null,null,"Starting capex multiplier",0.8,"%"]
[null,null,null,null,null,null,null,null,null,null,null,null,null,null,null,"Increment",0.1,"%"]
[]
[null,null,null,null,null,null,null,null,null,null,null,null,null,null,null,{"$f":"$O$5&\" - \"&P167","v":"Participants Cashflows - Capex sensitivity "}]
[null,null,null,null,null,null,null,null,null,null,null,null,null,null,null,"US$ mn",null,{"$f":"$Q$168","v":0.8},{"$f":"R172+$Q$169","v":0.9},{"$f":"S172+$Q$169","v":1},{"$f":"T172+$Q$169","v":1.1000000000000001},{"$f":"U172+$Q$169","v":1.2000000000000002}]
[null,null,null,null,null,null,null,null,null,null,null,null,null,null,null,{"$f":"$O$7","v":"ISA Revenue"},{"$f":"$P$7","v":5220.7974809999996},5221.8175959748942,5220.7974809999996,5220.7974809999996,5220.7974809999996,5220.7974809999996]
[null,null,null,null,null,null,null,null,null,null,null,null,null,null,null,{"$f":"$O$8","v":"Sponsoring State Revenue"},{"$f":"$P$8","v":3683.4742223914936},3708.054222391494,3695.7642223914941,3683.4742223914936,3671.1842223914946,3658.8942223914942]
[null,null,null,null,null,null,null,null,null,null,null,null,null,null,null,{"$f":"$O$9","v":"All payments to public entities"},{"$f":"$P$9","v":8904.2717033914923},8929.8718183663877,8916.5617033914932,8904.2717033914923,8891.9817033914951,8879.6917033914942]
[null,null,null,null,null,null,null,null,null,null,null,null,null,null,null,{"$f":"$O$10","v":"Project equity cashflow"},{"$f":"$P$10","v":10344.662667174485},10417.38255219959,10381.532667174484,10344.662667174485,10307.792667174486,10270.922667174484]
[null,null,null,null,null,null,null,null,null,null,null,null,null,null,null,{"$f":"$O$11","v":"Loan provider cashflow"},{"$f":"$P$11","v":0},0,0,0,0,0]
[null,null,null,null,null,null,null,null,null,null,null,null,null,null,null,{"$f":"$Q$6&\" - \"&P167","v":"Share% - Capex sensitivity "},null,0,0,0,0,0]
[null,null,null,null,null,null,null,null,null,null,null,null,null,null,null,{"$f":"$Q$9","v":"AETR"},{"$f":"$R$9","v":0.46258517650760106},0.46155757542278875,0.46204363665001524,0.46258517650760106,0.46312948953312982,0.46367659708293002]
[null,null,null,null,null,null,null,null,null,null,null,null,null,null,null,{"$f":"$Q$7","v":"ISA %"},{"$f":"$R$7","v":0.2712252730719083},0.26989967134143467,0.27053435332780384,0.2712252730719083,0.27191973094244737,0.27261775418673956]
[null,null,null,null,null,null,null,null,null,null,null,null,null,null,null,{"$f":"$Q$8","v":"Sponsoring State %"},{"$f":"$R$8","v":0.19135990343569276},0.19165790408135411,0.19150928332221143,0.19135990343569276,0.19120975859068248,0.19105884289619046]

{"sheet":"Projects Inputs ","index":3,"n_rows":256,"n_cols":16384,"rows_kept":256,"cut":false,"hidden":false,"merged":[]}
[{"$f":" RIGHT( CELL(\"filename\",$A$1), LEN( CELL(\"filename\",$A$1)) - SEARCH(\"]\", CELL(\"filename\",$A$1)))","v":"Projects Inputs "},null,null,null,null,null,null,null,null,null,null,{"$f":"'Project Cashflows'!K1","v":1},{"$f":"'Project Cashflows'!L1","v":2},{"$f":"'Project Cashflows'!M1","v":3},{"$f":"'Project Cashflows'!N1","v":4},{"$f":"'Project Cashflows'!O1","v":5},{"$f":"'Project Cashflows'!P1","v":6},{"$f":"'Project Cashflows'!Q1","v":7},{"$f":"'Project Cashflows'!R1","v":8},{"$f":"'Project Cashflows'!S1","v":9},{"$f":"'Project Cashflows'!T1","v":10},{"$f":"'Project Cashflows'!U1","v":11},{"$f":"'Project Cashflows'!V1","v":12},{"$f":"'Project Cashflows'!W1","v":13},{"$f":"'Project Cashflows'!X1","v":14},{"$f":"'Project Cashflows'!Y1","v":15},{"$f":"'Project Cashflows'!Z1","v":16},{"$f":"'Project Cashflows'!AA1","v":17},{"$f":"'Project Cashflows'!AB1","v":18},{"$f":"'Project Cashflows'!AC1","v":19},{"$f":"'Project Cashflows'!AD1","v":20},{"$f":"'Project Cashflows'!AE1","v":21},{"$f":"'Project Cashflows'!AF1","v":22},{"$f":"'Project Cashflows'!AG1","v":23},{"$f":"'Project Cashflows'!AH1","v":24},{"$f":"'Project Cashflows'!AI1","v":25},{"$f":"'Project Cashflows'!AJ1","v":26},{"$f":"'Project Cashflows'!AK1","v":27},{"$f":"'Project Cashflows'!AL1","v":28},{"$f":"'Project Cashflows'!AM1","v":29},{"$f":"'Project Cashflows'!AN1","v":30},{"$f":"'Project Cashflows'!AO1","v":31}]
[null,null,null,null,"Row description","NORI-D","NORI - TOML (excl. NORI-D)","Units","Comments","Total"]
[null,null,null,null,null,null,null,{"$f":" 'Model Map'!$E$25","v":"Global labels"}]
[]
["Project General Assumptions"]
[]
[null,null,null,null,"Project Selected",{"$f":"Dashboard!C5","v":"NORI-D"}]
[]
[null,"Production lifecycle and productions data"]
[]
[null,null,"Project lifecycle"]
[null,null,null,null,"Project start year",2025,2032,"year"]
[null,null,null,null,"Pre-production - start",1,1,"year # ","TMC -Technical Report Summary of Prefeasibility Study of NORI Area D"]
[null,null,null,null,"Pre-production - end",2,5,"year # ","TMC -Technical Report Summary of Prefeasibility Study of NORI Area D"]
[null,null,null,null,"Ramp Up area 1 - start",3,6,"year # ","TMC -Technical Report Summary of Prefeasibility Study of NORI Area D"]
[null,null,null,null,"Ramp Up area 1 - end",6,7,"year # ","TMC -Technical Report Summary of Prefeasibility Study of NORI Area D"]
[null,null,null,null,"Full Operation area 1- start",7,8,"year # ","TMC -Technical Report Summary of Prefeasibility Study of NORI Area D"]
[null,null,null,null,"Full Operation area 1- end",20,12,"year # ","TMC -Technical Report Summary of Prefeasibility Study of NORI Area D"]
[null,null,null,null,"Operation closing area 1 - start ",21,13,"year # ","TMC -Technical Report Summary of Prefeasibility Study of NORI Area D"]
[null,null,null,null,"Operation closing area 1 - end",21,13,"year # ","TMC -Technical Report Summary of Prefeasibility Study of NORI Area D"]
[null,null,null,null,"Ramp Up area 2 - start",null,13,"year # ","TMC -Technical Report Summary of Prefeasibility Study of NORI Area D"]
[null,null,null,null,"Ramp Up area 2- end",null,15,"year # ","TMC -Technical Report Summary of Prefeasibility Study of NORI Area D"]
[null,null,null,null,"Full Operation area 2 - start",null,16,"year # ","TMC -Technical Report Summary of Prefeasibility Study of NORI Area D"]
[null,null,null,null,"Full Operation area 2 - end",null,27,"year # ","TMC -Technical Report Summary of Prefeasibility Study of NORI Area D"]
[null,null,null,null,"Operation closing area 2 - start ",null,28,"year # ","TMC -Technical Report Summary of Prefeasibility Study of NORI Area D"]
[null,null,null,null,"Operation closing area 2 - end",null,28,"year # ","TMC -Technical Report Summary of Prefeasibility Study of NORI Area D"]
[null,null,null,null,"Project Closure - start",22,29,"year # ","TMC -Technical Report Summary of Prefeasibility Study of NORI Area D"]
[null,null,null,null,"Project Closure - end",31,38,"year # ","TMC -Technical Report Summary of Prefeasibility Study of NORI Area D"]
[null,null,null,null,"Production year adjustment ",1,null,"year # ","Adjusted for 1 year as the production starts Q4 of the first production year"]
[]
[null,null,"Production ramp up rate"]
[null,null,null,null,"Ramp up production area 1 (year 1)",0.2,7,"Mwmtpa","TMC -Technical Report Summary of Prefeasibility Study of NORI Area D"]
[null,null,null,null,"Ramp up production area 1 (year 2)",1,14,"Mwmtpa","TMC -Technical Report Summary of Prefeasibility Study of NORI Area D"]
[null,null,null,null,"Ramp up production area 1 (year 3)",2,null,"Mwmtpa","TMC -Technical Report Summary of Prefeasibility Study of NORI Area D"]
[null,null,null,null,"Ramp up production  area 1 (year 4)",5,null,"Mwmtpa","TMC -Technical Report Summary of Prefeasibility Study of NORI Area D"]
[null,null,null,null,"Annual Full operation capacity area 1( Wet Ore)",10.75,21,"Mwmtpa","TMC -Technical Report Summary of Prefeasibility Study of NORI Area D"]
[null,null,null,null,"Operation closing production area 1",5.4,9,"Mwmtpa"]
[null,null,null,null,"Ramp up production area 2 (year 1)",null,8.6,"Mwmtpa"]
[null,null,null,null,"Ramp up production area 2 (year 2)",null,22.5,"Mwmtpa"]
[null,null,null,null,"Ramp up production area 2 (year 3)",null,30,"Mwmtpa"]
[null,null,null,null,"Annual Full operation capacity area 2( Wet Ore)",null,37.92,"Mwmtpa","TMC -Technical Report Summary of Prefeasibility Study of NORI Area D"]
[null,null,null,null,"Operation closing production area 2",null,18.899999999999999,"Mwmtpa"]
[null,null,null,null,"Wet ore to Dry ore rate area 1",0.72,0.72,null,"Inferred from TMC -Technical Report Summary of Prefeasibility Study of NORI Area D"]
[null,null,null,null,"Wet ore to Dry ore rate area 2",null,0.73699999999999999]
[]
[null,null,"Nodules metal grade Area 1"]
[null,null,null,null,"Manganese",0.3115,0.3231,"%","TMC -Technical Report Summary of Prefeasibility Study of NORI Area D"]
[null,null,null,null,"Nickel",1.4E-2,1.4E-2,"%","TMC -Technical Report Summary of Prefeasibility Study of NORI Area D"]
[null,null,null,null,"Cobalt",1.4E-3,1.33E-3,"%","TMC -Technical Report Summary of Prefeasibility Study of NORI Area D"]
[null,null,null,null,"Copper",1.14E-2,1.2500000000000001E-2,"%","TMC -Technical Report Summary of Prefeasibility Study of NORI Area D"]
[]
[null,null,"Nodules metal grade Area 2"]
[null,null,null,null,"Manganese",0.3115,0.2797,"%","TMC -Technical Report Summary of Prefeasibility Study of NORI Area D"]
[null,null,null,null,"Nickel",1.4E-2,1.2699999999999999E-2,"%","TMC -Technical Report Summary of Prefeasibility Study of NORI Area D"]
[null,null,null,null,"Cobalt",1.4E-3,2.2399999999999998E-3,"%","TMC -Technical Report Summary of Prefeasibility Study of NORI Area D"]
[null,null,null,null,"Copper",1.14E-2,1.0699999999999999E-2,"%","TMC -Technical Report Summary of Prefeasibility Study of NORI Area D"]
[]
[null,null,"Nodules recovery phase"]
[null,null,null,null,"Alloy production - start",3,null,"year # ","TMC -Technical Report Summary of Prefeasibility Study of NORI Area D"]
[null,null,null,null,"Alloy production - end",4,null,"year # ","TMC -Technical Report Summary of Prefeasibility Study of NORI Area D"]
[null,null,null,null,"Alloy - Matte transition - start",5,null,"year # ","TMC -Technical Report Summary of Prefeasibility Study of NORI Area D"]
[null,null,null,null,"Alloy - Matte transition - end",5,null,"year # ","TMC -Technical Report Summary of Prefeasibility Study of NORI Area D"]
[null,null,null,null,"Matte production - start",6,6,"year # ","TMC -Technical Report Summary of Prefeasibility Study of NORI Area D"]
[null,null,null,null,"Matte production - end",21,28,"year # ","TMC -Technical Report Summary of Prefeasibility Study of NORI Area D"]
[]
[null,null,null,null,"Alloy % during transition",0.32,null,"%","Inferred from TMC -Technical Report Summary of Prefeasibility Study of NORI Area D"]
[]
[null,null,"Nodules recovery rate"]
[null,null,null,null,"Manganese - Silicate",0.98899999999999999,0.98899999999999999,"%","TMC -Technical Report Summary of Prefeasibility Study of NORI Area D"]
[null,null,null,null,"Nickel - Alloy",0.96909999999999996,null,"%","TMC -Technical Report Summary of Prefeasibility Study of NORI Area D"]
[null,null,null,null,"Cobalt - Alloy",0.93059999999999998,null,"%","TMC -Technical Report Summary of Prefeasibility Study of NORI Area D"]
[null,null,null,null,"Copper - Alloy",0.9355,null,"%","TMC -Technical Report Summary of Prefeasibility Study of NORI Area D"]
[null,null,null,null,"Nickel - Matte",0.9476,0.9476,"%","TMC -Technical Report Summary of Prefeasibility Study of NORI Area D"]
[null,null,null,null,"Cobalt - Matte",0.77539999999999998,0.77539999999999998,"%","TMC -Technical Report Summary of Prefeasibility Study of NORI Area D"]
[null,null,null,null,"Copper - Matte",0.86429999999999996,0.86429999999999996,"%","TMC -Technical Report Summary of Prefeasibility Study of NORI Area D"]
[]
[null,"Metal Price forecasts"]
[null,null,null,null,"Metal price bracket 1 ",6,1,"end year # as of production"]
[null,null,null,null,"Metal price bracket 2  ",11,2,"end year # as of production"]
[null,null,null,null,"Metal price bracket 3  ",19,23,"end year # as of production"]
[]
[null,null,null,null,"Price - Nickel Class 1 LME ",18833,20360,"US$ /t"]
[null,null,null,null,"Price - Nickel Class 1 LME ",20706,20360,"US$ /t"]
[null,null,null,null,"Price - Nickel Class 1 LME ",20360,20360,"US$ /t"]
[]
[null,null,null,null,"Price - Cobalt LME ",34172,62529.599999999999,"US$ /t"]
[null,null,null,null,"Price - Cobalt LME ",53124,62529.599999999999,"US$ /t"]
[null,null,null,null,"Price - Cobalt LME ",62530,62529.599999999999,"US$ /t"]
[]
[null,null,null,null,"Price - Copper Class 1 LME ",11317,11456.4,"US$ /t"]
[null,null,null,null,"Price - Copper Class 1 LME ",11456,11456.4,"US$ /t"]
[null,null,null,null,"Price - Copper Class 1 LME ",11456,11456.4,"US$ /t"]
[]
[null,null,null,null,"Price - Manganese",5.29,5.23,"US$ /DMTU"]
[null,null,null,null,"Price - Manganese",5.44,4.96,"US$ /DMTU"]
[null,null,null,null,"Price - Manganese",5.5,4.7,"US$ /DMTU"]
[]
[null,"Alloy/Matte Payable terms"]
[null,null,null,null,"Alloy/Matte Payable terms bracket 1 2027 - 2031",5,null,"end year # as of production"]
[null,null,null,null,"Alloy/Matte Payable terms bracket 2  2032-2036",10,null,"end year # as of production"]
[null,null,null,null,"Alloy/Matte Payable terms bracket 3  2037-2045+",19,null,"end year # as of production"]
[]
[null,null,null,null,"Alloy - Payable Terms - Ni 2027-2031",0.65,null,"%"]
[null,null,null,null,"Alloy - Payable Terms - Ni 2032-2036",0.65,null,"%"]
[null,null,null,null,"Alloy - Payable Terms - Ni 2037-2045+",0.65,null,"%"]
[]
[null,null,null,null,"Alloy - Payable Terms - Co 2027-2031",0.42,null,"%"]
[null,null,null,null,"Alloy - Payable Terms - Co 2032-2036",0.43,null,"%"]
[null,null,null,null,"Alloy - Payable Terms - Co 2037-2045+",0.45,null,"%"]
[]
[null,null,null,null,"Alloy - Payable Terms - Cu 2027-2031",0.5998,null,"%"]
[null,null,null,null,"Alloy - Payable Terms - Cu 2032-2036",0.5998,null,"%"]
[null,null,null,null,"Alloy - Payable Terms - Cu 2037-2045+",0.5998,null,"%"]
[]
[null,null,null,null,"Matte - Payable Terms - Ni 2027-2031",0.8,0.8,"%"]
[null,null,null,null,"Matte - Payable Terms - Ni 2032-2036",0.8,0.8,"%"]
[null,null,null,null,"Matte - Payable Terms - Ni 2037-2045+",0.8,0.8,"%"]
[]
[null,null,null,null,"Matte - Payable Terms - Co 2027-2031",0.6,0.6,"%"]
[null,null,null,null,"Matte - Payable Terms - Co 2032-2036",0.6,0.6,"%"]
[null,null,null,null,"Matte - Payable Terms - Co 2037-2045+",0.6,0.6,"%"]
[]
[null,null,null,null,"Matte - Payable Terms - Cu 2027-2031",0.7,0.7,"%"]
[null,null,null,null,"Matte - Payable Terms - Cu 2032-2036",0.7,0.7,"%"]
[null,null,null,null,"Matte - Payable Terms - Cu 2037-2045+",0.7,0.7,"%"]
[]
[null,null,null,null,"Payable Terms - Manganese",1,1,"%"]
[]
[null,"Project Cost"]
[]
[null,null,"Project Capital Expenditure"]
[]
[null,null,null,null,"Production Vessel",468.4,null,"US$ mn"]
[null,null,null,null,"Transfer Vessel/Bulk Carriers",89.6,null,"US$ mn"]
[null,null,null,null,"Support Vessel",15.2,null,"US$ mn"]
[null,null,null,null,"Operations facilities initial setup",2.2999999999999998,null,"US$ mn"]
[null,null,null,null,"Direct subtotal",{"$f":"SUM(F133:F136)","v":575.5},null,"US$ mn"]
[null,null,null,null,"Professional Services",59.4,null,"US$ mn"]
[null,null,null,null,"Owners cost",44.6,null,"US$ mn"]
[null,null,null,null,"Indirect subtotal",{"$f":"SUM(F138:F139)","v":104},null,"US$ mn"]
[null,null,null,null,"Contingency",101.4,null,"US$ mn"]
[null,null,null,null,"Allseas credit",-289.3,null,"US$ mn"]
[null,null,null,null,"Total project cost",{"$f":"+F137+F140+F141+F142","v":491.59999999999997},null,"US$ mn"]
[]
[null,null,"Sustaining Capital Expenditure"]
[null,null,null,null,"Sustaining capital cost ",155,483,"US$ mn/Vessel"]
[null,null,null,null,"Sustaining capital cost interval",5,10,"years","No sustaining cost in the last 2 years of production"]
[null,null,null,null,"Sustaining vessels number",4,8,"#"]
[null,null,null,null,"Exceptional vessel maintenance cost occuring period start",null,13,"year #"]
[null,null,null,null,"Exceptional vessel maintenance cost occuring period end",null,14,"year #"]
[null,null,null,null,"Exceptional vessel maintenance number",null,1.5,"#"]
[null,null,null,null,"Adjustement to sustaining period due to Exceptional vessel maintenance ",null,3,"year #"]
[null,null,null,null,"Sustaining cost end year",19,26,"year #"]
[]
[null,null,"Closure Capital Expenditure"]
[null,null,null,null,"Closure capital cost ",11.5,11.5,"US$ mn/year"]
[null,null,null,null,"Closure capital cost duration",10,10,"years","Post mining operations"]
[]
[null,null,"Capex Depreciation"]
[null,null,null,null,"Depreciation start year "]
[null,null,null,null,"Production Vessel",4,null,"year",{"$f":" \"First year of Production = year \"&$F$15","v":"First year of Production = year 3"}]
[null,null,null,null,"Transfer Vessel/Bulk Carriers",4,null,"year",{"$f":" \"First year of Production = year \"&$F$15","v":"First year of Production = year 3"}]
[null,null,null,null,"Support Vessel",4,null,"year","First year of Production = year 3"]
[null,null,null,null,"Operations facilities initial setup",4,null,"year","First year of Production = year 3"]
[null,null,null,null,"Professional Services",4,null,"year","First year of Production = year 3"]
[null,null,null,null,"Owners cost",4,null,"year","First year of Production = year 3"]
[null,null,null,null,"Contingency",4,null,"year","First year of Production = year 3"]
[{"$f":"A145","v":0},0,"Sustaining Capital Expenditure",0,"Allseas credit",4,null,"year","First year of Production = year 3",0,0,0,0,0,0,0,0,0,0,0,0,0,0,0,0,0,0,0,0,0,0,0,0,0,0,0,0,0,0,0,0,0,0,0,0,0,0,0,0,0,0,0,0,0,0,0,0,0,0,0,0,0,0,0,{"$f":"BM145","v":0},0,0,0,0,0,0,0,0,0,0,0,0,0,0,0,0,0,0,0,0,0,0,0,0,0,0,0,0,0,0,0,0,0,0,0,0,0,0,0,0,0,0,0,0,0,0,0,0,0,0,0,0,0,0,0,0,0,0,0,0,0,0,0,{"$f":"DY145","v":0},0,0,0,0,0,0,0,0,0,0,0,0,0,0,0,0,0,0,0,0,0,0,0,0,0,0,0,0,0,0,0,0,0,0,0,0,0,0,0,0,0,0,0,0,0,0,0,0,0,0,0,0,0,0,0,0,0,0,0,0,0,0,0,{"$f":"GK145","v":0},0,0,0,0,0,0,0,0,0,0,0,0,0,0,0,0,0,0,0,0,0,0,0,0,0,0,0,0,0,0,0,0,0,0,0,0,0,0,0,0,0,0,0,0,0,0,0,0,0,0,0,0,0,0,0,0,0,0,0,0,0,0,0,{"$f":"IW145","v":0},0,0,0,0,0,0,0,0,0,0,0,0,0,0,0,0,0,0,0,0,0,0,0,0,0,0,0,0,0,0,0,0,0,0,0,0,0,0,0,0,0,0,0,0,0,0,0,0,0,0,0,0,0,0,0,0,0,0,0,0,0,0,0,{"$f":"LI145","v":0},0,0,0,0,0,0,0,0,0,0,0,0,0,0,0,0,0,0,0,0,0,0,0,0,0,0,0,0,0,0,0,0,0,0,0,0,0,0,0,0,0,0,0,0,0,0,0,0,0,0,0,0,0,0,0,0,0,0,0,0,0,0,0,{"$f":"NU145","v":0},0,0,0,0,0,0,0,0,0,0,0,0,0,0,0,0,0,0,0,0,0,0,0,0,0,0,0,0,0,0,0,0,0,0,0,0,0,0,0,0,0,0,0,0,0,0,0,0,0,0,0,0,0,0,0,0,0,0,0,0,0,0,0,{"$f":"QG145","v":0},0,0,0,0,0,0,0,0,0,0,0,0,0,0,0,0,0,0,0,0,0,0,0,0,0,0,0,0,0,0,0,0,0,0,0,0,0,0,0,0,0,0,0,0,0,0,0,0,0,0,0,0,0,0,0,0,0,0,0,0,0,0,0,{"$f":"SS145","v":0},0,0,0,0,0,0,0,0,0,0,0,0,0,0,0,0,0,0,0,0,0,0,0,0,0,0,0,0,0,0,0,0,0,0,0,0,0,0,0,0,0,0,0,0,0,0,0,0,0,0,0,0,0,0,0,0,0,0,0,0,0,0,0,{"$f":"VE145","v":0},0,0,0,0,0,0,0,0,0,0,0,0,0,0,0,0,0,0,0,0,0,0,0,0,0,0,0,0,0,0,0,0,0,0,0,0,0,0,0,0,0,0,0,0,0,0,0,0,0,0,0,0,0,0,0,0,0,0,0,0,0,0,0,{"$f":"XQ145","v":0},0,0,0,0,0,0,0,0,0,0,0,0,0,0,0,0,0,0,0,0,0,0,0,0,0,0,0,0,0,0,0,0,0,0,0,0,0,0,0,0,0,0,0,0,0,0,0,0,0,0,0,0,0,0,0,0,0,0,0,0,0,0,0,{"$f":"AAC145","v":0},0,0,0,0,0,0,0,0,0,0,0,0,0,0,0,0,0,0,0,0,0,0,0,0,0,0,0,0,0,0,0,0,0,0,0,0,0,0,0,0,0,0,0,0,0,0,0,0,0,0,0,0,0,0,0,0,0,0,0,0,0,0,0,{"$f":"ACO145","v":0},0,0,0,0,0,0,0,0,0,0,0,0,0,0,0,0,0,0,0,0,0,0,0,0,0,0,0,0,0,0,0,0,0,0,0,0,0,0,0,0,0,0,0,0,0,0,0,0,0,0,0,0,0,0,0,0,0,0,0,0,0,0,0,{"$f":"AFA145","v":0},0,0,0,0,0,0,0,0,0,0,0,0,0,0,0,0,0,0,0,0,0,0,0,0,0,0,0,0,0,0,0,0,0,0,0,0,0,0,0,0,0,0,0,0,0,0,0,0,0,0,0,0,0,0,0,0,0,0,0,0,0,0,0,{"$f":"AHM145","v":0},0,0,0,0,0,0,0,0,0,0,0,0,0,0,0,0,0,0,0,0,0,0,0,0,0,0,0,0,0,0,0,0,0,0,0,0,0,0,0,0,0,0,0,0,0,0,0,0,0,0,0,0,0,0,0,0,0,0,0,0,0,0,0,{"$f":"AJY145","v":0},0,0,0,0,0,0,0,0,0,0,0,0,0,0,0,0,0,0,0,0,0,0,0,0,0,0,0,0,0,0,0,0,0,0,0,0,0,0,0,0,0,0,0,0,0,0,0,0,0,0,0,0,0,0,0,0,0,0,0,0,0,0,0,{"$f":"AMK145","v":0},0,0,0,0,0,0,0,0,0,0,0,0,0,0,0,0,0,0,0,0,0,0,0,0,0,0,0,0,0,0,0,0,0,0,0,0,0,0,0,0,0,0,0,0,0,0,0,0,0,0,0,0,0,0,0,0,0,0,0,0,0,0,0,{"$f":"AOW145","v":0},0,0,0,0,0,0,0,0,0,0,0,0,0,0,0,0,0,0,0,0,0,0,0,0,0,0,0,0,0,0,0,0,0,0,0,0,0,0,0,0,0,0,0,0,0,0,0,0,0,0,0,0,0,0,0,0,0,0,0,0,0,0,0,{"$f":"ARI145","v":0},0,0,0,0,0,0,0,0,0,0,0,0,0,0,0,0,0,0,0,0,0,0,0,0,0,0,0,0,0,0,0,0,0,0,0,0,0,0,0,0,0,0,0,0,0,0,0,0,0,0,0,0,0,0,0,0,0,0,0,0,0,0,0,{"$f":"ATU145","v":0},0,0,0,0,0,0,0,0,0,0,0,0,0,0,0,0,0,0,0,0,0,0,0,0,0,0,0,0,0,0,0,0,0,0,0,0,0,0,0,0,0,0,0,0,0,0,0,0,0,0,0,0,0,0,0,0,0,0,0,0,0,0,0,{"$f":"AWG145","v":0},0,0,0,0,0,0,0,0,0,0,0,0,0,0,0,0,0,0,0,0,0,0,0,0,0,0,0,0,0,0,0,0,0,0,0,0,0,0,0,0,0,0,0,0,0,0,0,0,0,0,0,0,0,0,0,0,0,0,0,0,0,0,0,{"$f":"AYS145","v":0},0,0,0,0,0,0,0,0,0,0,0,0,0,0,0,0,0,0,0,0,0,0,0,0,0,0,0,0,0,0,0,0,0,0,0,0,0,0,0,0,0,0,0,0,0,0,0,0,0,0,0,0,0,0,0,0,0,0,0,0,0,0,0,{"$f":"BBE145","v":0},0,0,0,0,0,0,0,0,0,0,0,0,0,0,0,0,0,0,0,0,0,0,0,0,0,0,0,0,0,0,0,0,0,0,0,0,0,0,0,0,0,0,0,0,0,0,0,0,0,0,0,0,0,0,0,0,0,0,0,0,0,0,0,{"$f":"BDQ145","v":0},0,0,0,0,0,0,0,0,0,0,0,0,0,0,0,0,0,0,0,0,0,0,0,0,0,0,0,0,0,0,0,0,0,0,0,0,0,0,0,0,0,0,0,0,0,0,0,0,0,0,0,0,0,0,0,0,0,0,0,0,0,0,0,{"$f":"BGC145","v":0},0,0,0,0,0,0,0,0,0,0,0,0,0,0,0,0,0,0,0,0,0,0,0,0,0,0,0,0,0,0,0,0,0,0,0,0,0,0,0,0,0,0,0,0,0,0,0,0,0,0,0,0,0,0,0,0,0,0,0,0,0,0,0,{"$f":"BIO145","v":0},0,0,0,0,0,0,0,0,0,0,0,0,0,0,0,0,0,0,0,0,0,0,0,0,0,0,0,0,0,0,0,0,0,0,0,0,0,0,0,0,0,0,0,0,0,0,0,0,0,0,0,0,0,0,0,0,0,0,0,0,0,0,0,{"$f":"BLA145","v":0},0,0,0,0,0,0,0,0,0,0,0,0,0,0,0,0,0,0,0,0,0,0,0,0,0,0,0,0,0,0,0,0,0,0,0,0,0,0,0,0,0,0,0,0,0,0,0,0,0,0,0,0,0,0,0,0,0,0,0,0,0,0,0,{"$f":"BNM145","v":0},0,0,0,0,0,0,0,0,0,0,0,0,0,0,0,0,0,0,0,0,0,0,0,0,0,0,0,0,0,0,0,0,0,0,0,0,0,0,0,0,0,0,0,0,0,0,0,0,0,0,0,0,0,0,0,0,0,0,0,0,0,0,0,{"$f":"BPY145","v":0},0,0,0,0,0,0,0,0,0,0,0,0,0,0,0,0,0,0,0,0,0,0,0,0,0,0,0,0,0,0,0,0,0,0,0,0,0,0,0,0,0,0,0,0,0,0,0,0,0,0,0,0,0,0,0,0,0,0,0,0,0,0,0,{"$f":"BSK145","v":0},0,0,0,0,0,0,0,0,0,0,0,0,0,0,0,0,0,0,0,0,0,0,0,0,0,0,0,0,0,0,0,0,0,0,0,0,0,0,0,0,0,0,0,0,0,0,0,0,0,0,0,0,0,0,0,0,0,0,0,0,0,0,0,{"$f":"BUW145","v":0},0,0,0,0,0,0,0,0,0,0,0,0,0,0,0,0,0,0,0,0,0,0,0,0,0,0,0,0,0,0,0,0,0,0,0,0,0,0,0,0,0,0,0,0,0,0,0,0,0,0,0,0,0,0,0,0,0,0,0,0,0,0,0,{"$f":"BXI145","v":0},0,0,0,0,0,0,0,0,0,0,0,0,0,0,0,0,0,0,0,0,0,0,0,0,0,0,0,0,0,0,0,0,0,0,0,0,0,0,0,0,0,0,0,0,0,0,0,0,0,0,0,0,0,0,0,0,0,0,0,0,0,0,0,{"$f":"BZU145","v":0},0,0,0,0,0,0,0,0,0,0,0,0,0,0,0,0,0,0,0,0,0,0,0,0,0,0,0,0,0,0,0,0,0,0,0,0,0,0,0,0,0,0,0,0,0,0,0,0,0,0,0,0,0,0,0,0,0,0,0,0,0,0,0,{"$f":"CCG145","v":0},0,0,0,0,0,0,0,0,0,0,0,0,0,0,0,0,0,0,0,0,0,0,0,0,0,0,0,0,0,0,0,0,0,0,0,0,0,0,0,0,0,0,0,0,0,0,0,0,0,0,0,0,0,0,0,0,0,0,0,0,0,0,0,{"$f":"CES145","v":0},0,0,0,0,0,0,0,0,0,0,0,0,0,0,0,0,0,0,0,0,0,0,0,0,0,0,0,0,0,0,0,0,0,0,0,0,0,0,0,0,0,0,0,0,0,0,0,0,0,0,0,0,0,0,0,0,0,0,0,0,0,0,0,{"$f":"CHE145","v":0},0,0,0,0,0,0,0,0,0,0,0,0,0,0,0,0,0,0,0,0,0,0,0,0,0,0,0,0,0,0,0,0,0,0,0,0,0,0,0,0,0,0,0,0,0,0,0,0,0,0,0,0,0,0,0,0,0,0,0,0,0,0,0,{"$f":"CJQ145","v":0},0,0,0,0,0,0,0,0,0,0,0,0,0,0,0,0,0,0,0,0,0,0,0,0,0,0,0,0,0,0,0,0,0,0,0,0,0,0,0,0,0,0,0,0,0,0,0,0,0,0,0,0,0,0,0,0,0,0,0,0,0,0,0,{"$f":"CMC145","v":0},0,0,0,0,0,0,0,0,0,0,0,0,0,0,0,0,0,0,0,0,0,0,0,0,0,0,0,0,0,0,0,0,0,0,0,0,0,0,0,0,0,0,0,0,0,0,0,0,0,0,0,0,0,0,0,0,0,0,0,0,0,0,0,{"$f":"COO145","v":0},0,0,0,0,0,0,0,0,0,0,0,0,0,0,0,0,0,0,0,0,0,0,0,0,0,0,0,0,0,0,0,0,0,0,0,0,0,0,0,0,0,0,0,0,0,0,0,0,0,0,0,0,0,0,0,0,0,0,0,0,0,0,0,{"$f":"CRA145","v":0},0,0,0,0,0,0,0,0,0,0,0,0,0,0,0,0,0,0,0,0,0,0,0,0,0,0,0,0,0,0,0,0,0,0,0,0,0,0,0,0,0,0,0,0,0,0,0,0,0,0,0,0,0,0,0,0,0,0,0,0,0,0,0,{"$f":"CTM145","v":0},0,0,0,0,0,0,0,0,0,0,0,0,0,0,0,0,0,0,0,0,0,0,0,0,0,0,0,0,0,0,0,0,0,0,0,0,0,0,0,0,0,0,0,0,0,0,0,0,0,0,0,0,0,0,0,0,0,0,0,0,0,0,0,{"$f":"CVY145","v":0},0,0,0,0,0,0,0,0,0,0,0,0,0,0,0,0,0,0,0,0,0,0,0,0,0,0,0,0,0,0,0,0,0,0,0,0,0,0,0,0,0,0,0,0,0,0,0,0,0,0,0,0,0,0,0,0,0,0,0,0,0,0,0,{"$f":"CYK145","v":0},0,0,0,0,0,0,0,0,0,0,0,0,0,0,0,0,0,0,0,0,0,0,0,0,0,0,0,0,0,0,0,0,0,0,0,0,0,0,0,0,0,0,0,0,0,0,0,0,0,0,0,0,0,0,0,0,0,0,0,0,0,0,0,{"$f":"DAW145","v":0},0,0,0,0,0,0,0,0,0,0,0,0,0,0,0,0,0,0,0,0,0,0,0,0,0,0,0,0,0,0,0,0,0,0,0,0,0,0,0,0,0,0,0,0,0,0,0,0,0,0,0,0,0,0,0,0,0,0,0,0,0,0,0,{"$f":"DDI145","v":0},0,0,0,0,0,0,0,0,0,0,0,0,0,0,0,0,0,0,0,0,0,0,0,0,0,0,0,0,0,0,0,0,0,0,0,0,0,0,0,0,0,0,0,0,0,0,0,0,0,0,0,0,0,0,0,0,0,0,0,0,0,0,0,{"$f":"DFU145","v":0},0,0,0,0,0,0,0,0,0,0,0,0,0,0,0,0,0,0,0,0,0,0,0,0,0,0,0,0,0,0,0,0,0,0,0,0,0,0,0,0,0,0,0,0,0,0,0,0,0,0,0,0,0,0,0,0,0,0,0,0,0,0,0,{"$f":"DIG145","v":0},0,0,0,0,0,0,0,0,0,0,0,0,0,0,0,0,0,0,0,0,0,0,0,0,0,0,0,0,0,0,0,0,0,0,0,0,0,0,0,0,0,0,0,0,0,0,0,0,0,0,0,0,0,0,0,0,0,0,0,0,0,0,0,{"$f":"DKS145","v":0},0,0,0,0,0,0,0,0,0,0,0,0,0,0,0,0,0,0,0,0,0,0,0,0,0,0,0,0,0,0,0,0,0,0,0,0,0,0,0,0,0,0,0,0,0,0,0,0,0,0,0,0,0,0,0,0,0,0,0,0,0,0,0,{"$f":"DNE145","v":0},0,0,0,0,0,0,0,0,0,0,0,0,0,0,0,0,0,0,0,0,0,0,0,0,0,0,0,0,0,0,0,0,0,0,0,0,0,0,0,0,0,0,0,0,0,0,0,0,0,0,0,0,0,0,0,0,0,0,0,0,0,0,0,{"$f":"DPQ145","v":0},0,0,0,0,0,0,0,0,0,0,0,0,0,0,0,0,0,0,0,0,0,0,0,0,0,0,0,0,0,0,0,0,0,0,0,0,0,0,0,0,0,0,0,0,0,0,0,0,0,0,0,0,0,0,0,0,0,0,0,0,0,0,0,{"$f":"DSC145","v":0},0,0,0,0,0,0,0,0,0,0,0,0,0,0,0,0,0,0,0,0,0,0,0,0,0,0,0,0,0,0,0,0,0,0,0,0,0,0,0,0,0,0,0,0,0,0,0,0,0,0,0,0,0,0,0,0,0,0,0,0,0,0,0,{"$f":"DUO145","v":0},0,0,0,0,0,0,0,0,0,0,0,0,0,0,0,0,0,0,0,0,0,0,0,0,0,0,0,0,0,0,0,0,0,0,0,0,0,0,0,0,0,0,0,0,0,0,0,0,0,0,0,0,0,0,0,0,0,0,0,0,0,0,0,{"$f":"DXA145","v":0},0,0,0,0,0,0,0,0,0,0,0,0,0,0,0,0,0,0,0,0,0,0,0,0,0,0,0,0,0,0,0,0,0,0,0,0,0,0,0,0,0,0,0,0,0,0,0,0,0,0,0,0,0,0,0,0,0,0,0,0,0,0,0,{"$f":"DZM145","v":0},0,0,0,0,0,0,0,0,0,0,0,0,0,0,0,0,0,0,0,0,0,0,0,0,0,0,0,0,0,0,0,0,0,0,0,0,0,0,0,0,0,0,0,0,0,0,0,0,0,0,0,0,0,0,0,0,0,0,0,0,0,0,0,{"$f":"EBY145","v":0},0,0,0,0,0,0,0,0,0,0,0,0,0,0,0,0,0,0,0,0,0,0,0,0,0,0,0,0,0,0,0,0,0,0,0,0,0,0,0,0,0,0,0,0,0,0,0,0,0,0,0,0,0,0,0,0,0,0,0,0,0,0,0,{"$f":"EEK145","v":0},0,0,0,0,0,0,0,0,0,0,0,0,0,0,0,0,0,0,0,0,0,0,0,0,0,0,0,0,0,0,0,0,0,0,0,0,0,0,0,0,0,0,0,0,0,0,0,0,0,0,0,0,0,0,0,0,0,0,0,0,0,0,0,{"$f":"EGW145","v":0},0,0,0,0,0,0,0,0,0,0,0,0,0,0,0,0,0,0,0,0,0,0,0,0,0,0,0,0,0,0,0,0,0,0,0,0,0,0,0,0,0,0,0,0,0,0,0,0,0,0,0,0,0,0,0,0,0,0,0,0,0,0,0,{"$f":"EJI145","v":0},0,0,0,0,0,0,0,0,0,0,0,0,0,0,0,0,0,0,0,0,0,0,0,0,0,0,0,0,0,0,0,0,0,0,0,0,0,0,0,0,0,0,0,0,0,0,0,0,0,0,0,0,0,0,0,0,0,0,0,0,0,0,0,{"$f":"ELU145","v":0},0,0,0,0,0,0,0,0,0,0,0,0,0,0,0,0,0,0,0,0,0,0,0,0,0,0,0,0,0,0,0,0,0,0,0,0,0,0,0,0,0,0,0,0,0,0,0,0,0,0,0,0,0,0,0,0,0,0,0,0,0,0,0,{"$f":"EOG145","v":0},0,0,0,0,0,0,0,0,0,0,0,0,0,0,0,0,0,0,0,0,0,0,0,0,0,0,0,0,0,0,0,0,0,0,0,0,0,0,0,0,0,0,0,0,0,0,0,0,0,0,0,0,0,0,0,0,0,0,0,0,0,0,0,{"$f":"EQS145","v":0},0,0,0,0,0,0,0,0,0,0,0,0,0,0,0,0,0,0,0,0,0,0,0,0,0,0,0,0,0,0,0,0,0,0,0,0,0,0,0,0,0,0,0,0,0,0,0,0,0,0,0,0,0,0,0,0,0,0,0,0,0,0,0,{"$f":"ETE145","v":0},0,0,0,0,0,0,0,0,0,0,0,0,0,0,0,0,0,0,0,0,0,0,0,0,0,0,0,0,0,0,0,0,0,0,0,0,0,0,0,0,0,0,0,0,0,0,0,0,0,0,0,0,0,0,0,0,0,0,0,0,0,0,0,{"$f":"EVQ145","v":0},0,0,0,0,0,0,0,0,0,0,0,0,0,0,0,0,0,0,0,0,0,0,0,0,0,0,0,0,0,0,0,0,0,0,0,0,0,0,0,0,0,0,0,0,0,0,0,0,0,0,0,0,0,0,0,0,0,0,0,0,0,0,0,{"$f":"EYC145","v":0},0,0,0,0,0,0,0,0,0,0,0,0,0,0,0,0,0,0,0,0,0,0,0,0,0,0,0,0,0,0,0,0,0,0,0,0,0,0,0,0,0,0,0,0,0,0,0,0,0,0,0,0,0,0,0,0,0,0,0,0,0,0,0,{"$f":"FAO145","v":0},0,0,0,0,0,0,0,0,0,0,0,0,0,0,0,0,0,0,0,0,0,0,0,0,0,0,0,0,0,0,0,0,0,0,0,0,0,0,0,0,0,0,0,0,0,0,0,0,0,0,0,0,0,0,0,0,0,0,0,0,0,0,0,{"$f":"FDA145","v":0},0,0,0,0,0,0,0,0,0,0,0,0,0,0,0,0,0,0,0,0,0,0,0,0,0,0,0,0,0,0,0,0,0,0,0,0,0,0,0,0,0,0,0,0,0,0,0,0,0,0,0,0,0,0,0,0,0,0,0,0,0,0,0,{"$f":"FFM145","v":0},0,0,0,0,0,0,0,0,0,0,0,0,0,0,0,0,0,0,0,0,0,0,0,0,0,0,0,0,0,0,0,0,0,0,0,0,0,0,0,0,0,0,0,0,0,0,0,0,0,0,0,0,0,0,0,0,0,0,0,0,0,0,0,{"$f":"FHY145","v":0},0,0,0,0,0,0,0,0,0,0,0,0,0,0,0,0,0,0,0,0,0,0,0,0,0,0,0,0,0,0,0,0,0,0,0,0,0,0,0,0,0,0,0,0,0,0,0,0,0,0,0,0,0,0,0,0,0,0,0,0,0,0,0,{"$f":"FKK145","v":0},0,0,0,0,0,0,0,0,0,0,0,0,0,0,0,0,0,0,0,0,0,0,0,0,0,0,0,0,0,0,0,0,0,0,0,0,0,0,0,0,0,0,0,0,0,0,0,0,0,0,0,0,0,0,0,0,0,0,0,0,0,0,0,{"$f":"FMW145","v":0},0,0,0,0,0,0,0,0,0,0,0,0,0,0,0,0,0,0,0,0,0,0,0,0,0,0,0,0,0,0,0,0,0,0,0,0,0,0,0,0,0,0,0,0,0,0,0,0,0,0,0,0,0,0,0,0,0,0,0,0,0,0,0,{"$f":"FPI145","v":0},0,0,0,0,0,0,0,0,0,0,0,0,0,0,0,0,0,0,0,0,0,0,0,0,0,0,0,0,0,0,0,0,0,0,0,0,0,0,0,0,0,0,0,0,0,0,0,0,0,0,0,0,0,0,0,0,0,0,0,0,0,0,0,{"$f":"FRU145","v":0},0,0,0,0,0,0,0,0,0,0,0,0,0,0,0,0,0,0,0,0,0,0,0,0,0,0,0,0,0,0,0,0,0,0,0,0,0,0,0,0,0,0,0,0,0,0,0,0,0,0,0,0,0,0,0,0,0,0,0,0,0,0,0,{"$f":"FUG145","v":0},0,0,0,0,0,0,0,0,0,0,0,0,0,0,0,0,0,0,0,0,0,0,0,0,0,0,0,0,0,0,0,0,0,0,0,0,0,0,0,0,0,0,0,0,0,0,0,0,0,0,0,0,0,0,0,0,0,0,0,0,0,0,0,{"$f":"FWS145","v":0},0,0,0,0,0,0,0,0,0,0,0,0,0,0,0,0,0,0,0,0,0,0,0,0,0,0,0,0,0,0,0,0,0,0,0,0,0,0,0,0,0,0,0,0,0,0,0,0,0,0,0,0,0,0,0,0,0,0,0,0,0,0,0,{"$f":"FZE145","v":0},0,0,0,0,0,0,0,0,0,0,0,0,0,0,0,0,0,0,0,0,0,0,0,0,0,0,0,0,0,0,0,0,0,0,0,0,0,0,0,0,0,0,0,0,0,0,0,0,0,0,0,0,0,0,0,0,0,0,0,0,0,0,0,{"$f":"GBQ145","v":0},0,0,0,0,0,0,0,0,0,0,0,0,0,0,0,0,0,0,0,0,0,0,0,0,0,0,0,0,0,0,0,0,0,0,0,0,0,0,0,0,0,0,0,0,0,0,0,0,0,0,0,0,0,0,0,0,0,0,0,0,0,0,0,{"$f":"GEC145","v":0},0,0,0,0,0,0,0,0,0,0,0,0,0,0,0,0,0,0,0,0,0,0,0,0,0,0,0,0,0,0,0,0,0,0,0,0,0,0,0,0,0,0,0,0,0,0,0,0,0,0,0,0,0,0,0,0,0,0,0,0,0,0,0,{"$f":"GGO145","v":0},0,0,0,0,0,0,0,0,0,0,0,0,0,0,0,0,0,0,0,0,0,0,0,0,0,0,0,0,0,0,0,0,0,0,0,0,0,0,0,0,0,0,0,0,0,0,0,0,0,0,0,0,0,0,0,0,0,0,0,0,0,0,0,{"$f":"GJA145","v":0},0,0,0,0,0,0,0,0,0,0,0,0,0,0,0,0,0,0,0,0,0,0,0,0,0,0,0,0,0,0,0,0,0,0,0,0,0,0,0,0,0,0,0,0,0,0,0,0,0,0,0,0,0,0,0,0,0,0,0,0,0,0,0,{"$f":"GLM145","v":0},0,0,0,0,0,0,0,0,0,0,0,0,0,0,0,0,0,0,0,0,0,0,0,0,0,0,0,0,0,0,0,0,0,0,0,0,0,0,0,0,0,0,0,0,0,0,0,0,0,0,0,0,0,0,0,0,0,0,0,0,0,0,0,{"$f":"GNY145","v":0},0,0,0,0,0,0,0,0,0,0,0,0,0,0,0,0,0,0,0,0,0,0,0,0,0,0,0,0,0,0,0,0,0,0,0,0,0,0,0,0,0,0,0,0,0,0,0,0,0,0,0,0,0,0,0,0,0,0,0,0,0,0,0,{"$f":"GQK145","v":0},0,0,0,0,0,0,0,0,0,0,0,0,0,0,0,0,0,0,0,0,0,0,0,0,0,0,0,0,0,0,0,0,0,0,0,0,0,0,0,0,0,0,0,0,0,0,0,0,0,0,0,0,0,0,0,0,0,0,0,0,0,0,0,{"$f":"GSW145","v":0},0,0,0,0,0,0,0,0,0,0,0,0,0,0,0,0,0,0,0,0,0,0,0,0,0,0,0,0,0,0,0,0,0,0,0,0,0,0,0,0,0,0,0,0,0,0,0,0,0,0,0,0,0,0,0,0,0,0,0,0,0,0,0,{"$f":"GVI145","v":0},0,0,0,0,0,0,0,0,0,0,0,0,0,0,0,0,0,0,0,0,0,0,0,0,0,0,0,0,0,0,0,0,0,0,0,0,0,0,0,0,0,0,0,0,0,0,0,0,0,0,0,0,0,0,0,0,0,0,0,0,0,0,0,{"$f":"GXU145","v":0},0,0,0,0,0,0,0,0,0,0,0,0,0,0,0,0,0,0,0,0,0,0,0,0,0,0,0,0,0,0,0,0,0,0,0,0,0,0,0,0,0,0,0,0,0,0,0,0,0,0,0,0,0,0,0,0,0,0,0,0,0,0,0,{"$f":"HAG145","v":0},0,0,0,0,0,0,0,0,0,0,0,0,0,0,0,0,0,0,0,0,0,0,0,0,0,0,0,0,0,0,0,0,0,0,0,0,0,0,0,0,0,0,0,0,0,0,0,0,0,0,0,0,0,0,0,0,0,0,0,0,0,0,0,{"$f":"HCS145","v":0},0,0,0,0,0,0,0,0,0,0,0,0,0,0,0,0,0,0,0,0,0,0,0,0,0,0,0,0,0,0,0,0,0,0,0,0,0,0,0,0,0,0,0,0,0,0,0,0,0,0,0,0,0,0,0,0,0,0,0,0,0,0,0,{"$f":"HFE145","v":0},0,0,0,0,0,0,0,0,0,0,0,0,0,0,0,0,0,0,0,0,0,0,0,0,0,0,0,0,0,0,0,0,0,0,0,0,0,0,0,0,0,0,0,0,0,0,0,0,0,0,0,0,0,0,0,0,0,0,0,0,0,0,0,{"$f":"HHQ145","v":0},0,0,0,0,0,0,0,0,0,0,0,0,0,0,0,0,0,0,0,0,0,0,0,0,0,0,0,0,0,0,0,0,0,0,0,0,0,0,0,0,0,0,0,0,0,0,0,0,0,0,0,0,0,0,0,0,0,0,0,0,0,0,0,{"$f":"HKC145","v":0},0,0,0,0,0,0,0,0,0,0,0,0,0,0,0,0,0,0,0,0,0,0,0,0,0,0,0,0,0,0,0,0,0,0,0,0,0,0,0,0,0,0,0,0,0,0,0,0,0,0,0,0,0,0,0,0,0,0,0,0,0,0,0,{"$f":"HMO145","v":0},0,0,0,0,0,0,0,0,0,0,0,0,0,0,0,0,0,0,0,0,0,0,0,0,0,0,0,0,0,0,0,0,0,0,0,0,0,0,0,0,0,0,0,0,0,0,0,0,0,0,0,0,0,0,0,0,0,0,0,0,0,0,0,{"$f":"HPA145","v":0},0,0,0,0,0,0,0,0,0,0,0,0,0,0,0,0,0,0,0,0,0,0,0,0,0,0,0,0,0,0,0,0,0,0,0,0,0,0,0,0,0,0,0,0,0,0,0,0,0,0,0,0,0,0,0,0,0,0,0,0,0,0,0,{"$f":"HRM145","v":0},0,0,0,0,0,0,0,0,0,0,0,0,0,0,0,0,0,0,0,0,0,0,0,0,0,0,0,0,0,0,0,0,0,0,0,0,0,0,0,0,0,0,0,0,0,0,0,0,0,0,0,0,0,0,0,0,0,0,0,0,0,0,0,{"$f":"HTY145","v":0},0,0,0,0,0,0,0,0,0,0,0,0,0,0,0,0,0,0,0,0,0,0,0,0,0,0,0,0,0,0,0,0,0,0,0,0,0,0,0,0,0,0,0,0,0,0,0,0,0,0,0,0,0,0,0,0,0,0,0,0,0,0,0,{"$f":"HWK145","v":0},0,0,0,0,0,0,0,0,0,0,0,0,0,0,0,0,0,0,0,0,0,0,0,0,0,0,0,0,0,0,0,0,0,0,0,0,0,0,0,0,0,0,0,0,0,0,0,0,0,0,0,0,0,0,0,0,0,0,0,0,0,0,0,{"$f":"HYW145","v":0},0,0,0,0,0,0,0,0,0,0,0,0,0,0,0,0,0,0,0,0,0,0,0,0,0,0,0,0,0,0,0,0,0,0,0,0,0,0,0,0,0,0,0,0,0,0,0,0,0,0,0,0,0,0,0,0,0,0,0,0,0,0,0,{"$f":"IBI145","v":0},0,0,0,0,0,0,0,0,0,0,0,0,0,0,0,0,0,0,0,0,0,0,0,0,0,0,0,0,0,0,0,0,0,0,0,0,0,0,0,0,0,0,0,0,0,0,0,0,0,0,0,0,0,0,0,0,0,0,0,0,0,0,0,{"$f":"IDU145","v":0},0,0,0,0,0,0,0,0,0,0,0,0,0,0,0,0,0,0,0,0,0,0,0,0,0,0,0,0,0,0,0,0,0,0,0,0,0,0,0,0,0,0,0,0,0,0,0,0,0,0,0,0,0,0,0,0,0,0,0,0,0,0,0,{"$f":"IGG145","v":0},0,0,0,0,0,0,0,0,0,0,0,0,0,0,0,0,0,0,0,0,0,0,0,0,0,0,0,0,0,0,0,0,0,0,0,0,0,0,0,0,0,0,0,0,0,0,0,0,0,0,0,0,0,0,0,0,0,0,0,0,0,0,0,{"$f":"IIS145","v":0},0,0,0,0,0,0,0,0,0,0,0,0,0,0,0,0,0,0,0,0,0,0,0,0,0,0,0,0,0,0,0,0,0,0,0,0,0,0,0,0,0,0,0,0,0,0,0,0,0,0,0,0,0,0,0,0,0,0,0,0,0,0,0,{"$f":"ILE145","v":0},0,0,0,0,0,0,0,0,0,0,0,0,0,0,0,0,0,0,0,0,0,0,0,0,0,0,0,0,0,0,0,0,0,0,0,0,0,0,0,0,0,0,0,0,0,0,0,0,0,0,0,0,0,0,0,0,0,0,0,0,0,0,0,{"$f":"INQ145","v":0},0,0,0,0,0,0,0,0,0,0,0,0,0,0,0,0,0,0,0,0,0,0,0,0,0,0,0,0,0,0,0,0,0,0,0,0,0,0,0,0,0,0,0,0,0,0,0,0,0,0,0,0,0,0,0,0,0,0,0,0,0,0,0,{"$f":"IQC145","v":0},0,0,0,0,0,0,0,0,0,0,0,0,0,0,0,0,0,0,0,0,0,0,0,0,0,0,0,0,0,0,0,0,0,0,0,0,0,0,0,0,0,0,0,0,0,0,0,0,0,0,0,0,0,0,0,0,0,0,0,0,0,0,0,{"$f":"ISO145","v":0},0,0,0,0,0,0,0,0,0,0,0,0,0,0,0,0,0,0,0,0,0,0,0,0,0,0,0,0,0,0,0,0,0,0,0,0,0,0,0,0,0,0,0,0,0,0,0,0,0,0,0,0,0,0,0,0,0,0,0,0,0,0,0,{"$f":"IVA145","v":0},0,0,0,0,0,0,0,0,0,0,0,0,0,0,0,0,0,0,0,0,0,0,0,0,0,0,0,0,0,0,0,0,0,0,0,0,0,0,0,0,0,0,0,0,0,0,0,0,0,0,0,0,0,0,0,0,0,0,0,0,0,0,0,{"$f":"IXM145","v":0},0,0,0,0,0,0,0,0,0,0,0,0,0,0,0,0,0,0,0,0,0,0,0,0,0,0,0,0,0,0,0,0,0,0,0,0,0,0,0,0,0,0,0,0,0,0,0,0,0,0,0,0,0,0,0,0,0,0,0,0,0,0,0,{"$f":"IZY145","v":0},0,0,0,0,0,0,0,0,0,0,0,0,0,0,0,0,0,0,0,0,0,0,0,0,0,0,0,0,0,0,0,0,0,0,0,0,0,0,0,0,0,0,0,0,0,0,0,0,0,0,0,0,0,0,0,0,0,0,0,0,0,0,0,{"$f":"JCK145","v":0},0,0,0,0,0,0,0,0,0,0,0,0,0,0,0,0,0,0,0,0,0,0,0,0,0,0,0,0,0,0,0,0,0,0,0,0,0,0,0,0,0,0,0,0,0,0,0,0,0,0,0,0,0,0,0,0,0,0,0,0,0,0,0,{"$f":"JEW145","v":0},0,0,0,0,0,0,0,0,0,0,0,0,0,0,0,0,0,0,0,0,0,0,0,0,0,0,0,0,0,0,0,0,0,0,0,0,0,0,0,0,0,0,0,0,0,0,0,0,0,0,0,0,0,0,0,0,0,0,0,0,0,0,0,{"$f":"JHI145","v":0},0,0,0,0,0,0,0,0,0,0,0,0,0,0,0,0,0,0,0,0,0,0,0,0,0,0,0,0,0,0,0,0,0,0,0,0,0,0,0,0,0,0,0,0,0,0,0,0,0,0,0,0,0,0,0,0,0,0,0,0,0,0,0,{"$f":"JJU145","v":0},0,0,0,0,0,0,0,0,0,0,0,0,0,0,0,0,0,0,0,0,0,0,0,0,0,0,0,0,0,0,0,0,0,0,0,0,0,0,0,0,0,0,0,0,0,0,0,0,0,0,0,0,0,0,0,0,0,0,0,0,0,0,0,{"$f":"JMG145","v":0},0,0,0,0,0,0,0,0,0,0,0,0,0,0,0,0,0,0,0,0,0,0,0,0,0,0,0,0,0,0,0,0,0,0,0,0,0,0,0,0,0,0,0,0,0,0,0,0,0,0,0,0,0,0,0,0,0,0,0,0,0,0,0,{"$f":"JOS145","v":0},0,0,0,0,0,0,0,0,0,0,0,0,0,0,0,0,0,0,0,0,0,0,0,0,0,0,0,0,0,0,0,0,0,0,0,0,0,0,0,0,0,0,0,0,0,0,0,0,0,0,0,0,0,0,0,0,0,0,0,0,0,0,0,{"$f":"JRE145","v":0},0,0,0,0,0,0,0,0,0,0,0,0,0,0,0,0,0,0,0,0,0,0,0,0,0,0,0,0,0,0,0,0,0,0,0,0,0,0,0,0,0,0,0,0,0,0,0,0,0,0,0,0,0,0,0,0,0,0,0,0,0,0,0,{"$f":"JTQ145","v":0},0,0,0,0,0,0,0,0,0,0,0,0,0,0,0,0,0,0,0,0,0,0,0,0,0,0,0,0,0,0,0,0,0,0,0,0,0,0,0,0,0,0,0,0,0,0,0,0,0,0,0,0,0,0,0,0,0,0,0,0,0,0,0,{"$f":"JWC145","v":0},0,0,0,0,0,0,0,0,0,0,0,0,0,0,0,0,0,0,0,0,0,0,0,0,0,0,0,0,0,0,0,0,0,0,0,0,0,0,0,0,0,0,0,0,0,0,0,0,0,0,0,0,0,0,0,0,0,0,0,0,0,0,0,{"$f":"JYO145","v":0},0,0,0,0,0,0,0,0,0,0,0,0,0,0,0,0,0,0,0,0,0,0,0,0,0,0,0,0,0,0,0,0,0,0,0,0,0,0,0,0,0,0,0,0,0,0,0,0,0,0,0,0,0,0,0,0,0,0,0,0,0,0,0,{"$f":"KBA145","v":0},0,0,0,0,0,0,0,0,0,0,0,0,0,0,0,0,0,0,0,0,0,0,0,0,0,0,0,0,0,0,0,0,0,0,0,0,0,0,0,0,0,0,0,0,0,0,0,0,0,0,0,0,0,0,0,0,0,0,0,0,0,0,0,{"$f":"KDM145","v":0},0,0,0,0,0,0,0,0,0,0,0,0,0,0,0,0,0,0,0,0,0,0,0,0,0,0,0,0,0,0,0,0,0,0,0,0,0,0,0,0,0,0,0,0,0,0,0,0,0,0,0,0,0,0,0,0,0,0,0,0,0,0,0,{"$f":"KFY145","v":0},0,0,0,0,0,0,0,0,0,0,0,0,0,0,0,0,0,0,0,0,0,0,0,0,0,0,0,0,0,0,0,0,0,0,0,0,0,0,0,0,0,0,0,0,0,0,0,0,0,0,0,0,0,0,0,0,0,0,0,0,0,0,0,{"$f":"KIK145","v":0},0,0,0,0,0,0,0,0,0,0,0,0,0,0,0,0,0,0,0,0,0,0,0,0,0,0,0,0,0,0,0,0,0,0,0,0,0,0,0,0,0,0,0,0,0,0,0,0,0,0,0,0,0,0,0,0,0,0,0,0,0,0,0,{"$f":"KKW145","v":0},0,0,0,0,0,0,0,0,0,0,0,0,0,0,0,0,0,0,0,0,0,0,0,0,0,0,0,0,0,0,0,0,0,0,0,0,0,0,0,0,0,0,0,0,0,0,0,0,0,0,0,0,0,0,0,0,0,0,0,0,0,0,0,{"$f":"KNI145","v":0},0,0,0,0,0,0,0,0,0,0,0,0,0,0,0,0,0,0,0,0,0,0,0,0,0,0,0,0,0,0,0,0,0,0,0,0,0,0,0,0,0,0,0,0,0,0,0,0,0,0,0,0,0,0,0,0,0,0,0,0,0,0,0,{"$f":"KPU145","v":0},0,0,0,0,0,0,0,0,0,0,0,0,0,0,0,0,0,0,0,0,0,0,0,0,0,0,0,0,0,0,0,0,0,0,0,0,0,0,0,0,0,0,0,0,0,0,0,0,0,0,0,0,0,0,0,0,0,0,0,0,0,0,0,{"$f":"KSG145","v":0},0,0,0,0,0,0,0,0,0,0,0,0,0,0,0,0,0,0,0,0,0,0,0,0,0,0,0,0,0,0,0,0,0,0,0,0,0,0,0,0,0,0,0,0,0,0,0,0,0,0,0,0,0,0,0,0,0,0,0,0,0,0,0,{"$f":"KUS145","v":0},0,0,0,0,0,0,0,0,0,0,0,0,0,0,0,0,0,0,0,0,0,0,0,0,0,0,0,0,0,0,0,0,0,0,0,0,0,0,0,0,0,0,0,0,0,0,0,0,0,0,0,0,0,0,0,0,0,0,0,0,0,0,0,{"$f":"KXE145","v":0},0,0,0,0,0,0,0,0,0,0,0,0,0,0,0,0,0,0,0,0,0,0,0,0,0,0,0,0,0,0,0,0,0,0,0,0,0,0,0,0,0,0,0,0,0,0,0,0,0,0,0,0,0,0,0,0,0,0,0,0,0,0,0,{"$f":"KZQ145","v":0},0,0,0,0,0,0,0,0,0,0,0,0,0,0,0,0,0,0,0,0,0,0,0,0,0,0,0,0,0,0,0,0,0,0,0,0,0,0,0,0,0,0,0,0,0,0,0,0,0,0,0,0,0,0,0,0,0,0,0,0,0,0,0,{"$f":"LCC145","v":0},0,0,0,0,0,0,0,0,0,0,0,0,0,0,0,0,0,0,0,0,0,0,0,0,0,0,0,0,0,0,0,0,0,0,0,0,0,0,0,0,0,0,0,0,0,0,0,0,0,0,0,0,0,0,0,0,0,0,0,0,0,0,0,{"$f":"LEO145","v":0},0,0,0,0,0,0,0,0,0,0,0,0,0,0,0,0,0,0,0,0,0,0,0,0,0,0,0,0,0,0,0,0,0,0,0,0,0,0,0,0,0,0,0,0,0,0,0,0,0,0,0,0,0,0,0,0,0,0,0,0,0,0,0,{"$f":"LHA145","v":0},0,0,0,0,0,0,0,0,0,0,0,0,0,0,0,0,0,0,0,0,0,0,0,0,0,0,0,0,0,0,0,0,0,0,0,0,0,0,0,0,0,0,0,0,0,0,0,0,0,0,0,0,0,0,0,0,0,0,0,0,0,0,0,{"$f":"LJM145","v":0},0,0,0,0,0,0,0,0,0,0,0,0,0,0,0,0,0,0,0,0,0,0,0,0,0,0,0,0,0,0,0,0,0,0,0,0,0,0,0,0,0,0,0,0,0,0,0,0,0,0,0,0,0,0,0,0,0,0,0,0,0,0,0,{"$f":"LLY145","v":0},0,0,0,0,0,0,0,0,0,0,0,0,0,0,0,0,0,0,0,0,0,0,0,0,0,0,0,0,0,0,0,0,0,0,0,0,0,0,0,0,0,0,0,0,0,0,0,0,0,0,0,0,0,0,0,0,0,0,0,0,0,0,0,{"$f":"LOK145","v":0},0,0,0,0,0,0,0,0,0,0,0,0,0,0,0,0,0,0,0,0,0,0,0,0,0,0,0,0,0,0,0,0,0,0,0,0,0,0,0,0,0,0,0,0,0,0,0,0,0,0,0,0,0,0,0,0,0,0,0,0,0,0,0,{"$f":"LQW145","v":0},0,0,0,0,0,0,0,0,0,0,0,0,0,0,0,0,0,0,0,0,0,0,0,0,0,0,0,0,0,0,0,0,0,0,0,0,0,0,0,0,0,0,0,0,0,0,0,0,0,0,0,0,0,0,0,0,0,0,0,0,0,0,0,{"$f":"LTI145","v":0},0,0,0,0,0,0,0,0,0,0,0,0,0,0,0,0,0,0,0,0,0,0,0,0,0,0,0,0,0,0,0,0,0,0,0,0,0,0,0,0,0,0,0,0,0,0,0,0,0,0,0,0,0,0,0,0,0,0,0,0,0,0,0,{"$f":"LVU145","v":0},0,0,0,0,0,0,0,0,0,0,0,0,0,0,0,0,0,0,0,0,0,0,0,0,0,0,0,0,0,0,0,0,0,0,0,0,0,0,0,0,0,0,0,0,0,0,0,0,0,0,0,0,0,0,0,0,0,0,0,0,0,0,0,{"$f":"LYG145","v":0},0,0,0,0,0,0,0,0,0,0,0,0,0,0,0,0,0,0,0,0,0,0,0,0,0,0,0,0,0,0,0,0,0,0,0,0,0,0,0,0,0,0,0,0,0,0,0,0,0,0,0,0,0,0,0,0,0,0,0,0,0,0,0,{"$f":"MAS145","v":0},0,0,0,0,0,0,0,0,0,0,0,0,0,0,0,0,0,0,0,0,0,0,0,0,0,0,0,0,0,0,0,0,0,0,0,0,0,0,0,0,0,0,0,0,0,0,0,0,0,0,0,0,0,0,0,0,0,0,0,0,0,0,0,{"$f":"MDE145","v":0},0,0,0,0,0,0,0,0,0,0,0,0,0,0,0,0,0,0,0,0,0,0,0,0,0,0,0,0,0,0,0,0,0,0,0,0,0,0,0,0,0,0,0,0,0,0,0,0,0,0,0,0,0,0,0,0,0,0,0,0,0,0,0,{"$f":"MFQ145","v":0},0,0,0,0,0,0,0,0,0,0,0,0,0,0,0,0,0,0,0,0,0,0,0,0,0,0,0,0,0,0,0,0,0,0,0,0,0,0,0,0,0,0,0,0,0,0,0,0,0,0,0,0,0,0,0,0,0,0,0,0,0,0,0,{"$f":"MIC145","v":0},0,0,0,0,0,0,0,0,0,0,0,0,0,0,0,0,0,0,0,0,0,0,0,0,0,0,0,0,0,0,0,0,0,0,0,0,0,0,0,0,0,0,0,0,0,0,0,0,0,0,0,0,0,0,0,0,0,0,0,0,0,0,0,{"$f":"MKO145","v":0},0,0,0,0,0,0,0,0,0,0,0,0,0,0,0,0,0,0,0,0,0,0,0,0,0,0,0,0,0,0,0,0,0,0,0,0,0,0,0,0,0,0,0,0,0,0,0,0,0,0,0,0,0,0,0,0,0,0,0,0,0,0,0,{"$f":"MNA145","v":0},0,0,0,0,0,0,0,0,0,0,0,0,0,0,0,0,0,0,0,0,0,0,0,0,0,0,0,0,0,0,0,0,0,0,0,0,0,0,0,0,0,0,0,0,0,0,0,0,0,0,0,0,0,0,0,0,0,0,0,0,0,0,0,{"$f":"MPM145","v":0},0,0,0,0,0,0,0,0,0,0,0,0,0,0,0,0,0,0,0,0,0,0,0,0,0,0,0,0,0,0,0,0,0,0,0,0,0,0,0,0,0,0,0,0,0,0,0,0,0,0,0,0,0,0,0,0,0,0,0,0,0,0,0,{"$f":"MRY145","v":0},0,0,0,0,0,0,0,0,0,0,0,0,0,0,0,0,0,0,0,0,0,0,0,0,0,0,0,0,0,0,0,0,0,0,0,0,0,0,0,0,0,0,0,0,0,0,0,0,0,0,0,0,0,0,0,0,0,0,0,0,0,0,0,{"$f":"MUK145","v":0},0,0,0,0,0,0,0,0,0,0,0,0,0,0,0,0,0,0,0,0,0,0,0,0,0,0,0,0,0,0,0,0,0,0,0,0,0,0,0,0,0,0,0,0,0,0,0,0,0,0,0,0,0,0,0,0,0,0,0,0,0,0,0,{"$f":"MWW145","v":0},0,0,0,0,0,0,0,0,0,0,0,0,0,0,0,0,0,0,0,0,0,0,0,0,0,0,0,0,0,0,0,0,0,0,0,0,0,0,0,0,0,0,0,0,0,0,0,0,0,0,0,0,0,0,0,0,0,0,0,0,0,0,0,{"$f":"MZI145","v":0},0,0,0,0,0,0,0,0,0,0,0,0,0,0,0,0,0,0,0,0,0,0,0,0,0,0,0,0,0,0,0,0,0,0,0,0,0,0,0,0,0,0,0,0,0,0,0,0,0,0,0,0,0,0,0,0,0,0,0,0,0,0,0,{"$f":"NBU145","v":0},0,0,0,0,0,0,0,0,0,0,0,0,0,0,0,0,0,0,0,0,0,0,0,0,0,0,0,0,0,0,0,0,0,0,0,0,0,0,0,0,0,0,0,0,0,0,0,0,0,0,0,0,0,0,0,0,0,0,0,0,0,0,0,{"$f":"NEG145","v":0},0,0,0,0,0,0,0,0,0,0,0,0,0,0,0,0,0,0,0,0,0,0,0,0,0,0,0,0,0,0,0,0,0,0,0,0,0,0,0,0,0,0,0,0,0,0,0,0,0,0,0,0,0,0,0,0,0,0,0,0,0,0,0,{"$f":"NGS145","v":0},0,0,0,0,0,0,0,0,0,0,0,0,0,0,0,0,0,0,0,0,0,0,0,0,0,0,0,0,0,0,0,0,0,0,0,0,0,0,0,0,0,0,0,0,0,0,0,0,0,0,0,0,0,0,0,0,0,0,0,0,0,0,0,{"$f":"NJE145","v":0},0,0,0,0,0,0,0,0,0,0,0,0,0,0,0,0,0,0,0,0,0,0,0,0,0,0,0,0,0,0,0,0,0,0,0,0,0,0,0,0,0,0,0,0,0,0,0,0,0,0,0,0,0,0,0,0,0,0,0,0,0,0,0,{"$f":"NLQ145","v":0},0,0,0,0,0,0,0,0,0,0,0,0,0,0,0,0,0,0,0,0,0,0,0,0,0,0,0,0,0,0,0,0,0,0,0,0,0,0,0,0,0,0,0,0,0,0,0,0,0,0,0,0,0,0,0,0,0,0,0,0,0,0,0,{"$f":"NOC145","v":0},0,0,0,0,0,0,0,0,0,0,0,0,0,0,0,0,0,0,0,0,0,0,0,0,0,0,0,0,0,0,0,0,0,0,0,0,0,0,0,0,0,0,0,0,0,0,0,0,0,0,0,0,0,0,0,0,0,0,0,0,0,0,0,{"$f":"NQO145","v":0},0,0,0,0,0,0,0,0,0,0,0,0,0,0,0,0,0,0,0,0,0,0,0,0,0,0,0,0,0,0,0,0,0,0,0,0,0,0,0,0,0,0,0,0,0,0,0,0,0,0,0,0,0,0,0,0,0,0,0,0,0,0,0,{"$f":"NTA145","v":0},0,0,0,0,0,0,0,0,0,0,0,0,0,0,0,0,0,0,0,0,0,0,0,0,0,0,0,0,0,0,0,0,0,0,0,0,0,0,0,0,0,0,0,0,0,0,0,0,0,0,0,0,0,0,0,0,0,0,0,0,0,0,0,{"$f":"NVM145","v":0},0,0,0,0,0,0,0,0,0,0,0,0,0,0,0,0,0,0,0,0,0,0,0,0,0,0,0,0,0,0,0,0,0,0,0,0,0,0,0,0,0,0,0,0,0,0,0,0,0,0,0,0,0,0,0,0,0,0,0,0,0,0,0,{"$f":"NXY145","v":0},0,0,0,0,0,0,0,0,0,0,0,0,0,0,0,0,0,0,0,0,0,0,0,0,0,0,0,0,0,0,0,0,0,0,0,0,0,0,0,0,0,0,0,0,0,0,0,0,0,0,0,0,0,0,0,0,0,0,0,0,0,0,0,{"$f":"OAK145","v":0},0,0,0,0,0,0,0,0,0,0,0,0,0,0,0,0,0,0,0,0,0,0,0,0,0,0,0,0,0,0,0,0,0,0,0,0,0,0,0,0,0,0,0,0,0,0,0,0,0,0,0,0,0,0,0,0,0,0,0,0,0,0,0,{"$f":"OCW145","v":0},0,0,0,0,0,0,0,0,0,0,0,0,0,0,0,0,0,0,0,0,0,0,0,0,0,0,0,0,0,0,0,0,0,0,0,0,0,0,0,0,0,0,0,0,0,0,0,0,0,0,0,0,0,0,0,0,0,0,0,0,0,0,0,{"$f":"OFI145","v":0},0,0,0,0,0,0,0,0,0,0,0,0,0,0,0,0,0,0,0,0,0,0,0,0,0,0,0,0,0,0,0,0,0,0,0,0,0,0,0,0,0,0,0,0,0,0,0,0,0,0,0,0,0,0,0,0,0,0,0,0,0,0,0,{"$f":"OHU145","v":0},0,0,0,0,0,0,0,0,0,0,0,0,0,0,0,0,0,0,0,0,0,0,0,0,0,0,0,0,0,0,0,0,0,0,0,0,0,0,0,0,0,0,0,0,0,0,0,0,0,0,0,0,0,0,0,0,0,0,0,0,0,0,0,{"$f":"OKG145","v":0},0,0,0,0,0,0,0,0,0,0,0,0,0,0,0,0,0,0,0,0,0,0,0,0,0,0,0,0,0,0,0,0,0,0,0,0,0,0,0,0,0,0,0,0,0,0,0,0,0,0,0,0,0,0,0,0,0,0,0,0,0,0,0,{"$f":"OMS145","v":0},0,0,0,0,0,0,0,0,0,0,0,0,0,0,0,0,0,0,0,0,0,0,0,0,0,0,0,0,0,0,0,0,0,0,0,0,0,0,0,0,0,0,0,0,0,0,0,0,0,0,0,0,0,0,0,0,0,0,0,0,0,0,0,{"$f":"OPE145","v":0},0,0,0,0,0,0,0,0,0,0,0,0,0,0,0,0,0,0,0,0,0,0,0,0,0,0,0,0,0,0,0,0,0,0,0,0,0,0,0,0,0,0,0,0,0,0,0,0,0,0,0,0,0,0,0,0,0,0,0,0,0,0,0,{"$f":"ORQ145","v":0},0,0,0,0,0,0,0,0,0,0,0,0,0,0,0,0,0,0,0,0,0,0,0,0,0,0,0,0,0,0,0,0,0,0,0,0,0,0,0,0,0,0,0,0,0,0,0,0,0,0,0,0,0,0,0,0,0,0,0,0,0,0,0,{"$f":"OUC145","v":0},0,0,0,0,0,0,0,0,0,0,0,0,0,0,0,0,0,0,0,0,0,0,0,0,0,0,0,0,0,0,0,0,0,0,0,0,0,0,0,0,0,0,0,0,0,0,0,0,0,0,0,0,0,0,0,0,0,0,0,0,0,0,0,{"$f":"OWO145","v":0},0,0,0,0,0,0,0,0,0,0,0,0,0,0,0,0,0,0,0,0,0,0,0,0,0,0,0,0,0,0,0,0,0,0,0,0,0,0,0,0,0,0,0,0,0,0,0,0,0,0,0,0,0,0,0,0,0,0,0,0,0,0,0,{"$f":"OZA145","v":0},0,0,0,0,0,0,0,0,0,0,0,0,0,0,0,0,0,0,0,0,0,0,0,0,0,0,0,0,0,0,0,0,0,0,0,0,0,0,0,0,0,0,0,0,0,0,0,0,0,0,0,0,0,0,0,0,0,0,0,0,0,0,0,{"$f":"PBM145","v":0},0,0,0,0,0,0,0,0,0,0,0,0,0,0,0,0,0,0,0,0,0,0,0,0,0,0,0,0,0,0,0,0,0,0,0,0,0,0,0,0,0,0,0,0,0,0,0,0,0,0,0,0,0,0,0,0,0,0,0,0,0,0,0,{"$f":"PDY145","v":0},0,0,0,0,0,0,0,0,0,0,0,0,0,0,0,0,0,0,0,0,0,0,0,0,0,0,0,0,0,0,0,0,0,0,0,0,0,0,0,0,0,0,0,0,0,0,0,0,0,0,0,0,0,0,0,0,0,0,0,0,0,0,0,{"$f":"PGK145","v":0},0,0,0,0,0,0,0,0,0,0,0,0,0,0,0,0,0,0,0,0,0,0,0,0,0,0,0,0,0,0,0,0,0,0,0,0,0,0,0,0,0,0,0,0,0,0,0,0,0,0,0,0,0,0,0,0,0,0,0,0,0,0,0,{"$f":"PIW145","v":0},0,0,0,0,0,0,0,0,0,0,0,0,0,0,0,0,0,0,0,0,0,0,0,0,0,0,0,0,0,0,0,0,0,0,0,0,0,0,0,0,0,0,0,0,0,0,0,0,0,0,0,0,0,0,0,0,0,0,0,0,0,0,0,{"$f":"PLI145","v":0},0,0,0,0,0,0,0,0,0,0,0,0,0,0,0,0,0,0,0,0,0,0,0,0,0,0,0,0,0,0,0,0,0,0,0,0,0,0,0,0,0,0,0,0,0,0,0,0,0,0,0,0,0,0,0,0,0,0,0,0,0,0,0,{"$f":"PNU145","v":0},0,0,0,0,0,0,0,0,0,0,0,0,0,0,0,0,0,0,0,0,0,0,0,0,0,0,0,0,0,0,0,0,0,0,0,0,0,0,0,0,0,0,0,0,0,0,0,0,0,0,0,0,0,0,0,0,0,0,0,0,0,0,0,{"$f":"PQG145","v":0},0,0,0,0,0,0,0,0,0,0,0,0,0,0,0,0,0,0,0,0,0,0,0,0,0,0,0,0,0,0,0,0,0,0,0,0,0,0,0,0,0,0,0,0,0,0,0,0,0,0,0,0,0,0,0,0,0,0,0,0,0,0,0,{"$f":"PSS145","v":0},0,0,0,0,0,0,0,0,0,0,0,0,0,0,0,0,0,0,0,0,0,0,0,0,0,0,0,0,0,0,0,0,0,0,0,0,0,0,0,0,0,0,0,0,0,0,0,0,0,0,0,0,0,0,0,0,0,0,0,0,0,0,0,{"$f":"PVE145","v":0},0,0,0,0,0,0,0,0,0,0,0,0,0,0,0,0,0,0,0,0,0,0,0,0,0,0,0,0,0,0,0,0,0,0,0,0,0,0,0,0,0,0,0,0,0,0,0,0,0,0,0,0,0,0,0,0,0,0,0,0,0,0,0,{"$f":"PXQ145","v":0},0,0,0,0,0,0,0,0,0,0,0,0,0,0,0,0,0,0,0,0,0,0,0,0,0,0,0,0,0,0,0,0,0,0,0,0,0,0,0,0,0,0,0,0,0,0,0,0,0,0,0,0,0,0,0,0,0,0,0,0,0,0,0,{"$f":"QAC145","v":0},0,0,0,0,0,0,0,0,0,0,0,0,0,0,0,0,0,0,0,0,0,0,0,0,0,0,0,0,0,0,0,0,0,0,0,0,0,0,0,0,0,0,0,0,0,0,0,0,0,0,0,0,0,0,0,0,0,0,0,0,0,0,0,{"$f":"QCO145","v":0},0,0,0,0,0,0,0,0,0,0,0,0,0,0,0,0,0,0,0,0,0,0,0,0,0,0,0,0,0,0,0,0,0,0,0,0,0,0,0,0,0,0,0,0,0,0,0,0,0,0,0,0,0,0,0,0,0,0,0,0,0,0,0,{"$f":"QFA145","v":0},0,0,0,0,0,0,0,0,0,0,0,0,0,0,0,0,0,0,0,0,0,0,0,0,0,0,0,0,0,0,0,0,0,0,0,0,0,0,0,0,0,0,0,0,0,0,0,0,0,0,0,0,0,0,0,0,0,0,0,0,0,0,0,{"$f":"QHM145","v":0},0,0,0,0,0,0,0,0,0,0,0,0,0,0,0,0,0,0,0,0,0,0,0,0,0,0,0,0,0,0,0,0,0,0,0,0,0,0,0,0,0,0,0,0,0,0,0,0,0,0,0,0,0,0,0,0,0,0,0,0,0,0,0,{"$f":"QJY145","v":0},0,0,0,0,0,0,0,0,0,0,0,0,0,0,0,0,0,0,0,0,0,0,0,0,0,0,0,0,0,0,0,0,0,0,0,0,0,0,0,0,0,0,0,0,0,0,0,0,0,0,0,0,0,0,0,0,0,0,0,0,0,0,0,{"$f":"QMK145","v":0},0,0,0,0,0,0,0,0,0,0,0,0,0,0,0,0,0,0,0,0,0,0,0,0,0,0,0,0,0,0,0,0,0,0,0,0,0,0,0,0,0,0,0,0,0,0,0,0,0,0,0,0,0,0,0,0,0,0,0,0,0,0,0,{"$f":"QOW145","v":0},0,0,0,0,0,0,0,0,0,0,0,0,0,0,0,0,0,0,0,0,0,0,0,0,0,0,0,0,0,0,0,0,0,0,0,0,0,0,0,0,0,0,0,0,0,0,0,0,0,0,0,0,0,0,0,0,0,0,0,0,0,0,0,{"$f":"QRI145","v":0},0,0,0,0,0,0,0,0,0,0,0,0,0,0,0,0,0,0,0,0,0,0,0,0,0,0,0,0,0,0,0,0,0,0,0,0,0,0,0,0,0,0,0,0,0,0,0,0,0,0,0,0,0,0,0,0,0,0,0,0,0,0,0,{"$f":"QTU145","v":0},0,0,0,0,0,0,0,0,0,0,0,0,0,0,0,0,0,0,0,0,0,0,0,0,0,0,0,0,0,0,0,0,0,0,0,0,0,0,0,0,0,0,0,0,0,0,0,0,0,0,0,0,0,0,0,0,0,0,0,0,0,0,0,{"$f":"QWG145","v":0},0,0,0,0,0,0,0,0,0,0,0,0,0,0,0,0,0,0,0,0,0,0,0,0,0,0,0,0,0,0,0,0,0,0,0,0,0,0,0,0,0,0,0,0,0,0,0,0,0,0,0,0,0,0,0,0,0,0,0,0,0,0,0,{"$f":"QYS145","v":0},0,0,0,0,0,0,0,0,0,0,0,0,0,0,0,0,0,0,0,0,0,0,0,0,0,0,0,0,0,0,0,0,0,0,0,0,0,0,0,0,0,0,0,0,0,0,0,0,0,0,0,0,0,0,0,0,0,0,0,0,0,0,0,{"$f":"RBE145","v":0},0,0,0,0,0,0,0,0,0,0,0,0,0,0,0,0,0,0,0,0,0,0,0,0,0,0,0,0,0,0,0,0,0,0,0,0,0,0,0,0,0,0,0,0,0,0,0,0,0,0,0,0,0,0,0,0,0,0,0,0,0,0,0,{"$f":"RDQ145","v":0},0,0,0,0,0,0,0,0,0,0,0,0,0,0,0,0,0,0,0,0,0,0,0,0,0,0,0,0,0,0,0,0,0,0,0,0,0,0,0,0,0,0,0,0,0,0,0,0,0,0,0,0,0,0,0,0,0,0,0,0,0,0,0,{"$f":"RGC145","v":0},0,0,0,0,0,0,0,0,0,0,0,0,0,0,0,0,0,0,0,0,0,0,0,0,0,0,0,0,0,0,0,0,0,0,0,0,0,0,0,0,0,0,0,0,0,0,0,0,0,0,0,0,0,0,0,0,0,0,0,0,0,0,0,{"$f":"RIO145","v":0},0,0,0,0,0,0,0,0,0,0,0,0,0,0,0,0,0,0,0,0,0,0,0,0,0,0,0,0,0,0,0,0,0,0,0,0,0,0,0,0,0,0,0,0,0,0,0,0,0,0,0,0,0,0,0,0,0,0,0,0,0,0,0,{"$f":"RLA145","v":0},0,0,0,0,0,0,0,0,0,0,0,0,0,0,0,0,0,0,0,0,0,0,0,0,0,0,0,0,0,0,0,0,0,0,0,0,0,0,0,0,0,0,0,0,0,0,0,0,0,0,0,0,0,0,0,0,0,0,0,0,0,0,0,{"$f":"RNM145","v":0},0,0,0,0,0,0,0,0,0,0,0,0,0,0,0,0,0,0,0,0,0,0,0,0,0,0,0,0,0,0,0,0,0,0,0,0,0,0,0,0,0,0,0,0,0,0,0,0,0,0,0,0,0,0,0,0,0,0,0,0,0,0,0,{"$f":"RPY145","v":0},0,0,0,0,0,0,0,0,0,0,0,0,0,0,0,0,0,0,0,0,0,0,0,0,0,0,0,0,0,0,0,0,0,0,0,0,0,0,0,0,0,0,0,0,0,0,0,0,0,0,0,0,0,0,0,0,0,0,0,0,0,0,0,{"$f":"RSK145","v":0},0,0,0,0,0,0,0,0,0,0,0,0,0,0,0,0,0,0,0,0,0,0,0,0,0,0,0,0,0,0,0,0,0,0,0,0,0,0,0,0,0,0,0,0,0,0,0,0,0,0,0,0,0,0,0,0,0,0,0,0,0,0,0,{"$f":"RUW145","v":0},0,0,0,0,0,0,0,0,0,0,0,0,0,0,0,0,0,0,0,0,0,0,0,0,0,0,0,0,0,0,0,0,0,0,0,0,0,0,0,0,0,0,0,0,0,0,0,0,0,0,0,0,0,0,0,0,0,0,0,0,0,0,0,{"$f":"RXI145","v":0},0,0,0,0,0,0,0,0,0,0,0,0,0,0,0,0,0,0,0,0,0,0,0,0,0,0,0,0,0,0,0,0,0,0,0,0,0,0,0,0,0,0,0,0,0,0,0,0,0,0,0,0,0,0,0,0,0,0,0,0,0,0,0,{"$f":"RZU145","v":0},0,0,0,0,0,0,0,0,0,0,0,0,0,0,0,0,0,0,0,0,0,0,0,0,0,0,0,0,0,0,0,0,0,0,0,0,0,0,0,0,0,0,0,0,0,0,0,0,0,0,0,0,0,0,0,0,0,0,0,0,0,0,0,{"$f":"SCG145","v":0},0,0,0,0,0,0,0,0,0,0,0,0,0,0,0,0,0,0,0,0,0,0,0,0,0,0,0,0,0,0,0,0,0,0,0,0,0,0,0,0,0,0,0,0,0,0,0,0,0,0,0,0,0,0,0,0,0,0,0,0,0,0,0,{"$f":"SES145","v":0},0,0,0,0,0,0,0,0,0,0,0,0,0,0,0,0,0,0,0,0,0,0,0,0,0,0,0,0,0,0,0,0,0,0,0,0,0,0,0,0,0,0,0,0,0,0,0,0,0,0,0,0,0,0,0,0,0,0,0,0,0,0,0,{"$f":"SHE145","v":0},0,0,0,0,0,0,0,0,0,0,0,0,0,0,0,0,0,0,0,0,0,0,0,0,0,0,0,0,0,0,0,0,0,0,0,0,0,0,0,0,0,0,0,0,0,0,0,0,0,0,0,0,0,0,0,0,0,0,0,0,0,0,0,{"$f":"SJQ145","v":0},0,0,0,0,0,0,0,0,0,0,0,0,0,0,0,0,0,0,0,0,0,0,0,0,0,0,0,0,0,0,0,0,0,0,0,0,0,0,0,0,0,0,0,0,0,0,0,0,0,0,0,0,0,0,0,0,0,0,0,0,0,0,0,{"$f":"SMC145","v":0},0,0,0,0,0,0,0,0,0,0,0,0,0,0,0,0,0,0,0,0,0,0,0,0,0,0,0,0,0,0,0,0,0,0,0,0,0,0,0,0,0,0,0,0,0,0,0,0,0,0,0,0,0,0,0,0,0,0,0,0,0,0,0,{"$f":"SOO145","v":0},0,0,0,0,0,0,0,0,0,0,0,0,0,0,0,0,0,0,0,0,0,0,0,0,0,0,0,0,0,0,0,0,0,0,0,0,0,0,0,0,0,0,0,0,0,0,0,0,0,0,0,0,0,0,0,0,0,0,0,0,0,0,0,{"$f":"SRA145","v":0},0,0,0,0,0,0,0,0,0,0,0,0,0,0,0,0,0,0,0,0,0,0,0,0,0,0,0,0,0,0,0,0,0,0,0,0,0,0,0,0,0,0,0,0,0,0,0,0,0,0,0,0,0,0,0,0,0,0,0,0,0,0,0,{"$f":"STM145","v":0},0,0,0,0,0,0,0,0,0,0,0,0,0,0,0,0,0,0,0,0,0,0,0,0,0,0,0,0,0,0,0,0,0,0,0,0,0,0,0,0,0,0,0,0,0,0,0,0,0,0,0,0,0,0,0,0,0,0,0,0,0,0,0,{"$f":"SVY145","v":0},0,0,0,0,0,0,0,0,0,0,0,0,0,0,0,0,0,0,0,0,0,0,0,0,0,0,0,0,0,0,0,0,0,0,0,0,0,0,0,0,0,0,0,0,0,0,0,0,0,0,0,0,0,0,0,0,0,0,0,0,0,0,0,{"$f":"SYK145","v":0},0,0,0,0,0,0,0,0,0,0,0,0,0,0,0,0,0,0,0,0,0,0,0,0,0,0,0,0,0,0,0,0,0,0,0,0,0,0,0,0,0,0,0,0,0,0,0,0,0,0,0,0,0,0,0,0,0,0,0,0,0,0,0,{"$f":"TAW145","v":0},0,0,0,0,0,0,0,0,0,0,0,0,0,0,0,0,0,0,0,0,0,0,0,0,0,0,0,0,0,0,0,0,0,0,0,0,0,0,0,0,0,0,0,0,0,0,0,0,0,0,0,0,0,0,0,0,0,0,0,0,0,0,0,{"$f":"TDI145","v":0},0,0,0,0,0,0,0,0,0,0,0,0,0,0,0,0,0,0,0,0,0,0,0,0,0,0,0,0,0,0,0,0,0,0,0,0,0,0,0,0,0,0,0,0,0,0,0,0,0,0,0,0,0,0,0,0,0,0,0,0,0,0,0,{"$f":"TFU145","v":0},0,0,0,0,0,0,0,0,0,0,0,0,0,0,0,0,0,0,0,0,0,0,0,0,0,0,0,0,0,0,0,0,0,0,0,0,0,0,0,0,0,0,0,0,0,0,0,0,0,0,0,0,0,0,0,0,0,0,0,0,0,0,0,{"$f":"TIG145","v":0},0,0,0,0,0,0,0,0,0,0,0,0,0,0,0,0,0,0,0,0,0,0,0,0,0,0,0,0,0,0,0,0,0,0,0,0,0,0,0,0,0,0,0,0,0,0,0,0,0,0,0,0,0,0,0,0,0,0,0,0,0,0,0,{"$f":"TKS145","v":0},0,0,0,0,0,0,0,0,0,0,0,0,0,0,0,0,0,0,0,0,0,0,0,0,0,0,0,0,0,0,0,0,0,0,0,0,0,0,0,0,0,0,0,0,0,0,0,0,0,0,0,0,0,0,0,0,0,0,0,0,0,0,0,{"$f":"TNE145","v":0},0,0,0,0,0,0,0,0,0,0,0,0,0,0,0,0,0,0,0,0,0,0,0,0,0,0,0,0,0,0,0,0,0,0,0,0,0,0,0,0,0,0,0,0,0,0,0,0,0,0,0,0,0,0,0,0,0,0,0,0,0,0,0,{"$f":"TPQ145","v":0},0,0,0,0,0,0,0,0,0,0,0,0,0,0,0,0,0,0,0,0,0,0,0,0,0,0,0,0,0,0,0,0,0,0,0,0,0,0,0,0,0,0,0,0,0,0,0,0,0,0,0,0,0,0,0,0,0,0,0,0,0,0,0,{"$f":"TSC145","v":0},0,0,0,0,0,0,0,0,0,0,0,0,0,0,0,0,0,0,0,0,0,0,0,0,0,0,0,0,0,0,0,0,0,0,0,0,0,0,0,0,0,0,0,0,0,0,0,0,0,0,0,0,0,0,0,0,0,0,0,0,0,0,0,{"$f":"TUO145","v":0},0,0,0,0,0,0,0,0,0,0,0,0,0,0,0,0,0,0,0,0,0,0,0,0,0,0,0,0,0,0,0,0,0,0,0,0,0,0,0,0,0,0,0,0,0,0,0,0,0,0,0,0,0,0,0,0,0,0,0,0,0,0,0,{"$f":"TXA145","v":0},0,0,0,0,0,0,0,0,0,0,0,0,0,0,0,0,0,0,0,0,0,0,0,0,0,0,0,0,0,0,0,0,0,0,0,0,0,0,0,0,0,0,0,0,0,0,0,0,0,0,0,0,0,0,0,0,0,0,0,0,0,0,0,{"$f":"TZM145","v":0},0,0,0,0,0,0,0,0,0,0,0,0,0,0,0,0,0,0,0,0,0,0,0,0,0,0,0,0,0,0,0,0,0,0,0,0,0,0,0,0,0,0,0,0,0,0,0,0,0,0,0,0,0,0,0,0,0,0,0,0,0,0,0,{"$f":"UBY145","v":0},0,0,0,0,0,0,0,0,0,0,0,0,0,0,0,0,0,0,0,0,0,0,0,0,0,0,0,0,0,0,0,0,0,0,0,0,0,0,0,0,0,0,0,0,0,0,0,0,0,0,0,0,0,0,0,0,0,0,0,0,0,0,0,{"$f":"UEK145","v":0},0,0,0,0,0,0,0,0,0,0,0,0,0,0,0,0,0,0,0,0,0,0,0,0,0,0,0,0,0,0,0,0,0,0,0,0,0,0,0,0,0,0,0,0,0,0,0,0,0,0,0,0,0,0,0,0,0,0,0,0,0,0,0,{"$f":"UGW145","v":0},0,0,0,0,0,0,0,0,0,0,0,0,0,0,0,0,0,0,0,0,0,0,0,0,0,0,0,0,0,0,0,0,0,0,0,0,0,0,0,0,0,0,0,0,0,0,0,0,0,0,0,0,0,0,0,0,0,0,0,0,0,0,0,{"$f":"UJI145","v":0},0,0,0,0,0,0,0,0,0,0,0,0,0,0,0,0,0,0,0,0,0,0,0,0,0,0,0,0,0,0,0,0,0,0,0,0,0,0,0,0,0,0,0,0,0,0,0,0,0,0,0,0,0,0,0,0,0,0,0,0,0,0,0,{"$f":"ULU145","v":0},0,0,0,0,0,0,0,0,0,0,0,0,0,0,0,0,0,0,0,0,0,0,0,0,0,0,0,0,0,0,0,0,0,0,0,0,0,0,0,0,0,0,0,0,0,0,0,0,0,0,0,0,0,0,0,0,0,0,0,0,0,0,0,{"$f":"UOG145","v":0},0,0,0,0,0,0,0,0,0,0,0,0,0,0,0,0,0,0,0,0,0,0,0,0,0,0,0,0,0,0,0,0,0,0,0,0,0,0,0,0,0,0,0,0,0,0,0,0,0,0,0,0,0,0,0,0,0,0,0,0,0,0,0,{"$f":"UQS145","v":0},0,0,0,0,0,0,0,0,0,0,0,0,0,0,0,0,0,0,0,0,0,0,0,0,0,0,0,0,0,0,0,0,0,0,0,0,0,0,0,0,0,0,0,0,0,0,0,0,0,0,0,0,0,0,0,0,0,0,0,0,0,0,0,{"$f":"UTE145","v":0},0,0,0,0,0,0,0,0,0,0,0,0,0,0,0,0,0,0,0,0,0,0,0,0,0,0,0,0,0,0,0,0,0,0,0,0,0,0,0,0,0,0,0,0,0,0,0,0,0,0,0,0,0,0,0,0,0,0,0,0,0,0,0,{"$f":"UVQ145","v":0},0,0,0,0,0,0,0,0,0,0,0,0,0,0,0,0,0,0,0,0,0,0,0,0,0,0,0,0,0,0,0,0,0,0,0,0,0,0,0,0,0,0,0,0,0,0,0,0,0,0,0,0,0,0,0,0,0,0,0,0,0,0,0,{"$f":"UYC145","v":0},0,0,0,0,0,0,0,0,0,0,0,0,0,0,0,0,0,0,0,0,0,0,0,0,0,0,0,0,0,0,0,0,0,0,0,0,0,0,0,0,0,0,0,0,0,0,0,0,0,0,0,0,0,0,0,0,0,0,0,0,0,0,0,{"$f":"VAO145","v":0},0,0,0,0,0,0,0,0,0,0,0,0,0,0,0,0,0,0,0,0,0,0,0,0,0,0,0,0,0,0,0,0,0,0,0,0,0,0,0,0,0,0,0,0,0,0,0,0,0,0,0,0,0,0,0,0,0,0,0,0,0,0,0,{"$f":"VDA145","v":0},0,0,0,0,0,0,0,0,0,0,0,0,0,0,0,0,0,0,0,0,0,0,0,0,0,0,0,0,0,0,0,0,0,0,0,0,0,0,0,0,0,0,0,0,0,0,0,0,0,0,0,0,0,0,0,0,0,0,0,0,0,0,0,{"$f":"VFM145","v":0},0,0,0,0,0,0,0,0,0,0,0,0,0,0,0,0,0,0,0,0,0,0,0,0,0,0,0,0,0,0,0,0,0,0,0,0,0,0,0,0,0,0,0,0,0,0,0,0,0,0,0,0,0,0,0,0,0,0,0,0,0,0,0,{"$f":"VHY145","v":0},0,0,0,0,0,0,0,0,0,0,0,0,0,0,0,0,0,0,0,0,0,0,0,0,0,0,0,0,0,0,0,0,0,0,0,0,0,0,0,0,0,0,0,0,0,0,0,0,0,0,0,0,0,0,0,0,0,0,0,0,0,0,0,{"$f":"VKK145","v":0},0,0,0,0,0,0,0,0,0,0,0,0,0,0,0,0,0,0,0,0,0,0,0,0,0,0,0,0,0,0,0,0,0,0,0,0,0,0,0,0,0,0,0,0,0,0,0,0,0,0,0,0,0,0,0,0,0,0,0,0,0,0,0,{"$f":"VMW145","v":0},0,0,0,0,0,0,0,0,0,0,0,0,0,0,0,0,0,0,0,0,0,0,0,0,0,0,0,0,0,0,0,0,0,0,0,0,0,0,0,0,0,0,0,0,0,0,0,0,0,0,0,0,0,0,0,0,0,0,0,0,0,0,0,{"$f":"VPI145","v":0},0,0,0,0,0,0,0,0,0,0,0,0,0,0,0,0,0,0,0,0,0,0,0,0,0,0,0,0,0,0,0,0,0,0,0,0,0,0,0,0,0,0,0,0,0,0,0,0,0,0,0,0,0,0,0,0,0,0,0,0,0,0,0,{"$f":"VRU145","v":0},0,0,0,0,0,0,0,0,0,0,0,0,0,0,0,0,0,0,0,0,0,0,0,0,0,0,0,0,0,0,0,0,0,0,0,0,0,0,0,0,0,0,0,0,0,0,0,0,0,0,0,0,0,0,0,0,0,0,0,0,0,0,0,{"$f":"VUG145","v":0},0,0,0,0,0,0,0,0,0,0,0,0,0,0,0,0,0,0,0,0,0,0,0,0,0,0,0,0,0,0,0,0,0,0,0,0,0,0,0,0,0,0,0,0,0,0,0,0,0,0,0,0,0,0,0,0,0,0,0,0,0,0,0,{"$f":"VWS145","v":0},0,0,0,0,0,0,0,0,0,0,0,0,0,0,0,0,0,0,0,0,0,0,0,0,0,0,0,0,0,0,0,0,0,0,0,0,0,0,0,0,0,0,0,0,0,0,0,0,0,0,0,0,0,0,0,0,0,0,0,0,0,0,0,{"$f":"VZE145","v":0},0,0,0,0,0,0,0,0,0,0,0,0,0,0,0,0,0,0,0,0,0,0,0,0,0,0,0,0,0,0,0,0,0,0,0,0,0,0,0,0,0,0,0,0,0,0,0,0,0,0,0,0,0,0,0,0,0,0,0,0,0,0,0,{"$f":"WBQ145","v":0},0,0,0,0,0,0,0,0,0,0,0,0,0,0,0,0,0,0,0,0,0,0,0,0,0,0,0,0,0,0,0,0,0,0,0,0,0,0,0,0,0,0,0,0,0,0,0,0,0,0,0,0,0,0,0,0,0,0,0,0,0,0,0,{"$f":"WEC145","v":0},0,0,0,0,0,0,0,0,0,0,0,0,0,0,0,0,0,0,0,0,0,0,0,0,0,0,0,0,0,0,0,0,0,0,0,0,0,0,0,0,0,0,0,0,0,0,0,0,0,0,0,0,0,0,0,0,0,0,0,0,0,0,0,{"$f":"WGO145","v":0},0,0,0,0,0,0,0,0,0,0,0,0,0,0,0,0,0,0,0,0,0,0,0,0,0,0,0,0,0,0,0,0,0,0,0,0,0,0,0,0,0,0,0,0,0,0,0,0,0,0,0,0,0,0,0,0,0,0,0,0,0,0,0,{"$f":"WJA145","v":0},0,0,0,0,0,0,0,0,0,0,0,0,0,0,0,0,0,0,0,0,0,0,0,0,0,0,0,0,0,0,0,0,0,0,0,0,0,0,0,0,0,0,0,0,0,0,0,0,0,0,0,0,0,0,0,0,0,0,0,0,0,0,0,{"$f":"WLM145","v":0},0,0,0,0,0,0,0,0,0,0,0,0,0,0,0,0,0,0,0,0,0,0,0,0,0,0,0,0,0,0,0,0,0,0,0,0,0,0,0,0,0,0,0,0,0,0,0,0,0,0,0,0,0,0,0,0,0,0,0,0,0,0,0,{"$f":"WNY145","v":0},0,0,0,0,0,0,0,0,0,0,0,0,0,0,0,0,0,0,0,0,0,0,0,0,0,0,0,0,0,0,0,0,0,0,0,0,0,0,0,0,0,0,0,0,0,0,0,0,0,0,0,0,0,0,0,0,0,0,0,0,0,0,0,{"$f":"WQK145","v":0},0,0,0,0,0,0,0,0,0,0,0,0,0,0,0,0,0,0,0,0,0,0,0,0,0,0,0,0,0,0,0,0,0,0,0,0,0,0,0,0,0,0,0,0,0,0,0,0,0,0,0,0,0,0,0,0,0,0,0,0,0,0,0,{"$f":"WSW145","v":0},0,0,0,0,0,0,0,0,0,0,0,0,0,0,0,0,0,0,0,0,0,0,0,0,0,0,0,0,0,0,0,0,0,0,0,0,0,0,0,0,0,0,0,0,0,0,0,0,0,0,0,0,0,0,0,0,0,0,0,0,0,0,0,{"$f":"WVI145","v":0},0,0,0,0,0,0,0,0,0,0,0,0,0,0,0,0,0,0,0,0,0,0,0,0,0,0,0,0,0,0,0,0,0,0,0,0,0,0,0,0,0,0,0,0,0,0,0,0,0,0,0,0,0,0,0,0,0,0,0,0,0,0,0,{"$f":"WXU145","v":0},0,0,0,0,0,0,0,0,0,0,0,0,0,0,0,0,0,0,0,0,0,0,0,0,0,0,0,0,0,0,0,0,0,0,0,0,0,0,0,0,0,0,0,0,0,0,0,0,0,0,0,0,0,0,0,0,0,0,0,0,0,0,0,{"$f":"XAG145","v":0},0,0,0,0,0,0,0,0,0,0,0,0,0,0,0,0,0,0,0,0,0,0,0,0,0,0,0,0,0,0,0,0,0,0,0,0,0,0,0,0,0,0,0,0,0,0,0,0,0,0,0,0,0,0,0,0,0,0,0,0,0,0,0,{"$f":"XCS145","v":0},0,0,0,0,0,0,0,0,0,0,0,0,0,0,0,0,0,0,0,0,0,0,0,0,0,0,0,0,0,0,0,0,0,0,0,0,0,0,0,0,0,0,0,0,0,0,0,0,0,0,0,0,0,0,0,0,0,0,0,0,0,0,0]
[null,null,null,null,"Capitalized interest",4,null,"year","First year of Production = year 3"]
[]
[null,null,null,null,"Depreciation period"]
[null,null,null,null,"Production Vessel",10,null,"years","Straight-Line depreciation"]
[null,null,null,null,"Transfer Vessel/Bulk Carriers",10,null,"years","Straight-Line depreciation"]
[null,null,null,null,"Support Vessel",10,null,"years","Straight-Line depreciation"]
[null,null,null,null,"Operations facilities initial setup",10,null,"years","Straight-Line depreciation"]
[null,null,null,null,"Professional Services",10,null,"years","Straight-Line depreciation"]
[null,null,null,null,"Owners cost",10,null,"years","Straight-Line depreciation"]
[null,null,null,null,"Contingency",10,null,"years","Straight-Line depreciation"]
[null,null,null,null,"Allseas credit",10,null,"years","Straight-Line depreciation"]
[null,null,null,null,"Capitalized interest",10,null,"years","Straight-Line depreciation"]
[]
[null,null,"Sustaining Capex Depreciation"]
[null,null,null,null,"Sustaining capex depreciation period",5,10,"years","Straight-Line depreciation"]
[]
[]
[null,null,"Project Operational Expenditure"]
[null,null,null,null,"Collection",75.2,46.5,"US$ /wmt of  nodules"]
[null,null,null,null,"Transfer and shipping",{"$f":"SUM(F189:F193)","v":18.700000000000003},{"$f":"SUM(G189:G193)","v":9.1},"US$ /wmt of  nodules"]
[null,null,null,null,"Transfer vessel CCZ",6.4,null,"US$ /wmt of  nodules"]
[null,null,null,null,"Bulk Carrier CCZ to INDO - Capesize",10.4,7.7,"US$ /wmt of  nodules"]
[null,null,null,null,"Bulk Carrier INDO to Texas - Handymax",1,1.4,"US$ /wmt of  nodules"]
[null,null,null,null,"Bulk Carrier INDO to Janpan - Handymax",0.8,null,"US$ /wmt of  nodules"]
[null,null,null,null,"INDO inbound handling",0.1,null,"US$ /wmt of  nodules"]
[null,null,null,null,"Contractor (Offshore)",11.3,5.3,"US$ /wmt of  nodules"]
[null,null,null,null,"Consumables (Offshore)",23.4,17.7,"US$ /wmt of  nodules"]
[null,null,null,null,"Processing ",83,80,"US$ /wmt of  nodules"]
[null,null,null,null,"G&A",12.1,5.9,"US$ /wmt of  nodules"]
[]
["Other Operation Fees Assumptions"]
[]
[null,null,"Fees for ISA "]
[null,null,null,null,"Annual reporting fee",1,1,"US$ mn","Assumption"]
[null,null,null,null,"Annual fixed fee",0.5,0.5,"US$ mn","Assumption"]
[]
[null,null,"Other fees"]
[null,null,null,null,"Nauru Continuity Benefits Payment",1.2,0.2,"US$/WMT"]
[null,null,null,null,"Tonga Continuity Payment",null,0.11,"US$/WMT"]
[null,null,null,null,"LCR Royalty",2.8,1,"US$/WMT"]
[]
["Fiscal Assumptions"]
[]
[null,null,"Royalty "]
[null,null,null,null,{"$f":"Dashboard!B8","v":"Royalty - stage 1"},{"$f":"Dashboard!$C$8","v":2.5000000000000001E-2},{"$f":"Dashboard!$C$8","v":2.5000000000000001E-2},{"$f":"Dashboard!D8","v":"%"},"Assumption"]
[null,null,null,null,{"$f":"Dashboard!B9","v":"Royalty stage 1 duration"},{"$f":"Dashboard!$C$9","v":5},{"$f":"Dashboard!$C$9","v":5},{"$f":"Dashboard!D9","v":"years into production"},"Assumption"]
[null,null,null,null,{"$f":"Dashboard!B10","v":"Royalty - stage 2"},{"$f":"Dashboard!$C$10","v":7.4999999999999997E-2},{"$f":"Dashboard!$C$10","v":7.4999999999999997E-2},{"$f":"Dashboard!D10","v":"%"}]
[]
[null,null,"Additional profit share"]
[null,null,null,null,{"$f":"Dashboard!B11","v":"Additional profit share"},{"$f":"Dashboard!$C$11","v":0.25},{"$f":"Dashboard!$C$11","v":0.25},{"$f":"Dashboard!D11","v":"%"}]
[null,null,null,null,"Additional Profits share adjustment factor",{"$f":"Dashboard!$C$12","v":1.1000000000000001},{"$f":"Dashboard!$C$12","v":1.1000000000000001},"constant"]
[null,null,null,null,"Covered payments credit applicable to Additional profit share to ISA",1,1,"Option","1 = Yes ; 0 = No"]
[null,null,null,null,{"$f":"Dashboard!B14","v":"Additionam profit share reductible for CIT"},{"$f":"Dashboard!$C$14","v":0},{"$f":"Dashboard!$C$14","v":0},"Option","1 = Yes ; 0 = No"]
[]
[null,null,"CIT"]
[null,null,null,null,"CIT Rate - Sponsoring state",{"$f":"Dashboard!$C$13","v":0.25},{"$f":"Dashboard!$C$13","v":0.25},"%"]
[]
["Financing Assumptions"]
[]
[null,null,"Debt financing"]
[null,null,null,null,"Proportion of Capex financed by debts",0,0,"%","Assumption"]
[null,null,null,null,"Repayment start year",{"$f":"F17","v":7},{"$f":"G17","v":8},"Year","Assumption"]
[null,null,null,null,"Repayment period",10,10,"Years","Assumption"]
[null,null,null,null,"Loan real interest rate ",0.18,0.18,"%","Assumption"]
[null,null,null,null,"Interest payment start year",4,5,"Year"]
[]
["Economic assumptions"]
[]
[null,null,null,null,"ISA Discount Rate",0.08,0.08,"%"]
[null,null,null,null,"Project  Shareholder Discount Rate",0.08,0.08,"%"]
[null,null,null,null,"Sponsoring State Discount Rate",0.08,0.08,"%"]
[]
["Technical parameters"]
[]
[null,null,null,null,"Model check tolerance level",0.01,0.01,"Tolerance"]
[null,null,null,null,"one hundred",100,100,"Constant"]
[null,null,null,null,"one thousand",1000,1000,"Constant"]
[null,null,null,null,"one million",1000000,1000000,"Constant"]
[null,null,null,null,"one",1,1,"Constant"]
[null,null,null,null,"two",2,2,"Constant"]
[null,null,null,null,"three",3,3,"Constant"]
[]
["Global labels"]
[]
[null,null,null,null,"Label: yes","Yes","Yes","Label"]
[null,null,null,null,"Label: no","No","No","Label"]
[]
["END MODEL"]

{"sheet":"Working Inputs","index":4,"n_rows":256,"n_cols":16384,"rows_kept":256,"cut":false,"hidden":false,"merged":[]}
[{"$f":" RIGHT( CELL(\"filename\",$A$1), LEN( CELL(\"filename\",$A$1)) - SEARCH(\"]\", CELL(\"filename\",$A$1)))","v":"Working Inputs"},null,null,null,null,null,null,null,null,null,{"$f":"'Project Cashflows'!K1","v":1},{"$f":"'Project Cashflows'!L1","v":2},{"$f":"'Project Cashflows'!M1","v":3},{"$f":"'Project Cashflows'!N1","v":4},{"$f":"'Project Cashflows'!O1","v":5},{"$f":"'Project Cashflows'!P1","v":6},{"$f":"'Project Cashflows'!Q1","v":7},{"$f":"'Project Cashflows'!R1","v":8},{"$f":"'Project Cashflows'!S1","v":9},{"$f":"'Project Cashflows'!T1","v":10},{"$f":"'Project Cashflows'!U1","v":11},{"$f":"'Project Cashflows'!V1","v":12},{"$f":"'Project Cashflows'!W1","v":13},{"$f":"'Project Cashflows'!X1","v":14},{"$f":"'Project Cashflows'!Y1","v":15},{"$f":"'Project Cashflows'!Z1","v":16},{"$f":"'Project Cashflows'!AA1","v":17},{"$f":"'Project Cashflows'!AB1","v":18},{"$f":"'Project Cashflows'!AC1","v":19},{"$f":"'Project Cashflows'!AD1","v":20},{"$f":"'Project Cashflows'!AE1","v":21},{"$f":"'Project Cashflows'!AF1","v":22},{"$f":"'Project Cashflows'!AG1","v":23},{"$f":"'Project Cashflows'!AH1","v":24},{"$f":"'Project Cashflows'!AI1","v":25},{"$f":"'Project Cashflows'!AJ1","v":26},{"$f":"'Project Cashflows'!AK1","v":27},{"$f":"'Project Cashflows'!AL1","v":28},{"$f":"'Project Cashflows'!AM1","v":29},{"$f":"'Project Cashflows'!AN1","v":30},{"$f":"'Project Cashflows'!AO1","v":31},{"$f":"'Project Cashflows'!AP1","v":32},{"$f":"'Project Cashflows'!AQ1","v":33},{"$f":"'Project Cashflows'!AR1","v":34},{"$f":"'Project Cashflows'!AS1","v":35},{"$f":"'Project Cashflows'!AT1","v":36},{"$f":"'Project Cashflows'!AU1","v":37}]
[null,null,null,null,"Row description","Constant","Units","Comments","Total"]
[null,null,null,null,null,null,"Global labels"]
[]
["Project General Assumptions"]
[]
[null,null,null,null,"Project Selected",{"$f":"Dashboard!C5","v":"NORI-D"}]
[]
[null,"Production lifecycle and productions data"]
[]
[null,null,"Project lifecycle"]
[null,null,null,null,"Project start year",{"$f":"IF($F$7='Projects Inputs '!$F$2,'Projects Inputs '!F12,IF($F$7='Projects Inputs '!$G$2,'Projects Inputs '!G12,\"n/a\"))","v":2025},"year"]
[null,null,null,null,"Pre-production - start",{"$f":"IF($F$7='Projects Inputs '!$F$2,'Projects Inputs '!F13,IF($F$7='Projects Inputs '!$G$2,'Projects Inputs '!G13,\"n/a\"))","v":1},"year # "]
[null,null,null,null,"Pre-production - end",{"$f":"IF($F$7='Projects Inputs '!$F$2,'Projects Inputs '!F14,IF($F$7='Projects Inputs '!$G$2,'Projects Inputs '!G14,\"n/a\"))","v":2},"year # "]
[null,null,null,null,"Ramp Up area 1 - start",{"$f":"IF($F$7='Projects Inputs '!$F$2,'Projects Inputs '!F15,IF($F$7='Projects Inputs '!$G$2,'Projects Inputs '!G15,\"n/a\"))","v":3},"year # "]
[null,null,null,null,"Ramp Up area 1 - end",{"$f":"IF($F$7='Projects Inputs '!$F$2,'Projects Inputs '!F16,IF($F$7='Projects Inputs '!$G$2,'Projects Inputs '!G16,\"n/a\"))","v":6},"year # "]
[null,null,null,null,"Full Operation area 1- start",{"$f":"IF($F$7='Projects Inputs '!$F$2,'Projects Inputs '!F17,IF($F$7='Projects Inputs '!$G$2,'Projects Inputs '!G17,\"n/a\"))","v":7},"year # "]
[null,null,null,null,"Full Operation area 1- end",{"$f":"IF($F$7='Projects Inputs '!$F$2,'Projects Inputs '!F18,IF($F$7='Projects Inputs '!$G$2,'Projects Inputs '!G18,\"n/a\"))","v":20},"year # "]
[null,null,null,null,"Operation closing area 1 - start ",{"$f":"IF($F$7='Projects Inputs '!$F$2,'Projects Inputs '!F19,IF($F$7='Projects Inputs '!$G$2,'Projects Inputs '!G19,\"n/a\"))","v":21},"year # "]
[null,null,null,null,"Operation closing area 1 - end",{"$f":"IF($F$7='Projects Inputs '!$F$2,'Projects Inputs '!F20,IF($F$7='Projects Inputs '!$G$2,'Projects Inputs '!G20,\"n/a\"))","v":21},"year # "]
[null,null,null,null,"Ramp Up area 2 - start",{"$f":"IF($F$7='Projects Inputs '!$F$2,'Projects Inputs '!F21,IF($F$7='Projects Inputs '!$G$2,'Projects Inputs '!G21,\"n/a\"))","v":0},"year # "]
[null,null,null,null,"Ramp Up area 2- end",{"$f":"IF($F$7='Projects Inputs '!$F$2,'Projects Inputs '!F22,IF($F$7='Projects Inputs '!$G$2,'Projects Inputs '!G22,\"n/a\"))","v":0},"year # "]
[null,null,null,null,"Full Operation area 2 - start",{"$f":"IF($F$7='Projects Inputs '!$F$2,'Projects Inputs '!F23,IF($F$7='Projects Inputs '!$G$2,'Projects Inputs '!G23,\"n/a\"))","v":0},"year # "]
[null,null,null,null,"Full Operation area 2 - end",{"$f":"IF($F$7='Projects Inputs '!$F$2,'Projects Inputs '!F24,IF($F$7='Projects Inputs '!$G$2,'Projects Inputs '!G24,\"n/a\"))","v":0},"year # "]
[null,null,null,null,"Operation closing area 2 - start ",{"$f":"IF($F$7='Projects Inputs '!$F$2,'Projects Inputs '!F25,IF($F$7='Projects Inputs '!$G$2,'Projects Inputs '!G25,\"n/a\"))","v":0},"year # "]
[null,null,null,null,"Operation closing area 2 - end",{"$f":"IF($F$7='Projects Inputs '!$F$2,'Projects Inputs '!F26,IF($F$7='Projects Inputs '!$G$2,'Projects Inputs '!G26,\"n/a\"))","v":0},"year # "]
[null,null,null,null,"Project Closure - start",{"$f":"IF($F$7='Projects Inputs '!$F$2,'Projects Inputs '!F27,IF($F$7='Projects Inputs '!$G$2,'Projects Inputs '!G27,\"n/a\"))","v":22},"year # "]
[null,null,null,null,"Project Closure - end",{"$f":"IF($F$7='Projects Inputs '!$F$2,'Projects Inputs '!F28,IF($F$7='Projects Inputs '!$G$2,'Projects Inputs '!G28,\"n/a\"))","v":31},"year # "]
[null,null,null,null,"Production year adjustment ",{"$f":"IF($F$7='Projects Inputs '!$F$2,'Projects Inputs '!F29,IF($F$7='Projects Inputs '!$G$2,'Projects Inputs '!G29,\"n/a\"))","v":1},"year # ",null,null,null,null,null,null,null,null,null,null,null,null,null,null,null,null,null,null,null,null,null,null,null,null,null,null,null,null,null,null,null,null,null,null,null,null,null,null,null,null,null,null,null,"year","Adjusted for 1 year as the production starts Q4 of the first production year","Production year adjustment ",1,"year","Adjusted for 1 year as the production starts Q4 of the first production year","Production year adjustment ",1,"year","Adjusted for 1 year as the production starts Q4 of the first production year","Production year adjustment ",1,"year","Adjusted for 1 year as the production starts Q4 of the first production year","Production year adjustment ",1,"year","Adjusted for 1 year as the production starts Q4 of the first production year","Production year adjustment ",1,"year","Adjusted for 1 year as the production starts Q4 of the first production year","Production year adjustment ",1,"year","Adjusted for 1 year as the production starts Q4 of the first production year","Production year adjustment ",1,"year","Adjusted for 1 year as the production starts Q4 of the first production year","Production year adjustment ",1,"year","Adjusted for 1 year as the production starts Q4 of the first production year","Production year adjustment ",1,"year","Adjusted for 1 year as the production starts Q4 of the first production year","Production year adjustment ",1,"year","Adjusted for 1 year as the production starts Q4 of the first production year","Production year adjustment ",1,"year","Adjusted for 1 year as the production starts Q4 of the first production year","Production year adjustment ",1,"year","Adjusted for 1 year as the production starts Q4 of the first production year","Production year adjustment ",1,"year","Adjusted for 1 year as the production starts Q4 of the first production year","Production year adjustment ",1,"year","Adjusted for 1 year as the production starts Q4 of the first production year","Production year adjustment ",1,"year","Adjusted for 1 year as the production starts Q4 of the first production year","Production year adjustment ",1,"year","Adjusted for 1 year as the production starts Q4 of the first production year","Production year adjustment ",1,"year","Adjusted for 1 year as the production starts Q4 of the first production year","Production year adjustment ",1,"year","Adjusted for 1 year as the production starts Q4 of the first production year","Production year adjustment ",1,"year","Adjusted for 1 year as the production starts Q4 of the first production year","Production year adjustment ",1,"year","Adjusted for 1 year as the production starts Q4 of the first production year","Production year adjustment ",1,"year","Adjusted for 1 year as the production starts Q4 of the first production year","Production year adjustment ",1,"year","Adjusted for 1 year as the production starts Q4 of the first production year","Production year adjustment ",1,"year","Adjusted for 1 year as the production starts Q4 of the first production year","Production year adjustment ",1,"year","Adjusted for 1 year as the production starts Q4 of the first production year","Production year adjustment ",1,"year","Adjusted for 1 year as the production starts Q4 of the first production year","Production year adjustment ",1,"year","Adjusted for 1 year as the production starts Q4 of the first production year","Production year adjustment ",1,"year","Adjusted for 1 year as the production starts Q4 of the first production year","Production year adjustment ",1,"year","Adjusted for 1 year as the production starts Q4 of the first production year","Production year adjustment ",1,"year","Adjusted for 1 year as the production starts Q4 of the first production year","Production year adjustment ",1,"year","Adjusted for 1 year as the production starts Q4 of the first production year","Production year adjustment ",1,"year","Adjusted for 1 year as the production starts Q4 of the first production year","Production year adjustment ",1,"year","Adjusted for 1 year as the production starts Q4 of the first production year","Production year adjustment ",1,"year","Adjusted for 1 year as the production starts Q4 of the first production year","Production year adjustment ",1,"year","Adjusted for 1 year as the production starts Q4 of the first production year","Production year adjustment ",1,"year","Adjusted for 1 year as the production starts Q4 of the first production year","Production year adjustment ",1,"year","Adjusted for 1 year as the production starts Q4 of the first production year","Production year adjustment ",1,"year","Adjusted for 1 year as the production starts Q4 of the first production year","Production year adjustment ",1,"year","Adjusted for 1 year as the production starts Q4 of the first production year","Production year adjustment ",1,"year","Adjusted for 1 year as the production starts Q4 of the first production year","Production year adjustment ",1,"year","Adjusted for 1 year as the production starts Q4 of the first production year","Production year adjustment ",1,"year","Adjusted for 1 year as the production starts Q4 of the first production year","Production year adjustment ",1,"year","Adjusted for 1 year as the production starts Q4 of the first production year","Production year adjustment ",1,"year","Adjusted for 1 year as the production starts Q4 of the first production year","Production year adjustment ",1,"year","Adjusted for 1 year as the production starts Q4 of the first production year","Production year adjustment ",1,"year","Adjusted for 1 year as the production starts Q4 of the first production year","Production year adjustment ",1,"year","Adjusted for 1 year as the production starts Q4 of the first production year","Production year adjustment ",1,"year","Adjusted for 1 year as the production starts Q4 of the first production year","Production year adjustment ",1,"year","Adjusted for 1 year as the production starts Q4 of the first production year","Production year adjustment ",1,"year","Adjusted for 1 year as the production starts Q4 of the first production year","Production year adjustment ",1,"year","Adjusted for 1 year as the production starts Q4 of the first production year","Production year adjustment ",1,"year","Adjusted for 1 year as the production starts Q4 of the first production year","Production year adjustment ",1,"year","Adjusted for 1 year as the production starts Q4 of the first production year","Production year adjustment ",1,"year","Adjusted for 1 year as the production starts Q4 of the first production year","Production year adjustment ",1,"year","Adjusted for 1 year as the production starts Q4 of the first production year","Production year adjustment ",1,"year","Adjusted for 1 year as the production starts Q4 of the first production year","Production year adjustment ",1,"year","Adjusted for 1 year as the production starts Q4 of the first production year","Production year adjustment ",1,"year","Adjusted for 1 year as the production starts Q4 of the first production year","Production year adjustment ",1,"year","Adjusted for 1 year as the production starts Q4 of the first production year","Production year adjustment ",1,"year","Adjusted for 1 year as the production starts Q4 of the first production year","Production year adjustment ",1,"year","Adjusted for 1 year as the production starts Q4 of the first production year","Production year adjustment ",1,"year","Adjusted for 1 year as the production starts Q4 of the first production year","Production year adjustment ",1,"year","Adjusted for 1 year as the production starts Q4 of the first production year","Production year adjustment ",1,"year","Adjusted for 1 year as the production starts Q4 of the first production year","Production year adjustment ",1,"year","Adjusted for 1 year as the production starts Q4 of the first production year","Production year adjustment ",1,"year","Adjusted for 1 year as the production starts Q4 of the first production year","Production year adjustment ",1,"year","Adjusted for 1 year as the production starts Q4 of the first production year","Production year adjustment ",1,"year","Adjusted for 1 year as the production starts Q4 of the first production year","Production year adjustment ",1,"year","Adjusted for 1 year as the production starts Q4 of the first production year","Production year adjustment ",1,"year","Adjusted for 1 year as the production starts Q4 of the first production year","Production year adjustment ",1,"year","Adjusted for 1 year as the production starts Q4 of the first production year","Production year adjustment ",1,"year","Adjusted for 1 year as the production starts Q4 of the first production year","Production year adjustment ",1,"year","Adjusted for 1 year as the production starts Q4 of the first production year","Production year adjustment ",1,"year","Adjusted for 1 year as the production starts Q4 of the first production year","Production year adjustment ",1,"year","Adjusted for 1 year as the production starts Q4 of the first production year","Production year adjustment ",1,"year","Adjusted for 1 year as the production starts Q4 of the first production year","Production year adjustment ",1,"year","Adjusted for 1 year as the production starts Q4 of the first production year","Production year adjustment ",1,"year","Adjusted for 1 year as the production starts Q4 of the first production year","Production year adjustment ",1,"year","Adjusted for 1 year as the production starts Q4 of the first production year","Production year adjustment ",1,"year","Adjusted for 1 year as the production starts Q4 of the first production year","Production year adjustment ",1,"year","Adjusted for 1 year as the production starts Q4 of the first production year","Production year adjustment ",1,"year","Adjusted for 1 year as the production starts Q4 of the first production year","Production year adjustment ",1,"year","Adjusted for 1 year as the production starts Q4 of the first production year","Production year adjustment ",1,"year","Adjusted for 1 year as the production starts Q4 of the first production year","Production year adjustment ",1,"year","Adjusted for 1 year as the production starts Q4 of the first production year","Production year adjustment ",1,"year","Adjusted for 1 year as the production starts Q4 of the first production year","Production year adjustment ",1,"year","Adjusted for 1 year as the production starts Q4 of the first production year","Production year adjustment ",1,"year","Adjusted for 1 year as the production starts Q4 of the first production year","Production year adjustment ",1,"year","Adjusted for 1 year as the production starts Q4 of the first production year","Production year adjustment ",1,"year","Adjusted for 1 year as the production starts Q4 of the first production year","Production year adjustment ",1,"year","Adjusted for 1 year as the production starts Q4 of the first production year","Production year adjustment ",1,"year","Adjusted for 1 year as the production starts Q4 of the first production year","Production year adjustment ",1,"year","Adjusted for 1 year as the production starts Q4 of the first production year","Production year adjustment ",1,"year","Adjusted for 1 year as the production starts Q4 of the first production year","Production year adjustment ",1,"year","Adjusted for 1 year as the production starts Q4 of the first production year","Production year adjustment ",1,"year","Adjusted for 1 year as the production starts Q4 of the first production year","Production year adjustment ",1,"year","Adjusted for 1 year as the production starts Q4 of the first production year","Production year adjustment ",1,"year","Adjusted for 1 year as the production starts Q4 of the first production year","Production year adjustment ",1,"year","Adjusted for 1 year as the production starts Q4 of the first production year","Production year adjustment ",1,"year","Adjusted for 1 year as the production starts Q4 of the first production year","Production year adjustment ",1,"year","Adjusted for 1 year as the production starts Q4 of the first production year","Production year adjustment ",1,"year","Adjusted for 1 year as the production starts Q4 of the first production year","Production year adjustment ",1,"year","Adjusted for 1 year as the production starts Q4 of the first production year","Production year adjustment ",1,"year","Adjusted for 1 year as the production starts Q4 of the first production year","Production year adjustment ",1,"year","Adjusted for 1 year as the production starts Q4 of the first production year","Production year adjustment ",1,"year","Adjusted for 1 year as the production starts Q4 of the first production year","Production year adjustment ",1,"year","Adjusted for 1 year as the production starts Q4 of the first production year","Production year adjustment ",1,"year","Adjusted for 1 year as the production starts Q4 of the first production year","Production year adjustment ",1,"year","Adjusted for 1 year as the production starts Q4 of the first production year","Production year adjustment ",1,"year","Adjusted for 1 year as the production starts Q4 of the first production year","Production year adjustment ",1,"year","Adjusted for 1 year as the production starts Q4 of the first production year","Production year adjustment ",1,"year","Adjusted for 1 year as the production starts Q4 of the first production year","Production year adjustment ",1,"year","Adjusted for 1 year as the production starts Q4 of the first production year","Production year adjustment ",1,"year","Adjusted for 1 year as the production starts Q4 of the first production year","Production year adjustment ",1,"year","Adjusted for 1 year as the production starts Q4 of the first production year","Production year adjustment ",1,"year","Adjusted for 1 year as the production starts Q4 of the first production year","Production year adjustment ",1,"year","Adjusted for 1 year as the production starts Q4 of the first production year","Production year adjustment ",1,"year","Adjusted for 1 year as the production starts Q4 of the first production year","Production year adjustment ",1,"year","Adjusted for 1 year as the production starts Q4 of the first production year","Production year adjustment ",1,"year","Adjusted for 1 year as the production starts Q4 of the first production year","Production year adjustment ",1,"year","Adjusted for 1 year as the production starts Q4 of the first production year","Production year adjustment ",1,"year","Adjusted for 1 year as the production starts Q4 of the first production year","Production year adjustment ",1,"year","Adjusted for 1 year as the production starts Q4 of the first production year","Production year adjustment ",1,"year","Adjusted for 1 year as the production starts Q4 of the first production year","Production year adjustment ",1,"year","Adjusted for 1 year as the production starts Q4 of the first production year","Production year adjustment ",1,"year","Adjusted for 1 year as the production starts Q4 of the first production year","Production year adjustment ",1,"year","Adjusted for 1 year as the production starts Q4 of the first production year","Production year adjustment ",1,"year","Adjusted for 1 year as the production starts Q4 of the first production year","Production year adjustment ",1,"year","Adjusted for 1 year as the production starts Q4 of the first production year","Production year adjustment ",1,"year","Adjusted for 1 year as the production starts Q4 of the first production year","Production year adjustment ",1,"year","Adjusted for 1 year as the production starts Q4 of the first production year","Production year adjustment ",1,"year","Adjusted for 1 year as the production starts Q4 of the first production year","Production year adjustment ",1,"year","Adjusted for 1 year as the production starts Q4 of the first production year","Production year adjustment ",1,"year","Adjusted for 1 year as the production starts Q4 of the first production year","Production year adjustment ",1,"year","Adjusted for 1 year as the production starts Q4 of the first production year","Production year adjustment ",1,"year","Adjusted for 1 year as the production starts Q4 of the first production year","Production year adjustment ",1,"year","Adjusted for 1 year as the production starts Q4 of the first production year","Production year adjustment ",1,"year","Adjusted for 1 year as the production starts Q4 of the first production year","Production year adjustment ",1,"year","Adjusted for 1 year as the production starts Q4 of the first production year","Production year adjustment ",1,"year","Adjusted for 1 year as the production starts Q4 of the first production year","Production year adjustment ",1,"year","Adjusted for 1 year as the production starts Q4 of the first production year","Production year adjustment ",1,"year","Adjusted for 1 year as the production starts Q4 of the first production year","Production year adjustment ",1,"year","Adjusted for 1 year as the production starts Q4 of the first production year","Production year adjustment ",1,"year","Adjusted for 1 year as the production starts Q4 of the first production year","Production year adjustment ",1,"year","Adjusted for 1 year as the production starts Q4 of the first production year","Production year adjustment ",1,"year","Adjusted for 1 year as the production starts Q4 of the first production year","Production year adjustment ",1,"year","Adjusted for 1 year as the production starts Q4 of the first production year","Production year adjustment ",1,"year","Adjusted for 1 year as the production starts Q4 of the first production year","Production year adjustment ",1,"year","Adjusted for 1 year as the production starts Q4 of the first production year","Production year adjustment ",1,"year","Adjusted for 1 year as the production starts Q4 of the first production year","Production year adjustment ",1,"year","Adjusted for 1 year as the production starts Q4 of the first production year","Production year adjustment ",1,"year","Adjusted for 1 year as the production starts Q4 of the first production year","Production year adjustment ",1,"year","Adjusted for 1 year as the production starts Q4 of the first production year","Production year adjustment ",1,"year","Adjusted for 1 year as the production starts Q4 of the first production year","Production year adjustment ",1,"year","Adjusted for 1 year as the production starts Q4 of the first production year","Production year adjustment ",1,"year","Adjusted for 1 year as the production starts Q4 of the first production year","Production year adjustment ",1,"year","Adjusted for 1 year as the production starts Q4 of the first production year","Production year adjustment ",1,"year","Adjusted for 1 year as the production starts Q4 of the first production year","Production year adjustment ",1,"year","Adjusted for 1 year as the production starts Q4 of the first production year","Production year adjustment ",1,"year","Adjusted for 1 year as the production starts Q4 of the first production year","Production year adjustment ",1,"year","Adjusted for 1 year as the production starts Q4 of the first production year","Production year adjustment ",1,"year","Adjusted for 1 year as the production starts Q4 of the first production year","Production year adjustment ",1,"year","Adjusted for 1 year as the production starts Q4 of the first production year","Production year adjustment ",1,"year","Adjusted for 1 year as the production starts Q4 of the first production year","Production year adjustment ",1,"year","Adjusted for 1 year as the production starts Q4 of the first production year","Production year adjustment ",1,"year","Adjusted for 1 year as the production starts Q4 of the first production year","Production year adjustment ",1,"year","Adjusted for 1 year as the production starts Q4 of the first production year","Production year adjustment ",1,"year","Adjusted for 1 year as the production starts Q4 of the first production year","Production year adjustment ",1,"year","Adjusted for 1 year as the production starts Q4 of the first production year","Production year adjustment ",1,"year","Adjusted for 1 year as the production starts Q4 of the first production year","Production year adjustment ",1,"year","Adjusted for 1 year as the production starts Q4 of the first production year","Production year adjustment ",1,"year","Adjusted for 1 year as the production starts Q4 of the first production year","Production year adjustment ",1,"year","Adjusted for 1 year as the production starts Q4 of the first production year","Production year adjustment ",1,"year","Adjusted for 1 year as the production starts Q4 of the first production year","Production year adjustment ",1,"year","Adjusted for 1 year as the production starts Q4 of the first production year","Production year adjustment ",1,"year","Adjusted for 1 year as the production starts Q4 of the first production year","Production year adjustment ",1,"year","Adjusted for 1 year as the production starts Q4 of the first production year","Production year adjustment ",1,"year","Adjusted for 1 year as the production starts Q4 of the first production year","Production year adjustment ",1,"year","Adjusted for 1 year as the production starts Q4 of the first production year","Production year adjustment ",1,"year","Adjusted for 1 year as the production starts Q4 of the first production year","Production year adjustment ",1,"year","Adjusted for 1 year as the production starts Q4 of the first production year","Production year adjustment ",1,"year","Adjusted for 1 year as the production starts Q4 of the first production year","Production year adjustment ",1,"year","Adjusted for 1 year as the production starts Q4 of the first production year","Production year adjustment ",1,"year","Adjusted for 1 year as the production starts Q4 of the first production year","Production year adjustment ",1,"year","Adjusted for 1 year as the production starts Q4 of the first production year","Production year adjustment ",1,"year","Adjusted for 1 year as the production starts Q4 of the first production year","Production year adjustment ",1,"year","Adjusted for 1 year as the production starts Q4 of the first production year","Production year adjustment ",1,"year","Adjusted for 1 year as the production starts Q4 of the first production year","Production year adjustment ",1,"year","Adjusted for 1 year as the production starts Q4 of the first production year","Production year adjustment ",1,"year","Adjusted for 1 year as the production starts Q4 of the first production year","Production year adjustment ",1,"year","Adjusted for 1 year as the production starts Q4 of the first production year","Production year adjustment ",1,"year","Adjusted for 1 year as the production starts Q4 of the first production year","Production year adjustment ",1,"year","Adjusted for 1 year as the production starts Q4 of the first production year","Production year adjustment ",1,"year","Adjusted for 1 year as the production starts Q4 of the first production year","Production year adjustment ",1,"year","Adjusted for 1 year as the production starts Q4 of the first production year","Production year adjustment ",1,"year","Adjusted for 1 year as the production starts Q4 of the first production year","Production year adjustment ",1,"year","Adjusted for 1 year as the production starts Q4 of the first production year","Production year adjustment ",1,"year","Adjusted for 1 year as the production starts Q4 of the first production year","Production year adjustment ",1,"year","Adjusted for 1 year as the production starts Q4 of the first production year","Production year adjustment ",1,"year","Adjusted for 1 year as the production starts Q4 of the first production year","Production year adjustment ",1,"year","Adjusted for 1 year as the production starts Q4 of the first production year","Production year adjustment ",1,"year","Adjusted for 1 year as the production starts Q4 of the first production year","Production year adjustment ",1,"year","Adjusted for 1 year as the production starts Q4 of the first production year","Production year adjustment ",1,"year","Adjusted for 1 year as the production starts Q4 of the first production year","Production year adjustment ",1,"year","Adjusted for 1 year as the production starts Q4 of the first production year","Production year adjustment ",1,"year","Adjusted for 1 year as the production starts Q4 of the first production year","Production year adjustment ",1,"year","Adjusted for 1 year as the production starts Q4 of the first production year","Production year adjustment ",1,"year","Adjusted for 1 year as the production starts Q4 of the first production year","Production year adjustment ",1,"year","Adjusted for 1 year as the production starts Q4 of the first production year","Production year adjustment ",1,"year","Adjusted for 1 year as the production starts Q4 of the first production year","Production year adjustment ",1,"year","Adjusted for 1 year as the production starts Q4 of the first production year","Production year adjustment ",1,"year","Adjusted for 1 year as the production starts Q4 of the first production year","Production year adjustment ",1,"year","Adjusted for 1 year as the production starts Q4 of the first production year","Production year adjustment ",1,"year","Adjusted for 1 year as the production starts Q4 of the first production year","Production year adjustment ",1,"year","Adjusted for 1 year as the production starts Q4 of the first production year","Production year adjustment ",1,"year","Adjusted for 1 year as the production starts Q4 of the first production year","Production year adjustment ",1,"year","Adjusted for 1 year as the production starts Q4 of the first production year","Production year adjustment ",1,"year","Adjusted for 1 year as the production starts Q4 of the first production year","Production year adjustment ",1,"year","Adjusted for 1 year as the production starts Q4 of the first production year","Production year adjustment ",1,"year","Adjusted for 1 year as the production starts Q4 of the first production year","Production year adjustment ",1,"year","Adjusted for 1 year as the production starts Q4 of the first production year","Production year adjustment ",1,"year","Adjusted for 1 year as the production starts Q4 of the first production year","Production year adjustment ",1,"year","Adjusted for 1 year as the production starts Q4 of the first production year","Production year adjustment ",1,"year","Adjusted for 1 year as the production starts Q4 of the first production year","Production year adjustment ",1,"year","Adjusted for 1 year as the production starts Q4 of the first production year","Production year adjustment ",1,"year","Adjusted for 1 year as the production starts Q4 of the first production year","Production year adjustment ",1,"year","Adjusted for 1 year as the production starts Q4 of the first production year","Production year adjustment ",1,"year","Adjusted for 1 year as the production starts Q4 of the first production year","Production year adjustment ",1,"year","Adjusted for 1 year as the production starts Q4 of the first production year","Production year adjustment ",1,"year","Adjusted for 1 year as the production starts Q4 of the first production year","Production year adjustment ",1,"year","Adjusted for 1 year as the production starts Q4 of the first production year","Production year adjustment ",1,"year","Adjusted for 1 year as the production starts Q4 of the first production year","Production year adjustment ",1,"year","Adjusted for 1 year as the production starts Q4 of the first production year","Production year adjustment ",1,"year","Adjusted for 1 year as the production starts Q4 of the first production year","Production year adjustment ",1,"year","Adjusted for 1 year as the production starts Q4 of the first production year","Production year adjustment ",1,"year","Adjusted for 1 year as the production starts Q4 of the first production year","Production year adjustment ",1,"year","Adjusted for 1 year as the production starts Q4 of the first production year","Production year adjustment ",1,"year","Adjusted for 1 year as the production starts Q4 of the first production year","Production year adjustment ",1,"year","Adjusted for 1 year as the production starts Q4 of the first production year","Production year adjustment ",1,"year","Adjusted for 1 year as the production starts Q4 of the first production year","Production year adjustment ",1,"year","Adjusted for 1 year as the production starts Q4 of the first production year","Production year adjustment ",1,"year","Adjusted for 1 year as the production starts Q4 of the first production year","Production year adjustment ",1,"year","Adjusted for 1 year as the production starts Q4 of the first production year","Production year adjustment ",1,"year","Adjusted for 1 year as the production starts Q4 of the first production year","Production year adjustment ",1,"year","Adjusted for 1 year as the production starts Q4 of the first production year","Production year adjustment ",1,"year","Adjusted for 1 year as the production starts Q4 of the first production year","Production year adjustment ",1,"year","Adjusted for 1 year as the production starts Q4 of the first production year","Production year adjustment ",1,"year","Adjusted for 1 year as the production starts Q4 of the first production year","Production year adjustment ",1,"year","Adjusted for 1 year as the production starts Q4 of the first production year","Production year adjustment ",1,"year","Adjusted for 1 year as the production starts Q4 of the first production year","Production year adjustment ",1,"year","Adjusted for 1 year as the production starts Q4 of the first production year","Production year adjustment ",1,"year","Adjusted for 1 year as the production starts Q4 of the first production year","Production year adjustment ",1,"year","Adjusted for 1 year as the production starts Q4 of the first production year","Production year adjustment ",1,"year","Adjusted for 1 year as the production starts Q4 of the first production year","Production year adjustment ",1,"year","Adjusted for 1 year as the production starts Q4 of the first production year","Production year adjustment ",1,"year","Adjusted for 1 year as the production starts Q4 of the first production year","Production year adjustment ",1,"year","Adjusted for 1 year as the production starts Q4 of the first production year","Production year adjustment ",1,"year","Adjusted for 1 year as the production starts Q4 of the first production year","Production year adjustment ",1,"year","Adjusted for 1 year as the production starts Q4 of the first production year","Production year adjustment ",1,"year","Adjusted for 1 year as the production starts Q4 of the first production year","Production year adjustment ",1,"year","Adjusted for 1 year as the production starts Q4 of the first production year","Production year adjustment ",1,"year","Adjusted for 1 year as the production starts Q4 of the first production year","Production year adjustment ",1,"year","Adjusted for 1 year as the production starts Q4 of the first production year","Production year adjustment ",1,"year","Adjusted for 1 year as the production starts Q4 of the first production year","Production year adjustment ",1,"year","Adjusted for 1 year as the production starts Q4 of the first production year","Production year adjustment ",1,"year","Adjusted for 1 year as the production starts Q4 of the first production year","Production year adjustment ",1,"year","Adjusted for 1 year as the production starts Q4 of the first production year","Production year adjustment ",1,"year","Adjusted for 1 year as the production starts Q4 of the first production year","Production year adjustment ",1,"year","Adjusted for 1 year as the production starts Q4 of the first production year","Production year adjustment ",1,"year","Adjusted for 1 year as the production starts Q4 of the first production year","Production year adjustment ",1,"year","Adjusted for 1 year as the production starts Q4 of the first production year","Production year adjustment ",1,"year","Adjusted for 1 year as the production starts Q4 of the first production year","Production year adjustment ",1,"year","Adjusted for 1 year as the production starts Q4 of the first production year","Production year adjustment ",1,"year","Adjusted for 1 year as the production starts Q4 of the first production year","Production year adjustment ",1,"year","Adjusted for 1 year as the production starts Q4 of the first production year","Production year adjustment ",1,"year","Adjusted for 1 year as the production starts Q4 of the first production year","Production year adjustment ",1,"year","Adjusted for 1 year as the production starts Q4 of the first production year","Production year adjustment ",1,"year","Adjusted for 1 year as the production starts Q4 of the first production year","Production year adjustment ",1,"year","Adjusted for 1 year as the production starts Q4 of the first production year","Production year adjustment ",1,"year","Adjusted for 1 year as the production starts Q4 of the first production year","Production year adjustment ",1,"year","Adjusted for 1 year as the production starts Q4 of the first production year","Production year adjustment ",1,"year","Adjusted for 1 year as the production starts Q4 of the first production year","Production year adjustment ",1,"year","Adjusted for 1 year as the production starts Q4 of the first production year","Production year adjustment ",1,"year","Adjusted for 1 year as the production starts Q4 of the first production year","Production year adjustment ",1,"year","Adjusted for 1 year as the production starts Q4 of the first production year","Production year adjustment ",1,"year","Adjusted for 1 year as the production starts Q4 of the first production year","Production year adjustment ",1,"year","Adjusted for 1 year as the production starts Q4 of the first production year","Production year adjustment ",1,"year","Adjusted for 1 year as the production starts Q4 of the first production year","Production year adjustment ",1,"year","Adjusted for 1 year as the production starts Q4 of the first production year","Production year adjustment ",1,"year","Adjusted for 1 year as the production starts Q4 of the first production year","Production year adjustment ",1,"year","Adjusted for 1 year as the production starts Q4 of the first production year","Production year adjustment ",1,"year","Adjusted for 1 year as the production starts Q4 of the first production year","Production year adjustment ",1,"year","Adjusted for 1 year as the production starts Q4 of the first production year","Production year adjustment ",1,"year","Adjusted for 1 year as the production starts Q4 of the first production year","Production year adjustment ",1,"year","Adjusted for 1 year as the production starts Q4 of the first production year","Production year adjustment ",1,"year","Adjusted for 1 year as the production starts Q4 of the first production year","Production year adjustment ",1,"year","Adjusted for 1 year as the production starts Q4 of the first production year","Production year adjustment ",1,"year","Adjusted for 1 year as the production starts Q4 of the first production year","Production year adjustment ",1,"year","Adjusted for 1 year as the production starts Q4 of the first production year","Production year adjustment ",1,"year","Adjusted for 1 year as the production starts Q4 of the first production year","Production year adjustment ",1,"year","Adjusted for 1 year as the production starts Q4 of the first production year","Production year adjustment ",1,"year","Adjusted for 1 year as the production starts Q4 of the first production year","Production year adjustment ",1,"year","Adjusted for 1 year as the production starts Q4 of the first production year","Production year adjustment ",1,"year","Adjusted for 1 year as the production starts Q4 of the first production year","Production year adjustment ",1,"year","Adjusted for 1 year as the production starts Q4 of the first production year","Production year adjustment ",1,"year","Adjusted for 1 year as the production starts Q4 of the first production year","Production year adjustment ",1,"year","Adjusted for 1 year as the production starts Q4 of the first production year","Production year adjustment ",1,"year","Adjusted for 1 year as the production starts Q4 of the first production year","Production year adjustment ",1,"year","Adjusted for 1 year as the production starts Q4 of the first production year","Production year adjustment ",1,"year","Adjusted for 1 year as the production starts Q4 of the first production year","Production year adjustment ",1,"year","Adjusted for 1 year as the production starts Q4 of the first production year","Production year adjustment ",1,"year","Adjusted for 1 year as the production starts Q4 of the first production year","Production year adjustment ",1,"year","Adjusted for 1 year as the production starts Q4 of the first production year","Production year adjustment ",1,"year","Adjusted for 1 year as the production starts Q4 of the first production year","Production year adjustment ",1,"year","Adjusted for 1 year as the production starts Q4 of the first production year","Production year adjustment ",1,"year","Adjusted for 1 year as the production starts Q4 of the first production year","Production year adjustment ",1,"year","Adjusted for 1 year as the production starts Q4 of the first production year","Production year adjustment ",1,"year","Adjusted for 1 year as the production starts Q4 of the first production year","Production year adjustment ",1,"year","Adjusted for 1 year as the production starts Q4 of the first production year","Production year adjustment ",1,"year","Adjusted for 1 year as the production starts Q4 of the first production year","Production year adjustment ",1,"year","Adjusted for 1 year as the production starts Q4 of the first production year","Production year adjustment ",1,"year","Adjusted for 1 year as the production starts Q4 of the first production year","Production year adjustment ",1,"year","Adjusted for 1 year as the production starts Q4 of the first production year","Production year adjustment ",1,"year","Adjusted for 1 year as the production starts Q4 of the first production year","Production year adjustment ",1,"year","Adjusted for 1 year as the production starts Q4 of the first production year","Production year adjustment ",1,"year","Adjusted for 1 year as the production starts Q4 of the first production year","Production year adjustment ",1,"year","Adjusted for 1 year as the production starts Q4 of the first production year","Production year adjustment ",1,"year","Adjusted for 1 year as the production starts Q4 of the first production year","Production year adjustment ",1,"year","Adjusted for 1 year as the production starts Q4 of the first production year","Production year adjustment ",1,"year","Adjusted for 1 year as the production starts Q4 of the first production year","Production year adjustment ",1,"year","Adjusted for 1 year as the production starts Q4 of the first production year","Production year adjustment ",1,"year","Adjusted for 1 year as the production starts Q4 of the first production year","Production year adjustment ",1,"year","Adjusted for 1 year as the production starts Q4 of the first production year","Production year adjustment ",1,"year","Adjusted for 1 year as the production starts Q4 of the first production year","Production year adjustment ",1,"year","Adjusted for 1 year as the production starts Q4 of the first production year","Production year adjustment ",1,"year","Adjusted for 1 year as the production starts Q4 of the first production year","Production year adjustment ",1,"year","Adjusted for 1 year as the production starts Q4 of the first production year","Production year adjustment ",1,"year","Adjusted for 1 year as the production starts Q4 of the first production year","Production year adjustment ",1,"year","Adjusted for 1 year as the production starts Q4 of the first production year","Production year adjustment ",1,"year","Adjusted for 1 year as the production starts Q4 of the first production year","Production year adjustment ",1,"year","Adjusted for 1 year as the production starts Q4 of the first production year","Production year adjustment ",1,"year","Adjusted for 1 year as the production starts Q4 of the first production year","Production year adjustment ",1,"year","Adjusted for 1 year as the production starts Q4 of the first production year","Production year adjustment ",1,"year","Adjusted for 1 year as the production starts Q4 of the first production year","Production year adjustment ",1,"year","Adjusted for 1 year as the production starts Q4 of the first production year","Production year adjustment ",1,"year","Adjusted for 1 year as the production starts Q4 of the first production year","Production year adjustment ",1,"year","Adjusted for 1 year as the production starts Q4 of the first production year","Production year adjustment ",1,"year","Adjusted for 1 year as the production starts Q4 of the first production year","Production year adjustment ",1,"year","Adjusted for 1 year as the production starts Q4 of the first production year","Production year adjustment ",1,"year","Adjusted for 1 year as the production starts Q4 of the first production year","Production year adjustment ",1,"year","Adjusted for 1 year as the production starts Q4 of the first production year","Production year adjustment ",1,"year","Adjusted for 1 year as the production starts Q4 of the first production year","Production year adjustment ",1,"year","Adjusted for 1 year as the production starts Q4 of the first production year","Production year adjustment ",1,"year","Adjusted for 1 year as the production starts Q4 of the first production year","Production year adjustment ",1,"year","Adjusted for 1 year as the production starts Q4 of the first production year","Production year adjustment ",1,"year","Adjusted for 1 year as the production starts Q4 of the first production year","Production year adjustment ",1,"year","Adjusted for 1 year as the production starts Q4 of the first production year","Production year adjustment ",1,"year","Adjusted for 1 year as the production starts Q4 of the first production year","Production year adjustment ",1,"year","Adjusted for 1 year as the production starts Q4 of the first production year","Production year adjustment ",1,"year","Adjusted for 1 year as the production starts Q4 of the first production year","Production year adjustment ",1,"year","Adjusted for 1 year as the production starts Q4 of the first production year","Production year adjustment ",1,"year","Adjusted for 1 year as the production starts Q4 of the first production year","Production year adjustment ",1,"year","Adjusted for 1 year as the production starts Q4 of the first production year","Production year adjustment ",1,"year","Adjusted for 1 year as the production starts Q4 of the first production year","Production year adjustment ",1,"year","Adjusted for 1 year as the production starts Q4 of the first production year","Production year adjustment ",1,"year","Adjusted for 1 year as the production starts Q4 of the first production year","Production year adjustment ",1,"year","Adjusted for 1 year as the production starts Q4 of the first production year","Production year adjustment ",1,"year","Adjusted for 1 year as the production starts Q4 of the first production year","Production year adjustment ",1,"year","Adjusted for 1 year as the production starts Q4 of the first production year","Production year adjustment ",1,"year","Adjusted for 1 year as the production starts Q4 of the first production year","Production year adjustment ",1,"year","Adjusted for 1 year as the production starts Q4 of the first production year","Production year adjustment ",1,"year","Adjusted for 1 year as the production starts Q4 of the first production year","Production year adjustment ",1,"year","Adjusted for 1 year as the production starts Q4 of the first production year","Production year adjustment ",1,"year","Adjusted for 1 year as the production starts Q4 of the first production year","Production year adjustment ",1,"year","Adjusted for 1 year as the production starts Q4 of the first production year","Production year adjustment ",1,"year","Adjusted for 1 year as the production starts Q4 of the first production year","Production year adjustment ",1,"year","Adjusted for 1 year as the production starts Q4 of the first production year","Production year adjustment ",1,"year","Adjusted for 1 year as the production starts Q4 of the first production year","Production year adjustment ",1,"year","Adjusted for 1 year as the production starts Q4 of the first production year","Production year adjustment ",1,"year","Adjusted for 1 year as the production starts Q4 of the first production year","Production year adjustment ",1,"year","Adjusted for 1 year as the production starts Q4 of the first production year","Production year adjustment ",1,"year","Adjusted for 1 year as the production starts Q4 of the first production year","Production year adjustment ",1,"year","Adjusted for 1 year as the production starts Q4 of the first production year","Production year adjustment ",1,"year","Adjusted for 1 year as the production starts Q4 of the first production year","Production year adjustment ",1,"year","Adjusted for 1 year as the production starts Q4 of the first production year","Production year adjustment ",1,"year","Adjusted for 1 year as the production starts Q4 of the first production year","Production year adjustment ",1,"year","Adjusted for 1 year as the production starts Q4 of the first production year","Production year adjustment ",1,"year","Adjusted for 1 year as the production starts Q4 of the first production year","Production year adjustment ",1,"year","Adjusted for 1 year as the production starts Q4 of the first production year","Production year adjustment ",1,"year","Adjusted for 1 year as the production starts Q4 of the first production year","Production year adjustment ",1,"year","Adjusted for 1 year as the production starts Q4 of the first production year","Production year adjustment ",1,"year","Adjusted for 1 year as the production starts Q4 of the first production year","Production year adjustment ",1,"year","Adjusted for 1 year as the production starts Q4 of the first production year","Production year adjustment ",1,"year","Adjusted for 1 year as the production starts Q4 of the first production year","Production year adjustment ",1,"year","Adjusted for 1 year as the production starts Q4 of the first production year","Production year adjustment ",1,"year","Adjusted for 1 year as the production starts Q4 of the first production year","Production year adjustment ",1,"year","Adjusted for 1 year as the production starts Q4 of the first production year","Production year adjustment ",1,"year","Adjusted for 1 year as the production starts Q4 of the first production year","Production year adjustment ",1,"year","Adjusted for 1 year as the production starts Q4 of the first production year","Production year adjustment ",1,"year","Adjusted for 1 year as the production starts Q4 of the first production year","Production year adjustment ",1,"year","Adjusted for 1 year as the production starts Q4 of the first production year","Production year adjustment ",1,"year","Adjusted for 1 year as the production starts Q4 of the first production year","Production year adjustment ",1,"year","Adjusted for 1 year as the production starts Q4 of the first production year","Production year adjustment ",1,"year","Adjusted for 1 year as the production starts Q4 of the first production year","Production year adjustment ",1,"year","Adjusted for 1 year as the production starts Q4 of the first production year","Production year adjustment ",1,"year","Adjusted for 1 year as the production starts Q4 of the first production year","Production year adjustment ",1,"year","Adjusted for 1 year as the production starts Q4 of the first production year","Production year adjustment ",1,"year","Adjusted for 1 year as the production starts Q4 of the first production year","Production year adjustment ",1,"year","Adjusted for 1 year as the production starts Q4 of the first production year","Production year adjustment ",1,"year","Adjusted for 1 year as the production starts Q4 of the first production year","Production year adjustment ",1,"year","Adjusted for 1 year as the production starts Q4 of the first production year","Production year adjustment ",1,"year","Adjusted for 1 year as the production starts Q4 of the first production year","Production year adjustment ",1,"year","Adjusted for 1 year as the production starts Q4 of the first production year","Production year adjustment ",1,"year","Adjusted for 1 year as the production starts Q4 of the first production year","Production year adjustment ",1,"year","Adjusted for 1 year as the production starts Q4 of the first production year","Production year adjustment ",1,"year","Adjusted for 1 year as the production starts Q4 of the first production year","Production year adjustment ",1,"year","Adjusted for 1 year as the production starts Q4 of the first production year","Production year adjustment ",1,"year","Adjusted for 1 year as the production starts Q4 of the first production year","Production year adjustment ",1,"year","Adjusted for 1 year as the production starts Q4 of the first production year","Production year adjustment ",1,"year","Adjusted for 1 year as the production starts Q4 of the first production year","Production year adjustment ",1,"year","Adjusted for 1 year as the production starts Q4 of the first production year","Production year adjustment ",1,"year","Adjusted for 1 year as the production starts Q4 of the first production year","Production year adjustment ",1,"year","Adjusted for 1 year as the production starts Q4 of the first production year","Production year adjustment ",1,"year","Adjusted for 1 year as the production starts Q4 of the first production year","Production year adjustment ",1,"year","Adjusted for 1 year as the production starts Q4 of the first production year","Production year adjustment ",1,"year","Adjusted for 1 year as the production starts Q4 of the first production year","Production year adjustment ",1,"year","Adjusted for 1 year as the production starts Q4 of the first production year","Production year adjustment ",1,"year","Adjusted for 1 year as the production starts Q4 of the first production year","Production year adjustment ",1,"year","Adjusted for 1 year as the production starts Q4 of the first production year","Production year adjustment ",1,"year","Adjusted for 1 year as the production starts Q4 of the first production year","Production year adjustment ",1,"year","Adjusted for 1 year as the production starts Q4 of the first production year","Production year adjustment ",1,"year","Adjusted for 1 year as the production starts Q4 of the first production year","Production year adjustment ",1,"year","Adjusted for 1 year as the production starts Q4 of the first production year","Production year adjustment ",1,"year","Adjusted for 1 year as the production starts Q4 of the first production year","Production year adjustment ",1,"year","Adjusted for 1 year as the production starts Q4 of the first production year","Production year adjustment ",1,"year","Adjusted for 1 year as the production starts Q4 of the first production year","Production year adjustment ",1,"year","Adjusted for 1 year as the production starts Q4 of the first production year","Production year adjustment ",1,"year","Adjusted for 1 year as the production starts Q4 of the first production year","Production year adjustment ",1,"year","Adjusted for 1 year as the production starts Q4 of the first production year","Production year adjustment ",1,"year","Adjusted for 1 year as the production starts Q4 of the first production year","Production year adjustment ",1,"year","Adjusted for 1 year as the production starts Q4 of the first production year","Production year adjustment ",1,"year","Adjusted for 1 year as the production starts Q4 of the first production year","Production year adjustment ",1,"year","Adjusted for 1 year as the production starts Q4 of the first production year","Production year adjustment ",1,"year","Adjusted for 1 year as the production starts Q4 of the first production year","Production year adjustment ",1,"year","Adjusted for 1 year as the production starts Q4 of the first production year","Production year adjustment ",1,"year","Adjusted for 1 year as the production starts Q4 of the first production year","Production year adjustment ",1,"year","Adjusted for 1 year as the production starts Q4 of the first production year","Production year adjustment ",1,"year","Adjusted for 1 year as the production starts Q4 of the first production year","Production year adjustment ",1,"year","Adjusted for 1 year as the production starts Q4 of the first production year","Production year adjustment ",1,"year","Adjusted for 1 year as the production starts Q4 of the first production year","Production year adjustment ",1,"year","Adjusted for 1 year as the production starts Q4 of the first production year","Production year adjustment ",1,"year","Adjusted for 1 year as the production starts Q4 of the first production year","Production year adjustment ",1,"year","Adjusted for 1 year as the production starts Q4 of the first production year","Production year adjustment ",1,"year","Adjusted for 1 year as the production starts Q4 of the first production year","Production year adjustment ",1,"year","Adjusted for 1 year as the production starts Q4 of the first production year","Production year adjustment ",1,"year","Adjusted for 1 year as the production starts Q4 of the first production year","Production year adjustment ",1,"year","Adjusted for 1 year as the production starts Q4 of the first production year","Production year adjustment ",1,"year","Adjusted for 1 year as the production starts Q4 of the first production year","Production year adjustment ",1,"year","Adjusted for 1 year as the production starts Q4 of the first production year","Production year adjustment ",1,"year","Adjusted for 1 year as the production starts Q4 of the first production year","Production year adjustment ",1,"year","Adjusted for 1 year as the production starts Q4 of the first production year","Production year adjustment ",1,"year","Adjusted for 1 year as the production starts Q4 of the first production year","Production year adjustment ",1,"year","Adjusted for 1 year as the production starts Q4 of the first production year","Production year adjustment ",1,"year","Adjusted for 1 year as the production starts Q4 of the first production year","Production year adjustment ",1,"year","Adjusted for 1 year as the production starts Q4 of the first production year","Production year adjustment ",1,"year","Adjusted for 1 year as the production starts Q4 of the first production year","Production year adjustment ",1,"year","Adjusted for 1 year as the production starts Q4 of the first production year","Production year adjustment ",1,"year","Adjusted for 1 year as the production starts Q4 of the first production year","Production year adjustment ",1,"year","Adjusted for 1 year as the production starts Q4 of the first production year","Production year adjustment ",1,"year","Adjusted for 1 year as the production starts Q4 of the first production year","Production year adjustment ",1,"year","Adjusted for 1 year as the production starts Q4 of the first production year","Production year adjustment ",1,"year","Adjusted for 1 year as the production starts Q4 of the first production year","Production year adjustment ",1,"year","Adjusted for 1 year as the production starts Q4 of the first production year","Production year adjustment ",1,"year","Adjusted for 1 year as the production starts Q4 of the first production year","Production year adjustment ",1,"year","Adjusted for 1 year as the production starts Q4 of the first production year","Production year adjustment ",1,"year","Adjusted for 1 year as the production starts Q4 of the first production year","Production year adjustment ",1,"year","Adjusted for 1 year as the production starts Q4 of the first production year","Production year adjustment ",1,"year","Adjusted for 1 year as the production starts Q4 of the first production year","Production year adjustment ",1,"year","Adjusted for 1 year as the production starts Q4 of the first production year","Production year adjustment ",1,"year","Adjusted for 1 year as the production starts Q4 of the first production year","Production year adjustment ",1,"year","Adjusted for 1 year as the production starts Q4 of the first production year","Production year adjustment ",1,"year","Adjusted for 1 year as the production starts Q4 of the first production year","Production year adjustment ",1,"year","Adjusted for 1 year as the production starts Q4 of the first production year","Production year adjustment ",1,"year","Adjusted for 1 year as the production starts Q4 of the first production year","Production year adjustment ",1,"year","Adjusted for 1 year as the production starts Q4 of the first production year","Production year adjustment ",1,"year","Adjusted for 1 year as the production starts Q4 of the first production year","Production year adjustment ",1,"year","Adjusted for 1 year as the production starts Q4 of the first production year","Production year adjustment ",1,"year","Adjusted for 1 year as the production starts Q4 of the first production year","Production year adjustment ",1,"year","Adjusted for 1 year as the production starts Q4 of the first production year","Production year adjustment ",1,"year","Adjusted for 1 year as the production starts Q4 of the first production year","Production year adjustment ",1,"year","Adjusted for 1 year as the production starts Q4 of the first production year","Production year adjustment ",1,"year","Adjusted for 1 year as the production starts Q4 of the first production year","Production year adjustment ",1,"year","Adjusted for 1 year as the production starts Q4 of the first production year","Production year adjustment ",1,"year","Adjusted for 1 year as the production starts Q4 of the first production year","Production year adjustment ",1,"year","Adjusted for 1 year as the production starts Q4 of the first production year","Production year adjustment ",1,"year","Adjusted for 1 year as the production starts Q4 of the first production year","Production year adjustment ",1,"year","Adjusted for 1 year as the production starts Q4 of the first production year","Production year adjustment ",1,"year","Adjusted for 1 year as the production starts Q4 of the first production year","Production year adjustment ",1,"year","Adjusted for 1 year as the production starts Q4 of the first production year","Production year adjustment ",1,"year","Adjusted for 1 year as the production starts Q4 of the first production year","Production year adjustment ",1,"year","Adjusted for 1 year as the production starts Q4 of the first production year","Production year adjustment ",1,"year","Adjusted for 1 year as the production starts Q4 of the first production year","Production year adjustment ",1,"year","Adjusted for 1 year as the production starts Q4 of the first production year","Production year adjustment ",1,"year","Adjusted for 1 year as the production starts Q4 of the first production year","Production year adjustment ",1,"year","Adjusted for 1 year as the production starts Q4 of the first production year","Production year adjustment ",1,"year","Adjusted for 1 year as the production starts Q4 of the first production year","Production year adjustment ",1,"year","Adjusted for 1 year as the production starts Q4 of the first production year","Production year adjustment ",1,"year","Adjusted for 1 year as the production starts Q4 of the first production year","Production year adjustment ",1,"year","Adjusted for 1 year as the production starts Q4 of the first production year","Production year adjustment ",1,"year","Adjusted for 1 year as the production starts Q4 of the first production year","Production year adjustment ",1,"year","Adjusted for 1 year as the production starts Q4 of the first production year","Production year adjustment ",1,"year","Adjusted for 1 year as the production starts Q4 of the first production year","Production year adjustment ",1,"year","Adjusted for 1 year as the production starts Q4 of the first production year","Production year adjustment ",1,"year","Adjusted for 1 year as the production starts Q4 of the first production year","Production year adjustment ",1,"year","Adjusted for 1 year as the production starts Q4 of the first production year","Production year adjustment ",1,"year","Adjusted for 1 year as the production starts Q4 of the first production year","Production year adjustment ",1,"year","Adjusted for 1 year as the production starts Q4 of the first production year","Production year adjustment ",1,"year","Adjusted for 1 year as the production starts Q4 of the first production year","Production year adjustment ",1,"year","Adjusted for 1 year as the production starts Q4 of the first production year","Production year adjustment ",1,"year","Adjusted for 1 year as the production starts Q4 of the first production year","Production year adjustment ",1,"year","Adjusted for 1 year as the production starts Q4 of the first production year","Production year adjustment ",1,"year","Adjusted for 1 year as the production starts Q4 of the first production year","Production year adjustment ",1,"year","Adjusted for 1 year as the production starts Q4 of the first production year","Production year adjustment ",1,"year","Adjusted for 1 year as the production starts Q4 of the first production year","Production year adjustment ",1,"year","Adjusted for 1 year as the production starts Q4 of the first production year","Production year adjustment ",1,"year","Adjusted for 1 year as the production starts Q4 of the first production year","Production year adjustment ",1,"year","Adjusted for 1 year as the production starts Q4 of the first production year","Production year adjustment ",1,"year","Adjusted for 1 year as the production starts Q4 of the first production year","Production year adjustment ",1,"year","Adjusted for 1 year as the production starts Q4 of the first production year","Production year adjustment ",1,"year","Adjusted for 1 year as the production starts Q4 of the first production year","Production year adjustment ",1,"year","Adjusted for 1 year as the production starts Q4 of the first production year","Production year adjustment ",1,"year","Adjusted for 1 year as the production starts Q4 of the first production year","Production year adjustment ",1,"year","Adjusted for 1 year as the production starts Q4 of the first production year","Production year adjustment ",1,"year","Adjusted for 1 year as the production starts Q4 of the first production year","Production year adjustment ",1,"year","Adjusted for 1 year as the production starts Q4 of the first production year","Production year adjustment ",1,"year","Adjusted for 1 year as the production starts Q4 of the first production year","Production year adjustment ",1,"year","Adjusted for 1 year as the production starts Q4 of the first production year","Production year adjustment ",1,"year","Adjusted for 1 year as the production starts Q4 of the first production year","Production year adjustment ",1,"year","Adjusted for 1 year as the production starts Q4 of the first production year","Production year adjustment ",1,"year","Adjusted for 1 year as the production starts Q4 of the first production year","Production year adjustment ",1,"year","Adjusted for 1 year as the production starts Q4 of the first production year","Production year adjustment ",1,"year","Adjusted for 1 year as the production starts Q4 of the first production year","Production year adjustment ",1,"year","Adjusted for 1 year as the production starts Q4 of the first production year","Production year adjustment ",1,"year","Adjusted for 1 year as the production starts Q4 of the first production year","Production year adjustment ",1,"year","Adjusted for 1 year as the production starts Q4 of the first production year","Production year adjustment ",1,"year","Adjusted for 1 year as the production starts Q4 of the first production year","Production year adjustment ",1,"year","Adjusted for 1 year as the production starts Q4 of the first production year","Production year adjustment ",1,"year","Adjusted for 1 year as the production starts Q4 of the first production year","Production year adjustment ",1,"year","Adjusted for 1 year as the production starts Q4 of the first production year","Production year adjustment ",1,"year","Adjusted for 1 year as the production starts Q4 of the first production year","Production year adjustment ",1,"year","Adjusted for 1 year as the production starts Q4 of the first production year","Production year adjustment ",1,"year","Adjusted for 1 year as the production starts Q4 of the first production year","Production year adjustment ",1,"year","Adjusted for 1 year as the production starts Q4 of the first production year","Production year adjustment ",1,"year","Adjusted for 1 year as the production starts Q4 of the first production year","Production year adjustment ",1,"year","Adjusted for 1 year as the production starts Q4 of the first production year","Production year adjustment ",1,"year","Adjusted for 1 year as the production starts Q4 of the first production year","Production year adjustment ",1,"year","Adjusted for 1 year as the production starts Q4 of the first production year","Production year adjustment ",1,"year","Adjusted for 1 year as the production starts Q4 of the first production year","Production year adjustment ",1,"year","Adjusted for 1 year as the production starts Q4 of the first production year","Production year adjustment ",1,"year","Adjusted for 1 year as the production starts Q4 of the first production year","Production year adjustment ",1,"year","Adjusted for 1 year as the production starts Q4 of the first production year","Production year adjustment ",1,"year","Adjusted for 1 year as the production starts Q4 of the first production year","Production year adjustment ",1,"year","Adjusted for 1 year as the production starts Q4 of the first production year","Production year adjustment ",1,"year","Adjusted for 1 year as the production starts Q4 of the first production year","Production year adjustment ",1,"year","Adjusted for 1 year as the production starts Q4 of the first production year","Production year adjustment ",1,"year","Adjusted for 1 year as the production starts Q4 of the first production year","Production year adjustment ",1,"year","Adjusted for 1 year as the production starts Q4 of the first production year","Production year adjustment ",1,"year","Adjusted for 1 year as the production starts Q4 of the first production year","Production year adjustment ",1,"year","Adjusted for 1 year as the production starts Q4 of the first production year","Production year adjustment ",1,"year","Adjusted for 1 year as the production starts Q4 of the first production year","Production year adjustment ",1,"year","Adjusted for 1 year as the production starts Q4 of the first production year","Production year adjustment ",1,"year","Adjusted for 1 year as the production starts Q4 of the first production year","Production year adjustment ",1,"year","Adjusted for 1 year as the production starts Q4 of the first production year","Production year adjustment ",1,"year","Adjusted for 1 year as the production starts Q4 of the first production year","Production year adjustment ",1,"year","Adjusted for 1 year as the production starts Q4 of the first production year","Production year adjustment ",1,"year","Adjusted for 1 year as the production starts Q4 of the first production year","Production year adjustment ",1,"year","Adjusted for 1 year as the production starts Q4 of the first production year","Production year adjustment ",1,"year","Adjusted for 1 year as the production starts Q4 of the first production year","Production year adjustment ",1,"year","Adjusted for 1 year as the production starts Q4 of the first production year","Production year adjustment ",1,"year","Adjusted for 1 year as the production starts Q4 of the first production year","Production year adjustment ",1,"year","Adjusted for 1 year as the production starts Q4 of the first production year","Production year adjustment ",1,"year","Adjusted for 1 year as the production starts Q4 of the first production year","Production year adjustment ",1,"year","Adjusted for 1 year as the production starts Q4 of the first production year","Production year adjustment ",1,"year","Adjusted for 1 year as the production starts Q4 of the first production year","Production year adjustment ",1,"year","Adjusted for 1 year as the production starts Q4 of the first production year","Production year adjustment ",1,"year","Adjusted for 1 year as the production starts Q4 of the first production year","Production year adjustment ",1,"year","Adjusted for 1 year as the production starts Q4 of the first production year","Production year adjustment ",1,"year","Adjusted for 1 year as the production starts Q4 of the first production year","Production year adjustment ",1,"year","Adjusted for 1 year as the production starts Q4 of the first production year","Production year adjustment ",1,"year","Adjusted for 1 year as the production starts Q4 of the first production year","Production year adjustment ",1,"year","Adjusted for 1 year as the production starts Q4 of the first production year","Production year adjustment ",1,"year","Adjusted for 1 year as the production starts Q4 of the first production year","Production year adjustment ",1,"year","Adjusted for 1 year as the production starts Q4 of the first production year","Production year adjustment ",1,"year","Adjusted for 1 year as the production starts Q4 of the first production year","Production year adjustment ",1,"year","Adjusted for 1 year as the production starts Q4 of the first production year","Production year adjustment ",1,"year","Adjusted for 1 year as the production starts Q4 of the first production year","Production year adjustment ",1,"year","Adjusted for 1 year as the production starts Q4 of the first production year","Production year adjustment ",1,"year","Adjusted for 1 year as the production starts Q4 of the first production year","Production year adjustment ",1,"year","Adjusted for 1 year as the production starts Q4 of the first production year","Production year adjustment ",1,"year","Adjusted for 1 year as the production starts Q4 of the first production year","Production year adjustment ",1,"year","Adjusted for 1 year as the production starts Q4 of the first production year","Production year adjustment ",1,"year","Adjusted for 1 year as the production starts Q4 of the first production year","Production year adjustment ",1,"year","Adjusted for 1 year as the production starts Q4 of the first production year","Production year adjustment ",1,"year","Adjusted for 1 year as the production starts Q4 of the first production year","Production year adjustment ",1,"year","Adjusted for 1 year as the production starts Q4 of the first production year","Production year adjustment ",1,"year","Adjusted for 1 year as the production starts Q4 of the first production year","Production year adjustment ",1,"year","Adjusted for 1 year as the production starts Q4 of the first production year","Production year adjustment ",1,"year","Adjusted for 1 year as the production starts Q4 of the first production year","Production year adjustment ",1,"year","Adjusted for 1 year as the production starts Q4 of the first production year","Production year adjustment ",1,"year","Adjusted for 1 year as the production starts Q4 of the first production year","Production year adjustment ",1,"year","Adjusted for 1 year as the production starts Q4 of the first production year","Production year adjustment ",1,"year","Adjusted for 1 year as the production starts Q4 of the first production year","Production year adjustment ",1,"year","Adjusted for 1 year as the production starts Q4 of the first production year","Production year adjustment ",1,"year","Adjusted for 1 year as the production starts Q4 of the first production year","Production year adjustment ",1,"year","Adjusted for 1 year as the production starts Q4 of the first production year","Production year adjustment ",1,"year","Adjusted for 1 year as the production starts Q4 of the first production year","Production year adjustment ",1,"year","Adjusted for 1 year as the production starts Q4 of the first production year","Production year adjustment ",1,"year","Adjusted for 1 year as the production starts Q4 of the first production year","Production year adjustment ",1,"year","Adjusted for 1 year as the production starts Q4 of the first production year","Production year adjustment ",1,"year","Adjusted for 1 year as the production starts Q4 of the first production year","Production year adjustment ",1,"year","Adjusted for 1 year as the production starts Q4 of the first production year","Production year adjustment ",1,"year","Adjusted for 1 year as the production starts Q4 of the first production year","Production year adjustment ",1,"year","Adjusted for 1 year as the production starts Q4 of the first production year","Production year adjustment ",1,"year","Adjusted for 1 year as the production starts Q4 of the first production year","Production year adjustment ",1,"year","Adjusted for 1 year as the production starts Q4 of the first production year","Production year adjustment ",1,"year","Adjusted for 1 year as the production starts Q4 of the first production year","Production year adjustment ",1,"year","Adjusted for 1 year as the production starts Q4 of the first production year","Production year adjustment ",1,"year","Adjusted for 1 year as the production starts Q4 of the first production year","Production year adjustment ",1,"year","Adjusted for 1 year as the production starts Q4 of the first production year","Production year adjustment ",1,"year","Adjusted for 1 year as the production starts Q4 of the first production year","Production year adjustment ",1,"year","Adjusted for 1 year as the production starts Q4 of the first production year","Production year adjustment ",1,"year","Adjusted for 1 year as the production starts Q4 of the first production year","Production year adjustment ",1,"year","Adjusted for 1 year as the production starts Q4 of the first production year","Production year adjustment ",1,"year","Adjusted for 1 year as the production starts Q4 of the first production year","Production year adjustment ",1,"year","Adjusted for 1 year as the production starts Q4 of the first production year","Production year adjustment ",1,"year","Adjusted for 1 year as the production starts Q4 of the first production year","Production year adjustment ",1,"year","Adjusted for 1 year as the production starts Q4 of the first production year","Production year adjustment ",1,"year","Adjusted for 1 year as the production starts Q4 of the first production year","Production year adjustment ",1,"year","Adjusted for 1 year as the production starts Q4 of the first production year","Production year adjustment ",1,"year","Adjusted for 1 year as the production starts Q4 of the first production year","Production year adjustment ",1,"year","Adjusted for 1 year as the production starts Q4 of the first production year","Production year adjustment ",1,"year","Adjusted for 1 year as the production starts Q4 of the first production year","Production year adjustment ",1,"year","Adjusted for 1 year as the production starts Q4 of the first production year","Production year adjustment ",1,"year","Adjusted for 1 year as the production starts Q4 of the first production year","Production year adjustment ",1,"year","Adjusted for 1 year as the production starts Q4 of the first production year","Production year adjustment ",1,"year","Adjusted for 1 year as the production starts Q4 of the first production year","Production year adjustment ",1,"year","Adjusted for 1 year as the production starts Q4 of the first production year","Production year adjustment ",1,"year","Adjusted for 1 year as the production starts Q4 of the first production year","Production year adjustment ",1,"year","Adjusted for 1 year as the production starts Q4 of the first production year","Production year adjustment ",1,"year","Adjusted for 1 year as the production starts Q4 of the first production year","Production year adjustment ",1,"year","Adjusted for 1 year as the production starts Q4 of the first production year","Production year adjustment ",1,"year","Adjusted for 1 year as the production starts Q4 of the first production year","Production year adjustment ",1,"year","Adjusted for 1 year as the production starts Q4 of the first production year","Production year adjustment ",1,"year","Adjusted for 1 year as the production starts Q4 of the first production year","Production year adjustment ",1,"year","Adjusted for 1 year as the production starts Q4 of the first production year","Production year adjustment ",1,"year","Adjusted for 1 year as the production starts Q4 of the first production year","Production year adjustment ",1,"year","Adjusted for 1 year as the production starts Q4 of the first production year","Production year adjustment ",1,"year","Adjusted for 1 year as the production starts Q4 of the first production year","Production year adjustment ",1,"year","Adjusted for 1 year as the production starts Q4 of the first production year","Production year adjustment ",1,"year","Adjusted for 1 year as the production starts Q4 of the first production year","Production year adjustment ",1,"year","Adjusted for 1 year as the production starts Q4 of the first production year","Production year adjustment ",1,"year","Adjusted for 1 year as the production starts Q4 of the first production year","Production year adjustment ",1,"year","Adjusted for 1 year as the production starts Q4 of the first production year","Production year adjustment ",1,"year","Adjusted for 1 year as the production starts Q4 of the first production year","Production year adjustment ",1,"year","Adjusted for 1 year as the production starts Q4 of the first production year","Production year adjustment ",1,"year","Adjusted for 1 year as the production starts Q4 of the first production year","Production year adjustment ",1,"year","Adjusted for 1 year as the production starts Q4 of the first production year","Production year adjustment ",1,"year","Adjusted for 1 year as the production starts Q4 of the first production year","Production year adjustment ",1,"year","Adjusted for 1 year as the production starts Q4 of the first production year","Production year adjustment ",1,"year","Adjusted for 1 year as the production starts Q4 of the first production year","Production year adjustment ",1,"year","Adjusted for 1 year as the production starts Q4 of the first production year","Production year adjustment ",1,"year","Adjusted for 1 year as the production starts Q4 of the first production year","Production year adjustment ",1,"year","Adjusted for 1 year as the production starts Q4 of the first production year","Production year adjustment ",1,"year","Adjusted for 1 year as the production starts Q4 of the first production year","Production year adjustment ",1,"year","Adjusted for 1 year as the production starts Q4 of the first production year","Production year adjustment ",1,"year","Adjusted for 1 year as the production starts Q4 of the first production year","Production year adjustment ",1,"year","Adjusted for 1 year as the production starts Q4 of the first production year","Production year adjustment ",1,"year","Adjusted for 1 year as the production starts Q4 of the first production year","Production year adjustment ",1,"year","Adjusted for 1 year as the production starts Q4 of the first production year","Production year adjustment ",1,"year","Adjusted for 1 year as the production starts Q4 of the first production year","Production year adjustment ",1,"year","Adjusted for 1 year as the production starts Q4 of the first production year","Production year adjustment ",1,"year","Adjusted for 1 year as the production starts Q4 of the first production year","Production year adjustment ",1,"year","Adjusted for 1 year as the production starts Q4 of the first production year","Production year adjustment ",1,"year","Adjusted for 1 year as the production starts Q4 of the first production year","Production year adjustment ",1,"year","Adjusted for 1 year as the production starts Q4 of the first production year","Production year adjustment ",1,"year","Adjusted for 1 year as the production starts Q4 of the first production year","Production year adjustment ",1,"year","Adjusted for 1 year as the production starts Q4 of the first production year","Production year adjustment ",1,"year","Adjusted for 1 year as the production starts Q4 of the first production year","Production year adjustment ",1,"year","Adjusted for 1 year as the production starts Q4 of the first production year","Production year adjustment ",1,"year","Adjusted for 1 year as the production starts Q4 of the first production year","Production year adjustment ",1,"year","Adjusted for 1 year as the production starts Q4 of the first production year","Production year adjustment ",1,"year","Adjusted for 1 year as the production starts Q4 of the first production year","Production year adjustment ",1,"year","Adjusted for 1 year as the production starts Q4 of the first production year","Production year adjustment ",1,"year","Adjusted for 1 year as the production starts Q4 of the first production year","Production year adjustment ",1,"year","Adjusted for 1 year as the production starts Q4 of the first production year","Production year adjustment ",1,"year","Adjusted for 1 year as the production starts Q4 of the first production year","Production year adjustment ",1,"year","Adjusted for 1 year as the production starts Q4 of the first production year","Production year adjustment ",1,"year","Adjusted for 1 year as the production starts Q4 of the first production year","Production year adjustment ",1,"year","Adjusted for 1 year as the production starts Q4 of the first production year","Production year adjustment ",1,"year","Adjusted for 1 year as the production starts Q4 of the first production year","Production year adjustment ",1,"year","Adjusted for 1 year as the production starts Q4 of the first production year","Production year adjustment ",1,"year","Adjusted for 1 year as the production starts Q4 of the first production year","Production year adjustment ",1,"year","Adjusted for 1 year as the production starts Q4 of the first production year","Production year adjustment ",1,"year","Adjusted for 1 year as the production starts Q4 of the first production year","Production year adjustment ",1,"year","Adjusted for 1 year as the production starts Q4 of the first production year","Production year adjustment ",1,"year","Adjusted for 1 year as the production starts Q4 of the first production year","Production year adjustment ",1,"year","Adjusted for 1 year as the production starts Q4 of the first production year","Production year adjustment ",1,"year","Adjusted for 1 year as the production starts Q4 of the first production year","Production year adjustment ",1,"year","Adjusted for 1 year as the production starts Q4 of the first production year","Production year adjustment ",1,"year","Adjusted for 1 year as the production starts Q4 of the first production year","Production year adjustment ",1,"year","Adjusted for 1 year as the production starts Q4 of the first production year","Production year adjustment ",1,"year","Adjusted for 1 year as the production starts Q4 of the first production year","Production year adjustment ",1,"year","Adjusted for 1 year as the production starts Q4 of the first production year","Production year adjustment ",1,"year","Adjusted for 1 year as the production starts Q4 of the first production year","Production year adjustment ",1,"year","Adjusted for 1 year as the production starts Q4 of the first production year","Production year adjustment ",1,"year","Adjusted for 1 year as the production starts Q4 of the first production year","Production year adjustment ",1,"year","Adjusted for 1 year as the production starts Q4 of the first production year","Production year adjustment ",1,"year","Adjusted for 1 year as the production starts Q4 of the first production year","Production year adjustment ",1,"year","Adjusted for 1 year as the production starts Q4 of the first production year","Production year adjustment ",1,"year","Adjusted for 1 year as the production starts Q4 of the first production year","Production year adjustment ",1,"year","Adjusted for 1 year as the production starts Q4 of the first production year","Production year adjustment ",1,"year","Adjusted for 1 year as the production starts Q4 of the first production year","Production year adjustment ",1,"year","Adjusted for 1 year as the production starts Q4 of the first production year","Production year adjustment ",1,"year","Adjusted for 1 year as the production starts Q4 of the first production year","Production year adjustment ",1,"year","Adjusted for 1 year as the production starts Q4 of the first production year","Production year adjustment ",1,"year","Adjusted for 1 year as the production starts Q4 of the first production year","Production year adjustment ",1,"year","Adjusted for 1 year as the production starts Q4 of the first production year","Production year adjustment ",1,"year","Adjusted for 1 year as the production starts Q4 of the first production year","Production year adjustment ",1,"year","Adjusted for 1 year as the production starts Q4 of the first production year","Production year adjustment ",1,"year","Adjusted for 1 year as the production starts Q4 of the first production year","Production year adjustment ",1,"year","Adjusted for 1 year as the production starts Q4 of the first production year","Production year adjustment ",1,"year","Adjusted for 1 year as the production starts Q4 of the first production year","Production year adjustment ",1,"year","Adjusted for 1 year as the production starts Q4 of the first production year","Production year adjustment ",1,"year","Adjusted for 1 year as the production starts Q4 of the first production year","Production year adjustment ",1,"year","Adjusted for 1 year as the production starts Q4 of the first production year","Production year adjustment ",1,"year","Adjusted for 1 year as the production starts Q4 of the first production year","Production year adjustment ",1,"year","Adjusted for 1 year as the production starts Q4 of the first production year","Production year adjustment ",1,"year","Adjusted for 1 year as the production starts Q4 of the first production year","Production year adjustment ",1,"year","Adjusted for 1 year as the production starts Q4 of the first production year","Production year adjustment ",1,"year","Adjusted for 1 year as the production starts Q4 of the first production year","Production year adjustment ",1,"year","Adjusted for 1 year as the production starts Q4 of the first production year","Production year adjustment ",1,"year","Adjusted for 1 year as the production starts Q4 of the first production year","Production year adjustment ",1,"year","Adjusted for 1 year as the production starts Q4 of the first production year","Production year adjustment ",1,"year","Adjusted for 1 year as the production starts Q4 of the first production year","Production year adjustment ",1,"year","Adjusted for 1 year as the production starts Q4 of the first production year","Production year adjustment ",1,"year","Adjusted for 1 year as the production starts Q4 of the first production year","Production year adjustment ",1,"year","Adjusted for 1 year as the production starts Q4 of the first production year","Production year adjustment ",1,"year","Adjusted for 1 year as the production starts Q4 of the first production year","Production year adjustment ",1,"year","Adjusted for 1 year as the production starts Q4 of the first production year","Production year adjustment ",1,"year","Adjusted for 1 year as the production starts Q4 of the first production year","Production year adjustment ",1,"year","Adjusted for 1 year as the production starts Q4 of the first production year","Production year adjustment ",1,"year","Adjusted for 1 year as the production starts Q4 of the first production year","Production year adjustment ",1,"year","Adjusted for 1 year as the production starts Q4 of the first production year","Production year adjustment ",1,"year","Adjusted for 1 year as the production starts Q4 of the first production year","Production year adjustment ",1,"year","Adjusted for 1 year as the production starts Q4 of the first production year","Production year adjustment ",1,"year","Adjusted for 1 year as the production starts Q4 of the first production year","Production year adjustment ",1,"year","Adjusted for 1 year as the production starts Q4 of the first production year","Production year adjustment ",1,"year","Adjusted for 1 year as the production starts Q4 of the first production year","Production year adjustment ",1,"year","Adjusted for 1 year as the production starts Q4 of the first production year","Production year adjustment ",1,"year","Adjusted for 1 year as the production starts Q4 of the first production year","Production year adjustment ",1,"year","Adjusted for 1 year as the production starts Q4 of the first production year","Production year adjustment ",1,"year","Adjusted for 1 year as the production starts Q4 of the first production year","Production year adjustment ",1,"year","Adjusted for 1 year as the production starts Q4 of the first production year","Production year adjustment ",1,"year","Adjusted for 1 year as the production starts Q4 of the first production year","Production year adjustment ",1,"year","Adjusted for 1 year as the production starts Q4 of the first production year","Production year adjustment ",1,"year","Adjusted for 1 year as the production starts Q4 of the first production year","Production year adjustment ",1,"year","Adjusted for 1 year as the production starts Q4 of the first production year","Production year adjustment ",1,"year","Adjusted for 1 year as the production starts Q4 of the first production year","Production year adjustment ",1,"year","Adjusted for 1 year as the production starts Q4 of the first production year","Production year adjustment ",1,"year","Adjusted for 1 year as the production starts Q4 of the first production year","Production year adjustment ",1,"year","Adjusted for 1 year as the production starts Q4 of the first production year","Production year adjustment ",1,"year","Adjusted for 1 year as the production starts Q4 of the first production year","Production year adjustment ",1,"year","Adjusted for 1 year as the production starts Q4 of the first production year","Production year adjustment ",1,"year","Adjusted for 1 year as the production starts Q4 of the first production year","Production year adjustment ",1,"year","Adjusted for 1 year as the production starts Q4 of the first production year","Production year adjustment ",1,"year","Adjusted for 1 year as the production starts Q4 of the first production year","Production year adjustment ",1,"year","Adjusted for 1 year as the production starts Q4 of the first production year","Production year adjustment ",1,"year","Adjusted for 1 year as the production starts Q4 of the first production year","Production year adjustment ",1,"year","Adjusted for 1 year as the production starts Q4 of the first production year","Production year adjustment ",1,"year","Adjusted for 1 year as the production starts Q4 of the first production year","Production year adjustment ",1,"year","Adjusted for 1 year as the production starts Q4 of the first production year","Production year adjustment ",1,"year","Adjusted for 1 year as the production starts Q4 of the first production year","Production year adjustment ",1,"year","Adjusted for 1 year as the production starts Q4 of the first production year","Production year adjustment ",1,"year","Adjusted for 1 year as the production starts Q4 of the first production year","Production year adjustment ",1,"year","Adjusted for 1 year as the production starts Q4 of the first production year","Production year adjustment ",1,"year","Adjusted for 1 year as the production starts Q4 of the first production year","Production year adjustment ",1,"year","Adjusted for 1 year as the production starts Q4 of the first production year","Production year adjustment ",1,"year","Adjusted for 1 year as the production starts Q4 of the first production year","Production year adjustment ",1,"year","Adjusted for 1 year as the production starts Q4 of the first production year","Production year adjustment ",1,"year","Adjusted for 1 year as the production starts Q4 of the first production year","Production year adjustment ",1,"year","Adjusted for 1 year as the production starts Q4 of the first production year","Production year adjustment ",1,"year","Adjusted for 1 year as the production starts Q4 of the first production year","Production year adjustment ",1,"year","Adjusted for 1 year as the production starts Q4 of the first production year","Production year adjustment ",1,"year","Adjusted for 1 year as the production starts Q4 of the first production year","Production year adjustment ",1,"year","Adjusted for 1 year as the production starts Q4 of the first production year","Production year adjustment ",1,"year","Adjusted for 1 year as the production starts Q4 of the first production year","Production year adjustment ",1,"year","Adjusted for 1 year as the production starts Q4 of the first production year","Production year adjustment ",1,"year","Adjusted for 1 year as the production starts Q4 of the first production year","Production year adjustment ",1,"year","Adjusted for 1 year as the production starts Q4 of the first production year","Production year adjustment ",1,"year","Adjusted for 1 year as the production starts Q4 of the first production year","Production year adjustment ",1,"year","Adjusted for 1 year as the production starts Q4 of the first production year","Production year adjustment ",1,"year","Adjusted for 1 year as the production starts Q4 of the first production year","Production year adjustment ",1,"year","Adjusted for 1 year as the production starts Q4 of the first production year","Production year adjustment ",1,"year","Adjusted for 1 year as the production starts Q4 of the first production year","Production year adjustment ",1,"year","Adjusted for 1 year as the production starts Q4 of the first production year","Production year adjustment ",1,"year","Adjusted for 1 year as the production starts Q4 of the first production year","Production year adjustment ",1,"year","Adjusted for 1 year as the production starts Q4 of the first production year","Production year adjustment ",1,"year","Adjusted for 1 year as the production starts Q4 of the first production year","Production year adjustment ",1,"year","Adjusted for 1 year as the production starts Q4 of the first production year","Production year adjustment ",1,"year","Adjusted for 1 year as the production starts Q4 of the first production year","Production year adjustment ",1,"year","Adjusted for 1 year as the production starts Q4 of the first production year","Production year adjustment ",1,"year","Adjusted for 1 year as the production starts Q4 of the first production year","Production year adjustment ",1,"year","Adjusted for 1 year as the production starts Q4 of the first production year","Production year adjustment ",1,"year","Adjusted for 1 year as the production starts Q4 of the first production year","Production year adjustment ",1,"year","Adjusted for 1 year as the production starts Q4 of the first production year","Production year adjustment ",1,"year","Adjusted for 1 year as the production starts Q4 of the first production year","Production year adjustment ",1,"year","Adjusted for 1 year as the production starts Q4 of the first production year","Production year adjustment ",1,"year","Adjusted for 1 year as the production starts Q4 of the first production year","Production year adjustment ",1,"year","Adjusted for 1 year as the production starts Q4 of the first production year","Production year adjustment ",1,"year","Adjusted for 1 year as the production starts Q4 of the first production year","Production year adjustment ",1,"year","Adjusted for 1 year as the production starts Q4 of the first production year","Production year adjustment ",1,"year","Adjusted for 1 year as the production starts Q4 of the first production year","Production year adjustment ",1,"year","Adjusted for 1 year as the production starts Q4 of the first production year","Production year adjustment ",1,"year","Adjusted for 1 year as the production starts Q4 of the first production year","Production year adjustment ",1,"year","Adjusted for 1 year as the production starts Q4 of the first production year","Production year adjustment ",1,"year","Adjusted for 1 year as the production starts Q4 of the first production year","Production year adjustment ",1,"year","Adjusted for 1 year as the production starts Q4 of the first production year","Production year adjustment ",1,"year","Adjusted for 1 year as the production starts Q4 of the first production year","Production year adjustment ",1,"year","Adjusted for 1 year as the production starts Q4 of the first production year","Production year adjustment ",1,"year","Adjusted for 1 year as the production starts Q4 of the first production year","Production year adjustment ",1,"year","Adjusted for 1 year as the production starts Q4 of the first production year","Production year adjustment ",1,"year","Adjusted for 1 year as the production starts Q4 of the first production year","Production year adjustment ",1,"year","Adjusted for 1 year as the production starts Q4 of the first production year","Production year adjustment ",1,"year","Adjusted for 1 year as the production starts Q4 of the first production year","Production year adjustment ",1,"year","Adjusted for 1 year as the production starts Q4 of the first production year","Production year adjustment ",1,"year","Adjusted for 1 year as the production starts Q4 of the first production year","Production year adjustment ",1,"year","Adjusted for 1 year as the production starts Q4 of the first production year","Production year adjustment ",1,"year","Adjusted for 1 year as the production starts Q4 of the first production year","Production year adjustment ",1,"year","Adjusted for 1 year as the production starts Q4 of the first production year","Production year adjustment ",1,"year","Adjusted for 1 year as the production starts Q4 of the first production year","Production year adjustment ",1,"year","Adjusted for 1 year as the production starts Q4 of the first production year","Production year adjustment ",1,"year","Adjusted for 1 year as the production starts Q4 of the first production year","Production year adjustment ",1,"year","Adjusted for 1 year as the production starts Q4 of the first production year","Production year adjustment ",1,"year","Adjusted for 1 year as the production starts Q4 of the first production year","Production year adjustment ",1,"year","Adjusted for 1 year as the production starts Q4 of the first production year","Production year adjustment ",1,"year","Adjusted for 1 year as the production starts Q4 of the first production year","Production year adjustment ",1,"year","Adjusted for 1 year as the production starts Q4 of the first production year","Production year adjustment ",1,"year","Adjusted for 1 year as the production starts Q4 of the first production year","Production year adjustment ",1,"year","Adjusted for 1 year as the production starts Q4 of the first production year","Production year adjustment ",1,"year","Adjusted for 1 year as the production starts Q4 of the first production year","Production year adjustment ",1,"year","Adjusted for 1 year as the production starts Q4 of the first production year","Production year adjustment ",1,"year","Adjusted for 1 year as the production starts Q4 of the first production year","Production year adjustment ",1,"year","Adjusted for 1 year as the production starts Q4 of the first production year","Production year adjustment ",1,"year","Adjusted for 1 year as the production starts Q4 of the first production year","Production year adjustment ",1,"year","Adjusted for 1 year as the production starts Q4 of the first production year","Production year adjustment ",1,"year","Adjusted for 1 year as the production starts Q4 of the first production year","Production year adjustment ",1,"year","Adjusted for 1 year as the production starts Q4 of the first production year","Production year adjustment ",1,"year","Adjusted for 1 year as the production starts Q4 of the first production year","Production year adjustment ",1,"year","Adjusted for 1 year as the production starts Q4 of the first production year","Production year adjustment ",1,"year","Adjusted for 1 year as the production starts Q4 of the first production year","Production year adjustment ",1,"year","Adjusted for 1 year as the production starts Q4 of the first production year","Production year adjustment ",1,"year","Adjusted for 1 year as the production starts Q4 of the first production year","Production year adjustment ",1,"year","Adjusted for 1 year as the production starts Q4 of the first production year","Production year adjustment ",1,"year","Adjusted for 1 year as the production starts Q4 of the first production year","Production year adjustment ",1,"year","Adjusted for 1 year as the production starts Q4 of the first production year","Production year adjustment ",1,"year","Adjusted for 1 year as the production starts Q4 of the first production year","Production year adjustment ",1,"year","Adjusted for 1 year as the production starts Q4 of the first production year","Production year adjustment ",1,"year","Adjusted for 1 year as the production starts Q4 of the first production year","Production year adjustment ",1,"year","Adjusted for 1 year as the production starts Q4 of the first production year","Production year adjustment ",1,"year","Adjusted for 1 year as the production starts Q4 of the first production year","Production year adjustment ",1,"year","Adjusted for 1 year as the production starts Q4 of the first production year","Production year adjustment ",1,"year","Adjusted for 1 year as the production starts Q4 of the first production year","Production year adjustment ",1,"year","Adjusted for 1 year as the production starts Q4 of the first production year","Production year adjustment ",1,"year","Adjusted for 1 year as the production starts Q4 of the first production year","Production year adjustment ",1,"year","Adjusted for 1 year as the production starts Q4 of the first production year","Production year adjustment ",1,"year","Adjusted for 1 year as the production starts Q4 of the first production year","Production year adjustment ",1,"year","Adjusted for 1 year as the production starts Q4 of the first production year","Production year adjustment ",1,"year","Adjusted for 1 year as the production starts Q4 of the first production year","Production year adjustment ",1,"year","Adjusted for 1 year as the production starts Q4 of the first production year","Production year adjustment ",1,"year","Adjusted for 1 year as the production starts Q4 of the first production year","Production year adjustment ",1,"year","Adjusted for 1 year as the production starts Q4 of the first production year","Production year adjustment ",1,"year","Adjusted for 1 year as the production starts Q4 of the first production year","Production year adjustment ",1,"year","Adjusted for 1 year as the production starts Q4 of the first production year","Production year adjustment ",1,"year","Adjusted for 1 year as the production starts Q4 of the first production year","Production year adjustment ",1,"year","Adjusted for 1 year as the production starts Q4 of the first production year","Production year adjustment ",1,"year","Adjusted for 1 year as the production starts Q4 of the first production year","Production year adjustment ",1,"year","Adjusted for 1 year as the production starts Q4 of the first production year","Production year adjustment ",1,"year","Adjusted for 1 year as the production starts Q4 of the first production year","Production year adjustment ",1,"year","Adjusted for 1 year as the production starts Q4 of the first production year","Production year adjustment ",1,"year","Adjusted for 1 year as the production starts Q4 of the first production year","Production year adjustment ",1,"year","Adjusted for 1 year as the production starts Q4 of the first production year","Production year adjustment ",1,"year","Adjusted for 1 year as the production starts Q4 of the first production year","Production year adjustment ",1,"year","Adjusted for 1 year as the production starts Q4 of the first production year","Production year adjustment ",1,"year","Adjusted for 1 year as the production starts Q4 of the first production year","Production year adjustment ",1,"year","Adjusted for 1 year as the production starts Q4 of the first production year","Production year adjustment ",1,"year","Adjusted for 1 year as the production starts Q4 of the first production year","Production year adjustment ",1,"year","Adjusted for 1 year as the production starts Q4 of the first production year","Production year adjustment ",1,"year","Adjusted for 1 year as the production starts Q4 of the first production year","Production year adjustment ",1,"year","Adjusted for 1 year as the production starts Q4 of the first production year","Production year adjustment ",1,"year","Adjusted for 1 year as the production starts Q4 of the first production year","Production year adjustment ",1,"year","Adjusted for 1 year as the production starts Q4 of the first production year","Production year adjustment ",1,"year","Adjusted for 1 year as the production starts Q4 of the first production year","Production year adjustment ",1,"year","Adjusted for 1 year as the production starts Q4 of the first production year","Production year adjustment ",1,"year","Adjusted for 1 year as the production starts Q4 of the first production year","Production year adjustment ",1,"year","Adjusted for 1 year as the production starts Q4 of the first production year","Production year adjustment ",1,"year","Adjusted for 1 year as the production starts Q4 of the first production year","Production year adjustment ",1,"year","Adjusted for 1 year as the production starts Q4 of the first production year","Production year adjustment ",1,"year","Adjusted for 1 year as the production starts Q4 of the first production year","Production year adjustment ",1,"year","Adjusted for 1 year as the production starts Q4 of the first production year","Production year adjustment ",1,"year","Adjusted for 1 year as the production starts Q4 of the first production year","Production year adjustment ",1,"year","Adjusted for 1 year as the production starts Q4 of the first production year","Production year adjustment ",1,"year","Adjusted for 1 year as the production starts Q4 of the first production year","Production year adjustment ",1,"year","Adjusted for 1 year as the production starts Q4 of the first production year","Production year adjustment ",1,"year","Adjusted for 1 year as the production starts Q4 of the first production year","Production year adjustment ",1,"year","Adjusted for 1 year as the production starts Q4 of the first production year","Production year adjustment ",1,"year","Adjusted for 1 year as the production starts Q4 of the first production year","Production year adjustment ",1,"year","Adjusted for 1 year as the production starts Q4 of the first production year","Production year adjustment ",1,"year","Adjusted for 1 year as the production starts Q4 of the first production year","Production year adjustment ",1,"year","Adjusted for 1 year as the production starts Q4 of the first production year","Production year adjustment ",1,"year","Adjusted for 1 year as the production starts Q4 of the first production year","Production year adjustment ",1,"year","Adjusted for 1 year as the production starts Q4 of the first production year","Production year adjustment ",1,"year","Adjusted for 1 year as the production starts Q4 of the first production year","Production year adjustment ",1,"year","Adjusted for 1 year as the production starts Q4 of the first production year","Production year adjustment ",1,"year","Adjusted for 1 year as the production starts Q4 of the first production year","Production year adjustment ",1,"year","Adjusted for 1 year as the production starts Q4 of the first production year","Production year adjustment ",1,"year","Adjusted for 1 year as the production starts Q4 of the first production year","Production year adjustment ",1,"year","Adjusted for 1 year as the production starts Q4 of the first production year","Production year adjustment ",1,"year","Adjusted for 1 year as the production starts Q4 of the first production year","Production year adjustment ",1,"year","Adjusted for 1 year as the production starts Q4 of the first production year","Production year adjustment ",1,"year","Adjusted for 1 year as the production starts Q4 of the first production year","Production year adjustment ",1,"year","Adjusted for 1 year as the production starts Q4 of the first production year","Production year adjustment ",1,"year","Adjusted for 1 year as the production starts Q4 of the first production year","Production year adjustment ",1,"year","Adjusted for 1 year as the production starts Q4 of the first production year","Production year adjustment ",1,"year","Adjusted for 1 year as the production starts Q4 of the first production year","Production year adjustment ",1,"year","Adjusted for 1 year as the production starts Q4 of the first production year","Production year adjustment ",1,"year","Adjusted for 1 year as the production starts Q4 of the first production year","Production year adjustment ",1,"year","Adjusted for 1 year as the production starts Q4 of the first production year","Production year adjustment ",1,"year","Adjusted for 1 year as the production starts Q4 of the first production year","Production year adjustment ",1,"year","Adjusted for 1 year as the production starts Q4 of the first production year","Production year adjustment ",1,"year","Adjusted for 1 year as the production starts Q4 of the first production year","Production year adjustment ",1,"year","Adjusted for 1 year as the production starts Q4 of the first production year","Production year adjustment ",1,"year","Adjusted for 1 year as the production starts Q4 of the first production year","Production year adjustment ",1,"year","Adjusted for 1 year as the production starts Q4 of the first production year","Production year adjustment ",1,"year","Adjusted for 1 year as the production starts Q4 of the first production year","Production year adjustment ",1,"year","Adjusted for 1 year as the production starts Q4 of the first production year","Production year adjustment ",1,"year","Adjusted for 1 year as the production starts Q4 of the first production year","Production year adjustment ",1,"year","Adjusted for 1 year as the production starts Q4 of the first production year","Production year adjustment ",1,"year","Adjusted for 1 year as the production starts Q4 of the first production year","Production year adjustment ",1,"year","Adjusted for 1 year as the production starts Q4 of the first production year","Production year adjustment ",1,"year","Adjusted for 1 year as the production starts Q4 of the first production year","Production year adjustment ",1,"year","Adjusted for 1 year as the production starts Q4 of the first production year","Production year adjustment ",1,"year","Adjusted for 1 year as the production starts Q4 of the first production year","Production year adjustment ",1,"year","Adjusted for 1 year as the production starts Q4 of the first production year","Production year adjustment ",1,"year","Adjusted for 1 year as the production starts Q4 of the first production year","Production year adjustment ",1,"year","Adjusted for 1 year as the production starts Q4 of the first production year","Production year adjustment ",1,"year","Adjusted for 1 year as the production starts Q4 of the first production year","Production year adjustment ",1,"year","Adjusted for 1 year as the production starts Q4 of the first production year","Production year adjustment ",1,"year","Adjusted for 1 year as the production starts Q4 of the first production year","Production year adjustment ",1,"year","Adjusted for 1 year as the production starts Q4 of the first production year","Production year adjustment ",1,"year","Adjusted for 1 year as the production starts Q4 of the first production year","Production year adjustment ",1,"year","Adjusted for 1 year as the production starts Q4 of the first production year","Production year adjustment ",1,"year","Adjusted for 1 year as the production starts Q4 of the first production year","Production year adjustment ",1,"year","Adjusted for 1 year as the production starts Q4 of the first production year","Production year adjustment ",1,"year","Adjusted for 1 year as the production starts Q4 of the first production year","Production year adjustment ",1,"year","Adjusted for 1 year as the production starts Q4 of the first production year","Production year adjustment ",1,"year","Adjusted for 1 year as the production starts Q4 of the first production year","Production year adjustment ",1,"year","Adjusted for 1 year as the production starts Q4 of the first production year","Production year adjustment ",1,"year","Adjusted for 1 year as the production starts Q4 of the first production year","Production year adjustment ",1,"year","Adjusted for 1 year as the production starts Q4 of the first production year","Production year adjustment ",1,"year","Adjusted for 1 year as the production starts Q4 of the first production year","Production year adjustment ",1,"year","Adjusted for 1 year as the production starts Q4 of the first production year","Production year adjustment ",1,"year","Adjusted for 1 year as the production starts Q4 of the first production year","Production year adjustment ",1,"year","Adjusted for 1 year as the production starts Q4 of the first production year","Production year adjustment ",1,"year","Adjusted for 1 year as the production starts Q4 of the first production year","Production year adjustment ",1,"year","Adjusted for 1 year as the production starts Q4 of the first production year","Production year adjustment ",1,"year","Adjusted for 1 year as the production starts Q4 of the first production year","Production year adjustment ",1,"year","Adjusted for 1 year as the production starts Q4 of the first production year","Production year adjustment ",1,"year","Adjusted for 1 year as the production starts Q4 of the first production year","Production year adjustment ",1,"year","Adjusted for 1 year as the production starts Q4 of the first production year","Production year adjustment ",1,"year","Adjusted for 1 year as the production starts Q4 of the first production year","Production year adjustment ",1,"year","Adjusted for 1 year as the production starts Q4 of the first production year","Production year adjustment ",1,"year","Adjusted for 1 year as the production starts Q4 of the first production year","Production year adjustment ",1,"year","Adjusted for 1 year as the production starts Q4 of the first production year","Production year adjustment ",1,"year","Adjusted for 1 year as the production starts Q4 of the first production year","Production year adjustment ",1,"year","Adjusted for 1 year as the production starts Q4 of the first production year","Production year adjustment ",1,"year","Adjusted for 1 year as the production starts Q4 of the first production year","Production year adjustment ",1,"year","Adjusted for 1 year as the production starts Q4 of the first production year","Production year adjustment ",1,"year","Adjusted for 1 year as the production starts Q4 of the first production year","Production year adjustment ",1,"year","Adjusted for 1 year as the production starts Q4 of the first production year","Production year adjustment ",1,"year","Adjusted for 1 year as the production starts Q4 of the first production year","Production year adjustment ",1,"year","Adjusted for 1 year as the production starts Q4 of the first production year","Production year adjustment ",1,"year","Adjusted for 1 year as the production starts Q4 of the first production year","Production year adjustment ",1,"year","Adjusted for 1 year as the production starts Q4 of the first production year","Production year adjustment ",1,"year","Adjusted for 1 year as the production starts Q4 of the first production year","Production year adjustment ",1,"year","Adjusted for 1 year as the production starts Q4 of the first production year","Production year adjustment ",1,"year","Adjusted for 1 year as the production starts Q4 of the first production year","Production year adjustment ",1,"year","Adjusted for 1 year as the production starts Q4 of the first production year","Production year adjustment ",1,"year","Adjusted for 1 year as the production starts Q4 of the first production year","Production year adjustment ",1,"year","Adjusted for 1 year as the production starts Q4 of the first production year","Production year adjustment ",1,"year","Adjusted for 1 year as the production starts Q4 of the first production year","Production year adjustment ",1,"year","Adjusted for 1 year as the production starts Q4 of the first production year","Production year adjustment ",1,"year","Adjusted for 1 year as the production starts Q4 of the first production year","Production year adjustment ",1,"year","Adjusted for 1 year as the production starts Q4 of the first production year","Production year adjustment ",1,"year","Adjusted for 1 year as the production starts Q4 of the first production year","Production year adjustment ",1,"year","Adjusted for 1 year as the production starts Q4 of the first production year","Production year adjustment ",1,"year","Adjusted for 1 year as the production starts Q4 of the first production year","Production year adjustment ",1,"year","Adjusted for 1 year as the production starts Q4 of the first production year","Production year adjustment ",1,"year","Adjusted for 1 year as the production starts Q4 of the first production year","Production year adjustment ",1,"year","Adjusted for 1 year as the production starts Q4 of the first production year","Production year adjustment ",1,"year","Adjusted for 1 year as the production starts Q4 of the first production year","Production year adjustment ",1,"year","Adjusted for 1 year as the production starts Q4 of the first production year","Production year adjustment ",1,"year","Adjusted for 1 year as the production starts Q4 of the first production year","Production year adjustment ",1,"year","Adjusted for 1 year as the production starts Q4 of the first production year","Production year adjustment ",1,"year","Adjusted for 1 year as the production starts Q4 of the first production year","Production year adjustment ",1,"year","Adjusted for 1 year as the production starts Q4 of the first production year","Production year adjustment ",1,"year","Adjusted for 1 year as the production starts Q4 of the first production year","Production year adjustment ",1,"year","Adjusted for 1 year as the production starts Q4 of the first production year","Production year adjustment ",1,"year","Adjusted for 1 year as the production starts Q4 of the first production year","Production year adjustment ",1,"year","Adjusted for 1 year as the production starts Q4 of the first production year","Production year adjustment ",1,"year","Adjusted for 1 year as the production starts Q4 of the first production year","Production year adjustment ",1,"year","Adjusted for 1 year as the production starts Q4 of the first production year","Production year adjustment ",1,"year","Adjusted for 1 year as the production starts Q4 of the first production year","Production year adjustment ",1,"year","Adjusted for 1 year as the production starts Q4 of the first production year","Production year adjustment ",1,"year","Adjusted for 1 year as the production starts Q4 of the first production year","Production year adjustment ",1,"year","Adjusted for 1 year as the production starts Q4 of the first production year","Production year adjustment ",1,"year","Adjusted for 1 year as the production starts Q4 of the first production year","Production year adjustment ",1,"year","Adjusted for 1 year as the production starts Q4 of the first production year","Production year adjustment ",1,"year","Adjusted for 1 year as the production starts Q4 of the first production year","Production year adjustment ",1,"year","Adjusted for 1 year as the production starts Q4 of the first production year","Production year adjustment ",1,"year","Adjusted for 1 year as the production starts Q4 of the first production year","Production year adjustment ",1,"year","Adjusted for 1 year as the production starts Q4 of the first production year","Production year adjustment ",1,"year","Adjusted for 1 year as the production starts Q4 of the first production year","Production year adjustment ",1,"year","Adjusted for 1 year as the production starts Q4 of the first production year","Production year adjustment ",1,"year","Adjusted for 1 year as the production starts Q4 of the first production year","Production year adjustment ",1,"year","Adjusted for 1 year as the production starts Q4 of the first production year","Production year adjustment ",1,"year","Adjusted for 1 year as the production starts Q4 of the first production year","Production year adjustment ",1,"year","Adjusted for 1 year as the production starts Q4 of the first production year","Production year adjustment ",1,"year","Adjusted for 1 year as the production starts Q4 of the first production year","Production year adjustment ",1,"year","Adjusted for 1 year as the production starts Q4 of the first production year","Production year adjustment ",1,"year","Adjusted for 1 year as the production starts Q4 of the first production year","Production year adjustment ",1,"year","Adjusted for 1 year as the production starts Q4 of the first production year","Production year adjustment ",1,"year","Adjusted for 1 year as the production starts Q4 of the first production year","Production year adjustment ",1,"year","Adjusted for 1 year as the production starts Q4 of the first production year","Production year adjustment ",1,"year","Adjusted for 1 year as the production starts Q4 of the first production year","Production year adjustment ",1,"year","Adjusted for 1 year as the production starts Q4 of the first production year","Production year adjustment ",1,"year","Adjusted for 1 year as the production starts Q4 of the first production year","Production year adjustment ",1,"year","Adjusted for 1 year as the production starts Q4 of the first production year","Production year adjustment ",1,"year","Adjusted for 1 year as the production starts Q4 of the first production year","Production year adjustment ",1,"year","Adjusted for 1 year as the production starts Q4 of the first production year","Production year adjustment ",1,"year","Adjusted for 1 year as the production starts Q4 of the first production year","Production year adjustment ",1,"year","Adjusted for 1 year as the production starts Q4 of the first production year","Production year adjustment ",1,"year","Adjusted for 1 year as the production starts Q4 of the first production year","Production year adjustment ",1,"year","Adjusted for 1 year as the production starts Q4 of the first production year","Production year adjustment ",1,"year","Adjusted for 1 year as the production starts Q4 of the first production year","Production year adjustment ",1,"year","Adjusted for 1 year as the production starts Q4 of the first production year","Production year adjustment ",1,"year","Adjusted for 1 year as the production starts Q4 of the first production year","Production year adjustment ",1,"year","Adjusted for 1 year as the production starts Q4 of the first production year","Production year adjustment ",1,"year","Adjusted for 1 year as the production starts Q4 of the first production year","Production year adjustment ",1,"year","Adjusted for 1 year as the production starts Q4 of the first production year","Production year adjustment ",1,"year","Adjusted for 1 year as the production starts Q4 of the first production year","Production year adjustment ",1,"year","Adjusted for 1 year as the production starts Q4 of the first production year","Production year adjustment ",1,"year","Adjusted for 1 year as the production starts Q4 of the first production year","Production year adjustment ",1,"year","Adjusted for 1 year as the production starts Q4 of the first production year","Production year adjustment ",1,"year","Adjusted for 1 year as the production starts Q4 of the first production year","Production year adjustment ",1,"year","Adjusted for 1 year as the production starts Q4 of the first production year","Production year adjustment ",1,"year","Adjusted for 1 year as the production starts Q4 of the first production year","Production year adjustment ",1,"year","Adjusted for 1 year as the production starts Q4 of the first production year","Production year adjustment ",1,"year","Adjusted for 1 year as the production starts Q4 of the first production year","Production year adjustment ",1,"year","Adjusted for 1 year as the production starts Q4 of the first production year","Production year adjustment ",1,"year","Adjusted for 1 year as the production starts Q4 of the first production year","Production year adjustment ",1,"year","Adjusted for 1 year as the production starts Q4 of the first production year","Production year adjustment ",1,"year","Adjusted for 1 year as the production starts Q4 of the first production year","Production year adjustment ",1,"year","Adjusted for 1 year as the production starts Q4 of the first production year","Production year adjustment ",1,"year","Adjusted for 1 year as the production starts Q4 of the first production year","Production year adjustment ",1,"year","Adjusted for 1 year as the production starts Q4 of the first production year","Production year adjustment ",1,"year","Adjusted for 1 year as the production starts Q4 of the first production year","Production year adjustment ",1,"year","Adjusted for 1 year as the production starts Q4 of the first production year","Production year adjustment ",1,"year","Adjusted for 1 year as the production starts Q4 of the first production year","Production year adjustment ",1,"year","Adjusted for 1 year as the production starts Q4 of the first production year","Production year adjustment ",1,"year","Adjusted for 1 year as the production starts Q4 of the first production year","Production year adjustment ",1,"year","Adjusted for 1 year as the production starts Q4 of the first production year","Production year adjustment ",1,"year","Adjusted for 1 year as the production starts Q4 of the first production year","Production year adjustment ",1,"year","Adjusted for 1 year as the production starts Q4 of the first production year","Production year adjustment ",1,"year","Adjusted for 1 year as the production starts Q4 of the first production year","Production year adjustment ",1,"year","Adjusted for 1 year as the production starts Q4 of the first production year","Production year adjustment ",1,"year","Adjusted for 1 year as the production starts Q4 of the first production year","Production year adjustment ",1,"year","Adjusted for 1 year as the production starts Q4 of the first production year","Production year adjustment ",1,"year","Adjusted for 1 year as the production starts Q4 of the first production year","Production year adjustment ",1,"year","Adjusted for 1 year as the production starts Q4 of the first production year","Production year adjustment ",1,"year","Adjusted for 1 year as the production starts Q4 of the first production year","Production year adjustment ",1,"year","Adjusted for 1 year as the production starts Q4 of the first production year","Production year adjustment ",1,"year","Adjusted for 1 year as the production starts Q4 of the first production year","Production year adjustment ",1,"year","Adjusted for 1 year as the production starts Q4 of the first production year","Production year adjustment ",1,"year","Adjusted for 1 year as the production starts Q4 of the first production year","Production year adjustment ",1,"year","Adjusted for 1 year as the production starts Q4 of the first production year","Production year adjustment ",1,"year","Adjusted for 1 year as the production starts Q4 of the first production year","Production year adjustment ",1,"year","Adjusted for 1 year as the production starts Q4 of the first production year","Production year adjustment ",1,"year","Adjusted for 1 year as the production starts Q4 of the first production year","Production year adjustment ",1,"year","Adjusted for 1 year as the production starts Q4 of the first production year","Production year adjustment ",1,"year","Adjusted for 1 year as the production starts Q4 of the first production year","Production year adjustment ",1,"year","Adjusted for 1 year as the production starts Q4 of the first production year","Production year adjustment ",1,"year","Adjusted for 1 year as the production starts Q4 of the first production year","Production year adjustment ",1,"year","Adjusted for 1 year as the production starts Q4 of the first production year","Production year adjustment ",1,"year","Adjusted for 1 year as the production starts Q4 of the first production year","Production year adjustment ",1,"year","Adjusted for 1 year as the production starts Q4 of the first production year","Production year adjustment ",1,"year","Adjusted for 1 year as the production starts Q4 of the first production year","Production year adjustment ",1,"year","Adjusted for 1 year as the production starts Q4 of the first production year","Production year adjustment ",1,"year","Adjusted for 1 year as the production starts Q4 of the first production year","Production year adjustment ",1,"year","Adjusted for 1 year as the production starts Q4 of the first production year","Production year adjustment ",1,"year","Adjusted for 1 year as the production starts Q4 of the first production year","Production year adjustment ",1,"year","Adjusted for 1 year as the production starts Q4 of the first production year","Production year adjustment ",1,"year","Adjusted for 1 year as the production starts Q4 of the first production year","Production year adjustment ",1,"year","Adjusted for 1 year as the production starts Q4 of the first production year","Production year adjustment ",1,"year","Adjusted for 1 year as the production starts Q4 of the first production year","Production year adjustment ",1,"year","Adjusted for 1 year as the production starts Q4 of the first production year","Production year adjustment ",1,"year","Adjusted for 1 year as the production starts Q4 of the first production year","Production year adjustment ",1,"year","Adjusted for 1 year as the production starts Q4 of the first production year","Production year adjustment ",1,"year","Adjusted for 1 year as the production starts Q4 of the first production year","Production year adjustment ",1,"year","Adjusted for 1 year as the production starts Q4 of the first production year","Production year adjustment ",1,"year","Adjusted for 1 year as the production starts Q4 of the first production year","Production year adjustment ",1,"year","Adjusted for 1 year as the production starts Q4 of the first production year","Production year adjustment ",1,"year","Adjusted for 1 year as the production starts Q4 of the first production year","Production year adjustment ",1,"year","Adjusted for 1 year as the production starts Q4 of the first production year","Production year adjustment ",1,"year","Adjusted for 1 year as the production starts Q4 of the first production year","Production year adjustment ",1,"year","Adjusted for 1 year as the production starts Q4 of the first production year","Production year adjustment ",1,"year","Adjusted for 1 year as the production starts Q4 of the first production year","Production year adjustment ",1,"year","Adjusted for 1 year as the production starts Q4 of the first production year","Production year adjustment ",1,"year","Adjusted for 1 year as the production starts Q4 of the first production year","Production year adjustment ",1,"year","Adjusted for 1 year as the production starts Q4 of the first production year","Production year adjustment ",1,"year","Adjusted for 1 year as the production starts Q4 of the first production year","Production year adjustment ",1,"year","Adjusted for 1 year as the production starts Q4 of the first production year","Production year adjustment ",1,"year","Adjusted for 1 year as the production starts Q4 of the first production year","Production year adjustment ",1,"year","Adjusted for 1 year as the production starts Q4 of the first production year","Production year adjustment ",1,"year","Adjusted for 1 year as the production starts Q4 of the first production year","Production year adjustment ",1,"year","Adjusted for 1 year as the production starts Q4 of the first production year","Production year adjustment ",1,"year","Adjusted for 1 year as the production starts Q4 of the first production year","Production year adjustment ",1,"year","Adjusted for 1 year as the production starts Q4 of the first production year","Production year adjustment ",1,"year","Adjusted for 1 year as the production starts Q4 of the first production year","Production year adjustment ",1,"year","Adjusted for 1 year as the production starts Q4 of the first production year","Production year adjustment ",1,"year","Adjusted for 1 year as the production starts Q4 of the first production year","Production year adjustment ",1,"year","Adjusted for 1 year as the production starts Q4 of the first production year","Production year adjustment ",1,"year","Adjusted for 1 year as the production starts Q4 of the first production year","Production year adjustment ",1,"year","Adjusted for 1 year as the production starts Q4 of the first production year","Production year adjustment ",1,"year","Adjusted for 1 year as the production starts Q4 of the first production year","Production year adjustment ",1,"year","Adjusted for 1 year as the production starts Q4 of the first production year","Production year adjustment ",1,"year","Adjusted for 1 year as the production starts Q4 of the first production year","Production year adjustment ",1,"year","Adjusted for 1 year as the production starts Q4 of the first production year","Production year adjustment ",1,"year","Adjusted for 1 year as the production starts Q4 of the first production year","Production year adjustment ",1,"year","Adjusted for 1 year as the production starts Q4 of the first production year","Production year adjustment ",1,"year","Adjusted for 1 year as the production starts Q4 of the first production year","Production year adjustment ",1,"year","Adjusted for 1 year as the production starts Q4 of the first production year","Production year adjustment ",1,"year","Adjusted for 1 year as the production starts Q4 of the first production year","Production year adjustment ",1,"year","Adjusted for 1 year as the production starts Q4 of the first production year","Production year adjustment ",1,"year","Adjusted for 1 year as the production starts Q4 of the first production year","Production year adjustment ",1,"year","Adjusted for 1 year as the production starts Q4 of the first production year","Production year adjustment ",1,"year","Adjusted for 1 year as the production starts Q4 of the first production year","Production year adjustment ",1,"year","Adjusted for 1 year as the production starts Q4 of the first production year","Production year adjustment ",1,"year","Adjusted for 1 year as the production starts Q4 of the first production year","Production year adjustment ",1,"year","Adjusted for 1 year as the production starts Q4 of the first production year","Production year adjustment ",1,"year","Adjusted for 1 year as the production starts Q4 of the first production year","Production year adjustment ",1,"year","Adjusted for 1 year as the production starts Q4 of the first production year","Production year adjustment ",1,"year","Adjusted for 1 year as the production starts Q4 of the first production year","Production year adjustment ",1,"year","Adjusted for 1 year as the production starts Q4 of the first production year","Production year adjustment ",1,"year","Adjusted for 1 year as the production starts Q4 of the first production year","Production year adjustment ",1,"year","Adjusted for 1 year as the production starts Q4 of the first production year","Production year adjustment ",1,"year","Adjusted for 1 year as the production starts Q4 of the first production year","Production year adjustment ",1,"year","Adjusted for 1 year as the production starts Q4 of the first production year","Production year adjustment ",1,"year","Adjusted for 1 year as the production starts Q4 of the first production year","Production year adjustment ",1,"year","Adjusted for 1 year as the production starts Q4 of the first production year","Production year adjustment ",1,"year","Adjusted for 1 year as the production starts Q4 of the first production year","Production year adjustment ",1,"year","Adjusted for 1 year as the production starts Q4 of the first production year","Production year adjustment ",1,"year","Adjusted for 1 year as the production starts Q4 of the first production year","Production year adjustment ",1,"year","Adjusted for 1 year as the production starts Q4 of the first production year","Production year adjustment ",1,"year","Adjusted for 1 year as the production starts Q4 of the first production year","Production year adjustment ",1,"year","Adjusted for 1 year as the production starts Q4 of the first production year","Production year adjustment ",1,"year","Adjusted for 1 year as the production starts Q4 of the first production year","Production year adjustment ",1,"year","Adjusted for 1 year as the production starts Q4 of the first production year","Production year adjustment ",1,"year","Adjusted for 1 year as the production starts Q4 of the first production year","Production year adjustment ",1,"year","Adjusted for 1 year as the production starts Q4 of the first production year","Production year adjustment ",1,"year","Adjusted for 1 year as the production starts Q4 of the first production year","Production year adjustment ",1,"year","Adjusted for 1 year as the production starts Q4 of the first production year","Production year adjustment ",1,"year","Adjusted for 1 year as the production starts Q4 of the first production year","Production year adjustment ",1,"year","Adjusted for 1 year as the production starts Q4 of the first production year","Production year adjustment ",1,"year","Adjusted for 1 year as the production starts Q4 of the first production year","Production year adjustment ",1,"year","Adjusted for 1 year as the production starts Q4 of the first production year","Production year adjustment ",1,"year","Adjusted for 1 year as the production starts Q4 of the first production year","Production year adjustment ",1,"year","Adjusted for 1 year as the production starts Q4 of the first production year","Production year adjustment ",1,"year","Adjusted for 1 year as the production starts Q4 of the first production year","Production year adjustment ",1,"year","Adjusted for 1 year as the production starts Q4 of the first production year","Production year adjustment ",1,"year","Adjusted for 1 year as the production starts Q4 of the first production year","Production year adjustment ",1,"year","Adjusted for 1 year as the production starts Q4 of the first production year","Production year adjustment ",1,"year","Adjusted for 1 year as the production starts Q4 of the first production year","Production year adjustment ",1,"year","Adjusted for 1 year as the production starts Q4 of the first production year","Production year adjustment ",1,"year","Adjusted for 1 year as the production starts Q4 of the first production year","Production year adjustment ",1,"year","Adjusted for 1 year as the production starts Q4 of the first production year","Production year adjustment ",1,"year","Adjusted for 1 year as the production starts Q4 of the first production year","Production year adjustment ",1,"year","Adjusted for 1 year as the production starts Q4 of the first production year","Production year adjustment ",1,"year","Adjusted for 1 year as the production starts Q4 of the first production year","Production year adjustment ",1,"year","Adjusted for 1 year as the production starts Q4 of the first production year","Production year adjustment ",1,"year","Adjusted for 1 year as the production starts Q4 of the first production year","Production year adjustment ",1,"year","Adjusted for 1 year as the production starts Q4 of the first production year","Production year adjustment ",1,"year","Adjusted for 1 year as the production starts Q4 of the first production year","Production year adjustment ",1,"year","Adjusted for 1 year as the production starts Q4 of the first production year","Production year adjustment ",1,"year","Adjusted for 1 year as the production starts Q4 of the first production year","Production year adjustment ",1,"year","Adjusted for 1 year as the production starts Q4 of the first production year","Production year adjustment ",1,"year","Adjusted for 1 year as the production starts Q4 of the first production year","Production year adjustment ",1,"year","Adjusted for 1 year as the production starts Q4 of the first production year","Production year adjustment ",1,"year","Adjusted for 1 year as the production starts Q4 of the first production year","Production year adjustment ",1,"year","Adjusted for 1 year as the production starts Q4 of the first production year","Production year adjustment ",1,"year","Adjusted for 1 year as the production starts Q4 of the first production year","Production year adjustment ",1,"year","Adjusted for 1 year as the production starts Q4 of the first production year","Production year adjustment ",1,"year","Adjusted for 1 year as the production starts Q4 of the first production year","Production year adjustment ",1,"year","Adjusted for 1 year as the production starts Q4 of the first production year","Production year adjustment ",1,"year","Adjusted for 1 year as the production starts Q4 of the first production year","Production year adjustment ",1,"year","Adjusted for 1 year as the production starts Q4 of the first production year","Production year adjustment ",1,"year","Adjusted for 1 year as the production starts Q4 of the first production year","Production year adjustment ",1,"year","Adjusted for 1 year as the production starts Q4 of the first production year","Production year adjustment ",1,"year","Adjusted for 1 year as the production starts Q4 of the first production year","Production year adjustment ",1,"year","Adjusted for 1 year as the production starts Q4 of the first production year","Production year adjustment ",1,"year","Adjusted for 1 year as the production starts Q4 of the first production year","Production year adjustment ",1,"year","Adjusted for 1 year as the production starts Q4 of the first production year","Production year adjustment ",1,"year","Adjusted for 1 year as the production starts Q4 of the first production year","Production year adjustment ",1,"year","Adjusted for 1 year as the production starts Q4 of the first production year","Production year adjustment ",1,"year","Adjusted for 1 year as the production starts Q4 of the first production year","Production year adjustment ",1,"year","Adjusted for 1 year as the production starts Q4 of the first production year","Production year adjustment ",1,"year","Adjusted for 1 year as the production starts Q4 of the first production year","Production year adjustment ",1,"year","Adjusted for 1 year as the production starts Q4 of the first production year","Production year adjustment ",1,"year","Adjusted for 1 year as the production starts Q4 of the first production year","Production year adjustment ",1,"year","Adjusted for 1 year as the production starts Q4 of the first production year","Production year adjustment ",1,"year","Adjusted for 1 year as the production starts Q4 of the first production year","Production year adjustment ",1,"year","Adjusted for 1 year as the production starts Q4 of the first production year","Production year adjustment ",1,"year","Adjusted for 1 year as the production starts Q4 of the first production year","Production year adjustment ",1,"year","Adjusted for 1 year as the production starts Q4 of the first production year","Production year adjustment ",1,"year","Adjusted for 1 year as the production starts Q4 of the first production year","Production year adjustment ",1,"year","Adjusted for 1 year as the production starts Q4 of the first production year","Production year adjustment ",1,"year","Adjusted for 1 year as the production starts Q4 of the first production year","Production year adjustment ",1,"year","Adjusted for 1 year as the production starts Q4 of the first production year","Production year adjustment ",1,"year","Adjusted for 1 year as the production starts Q4 of the first production year","Production year adjustment ",1,"year","Adjusted for 1 year as the production starts Q4 of the first production year","Production year adjustment ",1,"year","Adjusted for 1 year as the production starts Q4 of the first production year","Production year adjustment ",1,"year","Adjusted for 1 year as the production starts Q4 of the first production year","Production year adjustment ",1,"year","Adjusted for 1 year as the production starts Q4 of the first production year","Production year adjustment ",1,"year","Adjusted for 1 year as the production starts Q4 of the first production year","Production year adjustment ",1,"year","Adjusted for 1 year as the production starts Q4 of the first production year","Production year adjustment ",1,"year","Adjusted for 1 year as the production starts Q4 of the first production year","Production year adjustment ",1,"year","Adjusted for 1 year as the production starts Q4 of the first production year","Production year adjustment ",1,"year","Adjusted for 1 year as the production starts Q4 of the first production year","Production year adjustment ",1,"year","Adjusted for 1 year as the production starts Q4 of the first production year","Production year adjustment ",1,"year","Adjusted for 1 year as the production starts Q4 of the first production year","Production year adjustment ",1,"year","Adjusted for 1 year as the production starts Q4 of the first production year","Production year adjustment ",1,"year","Adjusted for 1 year as the production starts Q4 of the first production year","Production year adjustment ",1,"year","Adjusted for 1 year as the production starts Q4 of the first production year","Production year adjustment ",1,"year","Adjusted for 1 year as the production starts Q4 of the first production year","Production year adjustment ",1,"year","Adjusted for 1 year as the production starts Q4 of the first production year","Production year adjustment ",1,"year","Adjusted for 1 year as the production starts Q4 of the first production year","Production year adjustment ",1,"year","Adjusted for 1 year as the production starts Q4 of the first production year","Production year adjustment ",1,"year","Adjusted for 1 year as the production starts Q4 of the first production year","Production year adjustment ",1,"year","Adjusted for 1 year as the production starts Q4 of the first production year","Production year adjustment ",1,"year","Adjusted for 1 year as the production starts Q4 of the first production year","Production year adjustment ",1,"year","Adjusted for 1 year as the production starts Q4 of the first production year","Production year adjustment ",1,"year","Adjusted for 1 year as the production starts Q4 of the first production year","Production year adjustment ",1,"year","Adjusted for 1 year as the production starts Q4 of the first production year","Production year adjustment ",1,"year","Adjusted for 1 year as the production starts Q4 of the first production year","Production year adjustment ",1,"year","Adjusted for 1 year as the production starts Q4 of the first production year","Production year adjustment ",1,"year","Adjusted for 1 year as the production starts Q4 of the first production year","Production year adjustment ",1,"year","Adjusted for 1 year as the production starts Q4 of the first production year","Production year adjustment ",1,"year","Adjusted for 1 year as the production starts Q4 of the first production year","Production year adjustment ",1,"year","Adjusted for 1 year as the production starts Q4 of the first production year","Production year adjustment ",1,"year","Adjusted for 1 year as the production starts Q4 of the first production year","Production year adjustment ",1,"year","Adjusted for 1 year as the production starts Q4 of the first production year","Production year adjustment ",1,"year","Adjusted for 1 year as the production starts Q4 of the first production year","Production year adjustment ",1,"year","Adjusted for 1 year as the production starts Q4 of the first production year","Production year adjustment ",1,"year","Adjusted for 1 year as the production starts Q4 of the first production year","Production year adjustment ",1,"year","Adjusted for 1 year as the production starts Q4 of the first production year","Production year adjustment ",1,"year","Adjusted for 1 year as the production starts Q4 of the first production year","Production year adjustment ",1,"year","Adjusted for 1 year as the production starts Q4 of the first production year","Production year adjustment ",1,"year","Adjusted for 1 year as the production starts Q4 of the first production year","Production year adjustment ",1,"year","Adjusted for 1 year as the production starts Q4 of the first production year","Production year adjustment ",1,"year","Adjusted for 1 year as the production starts Q4 of the first production year","Production year adjustment ",1,"year","Adjusted for 1 year as the production starts Q4 of the first production year","Production year adjustment ",1,"year","Adjusted for 1 year as the production starts Q4 of the first production year","Production year adjustment ",1,"year","Adjusted for 1 year as the production starts Q4 of the first production year","Production year adjustment ",1,"year","Adjusted for 1 year as the production starts Q4 of the first production year","Production year adjustment ",1,"year","Adjusted for 1 year as the production starts Q4 of the first production year","Production year adjustment ",1,"year","Adjusted for 1 year as the production starts Q4 of the first production year","Production year adjustment ",1,"year","Adjusted for 1 year as the production starts Q4 of the first production year","Production year adjustment ",1,"year","Adjusted for 1 year as the production starts Q4 of the first production year","Production year adjustment ",1,"year","Adjusted for 1 year as the production starts Q4 of the first production year","Production year adjustment ",1,"year","Adjusted for 1 year as the production starts Q4 of the first production year","Production year adjustment ",1,"year","Adjusted for 1 year as the production starts Q4 of the first production year","Production year adjustment ",1,"year","Adjusted for 1 year as the production starts Q4 of the first production year","Production year adjustment ",1,"year","Adjusted for 1 year as the production starts Q4 of the first production year","Production year adjustment ",1,"year","Adjusted for 1 year as the production starts Q4 of the first production year","Production year adjustment ",1,"year","Adjusted for 1 year as the production starts Q4 of the first production year","Production year adjustment ",1,"year","Adjusted for 1 year as the production starts Q4 of the first production year","Production year adjustment ",1,"year","Adjusted for 1 year as the production starts Q4 of the first production year","Production year adjustment ",1,"year","Adjusted for 1 year as the production starts Q4 of the first production year","Production year adjustment ",1,"year","Adjusted for 1 year as the production starts Q4 of the first production year","Production year adjustment ",1,"year","Adjusted for 1 year as the production starts Q4 of the first production year","Production year adjustment ",1,"year","Adjusted for 1 year as the production starts Q4 of the first production year","Production year adjustment ",1,"year","Adjusted for 1 year as the production starts Q4 of the first production year","Production year adjustment ",1,"year","Adjusted for 1 year as the production starts Q4 of the first production year","Production year adjustment ",1,"year","Adjusted for 1 year as the production starts Q4 of the first production year","Production year adjustment ",1,"year","Adjusted for 1 year as the production starts Q4 of the first production year","Production year adjustment ",1,"year","Adjusted for 1 year as the production starts Q4 of the first production year","Production year adjustment ",1,"year","Adjusted for 1 year as the production starts Q4 of the first production year","Production year adjustment ",1,"year","Adjusted for 1 year as the production starts Q4 of the first production year","Production year adjustment ",1,"year","Adjusted for 1 year as the production starts Q4 of the first production year","Production year adjustment ",1,"year","Adjusted for 1 year as the production starts Q4 of the first production year","Production year adjustment ",1,"year","Adjusted for 1 year as the production starts Q4 of the first production year","Production year adjustment ",1,"year","Adjusted for 1 year as the production starts Q4 of the first production year","Production year adjustment ",1,"year","Adjusted for 1 year as the production starts Q4 of the first production year","Production year adjustment ",1,"year","Adjusted for 1 year as the production starts Q4 of the first production year","Production year adjustment ",1,"year","Adjusted for 1 year as the production starts Q4 of the first production year","Production year adjustment ",1,"year","Adjusted for 1 year as the production starts Q4 of the first production year","Production year adjustment ",1,"year","Adjusted for 1 year as the production starts Q4 of the first production year","Production year adjustment ",1,"year","Adjusted for 1 year as the production starts Q4 of the first production year","Production year adjustment ",1,"year","Adjusted for 1 year as the production starts Q4 of the first production year","Production year adjustment ",1,"year","Adjusted for 1 year as the production starts Q4 of the first production year","Production year adjustment ",1,"year","Adjusted for 1 year as the production starts Q4 of the first production year","Production year adjustment ",1,"year","Adjusted for 1 year as the production starts Q4 of the first production year","Production year adjustment ",1,"year","Adjusted for 1 year as the production starts Q4 of the first production year","Production year adjustment ",1,"year","Adjusted for 1 year as the production starts Q4 of the first production year","Production year adjustment ",1,"year","Adjusted for 1 year as the production starts Q4 of the first production year","Production year adjustment ",1,"year","Adjusted for 1 year as the production starts Q4 of the first production year","Production year adjustment ",1,"year","Adjusted for 1 year as the production starts Q4 of the first production year","Production year adjustment ",1,"year","Adjusted for 1 year as the production starts Q4 of the first production year","Production year adjustment ",1,"year","Adjusted for 1 year as the production starts Q4 of the first production year","Production year adjustment ",1,"year","Adjusted for 1 year as the production starts Q4 of the first production year","Production year adjustment ",1,"year","Adjusted for 1 year as the production starts Q4 of the first production year","Production year adjustment ",1,"year","Adjusted for 1 year as the production starts Q4 of the first production year","Production year adjustment ",1,"year","Adjusted for 1 year as the production starts Q4 of the first production year","Production year adjustment ",1,"year","Adjusted for 1 year as the production starts Q4 of the first production year","Production year adjustment ",1,"year","Adjusted for 1 year as the production starts Q4 of the first production year","Production year adjustment ",1,"year","Adjusted for 1 year as the production starts Q4 of the first production year","Production year adjustment ",1,"year","Adjusted for 1 year as the production starts Q4 of the first production year","Production year adjustment ",1,"year","Adjusted for 1 year as the production starts Q4 of the first production year","Production year adjustment ",1,"year","Adjusted for 1 year as the production starts Q4 of the first production year","Production year adjustment ",1,"year","Adjusted for 1 year as the production starts Q4 of the first production year","Production year adjustment ",1,"year","Adjusted for 1 year as the production starts Q4 of the first production year","Production year adjustment ",1,"year","Adjusted for 1 year as the production starts Q4 of the first production year","Production year adjustment ",1,"year","Adjusted for 1 year as the production starts Q4 of the first production year","Production year adjustment ",1,"year","Adjusted for 1 year as the production starts Q4 of the first production year","Production year adjustment ",1,"year","Adjusted for 1 year as the production starts Q4 of the first production year","Production year adjustment ",1,"year","Adjusted for 1 year as the production starts Q4 of the first production year","Production year adjustment ",1,"year","Adjusted for 1 year as the production starts Q4 of the first production year","Production year adjustment ",1,"year","Adjusted for 1 year as the production starts Q4 of the first production year","Production year adjustment ",1,"year","Adjusted for 1 year as the production starts Q4 of the first production year","Production year adjustment ",1,"year","Adjusted for 1 year as the production starts Q4 of the first production year","Production year adjustment ",1,"year","Adjusted for 1 year as the production starts Q4 of the first production year","Production year adjustment ",1,"year","Adjusted for 1 year as the production starts Q4 of the first production year","Production year adjustment ",1,"year","Adjusted for 1 year as the production starts Q4 of the first production year","Production year adjustment ",1,"year","Adjusted for 1 year as the production starts Q4 of the first production year","Production year adjustment ",1,"year","Adjusted for 1 year as the production starts Q4 of the first production year","Production year adjustment ",1,"year","Adjusted for 1 year as the production starts Q4 of the first production year","Production year adjustment ",1,"year","Adjusted for 1 year as the production starts Q4 of the first production year","Production year adjustment ",1,"year","Adjusted for 1 year as the production starts Q4 of the first production year","Production year adjustment ",1,"year","Adjusted for 1 year as the production starts Q4 of the first production year","Production year adjustment ",1,"year","Adjusted for 1 year as the production starts Q4 of the first production year","Production year adjustment ",1,"year","Adjusted for 1 year as the production starts Q4 of the first production year","Production year adjustment ",1,"year","Adjusted for 1 year as the production starts Q4 of the first production year","Production year adjustment ",1,"year","Adjusted for 1 year as the production starts Q4 of the first production year","Production year adjustment ",1,"year","Adjusted for 1 year as the production starts Q4 of the first production year","Production year adjustment ",1,"year","Adjusted for 1 year as the production starts Q4 of the first production year","Production year adjustment ",1,"year","Adjusted for 1 year as the production starts Q4 of the first production year","Production year adjustment ",1,"year","Adjusted for 1 year as the production starts Q4 of the first production year","Production year adjustment ",1,"year","Adjusted for 1 year as the production starts Q4 of the first production year","Production year adjustment ",1,"year","Adjusted for 1 year as the production starts Q4 of the first production year","Production year adjustment ",1,"year","Adjusted for 1 year as the production starts Q4 of the first production year","Production year adjustment ",1,"year","Adjusted for 1 year as the production starts Q4 of the first production year","Production year adjustment ",1,"year","Adjusted for 1 year as the production starts Q4 of the first production year","Production year adjustment ",1,"year","Adjusted for 1 year as the production starts Q4 of the first production year","Production year adjustment ",1,"year","Adjusted for 1 year as the production starts Q4 of the first production year","Production year adjustment ",1,"year","Adjusted for 1 year as the production starts Q4 of the first production year","Production year adjustment ",1,"year","Adjusted for 1 year as the production starts Q4 of the first production year","Production year adjustment ",1,"year","Adjusted for 1 year as the production starts Q4 of the first production year","Production year adjustment ",1,"year","Adjusted for 1 year as the production starts Q4 of the first production year","Production year adjustment ",1,"year","Adjusted for 1 year as the production starts Q4 of the first production year","Production year adjustment ",1,"year","Adjusted for 1 year as the production starts Q4 of the first production year","Production year adjustment ",1,"year","Adjusted for 1 year as the production starts Q4 of the first production year","Production year adjustment ",1,"year","Adjusted for 1 year as the production starts Q4 of the first production year","Production year adjustment ",1,"year","Adjusted for 1 year as the production starts Q4 of the first production year","Production year adjustment ",1,"year","Adjusted for 1 year as the production starts Q4 of the first production year","Production year adjustment ",1,"year","Adjusted for 1 year as the production starts Q4 of the first production year","Production year adjustment ",1,"year","Adjusted for 1 year as the production starts Q4 of the first production year","Production year adjustment ",1,"year","Adjusted for 1 year as the production starts Q4 of the first production year","Production year adjustment ",1,"year","Adjusted for 1 year as the production starts Q4 of the first production year","Production year adjustment ",1,"year","Adjusted for 1 year as the production starts Q4 of the first production year","Production year adjustment ",1,"year","Adjusted for 1 year as the production starts Q4 of the first production year","Production year adjustment ",1,"year","Adjusted for 1 year as the production starts Q4 of the first production year","Production year adjustment ",1,"year","Adjusted for 1 year as the production starts Q4 of the first production year","Production year adjustment ",1,"year","Adjusted for 1 year as the production starts Q4 of the first production year","Production year adjustment ",1,"year","Adjusted for 1 year as the production starts Q4 of the first production year","Production year adjustment ",1,"year","Adjusted for 1 year as the production starts Q4 of the first production year","Production year adjustment ",1,"year","Adjusted for 1 year as the production starts Q4 of the first production year","Production year adjustment ",1,"year","Adjusted for 1 year as the production starts Q4 of the first production year","Production year adjustment ",1,"year","Adjusted for 1 year as the production starts Q4 of the first production year","Production year adjustment ",1,"year","Adjusted for 1 year as the production starts Q4 of the first production year","Production year adjustment ",1,"year","Adjusted for 1 year as the production starts Q4 of the first production year","Production year adjustment ",1,"year","Adjusted for 1 year as the production starts Q4 of the first production year","Production year adjustment ",1,"year","Adjusted for 1 year as the production starts Q4 of the first production year","Production year adjustment ",1,"year","Adjusted for 1 year as the production starts Q4 of the first production year","Production year adjustment ",1,"year","Adjusted for 1 year as the production starts Q4 of the first production year","Production year adjustment ",1,"year","Adjusted for 1 year as the production starts Q4 of the first production year","Production year adjustment ",1,"year","Adjusted for 1 year as the production starts Q4 of the first production year","Production year adjustment ",1,"year","Adjusted for 1 year as the production starts Q4 of the first production year","Production year adjustment ",1,"year","Adjusted for 1 year as the production starts Q4 of the first production year","Production year adjustment ",1,"year","Adjusted for 1 year as the production starts Q4 of the first production year","Production year adjustment ",1,"year","Adjusted for 1 year as the production starts Q4 of the first production year","Production year adjustment ",1,"year","Adjusted for 1 year as the production starts Q4 of the first production year","Production year adjustment ",1,"year","Adjusted for 1 year as the production starts Q4 of the first production year","Production year adjustment ",1,"year","Adjusted for 1 year as the production starts Q4 of the first production year","Production year adjustment ",1,"year","Adjusted for 1 year as the production starts Q4 of the first production year","Production year adjustment ",1,"year","Adjusted for 1 year as the production starts Q4 of the first production year","Production year adjustment ",1,"year","Adjusted for 1 year as the production starts Q4 of the first production year","Production year adjustment ",1,"year","Adjusted for 1 year as the production starts Q4 of the first production year","Production year adjustment ",1,"year","Adjusted for 1 year as the production starts Q4 of the first production year","Production year adjustment ",1,"year","Adjusted for 1 year as the production starts Q4 of the first production year","Production year adjustment ",1,"year","Adjusted for 1 year as the production starts Q4 of the first production year","Production year adjustment ",1,"year","Adjusted for 1 year as the production starts Q4 of the first production year","Production year adjustment ",1,"year","Adjusted for 1 year as the production starts Q4 of the first production year","Production year adjustment ",1,"year","Adjusted for 1 year as the production starts Q4 of the first production year","Production year adjustment ",1,"year","Adjusted for 1 year as the production starts Q4 of the first production year","Production year adjustment ",1,"year","Adjusted for 1 year as the production starts Q4 of the first production year","Production year adjustment ",1,"year","Adjusted for 1 year as the production starts Q4 of the first production year","Production year adjustment ",1,"year","Adjusted for 1 year as the production starts Q4 of the first production year","Production year adjustment ",1,"year","Adjusted for 1 year as the production starts Q4 of the first production year","Production year adjustment ",1,"year","Adjusted for 1 year as the production starts Q4 of the first production year","Production year adjustment ",1,"year","Adjusted for 1 year as the production starts Q4 of the first production year","Production year adjustment ",1,"year","Adjusted for 1 year as the production starts Q4 of the first production year","Production year adjustment ",1,"year","Adjusted for 1 year as the production starts Q4 of the first production year","Production year adjustment ",1,"year","Adjusted for 1 year as the production starts Q4 of the first production year","Production year adjustment ",1,"year","Adjusted for 1 year as the production starts Q4 of the first production year","Production year adjustment ",1,"year","Adjusted for 1 year as the production starts Q4 of the first production year","Production year adjustment ",1,"year","Adjusted for 1 year as the production starts Q4 of the first production year","Production year adjustment ",1,"year","Adjusted for 1 year as the production starts Q4 of the first production year","Production year adjustment ",1,"year","Adjusted for 1 year as the production starts Q4 of the first production year","Production year adjustment ",1,"year","Adjusted for 1 year as the production starts Q4 of the first production year","Production year adjustment ",1,"year","Adjusted for 1 year as the production starts Q4 of the first production year","Production year adjustment ",1,"year","Adjusted for 1 year as the production starts Q4 of the first production year","Production year adjustment ",1,"year","Adjusted for 1 year as the production starts Q4 of the first production year","Production year adjustment ",1,"year","Adjusted for 1 year as the production starts Q4 of the first production year","Production year adjustment ",1,"year","Adjusted for 1 year as the production starts Q4 of the first production year","Production year adjustment ",1,"year","Adjusted for 1 year as the production starts Q4 of the first production year","Production year adjustment ",1,"year","Adjusted for 1 year as the production starts Q4 of the first production year","Production year adjustment ",1,"year","Adjusted for 1 year as the production starts Q4 of the first production year","Production year adjustment ",1,"year","Adjusted for 1 year as the production starts Q4 of the first production year","Production year adjustment ",1,"year","Adjusted for 1 year as the production starts Q4 of the first production year","Production year adjustment ",1,"year","Adjusted for 1 year as the production starts Q4 of the first production year","Production year adjustment ",1,"year","Adjusted for 1 year as the production starts Q4 of the first production year","Production year adjustment ",1,"year","Adjusted for 1 year as the production starts Q4 of the first production year","Production year adjustment ",1,"year","Adjusted for 1 year as the production starts Q4 of the first production year","Production year adjustment ",1,"year","Adjusted for 1 year as the production starts Q4 of the first production year","Production year adjustment ",1,"year","Adjusted for 1 year as the production starts Q4 of the first production year","Production year adjustment ",1,"year","Adjusted for 1 year as the production starts Q4 of the first production year","Production year adjustment ",1,"year","Adjusted for 1 year as the production starts Q4 of the first production year","Production year adjustment ",1,"year","Adjusted for 1 year as the production starts Q4 of the first production year","Production year adjustment ",1,"year","Adjusted for 1 year as the production starts Q4 of the first production year","Production year adjustment ",1,"year","Adjusted for 1 year as the production starts Q4 of the first production year","Production year adjustment ",1,"year","Adjusted for 1 year as the production starts Q4 of the first production year","Production year adjustment ",1,"year","Adjusted for 1 year as the production starts Q4 of the first production year","Production year adjustment ",1,"year","Adjusted for 1 year as the production starts Q4 of the first production year","Production year adjustment ",1,"year","Adjusted for 1 year as the production starts Q4 of the first production year","Production year adjustment ",1,"year","Adjusted for 1 year as the production starts Q4 of the first production year","Production year adjustment ",1,"year","Adjusted for 1 year as the production starts Q4 of the first production year","Production year adjustment ",1,"year","Adjusted for 1 year as the production starts Q4 of the first production year","Production year adjustment ",1,"year","Adjusted for 1 year as the production starts Q4 of the first production year","Production year adjustment ",1,"year","Adjusted for 1 year as the production starts Q4 of the first production year","Production year adjustment ",1,"year","Adjusted for 1 year as the production starts Q4 of the first production year","Production year adjustment ",1,"year","Adjusted for 1 year as the production starts Q4 of the first production year","Production year adjustment ",1,"year","Adjusted for 1 year as the production starts Q4 of the first production year","Production year adjustment ",1,"year","Adjusted for 1 year as the production starts Q4 of the first production year","Production year adjustment ",1,"year","Adjusted for 1 year as the production starts Q4 of the first production year","Production year adjustment ",1,"year","Adjusted for 1 year as the production starts Q4 of the first production year","Production year adjustment ",1,"year","Adjusted for 1 year as the production starts Q4 of the first production year","Production year adjustment ",1,"year","Adjusted for 1 year as the production starts Q4 of the first production year","Production year adjustment ",1,"year","Adjusted for 1 year as the production starts Q4 of the first production year","Production year adjustment ",1,"year","Adjusted for 1 year as the production starts Q4 of the first production year","Production year adjustment ",1,"year","Adjusted for 1 year as the production starts Q4 of the first production year","Production year adjustment ",1,"year","Adjusted for 1 year as the production starts Q4 of the first production year","Production year adjustment ",1,"year","Adjusted for 1 year as the production starts Q4 of the first production year","Production year adjustment ",1,"year","Adjusted for 1 year as the production starts Q4 of the first production year","Production year adjustment ",1,"year","Adjusted for 1 year as the production starts Q4 of the first production year","Production year adjustment ",1,"year","Adjusted for 1 year as the production starts Q4 of the first production year","Production year adjustment ",1,"year","Adjusted for 1 year as the production starts Q4 of the first production year","Production year adjustment ",1,"year","Adjusted for 1 year as the production starts Q4 of the first production year","Production year adjustment ",1,"year","Adjusted for 1 year as the production starts Q4 of the first production year","Production year adjustment ",1,"year","Adjusted for 1 year as the production starts Q4 of the first production year","Production year adjustment ",1,"year","Adjusted for 1 year as the production starts Q4 of the first production year","Production year adjustment ",1,"year","Adjusted for 1 year as the production starts Q4 of the first production year","Production year adjustment ",1,"year","Adjusted for 1 year as the production starts Q4 of the first production year","Production year adjustment ",1,"year","Adjusted for 1 year as the production starts Q4 of the first production year","Production year adjustment ",1,"year","Adjusted for 1 year as the production starts Q4 of the first production year","Production year adjustment ",1,"year","Adjusted for 1 year as the production starts Q4 of the first production year","Production year adjustment ",1,"year","Adjusted for 1 year as the production starts Q4 of the first production year","Production year adjustment ",1,"year","Adjusted for 1 year as the production starts Q4 of the first production year","Production year adjustment ",1,"year","Adjusted for 1 year as the production starts Q4 of the first production year","Production year adjustment ",1,"year","Adjusted for 1 year as the production starts Q4 of the first production year","Production year adjustment ",1,"year","Adjusted for 1 year as the production starts Q4 of the first production year","Production year adjustment ",1,"year","Adjusted for 1 year as the production starts Q4 of the first production year","Production year adjustment ",1,"year","Adjusted for 1 year as the production starts Q4 of the first production year","Production year adjustment ",1,"year","Adjusted for 1 year as the production starts Q4 of the first production year","Production year adjustment ",1,"year","Adjusted for 1 year as the production starts Q4 of the first production year","Production year adjustment ",1,"year","Adjusted for 1 year as the production starts Q4 of the first production year","Production year adjustment ",1,"year","Adjusted for 1 year as the production starts Q4 of the first production year","Production year adjustment ",1,"year","Adjusted for 1 year as the production starts Q4 of the first production year","Production year adjustment ",1,"year","Adjusted for 1 year as the production starts Q4 of the first production year","Production year adjustment ",1,"year","Adjusted for 1 year as the production starts Q4 of the first production year","Production year adjustment ",1,"year","Adjusted for 1 year as the production starts Q4 of the first production year","Production year adjustment ",1,"year","Adjusted for 1 year as the production starts Q4 of the first production year","Production year adjustment ",1,"year","Adjusted for 1 year as the production starts Q4 of the first production year","Production year adjustment ",1,"year","Adjusted for 1 year as the production starts Q4 of the first production year","Production year adjustment ",1,"year","Adjusted for 1 year as the production starts Q4 of the first production year","Production year adjustment ",1,"year","Adjusted for 1 year as the production starts Q4 of the first production year","Production year adjustment ",1,"year","Adjusted for 1 year as the production starts Q4 of the first production year","Production year adjustment ",1,"year","Adjusted for 1 year as the production starts Q4 of the first production year","Production year adjustment ",1,"year","Adjusted for 1 year as the production starts Q4 of the first production year","Production year adjustment ",1,"year","Adjusted for 1 year as the production starts Q4 of the first production year","Production year adjustment ",1,"year","Adjusted for 1 year as the production starts Q4 of the first production year","Production year adjustment ",1,"year","Adjusted for 1 year as the production starts Q4 of the first production year","Production year adjustment ",1,"year","Adjusted for 1 year as the production starts Q4 of the first production year","Production year adjustment ",1,"year","Adjusted for 1 year as the production starts Q4 of the first production year","Production year adjustment ",1,"year","Adjusted for 1 year as the production starts Q4 of the first production year","Production year adjustment ",1,"year","Adjusted for 1 year as the production starts Q4 of the first production year","Production year adjustment ",1,"year","Adjusted for 1 year as the production starts Q4 of the first production year","Production year adjustment ",1,"year","Adjusted for 1 year as the production starts Q4 of the first production year","Production year adjustment ",1,"year","Adjusted for 1 year as the production starts Q4 of the first production year","Production year adjustment ",1,"year","Adjusted for 1 year as the production starts Q4 of the first production year","Production year adjustment ",1,"year","Adjusted for 1 year as the production starts Q4 of the first production year","Production year adjustment ",1,"year","Adjusted for 1 year as the production starts Q4 of the first production year","Production year adjustment ",1,"year","Adjusted for 1 year as the production starts Q4 of the first production year","Production year adjustment ",1,"year","Adjusted for 1 year as the production starts Q4 of the first production year","Production year adjustment ",1,"year","Adjusted for 1 year as the production starts Q4 of the first production year","Production year adjustment ",1,"year","Adjusted for 1 year as the production starts Q4 of the first production year","Production year adjustment ",1,"year","Adjusted for 1 year as the production starts Q4 of the first production year","Production year adjustment ",1,"year","Adjusted for 1 year as the production starts Q4 of the first production year","Production year adjustment ",1,"year","Adjusted for 1 year as the production starts Q4 of the first production year","Production year adjustment ",1,"year","Adjusted for 1 year as the production starts Q4 of the first production year","Production year adjustment ",1,"year","Adjusted for 1 year as the production starts Q4 of the first production year","Production year adjustment ",1,"year","Adjusted for 1 year as the production starts Q4 of the first production year","Production year adjustment ",1,"year","Adjusted for 1 year as the production starts Q4 of the first production year","Production year adjustment ",1,"year","Adjusted for 1 year as the production starts Q4 of the first production year","Production year adjustment ",1,"year","Adjusted for 1 year as the production starts Q4 of the first production year","Production year adjustment ",1,"year","Adjusted for 1 year as the production starts Q4 of the first production year","Production year adjustment ",1,"year","Adjusted for 1 year as the production starts Q4 of the first production year","Production year adjustment ",1,"year","Adjusted for 1 year as the production starts Q4 of the first production year","Production year adjustment ",1,"year","Adjusted for 1 year as the production starts Q4 of the first production year","Production year adjustment ",1,"year","Adjusted for 1 year as the production starts Q4 of the first production year","Production year adjustment ",1,"year","Adjusted for 1 year as the production starts Q4 of the first production year","Production year adjustment ",1,"year","Adjusted for 1 year as the production starts Q4 of the first production year","Production year adjustment ",1,"year","Adjusted for 1 year as the production starts Q4 of the first production year","Production year adjustment ",1,"year","Adjusted for 1 year as the production starts Q4 of the first production year","Production year adjustment ",1,"year","Adjusted for 1 year as the production starts Q4 of the first production year","Production year adjustment ",1,"year","Adjusted for 1 year as the production starts Q4 of the first production year","Production year adjustment ",1,"year","Adjusted for 1 year as the production starts Q4 of the first production year","Production year adjustment ",1,"year","Adjusted for 1 year as the production starts Q4 of the first production year","Production year adjustment ",1,"year","Adjusted for 1 year as the production starts Q4 of the first production year","Production year adjustment ",1,"year","Adjusted for 1 year as the production starts Q4 of the first production year","Production year adjustment ",1,"year","Adjusted for 1 year as the production starts Q4 of the first production year","Production year adjustment ",1,"year","Adjusted for 1 year as the production starts Q4 of the first production year","Production year adjustment ",1,"year","Adjusted for 1 year as the production starts Q4 of the first production year","Production year adjustment ",1,"year","Adjusted for 1 year as the production starts Q4 of the first production year","Production year adjustment ",1,"year","Adjusted for 1 year as the production starts Q4 of the first production year","Production year adjustment ",1,"year","Adjusted for 1 year as the production starts Q4 of the first production year","Production year adjustment ",1,"year","Adjusted for 1 year as the production starts Q4 of the first production year","Production year adjustment ",1,"year","Adjusted for 1 year as the production starts Q4 of the first production year","Production year adjustment ",1,"year","Adjusted for 1 year as the production starts Q4 of the first production year","Production year adjustment ",1,"year","Adjusted for 1 year as the production starts Q4 of the first production year","Production year adjustment ",1,"year","Adjusted for 1 year as the production starts Q4 of the first production year","Production year adjustment ",1,"year","Adjusted for 1 year as the production starts Q4 of the first production year","Production year adjustment ",1,"year","Adjusted for 1 year as the production starts Q4 of the first production year","Production year adjustment ",1,"year","Adjusted for 1 year as the production starts Q4 of the first production year","Production year adjustment ",1,"year","Adjusted for 1 year as the production starts Q4 of the first production year","Production year adjustment ",1,"year","Adjusted for 1 year as the production starts Q4 of the first production year","Production year adjustment ",1,"year","Adjusted for 1 year as the production starts Q4 of the first production year","Production year adjustment ",1,"year","Adjusted for 1 year as the production starts Q4 of the first production year","Production year adjustment ",1,"year","Adjusted for 1 year as the production starts Q4 of the first production year","Production year adjustment ",1,"year","Adjusted for 1 year as the production starts Q4 of the first production year","Production year adjustment ",1,"year","Adjusted for 1 year as the production starts Q4 of the first production year","Production year adjustment ",1,"year","Adjusted for 1 year as the production starts Q4 of the first production year","Production year adjustment ",1,"year","Adjusted for 1 year as the production starts Q4 of the first production year","Production year adjustment ",1,"year","Adjusted for 1 year as the production starts Q4 of the first production year","Production year adjustment ",1,"year","Adjusted for 1 year as the production starts Q4 of the first production year","Production year adjustment ",1,"year","Adjusted for 1 year as the production starts Q4 of the first production year","Production year adjustment ",1,"year","Adjusted for 1 year as the production starts Q4 of the first production year","Production year adjustment ",1,"year","Adjusted for 1 year as the production starts Q4 of the first production year","Production year adjustment ",1,"year","Adjusted for 1 year as the production starts Q4 of the first production year","Production year adjustment ",1,"year","Adjusted for 1 year as the production starts Q4 of the first production year","Production year adjustment ",1,"year","Adjusted for 1 year as the production starts Q4 of the first production year","Production year adjustment ",1,"year","Adjusted for 1 year as the production starts Q4 of the first production year","Production year adjustment ",1,"year","Adjusted for 1 year as the production starts Q4 of the first production year","Production year adjustment ",1,"year","Adjusted for 1 year as the production starts Q4 of the first production year","Production year adjustment ",1,"year","Adjusted for 1 year as the production starts Q4 of the first production year","Production year adjustment ",1,"year","Adjusted for 1 year as the production starts Q4 of the first production year","Production year adjustment ",1,"year","Adjusted for 1 year as the production starts Q4 of the first production year","Production year adjustment ",1,"year","Adjusted for 1 year as the production starts Q4 of the first production year","Production year adjustment ",1,"year","Adjusted for 1 year as the production starts Q4 of the first production year","Production year adjustment ",1,"year","Adjusted for 1 year as the production starts Q4 of the first production year","Production year adjustment ",1,"year","Adjusted for 1 year as the production starts Q4 of the first production year","Production year adjustment ",1,"year","Adjusted for 1 year as the production starts Q4 of the first production year","Production year adjustment ",1,"year","Adjusted for 1 year as the production starts Q4 of the first production year","Production year adjustment ",1,"year","Adjusted for 1 year as the production starts Q4 of the first production year","Production year adjustment ",1,"year","Adjusted for 1 year as the production starts Q4 of the first production year","Production year adjustment ",1,"year","Adjusted for 1 year as the production starts Q4 of the first production year","Production year adjustment ",1,"year","Adjusted for 1 year as the production starts Q4 of the first production year","Production year adjustment ",1,"year","Adjusted for 1 year as the production starts Q4 of the first production year","Production year adjustment ",1,"year","Adjusted for 1 year as the production starts Q4 of the first production year","Production year adjustment ",1,"year","Adjusted for 1 year as the production starts Q4 of the first production year","Production year adjustment ",1,"year","Adjusted for 1 year as the production starts Q4 of the first production year","Production year adjustment ",1,"year","Adjusted for 1 year as the production starts Q4 of the first production year","Production year adjustment ",1,"year","Adjusted for 1 year as the production starts Q4 of the first production year","Production year adjustment ",1,"year","Adjusted for 1 year as the production starts Q4 of the first production year","Production year adjustment ",1,"year","Adjusted for 1 year as the production starts Q4 of the first production year","Production year adjustment ",1,"year","Adjusted for 1 year as the production starts Q4 of the first production year","Production year adjustment ",1,"year","Adjusted for 1 year as the production starts Q4 of the first production year","Production year adjustment ",1,"year","Adjusted for 1 year as the production starts Q4 of the first production year","Production year adjustment ",1,"year","Adjusted for 1 year as the production starts Q4 of the first production year","Production year adjustment ",1,"year","Adjusted for 1 year as the production starts Q4 of the first production year","Production year adjustment ",1,"year","Adjusted for 1 year as the production starts Q4 of the first production year","Production year adjustment ",1,"year","Adjusted for 1 year as the production starts Q4 of the first production year","Production year adjustment ",1,"year","Adjusted for 1 year as the production starts Q4 of the first production year","Production year adjustment ",1,"year","Adjusted for 1 year as the production starts Q4 of the first production year","Production year adjustment ",1,"year","Adjusted for 1 year as the production starts Q4 of the first production year","Production year adjustment ",1,"year","Adjusted for 1 year as the production starts Q4 of the first production year","Production year adjustment ",1,"year","Adjusted for 1 year as the production starts Q4 of the first production year","Production year adjustment ",1,"year","Adjusted for 1 year as the production starts Q4 of the first production year","Production year adjustment ",1,"year","Adjusted for 1 year as the production starts Q4 of the first production year","Production year adjustment ",1,"year","Adjusted for 1 year as the production starts Q4 of the first production year","Production year adjustment ",1,"year","Adjusted for 1 year as the production starts Q4 of the first production year","Production year adjustment ",1,"year","Adjusted for 1 year as the production starts Q4 of the first production year","Production year adjustment ",1,"year","Adjusted for 1 year as the production starts Q4 of the first production year","Production year adjustment ",1,"year","Adjusted for 1 year as the production starts Q4 of the first production year","Production year adjustment ",1,"year","Adjusted for 1 year as the production starts Q4 of the first production year","Production year adjustment ",1,"year","Adjusted for 1 year as the production starts Q4 of the first production year","Production year adjustment ",1,"year","Adjusted for 1 year as the production starts Q4 of the first production year","Production year adjustment ",1,"year","Adjusted for 1 year as the production starts Q4 of the first production year","Production year adjustment ",1,"year","Adjusted for 1 year as the production starts Q4 of the first production year","Production year adjustment ",1,"year","Adjusted for 1 year as the production starts Q4 of the first production year","Production year adjustment ",1,"year","Adjusted for 1 year as the production starts Q4 of the first production year","Production year adjustment ",1,"year","Adjusted for 1 year as the production starts Q4 of the first production year","Production year adjustment ",1,"year","Adjusted for 1 year as the production starts Q4 of the first production year","Production year adjustment ",1,"year","Adjusted for 1 year as the production starts Q4 of the first production year","Production year adjustment ",1,"year","Adjusted for 1 year as the production starts Q4 of the first production year","Production year adjustment ",1,"year","Adjusted for 1 year as the production starts Q4 of the first production year","Production year adjustment ",1,"year","Adjusted for 1 year as the production starts Q4 of the first production year","Production year adjustment ",1,"year","Adjusted for 1 year as the production starts Q4 of the first production year","Production year adjustment ",1,"year","Adjusted for 1 year as the production starts Q4 of the first production year","Production year adjustment ",1,"year","Adjusted for 1 year as the production starts Q4 of the first production year","Production year adjustment ",1,"year","Adjusted for 1 year as the production starts Q4 of the first production year","Production year adjustment ",1,"year","Adjusted for 1 year as the production starts Q4 of the first production year","Production year adjustment ",1,"year","Adjusted for 1 year as the production starts Q4 of the first production year","Production year adjustment ",1,"year","Adjusted for 1 year as the production starts Q4 of the first production year","Production year adjustment ",1,"year","Adjusted for 1 year as the production starts Q4 of the first production year","Production year adjustment ",1,"year","Adjusted for 1 year as the production starts Q4 of the first production year","Production year adjustment ",1,"year","Adjusted for 1 year as the production starts Q4 of the first production year","Production year adjustment ",1,"year","Adjusted for 1 year as the production starts Q4 of the first production year","Production year adjustment ",1,"year","Adjusted for 1 year as the production starts Q4 of the first production year","Production year adjustment ",1,"year","Adjusted for 1 year as the production starts Q4 of the first production year","Production year adjustment ",1,"year","Adjusted for 1 year as the production starts Q4 of the first production year","Production year adjustment ",1,"year","Adjusted for 1 year as the production starts Q4 of the first production year","Production year adjustment ",1,"year","Adjusted for 1 year as the production starts Q4 of the first production year","Production year adjustment ",1,"year","Adjusted for 1 year as the production starts Q4 of the first production year","Production year adjustment ",1,"year","Adjusted for 1 year as the production starts Q4 of the first production year","Production year adjustment ",1,"year","Adjusted for 1 year as the production starts Q4 of the first production year","Production year adjustment ",1,"year","Adjusted for 1 year as the production starts Q4 of the first production year","Production year adjustment ",1,"year","Adjusted for 1 year as the production starts Q4 of the first production year","Production year adjustment ",1,"year","Adjusted for 1 year as the production starts Q4 of the first production year","Production year adjustment ",1,"year","Adjusted for 1 year as the production starts Q4 of the first production year","Production year adjustment ",1,"year","Adjusted for 1 year as the production starts Q4 of the first production year","Production year adjustment ",1,"year","Adjusted for 1 year as the production starts Q4 of the first production year","Production year adjustment ",1,"year","Adjusted for 1 year as the production starts Q4 of the first production year","Production year adjustment ",1,"year","Adjusted for 1 year as the production starts Q4 of the first production year","Production year adjustment ",1,"year","Adjusted for 1 year as the production starts Q4 of the first production year","Production year adjustment ",1,"year","Adjusted for 1 year as the production starts Q4 of the first production year","Production year adjustment ",1,"year","Adjusted for 1 year as the production starts Q4 of the first production year","Production year adjustment ",1,"year","Adjusted for 1 year as the production starts Q4 of the first production year","Production year adjustment ",1,"year","Adjusted for 1 year as the production starts Q4 of the first production year","Production year adjustment ",1,"year","Adjusted for 1 year as the production starts Q4 of the first production year","Production year adjustment ",1,"year","Adjusted for 1 year as the production starts Q4 of the first production year","Production year adjustment ",1,"year","Adjusted for 1 year as the production starts Q4 of the first production year","Production year adjustment ",1,"year","Adjusted for 1 year as the production starts Q4 of the first production year","Production year adjustment ",1,"year","Adjusted for 1 year as the production starts Q4 of the first production year","Production year adjustment ",1,"year","Adjusted for 1 year as the production starts Q4 of the first production year","Production year adjustment ",1,"year","Adjusted for 1 year as the production starts Q4 of the first production year","Production year adjustment ",1,"year","Adjusted for 1 year as the production starts Q4 of the first production year","Production year adjustment ",1,"year","Adjusted for 1 year as the production starts Q4 of the first production year","Production year adjustment ",1,"year","Adjusted for 1 year as the production starts Q4 of the first production year","Production year adjustment ",1,"year","Adjusted for 1 year as the production starts Q4 of the first production year","Production year adjustment ",1,"year","Adjusted for 1 year as the production starts Q4 of the first production year","Production year adjustment ",1,"year","Adjusted for 1 year as the production starts Q4 of the first production year","Production year adjustment ",1,"year","Adjusted for 1 year as the production starts Q4 of the first production year","Production year adjustment ",1,"year","Adjusted for 1 year as the production starts Q4 of the first production year","Production year adjustment ",1,"year","Adjusted for 1 year as the production starts Q4 of the first production year","Production year adjustment ",1,"year","Adjusted for 1 year as the production starts Q4 of the first production year","Production year adjustment ",1,"year","Adjusted for 1 year as the production starts Q4 of the first production year","Production year adjustment ",1,"year","Adjusted for 1 year as the production starts Q4 of the first production year","Production year adjustment ",1,"year","Adjusted for 1 year as the production starts Q4 of the first production year","Production year adjustment ",1,"year","Adjusted for 1 year as the production starts Q4 of the first production year","Production year adjustment ",1,"year","Adjusted for 1 year as the production starts Q4 of the first production year","Production year adjustment ",1,"year","Adjusted for 1 year as the production starts Q4 of the first production year","Production year adjustment ",1,"year","Adjusted for 1 year as the production starts Q4 of the first production year","Production year adjustment ",1,"year","Adjusted for 1 year as the production starts Q4 of the first production year","Production year adjustment ",1,"year","Adjusted for 1 year as the production starts Q4 of the first production year","Production year adjustment ",1,"year","Adjusted for 1 year as the production starts Q4 of the first production year","Production year adjustment ",1,"year","Adjusted for 1 year as the production starts Q4 of the first production year","Production year adjustment ",1,"year","Adjusted for 1 year as the production starts Q4 of the first production year","Production year adjustment ",1,"year","Adjusted for 1 year as the production starts Q4 of the first production year","Production year adjustment ",1,"year","Adjusted for 1 year as the production starts Q4 of the first production year","Production year adjustment ",1,"year","Adjusted for 1 year as the production starts Q4 of the first production year","Production year adjustment ",1,"year","Adjusted for 1 year as the production starts Q4 of the first production year","Production year adjustment ",1,"year","Adjusted for 1 year as the production starts Q4 of the first production year","Production year adjustment ",1,"year","Adjusted for 1 year as the production starts Q4 of the first production year","Production year adjustment ",1,"year","Adjusted for 1 year as the production starts Q4 of the first production year","Production year adjustment ",1,"year","Adjusted for 1 year as the production starts Q4 of the first production year","Production year adjustment ",1,"year","Adjusted for 1 year as the production starts Q4 of the first production year","Production year adjustment ",1,"year","Adjusted for 1 year as the production starts Q4 of the first production year","Production year adjustment ",1,"year","Adjusted for 1 year as the production starts Q4 of the first production year","Production year adjustment ",1,"year","Adjusted for 1 year as the production starts Q4 of the first production year","Production year adjustment ",1,"year","Adjusted for 1 year as the production starts Q4 of the first production year","Production year adjustment ",1,"year","Adjusted for 1 year as the production starts Q4 of the first production year","Production year adjustment ",1,"year","Adjusted for 1 year as the production starts Q4 of the first production year","Production year adjustment ",1,"year","Adjusted for 1 year as the production starts Q4 of the first production year","Production year adjustment ",1,"year","Adjusted for 1 year as the production starts Q4 of the first production year","Production year adjustment ",1,"year","Adjusted for 1 year as the production starts Q4 of the first production year","Production year adjustment ",1,"year","Adjusted for 1 year as the production starts Q4 of the first production year","Production year adjustment ",1,"year","Adjusted for 1 year as the production starts Q4 of the first production year","Production year adjustment ",1,"year","Adjusted for 1 year as the production starts Q4 of the first production year","Production year adjustment ",1,"year","Adjusted for 1 year as the production starts Q4 of the first production year","Production year adjustment ",1,"year","Adjusted for 1 year as the production starts Q4 of the first production year","Production year adjustment ",1,"year","Adjusted for 1 year as the production starts Q4 of the first production year","Production year adjustment ",1,"year","Adjusted for 1 year as the production starts Q4 of the first production year","Production year adjustment ",1,"year","Adjusted for 1 year as the production starts Q4 of the first production year","Production year adjustment ",1,"year","Adjusted for 1 year as the production starts Q4 of the first production year","Production year adjustment ",1,"year","Adjusted for 1 year as the production starts Q4 of the first production year","Production year adjustment ",1,"year","Adjusted for 1 year as the production starts Q4 of the first production year","Production year adjustment ",1,"year","Adjusted for 1 year as the production starts Q4 of the first production year","Production year adjustment ",1,"year","Adjusted for 1 year as the production starts Q4 of the first production year","Production year adjustment ",1,"year","Adjusted for 1 year as the production starts Q4 of the first production year","Production year adjustment ",1,"year","Adjusted for 1 year as the production starts Q4 of the first production year","Production year adjustment ",1,"year","Adjusted for 1 year as the production starts Q4 of the first production year","Production year adjustment ",1,"year","Adjusted for 1 year as the production starts Q4 of the first production year","Production year adjustment ",1,"year","Adjusted for 1 year as the production starts Q4 of the first production year","Production year adjustment ",1,"year","Adjusted for 1 year as the production starts Q4 of the first production year","Production year adjustment ",1,"year","Adjusted for 1 year as the production starts Q4 of the first production year","Production year adjustment ",1,"year","Adjusted for 1 year as the production starts Q4 of the first production year","Production year adjustment ",1,"year","Adjusted for 1 year as the production starts Q4 of the first production year","Production year adjustment ",1,"year","Adjusted for 1 year as the production starts Q4 of the first production year","Production year adjustment ",1,"year","Adjusted for 1 year as the production starts Q4 of the first production year","Production year adjustment ",1,"year","Adjusted for 1 year as the production starts Q4 of the first production year","Production year adjustment ",1,"year","Adjusted for 1 year as the production starts Q4 of the first production year","Production year adjustment ",1,"year","Adjusted for 1 year as the production starts Q4 of the first production year","Production year adjustment ",1,"year","Adjusted for 1 year as the production starts Q4 of the first production year","Production year adjustment ",1,"year","Adjusted for 1 year as the production starts Q4 of the first production year","Production year adjustment ",1,"year","Adjusted for 1 year as the production starts Q4 of the first production year","Production year adjustment ",1,"year","Adjusted for 1 year as the production starts Q4 of the first production year","Production year adjustment ",1,"year","Adjusted for 1 year as the production starts Q4 of the first production year","Production year adjustment ",1,"year","Adjusted for 1 year as the production starts Q4 of the first production year","Production year adjustment ",1,"year","Adjusted for 1 year as the production starts Q4 of the first production year","Production year adjustment ",1,"year","Adjusted for 1 year as the production starts Q4 of the first production year","Production year adjustment ",1,"year","Adjusted for 1 year as the production starts Q4 of the first production year","Production year adjustment ",1,"year","Adjusted for 1 year as the production starts Q4 of the first production year","Production year adjustment ",1,"year","Adjusted for 1 year as the production starts Q4 of the first production year","Production year adjustment ",1,"year","Adjusted for 1 year as the production starts Q4 of the first production year","Production year adjustment ",1,"year","Adjusted for 1 year as the production starts Q4 of the first production year","Production year adjustment ",1,"year","Adjusted for 1 year as the production starts Q4 of the first production year","Production year adjustment ",1,"year","Adjusted for 1 year as the production starts Q4 of the first production year","Production year adjustment ",1,"year","Adjusted for 1 year as the production starts Q4 of the first production year","Production year adjustment ",1,"year","Adjusted for 1 year as the production starts Q4 of the first production year","Production year adjustment ",1,"year","Adjusted for 1 year as the production starts Q4 of the first production year","Production year adjustment ",1,"year","Adjusted for 1 year as the production starts Q4 of the first production year","Production year adjustment ",1,"year","Adjusted for 1 year as the production starts Q4 of the first production year","Production year adjustment ",1,"year","Adjusted for 1 year as the production starts Q4 of the first production year","Production year adjustment ",1,"year","Adjusted for 1 year as the production starts Q4 of the first production year","Production year adjustment ",1,"year","Adjusted for 1 year as the production starts Q4 of the first production year","Production year adjustment ",1,"year","Adjusted for 1 year as the production starts Q4 of the first production year","Production year adjustment ",1,"year","Adjusted for 1 year as the production starts Q4 of the first production year","Production year adjustment ",1,"year","Adjusted for 1 year as the production starts Q4 of the first production year","Production year adjustment ",1,"year","Adjusted for 1 year as the production starts Q4 of the first production year","Production year adjustment ",1,"year","Adjusted for 1 year as the production starts Q4 of the first production year","Production year adjustment ",1,"year","Adjusted for 1 year as the production starts Q4 of the first production year","Production year adjustment ",1,"year","Adjusted for 1 year as the production starts Q4 of the first production year","Production year adjustment ",1,"year","Adjusted for 1 year as the production starts Q4 of the first production year","Production year adjustment ",1,"year","Adjusted for 1 year as the production starts Q4 of the first production year","Production year adjustment ",1,"year","Adjusted for 1 year as the production starts Q4 of the first production year","Production year adjustment ",1,"year","Adjusted for 1 year as the production starts Q4 of the first production year","Production year adjustment ",1,"year","Adjusted for 1 year as the production starts Q4 of the first production year","Production year adjustment ",1,"year","Adjusted for 1 year as the production starts Q4 of the first production year","Production year adjustment ",1,"year","Adjusted for 1 year as the production starts Q4 of the first production year","Production year adjustment ",1,"year","Adjusted for 1 year as the production starts Q4 of the first production year","Production year adjustment ",1,"year","Adjusted for 1 year as the production starts Q4 of the first production year","Production year adjustment ",1,"year","Adjusted for 1 year as the production starts Q4 of the first production year","Production year adjustment ",1,"year","Adjusted for 1 year as the production starts Q4 of the first production year","Production year adjustment ",1,"year","Adjusted for 1 year as the production starts Q4 of the first production year","Production year adjustment ",1,"year","Adjusted for 1 year as the production starts Q4 of the first production year","Production year adjustment ",1,"year","Adjusted for 1 year as the production starts Q4 of the first production year","Production year adjustment ",1,"year","Adjusted for 1 year as the production starts Q4 of the first production year","Production year adjustment ",1,"year","Adjusted for 1 year as the production starts Q4 of the first production year","Production year adjustment ",1,"year","Adjusted for 1 year as the production starts Q4 of the first production year","Production year adjustment ",1,"year","Adjusted for 1 year as the production starts Q4 of the first production year","Production year adjustment ",1,"year","Adjusted for 1 year as the production starts Q4 of the first production year","Production year adjustment ",1,"year","Adjusted for 1 year as the production starts Q4 of the first production year","Production year adjustment ",1,"year","Adjusted for 1 year as the production starts Q4 of the first production year","Production year adjustment ",1,"year","Adjusted for 1 year as the production starts Q4 of the first production year","Production year adjustment ",1,"year","Adjusted for 1 year as the production starts Q4 of the first production year","Production year adjustment ",1,"year","Adjusted for 1 year as the production starts Q4 of the first production year","Production year adjustment ",1,"year","Adjusted for 1 year as the production starts Q4 of the first production year","Production year adjustment ",1,"year","Adjusted for 1 year as the production starts Q4 of the first production year","Production year adjustment ",1,"year","Adjusted for 1 year as the production starts Q4 of the first production year","Production year adjustment ",1,"year","Adjusted for 1 year as the production starts Q4 of the first production year","Production year adjustment ",1,"year","Adjusted for 1 year as the production starts Q4 of the first production year","Production year adjustment ",1,"year","Adjusted for 1 year as the production starts Q4 of the first production year","Production year adjustment ",1,"year","Adjusted for 1 year as the production starts Q4 of the first production year","Production year adjustment ",1,"year","Adjusted for 1 year as the production starts Q4 of the first production year","Production year adjustment ",1,"year","Adjusted for 1 year as the production starts Q4 of the first production year","Production year adjustment ",1,"year","Adjusted for 1 year as the production starts Q4 of the first production year","Production year adjustment ",1,"year","Adjusted for 1 year as the production starts Q4 of the first production year","Production year adjustment ",1,"year","Adjusted for 1 year as the production starts Q4 of the first production year","Production year adjustment ",1,"year","Adjusted for 1 year as the production starts Q4 of the first production year","Production year adjustment ",1,"year","Adjusted for 1 year as the production starts Q4 of the first production year","Production year adjustment ",1,"year","Adjusted for 1 year as the production starts Q4 of the first production year","Production year adjustment ",1,"year","Adjusted for 1 year as the production starts Q4 of the first production year","Production year adjustment ",1,"year","Adjusted for 1 year as the production starts Q4 of the first production year","Production year adjustment ",1,"year","Adjusted for 1 year as the production starts Q4 of the first production year","Production year adjustment ",1,"year","Adjusted for 1 year as the production starts Q4 of the first production year","Production year adjustment ",1,"year","Adjusted for 1 year as the production starts Q4 of the first production year","Production year adjustment ",1,"year","Adjusted for 1 year as the production starts Q4 of the first production year","Production year adjustment ",1,"year","Adjusted for 1 year as the production starts Q4 of the first production year","Production year adjustment ",1,"year","Adjusted for 1 year as the production starts Q4 of the first production year","Production year adjustment ",1,"year","Adjusted for 1 year as the production starts Q4 of the first production year","Production year adjustment ",1,"year","Adjusted for 1 year as the production starts Q4 of the first production year","Production year adjustment ",1,"year","Adjusted for 1 year as the production starts Q4 of the first production year","Production year adjustment ",1,"year","Adjusted for 1 year as the production starts Q4 of the first production year","Production year adjustment ",1,"year","Adjusted for 1 year as the production starts Q4 of the first production year","Production year adjustment ",1,"year","Adjusted for 1 year as the production starts Q4 of the first production year","Production year adjustment ",1,"year","Adjusted for 1 year as the production starts Q4 of the first production year","Production year adjustment ",1,"year","Adjusted for 1 year as the production starts Q4 of the first production year","Production year adjustment ",1,"year","Adjusted for 1 year as the production starts Q4 of the first production year","Production year adjustment ",1,"year","Adjusted for 1 year as the production starts Q4 of the first production year","Production year adjustment ",1,"year","Adjusted for 1 year as the production starts Q4 of the first production year","Production year adjustment ",1,"year","Adjusted for 1 year as the production starts Q4 of the first production year","Production year adjustment ",1,"year","Adjusted for 1 year as the production starts Q4 of the first production year","Production year adjustment ",1,"year","Adjusted for 1 year as the production starts Q4 of the first production year","Production year adjustment ",1,"year","Adjusted for 1 year as the production starts Q4 of the first production year","Production year adjustment ",1,"year","Adjusted for 1 year as the production starts Q4 of the first production year","Production year adjustment ",1,"year","Adjusted for 1 year as the production starts Q4 of the first production year","Production year adjustment ",1,"year","Adjusted for 1 year as the production starts Q4 of the first production year","Production year adjustment ",1,"year","Adjusted for 1 year as the production starts Q4 of the first production year","Production year adjustment ",1,"year","Adjusted for 1 year as the production starts Q4 of the first production year","Production year adjustment ",1,"year","Adjusted for 1 year as the production starts Q4 of the first production year","Production year adjustment ",1,"year","Adjusted for 1 year as the production starts Q4 of the first production year","Production year adjustment ",1,"year","Adjusted for 1 year as the production starts Q4 of the first production year","Production year adjustment ",1,"year","Adjusted for 1 year as the production starts Q4 of the first production year","Production year adjustment ",1,"year","Adjusted for 1 year as the production starts Q4 of the first production year","Production year adjustment ",1,"year","Adjusted for 1 year as the production starts Q4 of the first production year","Production year adjustment ",1,"year","Adjusted for 1 year as the production starts Q4 of the first production year","Production year adjustment ",1,"year","Adjusted for 1 year as the production starts Q4 of the first production year","Production year adjustment ",1,"year","Adjusted for 1 year as the production starts Q4 of the first production year","Production year adjustment ",1,"year","Adjusted for 1 year as the production starts Q4 of the first production year","Production year adjustment ",1,"year","Adjusted for 1 year as the production starts Q4 of the first production year","Production year adjustment ",1,"year","Adjusted for 1 year as the production starts Q4 of the first production year","Production year adjustment ",1,"year","Adjusted for 1 year as the production starts Q4 of the first production year","Production year adjustment ",1,"year","Adjusted for 1 year as the production starts Q4 of the first production year","Production year adjustment ",1,"year","Adjusted for 1 year as the production starts Q4 of the first production year","Production year adjustment ",1,"year","Adjusted for 1 year as the production starts Q4 of the first production year","Production year adjustment ",1,"year","Adjusted for 1 year as the production starts Q4 of the first production year","Production year adjustment ",1,"year","Adjusted for 1 year as the production starts Q4 of the first production year","Production year adjustment ",1,"year","Adjusted for 1 year as the production starts Q4 of the first production year","Production year adjustment ",1,"year","Adjusted for 1 year as the production starts Q4 of the first production year","Production year adjustment ",1,"year","Adjusted for 1 year as the production starts Q4 of the first production year","Production year adjustment ",1,"year","Adjusted for 1 year as the production starts Q4 of the first production year","Production year adjustment ",1,"year","Adjusted for 1 year as the production starts Q4 of the first production year","Production year adjustment ",1,"year","Adjusted for 1 year as the production starts Q4 of the first production year","Production year adjustment ",1,"year","Adjusted for 1 year as the production starts Q4 of the first production year","Production year adjustment ",1,"year","Adjusted for 1 year as the production starts Q4 of the first production year","Production year adjustment ",1,"year","Adjusted for 1 year as the production starts Q4 of the first production year","Production year adjustment ",1,"year","Adjusted for 1 year as the production starts Q4 of the first production year","Production year adjustment ",1,"year","Adjusted for 1 year as the production starts Q4 of the first production year","Production year adjustment ",1,"year","Adjusted for 1 year as the production starts Q4 of the first production year","Production year adjustment ",1,"year","Adjusted for 1 year as the production starts Q4 of the first production year","Production year adjustment ",1,"year","Adjusted for 1 year as the production starts Q4 of the first production year","Production year adjustment ",1,"year","Adjusted for 1 year as the production starts Q4 of the first production year","Production year adjustment ",1,"year","Adjusted for 1 year as the production starts Q4 of the first production year","Production year adjustment ",1,"year","Adjusted for 1 year as the production starts Q4 of the first production year","Production year adjustment ",1,"year","Adjusted for 1 year as the production starts Q4 of the first production year","Production year adjustment ",1,"year","Adjusted for 1 year as the production starts Q4 of the first production year","Production year adjustment ",1,"year","Adjusted for 1 year as the production starts Q4 of the first production year","Production year adjustment ",1,"year","Adjusted for 1 year as the production starts Q4 of the first production year","Production year adjustment ",1,"year","Adjusted for 1 year as the production starts Q4 of the first production year","Production year adjustment ",1,"year","Adjusted for 1 year as the production starts Q4 of the first production year","Production year adjustment ",1,"year","Adjusted for 1 year as the production starts Q4 of the first production year","Production year adjustment ",1,"year","Adjusted for 1 year as the production starts Q4 of the first production year","Production year adjustment ",1,"year","Adjusted for 1 year as the production starts Q4 of the first production year","Production year adjustment ",1,"year","Adjusted for 1 year as the production starts Q4 of the first production year","Production year adjustment ",1,"year","Adjusted for 1 year as the production starts Q4 of the first production year","Production year adjustment ",1,"year","Adjusted for 1 year as the production starts Q4 of the first production year","Production year adjustment ",1,"year","Adjusted for 1 year as the production starts Q4 of the first production year","Production year adjustment ",1,"year","Adjusted for 1 year as the production starts Q4 of the first production year","Production year adjustment ",1,"year","Adjusted for 1 year as the production starts Q4 of the first production year","Production year adjustment ",1,"year","Adjusted for 1 year as the production starts Q4 of the first production year","Production year adjustment ",1,"year","Adjusted for 1 year as the production starts Q4 of the first production year","Production year adjustment ",1,"year","Adjusted for 1 year as the production starts Q4 of the first production year","Production year adjustment ",1,"year","Adjusted for 1 year as the production starts Q4 of the first production year","Production year adjustment ",1,"year","Adjusted for 1 year as the production starts Q4 of the first production year","Production year adjustment ",1,"year","Adjusted for 1 year as the production starts Q4 of the first production year","Production year adjustment ",1,"year","Adjusted for 1 year as the production starts Q4 of the first production year","Production year adjustment ",1,"year","Adjusted for 1 year as the production starts Q4 of the first production year","Production year adjustment ",1,"year","Adjusted for 1 year as the production starts Q4 of the first production year","Production year adjustment ",1,"year","Adjusted for 1 year as the production starts Q4 of the first production year","Production year adjustment ",1,"year","Adjusted for 1 year as the production starts Q4 of the first production year","Production year adjustment ",1,"year","Adjusted for 1 year as the production starts Q4 of the first production year","Production year adjustment ",1,"year","Adjusted for 1 year as the production starts Q4 of the first production year","Production year adjustment ",1,"year","Adjusted for 1 year as the production starts Q4 of the first production year","Production year adjustment ",1,"year","Adjusted for 1 year as the production starts Q4 of the first production year","Production year adjustment ",1,"year","Adjusted for 1 year as the production starts Q4 of the first production year","Production year adjustment ",1,"year","Adjusted for 1 year as the production starts Q4 of the first production year","Production year adjustment ",1,"year","Adjusted for 1 year as the production starts Q4 of the first production year","Production year adjustment ",1,"year","Adjusted for 1 year as the production starts Q4 of the first production year","Production year adjustment ",1,"year","Adjusted for 1 year as the production starts Q4 of the first production year","Production year adjustment ",1,"year","Adjusted for 1 year as the production starts Q4 of the first production year","Production year adjustment ",1,"year","Adjusted for 1 year as the production starts Q4 of the first production year","Production year adjustment ",1,"year","Adjusted for 1 year as the production starts Q4 of the first production year","Production year adjustment ",1,"year","Adjusted for 1 year as the production starts Q4 of the first production year","Production year adjustment ",1,"year","Adjusted for 1 year as the production starts Q4 of the first production year","Production year adjustment ",1,"year","Adjusted for 1 year as the production starts Q4 of the first production year","Production year adjustment ",1,"year","Adjusted for 1 year as the production starts Q4 of the first production year","Production year adjustment ",1,"year","Adjusted for 1 year as the production starts Q4 of the first production year","Production year adjustment ",1,"year","Adjusted for 1 year as the production starts Q4 of the first production year","Production year adjustment ",1,"year","Adjusted for 1 year as the production starts Q4 of the first production year","Production year adjustment ",1,"year","Adjusted for 1 year as the production starts Q4 of the first production year","Production year adjustment ",1,"year","Adjusted for 1 year as the production starts Q4 of the first production year","Production year adjustment ",1,"year","Adjusted for 1 year as the production starts Q4 of the first production year","Production year adjustment ",1,"year","Adjusted for 1 year as the production starts Q4 of the first production year","Production year adjustment ",1,"year","Adjusted for 1 year as the production starts Q4 of the first production year","Production year adjustment ",1,"year","Adjusted for 1 year as the production starts Q4 of the first production year","Production year adjustment ",1,"year","Adjusted for 1 year as the production starts Q4 of the first production year","Production year adjustment ",1,"year","Adjusted for 1 year as the production starts Q4 of the first production year","Production year adjustment ",1,"year","Adjusted for 1 year as the production starts Q4 of the first production year","Production year adjustment ",1,"year","Adjusted for 1 year as the production starts Q4 of the first production year","Production year adjustment ",1,"year","Adjusted for 1 year as the production starts Q4 of the first production year","Production year adjustment ",1,"year","Adjusted for 1 year as the production starts Q4 of the first production year","Production year adjustment ",1,"year","Adjusted for 1 year as the production starts Q4 of the first production year","Production year adjustment ",1,"year","Adjusted for 1 year as the production starts Q4 of the first production year","Production year adjustment ",1,"year","Adjusted for 1 year as the production starts Q4 of the first production year","Production year adjustment ",1,"year","Adjusted for 1 year as the production starts Q4 of the first production year","Production year adjustment ",1,"year","Adjusted for 1 year as the production starts Q4 of the first production year","Production year adjustment ",1,"year","Adjusted for 1 year as the production starts Q4 of the first production year","Production year adjustment ",1,"year","Adjusted for 1 year as the production starts Q4 of the first production year","Production year adjustment ",1,"year","Adjusted for 1 year as the production starts Q4 of the first production year","Production year adjustment ",1,"year","Adjusted for 1 year as the production starts Q4 of the first production year","Production year adjustment ",1,"year","Adjusted for 1 year as the production starts Q4 of the first production year","Production year adjustment ",1,"year","Adjusted for 1 year as the production starts Q4 of the first production year","Production year adjustment ",1,"year","Adjusted for 1 year as the production starts Q4 of the first production year","Production year adjustment ",1,"year","Adjusted for 1 year as the production starts Q4 of the first production year","Production year adjustment ",1,"year","Adjusted for 1 year as the production starts Q4 of the first production year","Production year adjustment ",1,"year","Adjusted for 1 year as the production starts Q4 of the first production year","Production year adjustment ",1,"year","Adjusted for 1 year as the production starts Q4 of the first production year","Production year adjustment ",1,"year","Adjusted for 1 year as the production starts Q4 of the first production year","Production year adjustment ",1,"year","Adjusted for 1 year as the production starts Q4 of the first production year","Production year adjustment ",1,"year","Adjusted for 1 year as the production starts Q4 of the first production year","Production year adjustment ",1,"year","Adjusted for 1 year as the production starts Q4 of the first production year","Production year adjustment ",1,"year","Adjusted for 1 year as the production starts Q4 of the first production year","Production year adjustment ",1,"year","Adjusted for 1 year as the production starts Q4 of the first production year","Production year adjustment ",1,"year","Adjusted for 1 year as the production starts Q4 of the first production year","Production year adjustment ",1,"year","Adjusted for 1 year as the production starts Q4 of the first production year","Production year adjustment ",1,"year","Adjusted for 1 year as the production starts Q4 of the first production year","Production year adjustment ",1,"year","Adjusted for 1 year as the production starts Q4 of the first production year","Production year adjustment ",1,"year","Adjusted for 1 year as the production starts Q4 of the first production year","Production year adjustment ",1,"year","Adjusted for 1 year as the production starts Q4 of the first production year","Production year adjustment ",1,"year","Adjusted for 1 year as the production starts Q4 of the first production year","Production year adjustment ",1,"year","Adjusted for 1 year as the production starts Q4 of the first production year","Production year adjustment ",1,"year","Adjusted for 1 year as the production starts Q4 of the first production year","Production year adjustment ",1,"year","Adjusted for 1 year as the production starts Q4 of the first production year","Production year adjustment ",1,"year","Adjusted for 1 year as the production starts Q4 of the first production year","Production year adjustment ",1,"year","Adjusted for 1 year as the production starts Q4 of the first production year","Production year adjustment ",1,"year","Adjusted for 1 year as the production starts Q4 of the first production year","Production year adjustment ",1,"year","Adjusted for 1 year as the production starts Q4 of the first production year","Production year adjustment ",1,"year","Adjusted for 1 year as the production starts Q4 of the first production year","Production year adjustment ",1,"year","Adjusted for 1 year as the production starts Q4 of the first production year","Production year adjustment ",1,"year","Adjusted for 1 year as the production starts Q4 of the first production year","Production year adjustment ",1,"year","Adjusted for 1 year as the production starts Q4 of the first production year","Production year adjustment ",1,"year","Adjusted for 1 year as the production starts Q4 of the first production year","Production year adjustment ",1,"year","Adjusted for 1 year as the production starts Q4 of the first production year","Production year adjustment ",1,"year","Adjusted for 1 year as the production starts Q4 of the first production year","Production year adjustment ",1,"year","Adjusted for 1 year as the production starts Q4 of the first production year","Production year adjustment ",1,"year","Adjusted for 1 year as the production starts Q4 of the first production year","Production year adjustment ",1,"year","Adjusted for 1 year as the production starts Q4 of the first production year","Production year adjustment ",1,"year","Adjusted for 1 year as the production starts Q4 of the first production year","Production year adjustment ",1,"year","Adjusted for 1 year as the production starts Q4 of the first production year","Production year adjustment ",1,"year","Adjusted for 1 year as the production starts Q4 of the first production year","Production year adjustment ",1,"year","Adjusted for 1 year as the production starts Q4 of the first production year","Production year adjustment ",1,"year","Adjusted for 1 year as the production starts Q4 of the first production year","Production year adjustment ",1,"year","Adjusted for 1 year as the production starts Q4 of the first production year","Production year adjustment ",1,"year","Adjusted for 1 year as the production starts Q4 of the first production year","Production year adjustment ",1,"year","Adjusted for 1 year as the production starts Q4 of the first production year","Production year adjustment ",1,"year","Adjusted for 1 year as the production starts Q4 of the first production year","Production year adjustment ",1,"year","Adjusted for 1 year as the production starts Q4 of the first production year","Production year adjustment ",1,"year","Adjusted for 1 year as the production starts Q4 of the first production year","Production year adjustment ",1,"year","Adjusted for 1 year as the production starts Q4 of the first production year","Production year adjustment ",1,"year","Adjusted for 1 year as the production starts Q4 of the first production year","Production year adjustment ",1,"year","Adjusted for 1 year as the production starts Q4 of the first production year","Production year adjustment ",1,"year","Adjusted for 1 year as the production starts Q4 of the first production year","Production year adjustment ",1,"year","Adjusted for 1 year as the production starts Q4 of the first production year","Production year adjustment ",1,"year","Adjusted for 1 year as the production starts Q4 of the first production year","Production year adjustment ",1,"year","Adjusted for 1 year as the production starts Q4 of the first production year","Production year adjustment ",1,"year","Adjusted for 1 year as the production starts Q4 of the first production year","Production year adjustment ",1,"year","Adjusted for 1 year as the production starts Q4 of the first production year","Production year adjustment ",1,"year","Adjusted for 1 year as the production starts Q4 of the first production year","Production year adjustment ",1,"year","Adjusted for 1 year as the production starts Q4 of the first production year","Production year adjustment ",1,"year","Adjusted for 1 year as the production starts Q4 of the first production year","Production year adjustment ",1,"year","Adjusted for 1 year as the production starts Q4 of the first production year","Production year adjustment ",1,"year","Adjusted for 1 year as the production starts Q4 of the first production year","Production year adjustment ",1,"year","Adjusted for 1 year as the production starts Q4 of the first production year","Production year adjustment ",1,"year","Adjusted for 1 year as the production starts Q4 of the first production year","Production year adjustment ",1,"year","Adjusted for 1 year as the production starts Q4 of the first production year","Production year adjustment ",1,"year","Adjusted for 1 year as the production starts Q4 of the first production year","Production year adjustment ",1,"year","Adjusted for 1 year as the production starts Q4 of the first production year","Production year adjustment ",1,"year","Adjusted for 1 year as the production starts Q4 of the first production year","Production year adjustment ",1,"year","Adjusted for 1 year as the production starts Q4 of the first production year","Production year adjustment ",1,"year","Adjusted for 1 year as the production starts Q4 of the first production year","Production year adjustment ",1,"year","Adjusted for 1 year as the production starts Q4 of the first production year","Production year adjustment ",1,"year","Adjusted for 1 year as the production starts Q4 of the first production year","Production year adjustment ",1,"year","Adjusted for 1 year as the production starts Q4 of the first production year","Production year adjustment ",1,"year","Adjusted for 1 year as the production starts Q4 of the first production year","Production year adjustment ",1,"year","Adjusted for 1 year as the production starts Q4 of the first production year","Production year adjustment ",1,"year","Adjusted for 1 year as the production starts Q4 of the first production year","Production year adjustment ",1,"year","Adjusted for 1 year as the production starts Q4 of the first production year","Production year adjustment ",1,"year","Adjusted for 1 year as the production starts Q4 of the first production year","Production year adjustment ",1,"year","Adjusted for 1 year as the production starts Q4 of the first production year","Production year adjustment ",1,"year","Adjusted for 1 year as the production starts Q4 of the first production year","Production year adjustment ",1,"year","Adjusted for 1 year as the production starts Q4 of the first production year","Production year adjustment ",1,"year","Adjusted for 1 year as the production starts Q4 of the first production year","Production year adjustment ",1,"year","Adjusted for 1 year as the production starts Q4 of the first production year","Production year adjustment ",1,"year","Adjusted for 1 year as the production starts Q4 of the first production year","Production year adjustment ",1,"year","Adjusted for 1 year as the production starts Q4 of the first production year","Production year adjustment ",1,"year","Adjusted for 1 year as the production starts Q4 of the first production year","Production year adjustment ",1,"year","Adjusted for 1 year as the production starts Q4 of the first production year","Production year adjustment ",1,"year","Adjusted for 1 year as the production starts Q4 of the first production year","Production year adjustment ",1,"year","Adjusted for 1 year as the production starts Q4 of the first production year","Production year adjustment ",1,"year","Adjusted for 1 year as the production starts Q4 of the first production year","Production year adjustment ",1,"year","Adjusted for 1 year as the production starts Q4 of the first production year","Production year adjustment ",1,"year","Adjusted for 1 year as the production starts Q4 of the first production year","Production year adjustment ",1,"year","Adjusted for 1 year as the production starts Q4 of the first production year","Production year adjustment ",1,"year","Adjusted for 1 year as the production starts Q4 of the first production year","Production year adjustment ",1,"year","Adjusted for 1 year as the production starts Q4 of the first production year","Production year adjustment ",1,"year","Adjusted for 1 year as the production starts Q4 of the first production year","Production year adjustment ",1,"year","Adjusted for 1 year as the production starts Q4 of the first production year","Production year adjustment ",1,"year","Adjusted for 1 year as the production starts Q4 of the first production year","Production year adjustment ",1,"year","Adjusted for 1 year as the production starts Q4 of the first production year","Production year adjustment ",1,"year","Adjusted for 1 year as the production starts Q4 of the first production year","Production year adjustment ",1,"year","Adjusted for 1 year as the production starts Q4 of the first production year","Production year adjustment ",1,"year","Adjusted for 1 year as the production starts Q4 of the first production year","Production year adjustment ",1,"year","Adjusted for 1 year as the production starts Q4 of the first production year","Production year adjustment ",1,"year","Adjusted for 1 year as the production starts Q4 of the first production year","Production year adjustment ",1,"year","Adjusted for 1 year as the production starts Q4 of the first production year","Production year adjustment ",1,"year","Adjusted for 1 year as the production starts Q4 of the first production year","Production year adjustment ",1,"year","Adjusted for 1 year as the production starts Q4 of the first production year","Production year adjustment ",1,"year","Adjusted for 1 year as the production starts Q4 of the first production year","Production year adjustment ",1,"year","Adjusted for 1 year as the production starts Q4 of the first production year","Production year adjustment ",1,"year","Adjusted for 1 year as the production starts Q4 of the first production year","Production year adjustment ",1,"year","Adjusted for 1 year as the production starts Q4 of the first production year","Production year adjustment ",1,"year","Adjusted for 1 year as the production starts Q4 of the first production year","Production year adjustment ",1,"year","Adjusted for 1 year as the production starts Q4 of the first production year","Production year adjustment ",1,"year","Adjusted for 1 year as the production starts Q4 of the first production year","Production year adjustment ",1,"year","Adjusted for 1 year as the production starts Q4 of the first production year","Production year adjustment ",1,"year","Adjusted for 1 year as the production starts Q4 of the first production year","Production year adjustment ",1,"year","Adjusted for 1 year as the production starts Q4 of the first production year","Production year adjustment ",1,"year","Adjusted for 1 year as the production starts Q4 of the first production year","Production year adjustment ",1,"year","Adjusted for 1 year as the production starts Q4 of the first production year","Production year adjustment ",1,"year","Adjusted for 1 year as the production starts Q4 of the first production year","Production year adjustment ",1,"year","Adjusted for 1 year as the production starts Q4 of the first production year","Production year adjustment ",1,"year","Adjusted for 1 year as the production starts Q4 of the first production year","Production year adjustment ",1,"year","Adjusted for 1 year as the production starts Q4 of the first production year","Production year adjustment ",1,"year","Adjusted for 1 year as the production starts Q4 of the first production year","Production year adjustment ",1,"year","Adjusted for 1 year as the production starts Q4 of the first production year","Production year adjustment ",1,"year","Adjusted for 1 year as the production starts Q4 of the first production year","Production year adjustment ",1,"year","Adjusted for 1 year as the production starts Q4 of the first production year","Production year adjustment ",1,"year","Adjusted for 1 year as the production starts Q4 of the first production year","Production year adjustment ",1,"year","Adjusted for 1 year as the production starts Q4 of the first production year","Production year adjustment ",1,"year","Adjusted for 1 year as the production starts Q4 of the first production year","Production year adjustment ",1,"year","Adjusted for 1 year as the production starts Q4 of the first production year","Production year adjustment ",1,"year","Adjusted for 1 year as the production starts Q4 of the first production year","Production year adjustment ",1,"year","Adjusted for 1 year as the production starts Q4 of the first production year","Production year adjustment ",1,"year","Adjusted for 1 year as the production starts Q4 of the first production year","Production year adjustment ",1,"year","Adjusted for 1 year as the production starts Q4 of the first production year","Production year adjustment ",1,"year","Adjusted for 1 year as the production starts Q4 of the first production year","Production year adjustment ",1,"year","Adjusted for 1 year as the production starts Q4 of the first production year","Production year adjustment ",1,"year","Adjusted for 1 year as the production starts Q4 of the first production year","Production year adjustment ",1,"year","Adjusted for 1 year as the production starts Q4 of the first production year","Production year adjustment ",1,"year","Adjusted for 1 year as the production starts Q4 of the first production year","Production year adjustment ",1,"year","Adjusted for 1 year as the production starts Q4 of the first production year","Production year adjustment ",1,"year","Adjusted for 1 year as the production starts Q4 of the first production year","Production year adjustment ",1,"year","Adjusted for 1 year as the production starts Q4 of the first production year","Production year adjustment ",1,"year","Adjusted for 1 year as the production starts Q4 of the first production year","Production year adjustment ",1,"year","Adjusted for 1 year as the production starts Q4 of the first production year","Production year adjustment ",1,"year","Adjusted for 1 year as the production starts Q4 of the first production year","Production year adjustment ",1,"year","Adjusted for 1 year as the production starts Q4 of the first production year","Production year adjustment ",1,"year","Adjusted for 1 year as the production starts Q4 of the first production year","Production year adjustment ",1,"year","Adjusted for 1 year as the production starts Q4 of the first production year","Production year adjustment ",1,"year","Adjusted for 1 year as the production starts Q4 of the first production year","Production year adjustment ",1,"year","Adjusted for 1 year as the production starts Q4 of the first production year","Production year adjustment ",1,"year","Adjusted for 1 year as the production starts Q4 of the first production year","Production year adjustment ",1,"year","Adjusted for 1 year as the production starts Q4 of the first production year","Production year adjustment ",1,"year","Adjusted for 1 year as the production starts Q4 of the first production year","Production year adjustment ",1,"year","Adjusted for 1 year as the production starts Q4 of the first production year","Production year adjustment ",1,"year","Adjusted for 1 year as the production starts Q4 of the first production year","Production year adjustment ",1,"year","Adjusted for 1 year as the production starts Q4 of the first production year","Production year adjustment ",1,"year","Adjusted for 1 year as the production starts Q4 of the first production year","Production year adjustment ",1,"year","Adjusted for 1 year as the production starts Q4 of the first production year","Production year adjustment ",1,"year","Adjusted for 1 year as the production starts Q4 of the first production year","Production year adjustment ",1,"year","Adjusted for 1 year as the production starts Q4 of the first production year","Production year adjustment ",1,"year","Adjusted for 1 year as the production starts Q4 of the first production year","Production year adjustment ",1,"year","Adjusted for 1 year as the production starts Q4 of the first production year","Production year adjustment ",1,"year","Adjusted for 1 year as the production starts Q4 of the first production year","Production year adjustment ",1,"year","Adjusted for 1 year as the production starts Q4 of the first production year","Production year adjustment ",1,"year","Adjusted for 1 year as the production starts Q4 of the first production year","Production year adjustment ",1,"year","Adjusted for 1 year as the production starts Q4 of the first production year","Production year adjustment ",1,"year","Adjusted for 1 year as the production starts Q4 of the first production year","Production year adjustment ",1,"year","Adjusted for 1 year as the production starts Q4 of the first production year","Production year adjustment ",1,"year","Adjusted for 1 year as the production starts Q4 of the first production year","Production year adjustment ",1,"year","Adjusted for 1 year as the production starts Q4 of the first production year","Production year adjustment ",1,"year","Adjusted for 1 year as the production starts Q4 of the first production year","Production year adjustment ",1,"year","Adjusted for 1 year as the production starts Q4 of the first production year","Production year adjustment ",1,"year","Adjusted for 1 year as the production starts Q4 of the first production year","Production year adjustment ",1,"year","Adjusted for 1 year as the production starts Q4 of the first production year","Production year adjustment ",1,"year","Adjusted for 1 year as the production starts Q4 of the first production year","Production year adjustment ",1,"year","Adjusted for 1 year as the production starts Q4 of the first production year","Production year adjustment ",1,"year","Adjusted for 1 year as the production starts Q4 of the first production year","Production year adjustment ",1,"year","Adjusted for 1 year as the production starts Q4 of the first production year","Production year adjustment ",1,"year","Adjusted for 1 year as the production starts Q4 of the first production year","Production year adjustment ",1,"year","Adjusted for 1 year as the production starts Q4 of the first production year","Production year adjustment ",1,"year","Adjusted for 1 year as the production starts Q4 of the first production year","Production year adjustment ",1,"year","Adjusted for 1 year as the production starts Q4 of the first production year","Production year adjustment ",1,"year","Adjusted for 1 year as the production starts Q4 of the first production year","Production year adjustment ",1,"year","Adjusted for 1 year as the production starts Q4 of the first production year","Production year adjustment ",1,"year","Adjusted for 1 year as the production starts Q4 of the first production year","Production year adjustment ",1,"year","Adjusted for 1 year as the production starts Q4 of the first production year","Production year adjustment ",1,"year","Adjusted for 1 year as the production starts Q4 of the first production year","Production year adjustment ",1,"year","Adjusted for 1 year as the production starts Q4 of the first production year","Production year adjustment ",1,"year","Adjusted for 1 year as the production starts Q4 of the first production year","Production year adjustment ",1,"year","Adjusted for 1 year as the production starts Q4 of the first production year","Production year adjustment ",1,"year","Adjusted for 1 year as the production starts Q4 of the first production year","Production year adjustment ",1,"year","Adjusted for 1 year as the production starts Q4 of the first production year","Production year adjustment ",1,"year","Adjusted for 1 year as the production starts Q4 of the first production year","Production year adjustment ",1,"year","Adjusted for 1 year as the production starts Q4 of the first production year","Production year adjustment ",1,"year","Adjusted for 1 year as the production starts Q4 of the first production year","Production year adjustment ",1,"year","Adjusted for 1 year as the production starts Q4 of the first production year","Production year adjustment ",1,"year","Adjusted for 1 year as the production starts Q4 of the first production year","Production year adjustment ",1,"year","Adjusted for 1 year as the production starts Q4 of the first production year","Production year adjustment ",1,"year","Adjusted for 1 year as the production starts Q4 of the first production year","Production year adjustment ",1,"year","Adjusted for 1 year as the production starts Q4 of the first production year","Production year adjustment ",1,"year","Adjusted for 1 year as the production starts Q4 of the first production year","Production year adjustment ",1,"year","Adjusted for 1 year as the production starts Q4 of the first production year","Production year adjustment ",1,"year","Adjusted for 1 year as the production starts Q4 of the first production year","Production year adjustment ",1,"year","Adjusted for 1 year as the production starts Q4 of the first production year","Production year adjustment ",1,"year","Adjusted for 1 year as the production starts Q4 of the first production year","Production year adjustment ",1,"year","Adjusted for 1 year as the production starts Q4 of the first production year","Production year adjustment ",1,"year","Adjusted for 1 year as the production starts Q4 of the first production year","Production year adjustment ",1,"year","Adjusted for 1 year as the production starts Q4 of the first production year","Production year adjustment ",1,"year","Adjusted for 1 year as the production starts Q4 of the first production year","Production year adjustment ",1,"year","Adjusted for 1 year as the production starts Q4 of the first production year","Production year adjustment ",1,"year","Adjusted for 1 year as the production starts Q4 of the first production year","Production year adjustment ",1,"year","Adjusted for 1 year as the production starts Q4 of the first production year","Production year adjustment ",1,"year","Adjusted for 1 year as the production starts Q4 of the first production year","Production year adjustment ",1,"year","Adjusted for 1 year as the production starts Q4 of the first production year","Production year adjustment ",1,"year","Adjusted for 1 year as the production starts Q4 of the first production year","Production year adjustment ",1,"year","Adjusted for 1 year as the production starts Q4 of the first production year","Production year adjustment ",1,"year","Adjusted for 1 year as the production starts Q4 of the first production year","Production year adjustment ",1,"year","Adjusted for 1 year as the production starts Q4 of the first production year","Production year adjustment ",1,"year","Adjusted for 1 year as the production starts Q4 of the first production year","Production year adjustment ",1,"year","Adjusted for 1 year as the production starts Q4 of the first production year","Production year adjustment ",1,"year","Adjusted for 1 year as the production starts Q4 of the first production year","Production year adjustment ",1,"year","Adjusted for 1 year as the production starts Q4 of the first production year","Production year adjustment ",1,"year","Adjusted for 1 year as the production starts Q4 of the first production year","Production year adjustment ",1,"year","Adjusted for 1 year as the production starts Q4 of the first production year","Production year adjustment ",1,"year","Adjusted for 1 year as the production starts Q4 of the first production year","Production year adjustment ",1,"year","Adjusted for 1 year as the production starts Q4 of the first production year","Production year adjustment ",1,"year","Adjusted for 1 year as the production starts Q4 of the first production year","Production year adjustment ",1,"year","Adjusted for 1 year as the production starts Q4 of the first production year","Production year adjustment ",1,"year","Adjusted for 1 year as the production starts Q4 of the first production year","Production year adjustment ",1,"year","Adjusted for 1 year as the production starts Q4 of the first production year","Production year adjustment ",1,"year","Adjusted for 1 year as the production starts Q4 of the first production year","Production year adjustment ",1,"year","Adjusted for 1 year as the production starts Q4 of the first production year","Production year adjustment ",1,"year","Adjusted for 1 year as the production starts Q4 of the first production year","Production year adjustment ",1,"year","Adjusted for 1 year as the production starts Q4 of the first production year","Production year adjustment ",1,"year","Adjusted for 1 year as the production starts Q4 of the first production year","Production year adjustment ",1,"year","Adjusted for 1 year as the production starts Q4 of the first production year","Production year adjustment ",1,"year","Adjusted for 1 year as the production starts Q4 of the first production year","Production year adjustment ",1,"year","Adjusted for 1 year as the production starts Q4 of the first production year","Production year adjustment ",1,"year","Adjusted for 1 year as the production starts Q4 of the first production year","Production year adjustment ",1,"year","Adjusted for 1 year as the production starts Q4 of the first production year","Production year adjustment ",1,"year","Adjusted for 1 year as the production starts Q4 of the first production year","Production year adjustment ",1,"year","Adjusted for 1 year as the production starts Q4 of the first production year","Production year adjustment ",1,"year","Adjusted for 1 year as the production starts Q4 of the first production year","Production year adjustment ",1,"year","Adjusted for 1 year as the production starts Q4 of the first production year","Production year adjustment ",1,"year","Adjusted for 1 year as the production starts Q4 of the first production year","Production year adjustment ",1,"year","Adjusted for 1 year as the production starts Q4 of the first production year","Production year adjustment ",1,"year","Adjusted for 1 year as the production starts Q4 of the first production year","Production year adjustment ",1,"year","Adjusted for 1 year as the production starts Q4 of the first production year","Production year adjustment ",1,"year","Adjusted for 1 year as the production starts Q4 of the first production year","Production year adjustment ",1,"year","Adjusted for 1 year as the production starts Q4 of the first production year","Production year adjustment ",1,"year","Adjusted for 1 year as the production starts Q4 of the first production year","Production year adjustment ",1,"year","Adjusted for 1 year as the production starts Q4 of the first production year","Production year adjustment ",1,"year","Adjusted for 1 year as the production starts Q4 of the first production year","Production year adjustment ",1,"year","Adjusted for 1 year as the production starts Q4 of the first production year","Production year adjustment ",1,"year","Adjusted for 1 year as the production starts Q4 of the first production year","Production year adjustment ",1,"year","Adjusted for 1 year as the production starts Q4 of the first production year","Production year adjustment ",1,"year","Adjusted for 1 year as the production starts Q4 of the first production year","Production year adjustment ",1,"year","Adjusted for 1 year as the production starts Q4 of the first production year","Production year adjustment ",1,"year","Adjusted for 1 year as the production starts Q4 of the first production year","Production year adjustment ",1,"year","Adjusted for 1 year as the production starts Q4 of the first production year","Production year adjustment ",1,"year","Adjusted for 1 year as the production starts Q4 of the first production year","Production year adjustment ",1,"year","Adjusted for 1 year as the production starts Q4 of the first production year","Production year adjustment ",1,"year","Adjusted for 1 year as the production starts Q4 of the first production year","Production year adjustment ",1,"year","Adjusted for 1 year as the production starts Q4 of the first production year","Production year adjustment ",1,"year","Adjusted for 1 year as the production starts Q4 of the first production year","Production year adjustment ",1,"year","Adjusted for 1 year as the production starts Q4 of the first production year","Production year adjustment ",1,"year","Adjusted for 1 year as the production starts Q4 of the first production year","Production year adjustment ",1,"year","Adjusted for 1 year as the production starts Q4 of the first production year","Production year adjustment ",1,"year","Adjusted for 1 year as the production starts Q4 of the first production year","Production year adjustment ",1,"year","Adjusted for 1 year as the production starts Q4 of the first production year","Production year adjustment ",1,"year","Adjusted for 1 year as the production starts Q4 of the first production year","Production year adjustment ",1,"year","Adjusted for 1 year as the production starts Q4 of the first production year","Production year adjustment ",1,"year","Adjusted for 1 year as the production starts Q4 of the first production year","Production year adjustment ",1,"year","Adjusted for 1 year as the production starts Q4 of the first production year","Production year adjustment ",1,"year","Adjusted for 1 year as the production starts Q4 of the first production year","Production year adjustment ",1,"year","Adjusted for 1 year as the production starts Q4 of the first production year","Production year adjustment ",1,"year","Adjusted for 1 year as the production starts Q4 of the first production year","Production year adjustment ",1,"year","Adjusted for 1 year as the production starts Q4 of the first production year","Production year adjustment ",1,"year","Adjusted for 1 year as the production starts Q4 of the first production year","Production year adjustment ",1,"year","Adjusted for 1 year as the production starts Q4 of the first production year","Production year adjustment ",1,"year","Adjusted for 1 year as the production starts Q4 of the first production year","Production year adjustment ",1,"year","Adjusted for 1 year as the production starts Q4 of the first production year","Production year adjustment ",1,"year","Adjusted for 1 year as the production starts Q4 of the first production year","Production year adjustment ",1,"year","Adjusted for 1 year as the production starts Q4 of the first production year","Production year adjustment ",1,"year","Adjusted for 1 year as the production starts Q4 of the first production year","Production year adjustment ",1,"year","Adjusted for 1 year as the production starts Q4 of the first production year","Production year adjustment ",1,"year","Adjusted for 1 year as the production starts Q4 of the first production year","Production year adjustment ",1,"year","Adjusted for 1 year as the production starts Q4 of the first production year","Production year adjustment ",1,"year","Adjusted for 1 year as the production starts Q4 of the first production year","Production year adjustment ",1,"year","Adjusted for 1 year as the production starts Q4 of the first production year","Production year adjustment ",1,"year","Adjusted for 1 year as the production starts Q4 of the first production year","Production year adjustment ",1,"year","Adjusted for 1 year as the production starts Q4 of the first production year","Production year adjustment ",1,"year","Adjusted for 1 year as the production starts Q4 of the first production year","Production year adjustment ",1,"year","Adjusted for 1 year as the production starts Q4 of the first production year","Production year adjustment ",1,"year","Adjusted for 1 year as the production starts Q4 of the first production year","Production year adjustment ",1,"year","Adjusted for 1 year as the production starts Q4 of the first production year","Production year adjustment ",1,"year","Adjusted for 1 year as the production starts Q4 of the first production year","Production year adjustment ",1,"year","Adjusted for 1 year as the production starts Q4 of the first production year","Production year adjustment ",1,"year","Adjusted for 1 year as the production starts Q4 of the first production year","Production year adjustment ",1,"year","Adjusted for 1 year as the production starts Q4 of the first production year","Production year adjustment ",1,"year","Adjusted for 1 year as the production starts Q4 of the first production year","Production year adjustment ",1,"year","Adjusted for 1 year as the production starts Q4 of the first production year","Production year adjustment ",1,"year","Adjusted for 1 year as the production starts Q4 of the first production year","Production year adjustment ",1,"year","Adjusted for 1 year as the production starts Q4 of the first production year","Production year adjustment ",1,"year","Adjusted for 1 year as the production starts Q4 of the first production year","Production year adjustment ",1,"year","Adjusted for 1 year as the production starts Q4 of the first production year","Production year adjustment ",1,"year","Adjusted for 1 year as the production starts Q4 of the first production year","Production year adjustment ",1,"year","Adjusted for 1 year as the production starts Q4 of the first production year","Production year adjustment ",1,"year","Adjusted for 1 year as the production starts Q4 of the first production year","Production year adjustment ",1,"year","Adjusted for 1 year as the production starts Q4 of the first production year","Production year adjustment ",1,"year","Adjusted for 1 year as the production starts Q4 of the first production year","Production year adjustment ",1,"year","Adjusted for 1 year as the production starts Q4 of the first production year","Production year adjustment ",1,"year","Adjusted for 1 year as the production starts Q4 of the first production year","Production year adjustment ",1,"year","Adjusted for 1 year as the production starts Q4 of the first production year","Production year adjustment ",1,"year","Adjusted for 1 year as the production starts Q4 of the first production year","Production year adjustment ",1,"year","Adjusted for 1 year as the production starts Q4 of the first production year","Production year adjustment ",1,"year","Adjusted for 1 year as the production starts Q4 of the first production year","Production year adjustment ",1,"year","Adjusted for 1 year as the production starts Q4 of the first production year","Production year adjustment ",1,"year","Adjusted for 1 year as the production starts Q4 of the first production year","Production year adjustment ",1,"year","Adjusted for 1 year as the production starts Q4 of the first production year","Production year adjustment ",1,"year","Adjusted for 1 year as the production starts Q4 of the first production year","Production year adjustment ",1,"year","Adjusted for 1 year as the production starts Q4 of the first production year","Production year adjustment ",1,"year","Adjusted for 1 year as the production starts Q4 of the first production year","Production year adjustment ",1,"year","Adjusted for 1 year as the production starts Q4 of the first production year","Production year adjustment ",1,"year","Adjusted for 1 year as the production starts Q4 of the first production year","Production year adjustment ",1,"year","Adjusted for 1 year as the production starts Q4 of the first production year","Production year adjustment ",1,"year","Adjusted for 1 year as the production starts Q4 of the first production year","Production year adjustment ",1,"year","Adjusted for 1 year as the production starts Q4 of the first production year","Production year adjustment ",1,"year","Adjusted for 1 year as the production starts Q4 of the first production year","Production year adjustment ",1,"year","Adjusted for 1 year as the production starts Q4 of the first production year","Production year adjustment ",1,"year","Adjusted for 1 year as the production starts Q4 of the first production year","Production year adjustment ",1,"year","Adjusted for 1 year as the production starts Q4 of the first production year","Production year adjustment ",1,"year","Adjusted for 1 year as the production starts Q4 of the first production year","Production year adjustment ",1,"year","Adjusted for 1 year as the production starts Q4 of the first production year","Production year adjustment ",1,"year","Adjusted for 1 year as the production starts Q4 of the first production year","Production year adjustment ",1,"year","Adjusted for 1 year as the production starts Q4 of the first production year","Production year adjustment ",1,"year","Adjusted for 1 year as the production starts Q4 of the first production year","Production year adjustment ",1,"year","Adjusted for 1 year as the production starts Q4 of the first production year","Production year adjustment ",1,"year","Adjusted for 1 year as the production starts Q4 of the first production year","Production year adjustment ",1,"year","Adjusted for 1 year as the production starts Q4 of the first production year","Production year adjustment ",1,"year","Adjusted for 1 year as the production starts Q4 of the first production year","Production year adjustment ",1,"year","Adjusted for 1 year as the production starts Q4 of the first production year","Production year adjustment ",1,"year","Adjusted for 1 year as the production starts Q4 of the first production year","Production year adjustment ",1,"year","Adjusted for 1 year as the production starts Q4 of the first production year","Production year adjustment ",1,"year","Adjusted for 1 year as the production starts Q4 of the first production year","Production year adjustment ",1,"year","Adjusted for 1 year as the production starts Q4 of the first production year","Production year adjustment ",1,"year","Adjusted for 1 year as the production starts Q4 of the first production year","Production year adjustment ",1,"year","Adjusted for 1 year as the production starts Q4 of the first production year","Production year adjustment ",1,"year","Adjusted for 1 year as the production starts Q4 of the first production year","Production year adjustment ",1,"year","Adjusted for 1 year as the production starts Q4 of the first production year","Production year adjustment ",1,"year","Adjusted for 1 year as the production starts Q4 of the first production year","Production year adjustment ",1,"year","Adjusted for 1 year as the production starts Q4 of the first production year","Production year adjustment ",1,"year","Adjusted for 1 year as the production starts Q4 of the first production year","Production year adjustment ",1,"year","Adjusted for 1 year as the production starts Q4 of the first production year","Production year adjustment ",1,"year","Adjusted for 1 year as the production starts Q4 of the first production year","Production year adjustment ",1,"year","Adjusted for 1 year as the production starts Q4 of the first production year","Production year adjustment ",1,"year","Adjusted for 1 year as the production starts Q4 of the first production year","Production year adjustment ",1,"year","Adjusted for 1 year as the production starts Q4 of the first production year","Production year adjustment ",1,"year","Adjusted for 1 year as the production starts Q4 of the first production year","Production year adjustment ",1,"year","Adjusted for 1 year as the production starts Q4 of the first production year","Production year adjustment ",1,"year","Adjusted for 1 year as the production starts Q4 of the first production year","Production year adjustment ",1,"year","Adjusted for 1 year as the production starts Q4 of the first production year","Production year adjustment ",1,"year","Adjusted for 1 year as the production starts Q4 of the first production year","Production year adjustment ",1,"year","Adjusted for 1 year as the production starts Q4 of the first production year","Production year adjustment ",1,"year","Adjusted for 1 year as the production starts Q4 of the first production year","Production year adjustment ",1,"year","Adjusted for 1 year as the production starts Q4 of the first production year","Production year adjustment ",1,"year","Adjusted for 1 year as the production starts Q4 of the first production year","Production year adjustment ",1,"year","Adjusted for 1 year as the production starts Q4 of the first production year","Production year adjustment ",1,"year","Adjusted for 1 year as the production starts Q4 of the first production year","Production year adjustment ",1,"year","Adjusted for 1 year as the production starts Q4 of the first production year","Production year adjustment ",1,"year","Adjusted for 1 year as the production starts Q4 of the first production year","Production year adjustment ",1,"year","Adjusted for 1 year as the production starts Q4 of the first production year","Production year adjustment ",1,"year","Adjusted for 1 year as the production starts Q4 of the first production year","Production year adjustment ",1,"year","Adjusted for 1 year as the production starts Q4 of the first production year","Production year adjustment ",1,"year","Adjusted for 1 year as the production starts Q4 of the first production year","Production year adjustment ",1,"year","Adjusted for 1 year as the production starts Q4 of the first production year","Production year adjustment ",1,"year","Adjusted for 1 year as the production starts Q4 of the first production year","Production year adjustment ",1,"year","Adjusted for 1 year as the production starts Q4 of the first production year","Production year adjustment ",1,"year","Adjusted for 1 year as the production starts Q4 of the first production year","Production year adjustment ",1,"year","Adjusted for 1 year as the production starts Q4 of the first production year","Production year adjustment ",1,"year","Adjusted for 1 year as the production starts Q4 of the first production year","Production year adjustment ",1,"year","Adjusted for 1 year as the production starts Q4 of the first production year","Production year adjustment ",1,"year","Adjusted for 1 year as the production starts Q4 of the first production year","Production year adjustment ",1,"year","Adjusted for 1 year as the production starts Q4 of the first production year","Production year adjustment ",1,"year","Adjusted for 1 year as the production starts Q4 of the first production year","Production year adjustment ",1,"year","Adjusted for 1 year as the production starts Q4 of the first production year","Production year adjustment ",1,"year","Adjusted for 1 year as the production starts Q4 of the first production year","Production year adjustment ",1,"year","Adjusted for 1 year as the production starts Q4 of the first production year","Production year adjustment ",1,"year","Adjusted for 1 year as the production starts Q4 of the first production year","Production year adjustment ",1,"year","Adjusted for 1 year as the production starts Q4 of the first production year","Production year adjustment ",1,"year","Adjusted for 1 year as the production starts Q4 of the first production year","Production year adjustment ",1,"year","Adjusted for 1 year as the production starts Q4 of the first production year","Production year adjustment ",1,"year","Adjusted for 1 year as the production starts Q4 of the first production year","Production year adjustment ",1,"year","Adjusted for 1 year as the production starts Q4 of the first production year","Production year adjustment ",1,"year","Adjusted for 1 year as the production starts Q4 of the first production year","Production year adjustment ",1,"year","Adjusted for 1 year as the production starts Q4 of the first production year","Production year adjustment ",1,"year","Adjusted for 1 year as the production starts Q4 of the first production year","Production year adjustment ",1,"year","Adjusted for 1 year as the production starts Q4 of the first production year","Production year adjustment ",1,"year","Adjusted for 1 year as the production starts Q4 of the first production year","Production year adjustment ",1,"year","Adjusted for 1 year as the production starts Q4 of the first production year","Production year adjustment ",1,"year","Adjusted for 1 year as the production starts Q4 of the first production year","Production year adjustment ",1,"year","Adjusted for 1 year as the production starts Q4 of the first production year","Production year adjustment ",1,"year","Adjusted for 1 year as the production starts Q4 of the first production year","Production year adjustment ",1,"year","Adjusted for 1 year as the production starts Q4 of the first production year","Production year adjustment ",1,"year","Adjusted for 1 year as the production starts Q4 of the first production year","Production year adjustment ",1,"year","Adjusted for 1 year as the production starts Q4 of the first production year","Production year adjustment ",1,"year","Adjusted for 1 year as the production starts Q4 of the first production year","Production year adjustment ",1,"year","Adjusted for 1 year as the production starts Q4 of the first production year","Production year adjustment ",1,"year","Adjusted for 1 year as the production starts Q4 of the first production year","Production year adjustment ",1,"year","Adjusted for 1 year as the production starts Q4 of the first production year","Production year adjustment ",1,"year","Adjusted for 1 year as the production starts Q4 of the first production year","Production year adjustment ",1,"year","Adjusted for 1 year as the production starts Q4 of the first production year","Production year adjustment ",1,"year","Adjusted for 1 year as the production starts Q4 of the first production year","Production year adjustment ",1,"year","Adjusted for 1 year as the production starts Q4 of the first production year","Production year adjustment ",1,"year","Adjusted for 1 year as the production starts Q4 of the first production year","Production year adjustment ",1,"year","Adjusted for 1 year as the production starts Q4 of the first production year","Production year adjustment ",1,"year","Adjusted for 1 year as the production starts Q4 of the first production year","Production year adjustment ",1,"year","Adjusted for 1 year as the production starts Q4 of the first production year","Production year adjustment ",1,"year","Adjusted for 1 year as the production starts Q4 of the first production year","Production year adjustment ",1,"year","Adjusted for 1 year as the production starts Q4 of the first production year","Production year adjustment ",1,"year","Adjusted for 1 year as the production starts Q4 of the first production year","Production year adjustment ",1,"year","Adjusted for 1 year as the production starts Q4 of the first production year","Production year adjustment ",1,"year","Adjusted for 1 year as the production starts Q4 of the first production year","Production year adjustment ",1,"year","Adjusted for 1 year as the production starts Q4 of the first production year","Production year adjustment ",1,"year","Adjusted for 1 year as the production starts Q4 of the first production year","Production year adjustment ",1,"year","Adjusted for 1 year as the production starts Q4 of the first production year","Production year adjustment ",1,"year","Adjusted for 1 year as the production starts Q4 of the first production year","Production year adjustment ",1,"year","Adjusted for 1 year as the production starts Q4 of the first production year","Production year adjustment ",1,"year","Adjusted for 1 year as the production starts Q4 of the first production year","Production year adjustment ",1,"year","Adjusted for 1 year as the production starts Q4 of the first production year","Production year adjustment ",1,"year","Adjusted for 1 year as the production starts Q4 of the first production year","Production year adjustment ",1,"year","Adjusted for 1 year as the production starts Q4 of the first production year","Production year adjustment ",1,"year","Adjusted for 1 year as the production starts Q4 of the first production year","Production year adjustment ",1,"year","Adjusted for 1 year as the production starts Q4 of the first production year","Production year adjustment ",1,"year","Adjusted for 1 year as the production starts Q4 of the first production year","Production year adjustment ",1,"year","Adjusted for 1 year as the production starts Q4 of the first production year","Production year adjustment ",1,"year","Adjusted for 1 year as the production starts Q4 of the first production year","Production year adjustment ",1,"year","Adjusted for 1 year as the production starts Q4 of the first production year","Production year adjustment ",1,"year","Adjusted for 1 year as the production starts Q4 of the first production year","Production year adjustment ",1,"year","Adjusted for 1 year as the production starts Q4 of the first production year","Production year adjustment ",1,"year","Adjusted for 1 year as the production starts Q4 of the first production year","Production year adjustment ",1,"year","Adjusted for 1 year as the production starts Q4 of the first production year","Production year adjustment ",1,"year","Adjusted for 1 year as the production starts Q4 of the first production year","Production year adjustment ",1,"year","Adjusted for 1 year as the production starts Q4 of the first production year","Production year adjustment ",1,"year","Adjusted for 1 year as the production starts Q4 of the first production year","Production year adjustment ",1,"year","Adjusted for 1 year as the production starts Q4 of the first production year","Production year adjustment ",1,"year","Adjusted for 1 year as the production starts Q4 of the first production year","Production year adjustment ",1,"year","Adjusted for 1 year as the production starts Q4 of the first production year","Production year adjustment ",1,"year","Adjusted for 1 year as the production starts Q4 of the first production year","Production year adjustment ",1,"year","Adjusted for 1 year as the production starts Q4 of the first production year","Production year adjustment ",1,"year","Adjusted for 1 year as the production starts Q4 of the first production year","Production year adjustment ",1,"year","Adjusted for 1 year as the production starts Q4 of the first production year","Production year adjustment ",1,"year","Adjusted for 1 year as the production starts Q4 of the first production year","Production year adjustment ",1,"year","Adjusted for 1 year as the production starts Q4 of the first production year","Production year adjustment ",1,"year","Adjusted for 1 year as the production starts Q4 of the first production year","Production year adjustment ",1,"year","Adjusted for 1 year as the production starts Q4 of the first production year","Production year adjustment ",1,"year","Adjusted for 1 year as the production starts Q4 of the first production year","Production year adjustment ",1,"year","Adjusted for 1 year as the production starts Q4 of the first production year","Production year adjustment ",1,"year","Adjusted for 1 year as the production starts Q4 of the first production year","Production year adjustment ",1,"year","Adjusted for 1 year as the production starts Q4 of the first production year","Production year adjustment ",1,"year","Adjusted for 1 year as the production starts Q4 of the first production year","Production year adjustment ",1,"year","Adjusted for 1 year as the production starts Q4 of the first production year","Production year adjustment ",1,"year","Adjusted for 1 year as the production starts Q4 of the first production year","Production year adjustment ",1,"year","Adjusted for 1 year as the production starts Q4 of the first production year","Production year adjustment ",1,"year","Adjusted for 1 year as the production starts Q4 of the first production year","Production year adjustment ",1,"year","Adjusted for 1 year as the production starts Q4 of the first production year","Production year adjustment ",1,"year","Adjusted for 1 year as the production starts Q4 of the first production year","Production year adjustment ",1,"year","Adjusted for 1 year as the production starts Q4 of the first production year","Production year adjustment ",1,"year","Adjusted for 1 year as the production starts Q4 of the first production year","Production year adjustment ",1,"year","Adjusted for 1 year as the production starts Q4 of the first production year","Production year adjustment ",1,"year","Adjusted for 1 year as the production starts Q4 of the first production year","Production year adjustment ",1,"year","Adjusted for 1 year as the production starts Q4 of the first production year","Production year adjustment ",1,"year","Adjusted for 1 year as the production starts Q4 of the first production year","Production year adjustment ",1,"year","Adjusted for 1 year as the production starts Q4 of the first production year","Production year adjustment ",1,"year","Adjusted for 1 year as the production starts Q4 of the first production year","Production year adjustment ",1,"year","Adjusted for 1 year as the production starts Q4 of the first production year","Production year adjustment ",1,"year","Adjusted for 1 year as the production starts Q4 of the first production year","Production year adjustment ",1,"year","Adjusted for 1 year as the production starts Q4 of the first production year","Production year adjustment ",1,"year","Adjusted for 1 year as the production starts Q4 of the first production year","Production year adjustment ",1,"year","Adjusted for 1 year as the production starts Q4 of the first production year","Production year adjustment ",1,"year","Adjusted for 1 year as the production starts Q4 of the first production year","Production year adjustment ",1,"year","Adjusted for 1 year as the production starts Q4 of the first production year","Production year adjustment ",1,"year","Adjusted for 1 year as the production starts Q4 of the first production year","Production year adjustment ",1,"year","Adjusted for 1 year as the production starts Q4 of the first production year","Production year adjustment ",1,"year","Adjusted for 1 year as the production starts Q4 of the first production year","Production year adjustment ",1,"year","Adjusted for 1 year as the production starts Q4 of the first production year","Production year adjustment ",1,"year","Adjusted for 1 year as the production starts Q4 of the first production year","Production year adjustment ",1,"year","Adjusted for 1 year as the production starts Q4 of the first production year","Production year adjustment ",1,"year","Adjusted for 1 year as the production starts Q4 of the first production year","Production year adjustment ",1,"year","Adjusted for 1 year as the production starts Q4 of the first production year","Production year adjustment ",1,"year","Adjusted for 1 year as the production starts Q4 of the first production year","Production year adjustment ",1,"year","Adjusted for 1 year as the production starts Q4 of the first production year","Production year adjustment ",1,"year","Adjusted for 1 year as the production starts Q4 of the first production year","Production year adjustment ",1,"year","Adjusted for 1 year as the production starts Q4 of the first production year","Production year adjustment ",1,"year","Adjusted for 1 year as the production starts Q4 of the first production year","Production year adjustment ",1,"year","Adjusted for 1 year as the production starts Q4 of the first production year","Production year adjustment ",1,"year","Adjusted for 1 year as the production starts Q4 of the first production year","Production year adjustment ",1,"year","Adjusted for 1 year as the production starts Q4 of the first production year","Production year adjustment ",1,"year","Adjusted for 1 year as the production starts Q4 of the first production year","Production year adjustment ",1,"year","Adjusted for 1 year as the production starts Q4 of the first production year","Production year adjustment ",1,"year","Adjusted for 1 year as the production starts Q4 of the first production year","Production year adjustment ",1,"year","Adjusted for 1 year as the production starts Q4 of the first production year","Production year adjustment ",1,"year","Adjusted for 1 year as the production starts Q4 of the first production year","Production year adjustment ",1,"year","Adjusted for 1 year as the production starts Q4 of the first production year","Production year adjustment ",1,"year","Adjusted for 1 year as the production starts Q4 of the first production year","Production year adjustment ",1,"year","Adjusted for 1 year as the production starts Q4 of the first production year","Production year adjustment ",1,"year","Adjusted for 1 year as the production starts Q4 of the first production year","Production year adjustment ",1,"year","Adjusted for 1 year as the production starts Q4 of the first production year","Production year adjustment ",1,"year","Adjusted for 1 year as the production starts Q4 of the first production year","Production year adjustment ",1,"year","Adjusted for 1 year as the production starts Q4 of the first production year","Production year adjustment ",1,"year","Adjusted for 1 year as the production starts Q4 of the first production year","Production year adjustment ",1,"year","Adjusted for 1 year as the production starts Q4 of the first production year","Production year adjustment ",1,"year","Adjusted for 1 year as the production starts Q4 of the first production year","Production year adjustment ",1,"year","Adjusted for 1 year as the production starts Q4 of the first production year","Production year adjustment ",1,"year","Adjusted for 1 year as the production starts Q4 of the first production year","Production year adjustment ",1,"year","Adjusted for 1 year as the production starts Q4 of the first production year","Production year adjustment ",1,"year","Adjusted for 1 year as the production starts Q4 of the first production year","Production year adjustment ",1,"year","Adjusted for 1 year as the production starts Q4 of the first production year","Production year adjustment ",1,"year","Adjusted for 1 year as the production starts Q4 of the first production year","Production year adjustment ",1,"year","Adjusted for 1 year as the production starts Q4 of the first production year","Production year adjustment ",1,"year","Adjusted for 1 year as the production starts Q4 of the first production year","Production year adjustment ",1,"year","Adjusted for 1 year as the production starts Q4 of the first production year","Production year adjustment ",1,"year","Adjusted for 1 year as the production starts Q4 of the first production year","Production year adjustment ",1,"year","Adjusted for 1 year as the production starts Q4 of the first production year","Production year adjustment ",1,"year","Adjusted for 1 year as the production starts Q4 of the first production year","Production year adjustment ",1,"year","Adjusted for 1 year as the production starts Q4 of the first production year","Production year adjustment ",1,"year","Adjusted for 1 year as the production starts Q4 of the first production year","Production year adjustment ",1,"year","Adjusted for 1 year as the production starts Q4 of the first production year","Production year adjustment ",1,"year","Adjusted for 1 year as the production starts Q4 of the first production year","Production year adjustment ",1,"year","Adjusted for 1 year as the production starts Q4 of the first production year","Production year adjustment ",1,"year","Adjusted for 1 year as the production starts Q4 of the first production year","Production year adjustment ",1,"year","Adjusted for 1 year as the production starts Q4 of the first production year","Production year adjustment ",1,"year","Adjusted for 1 year as the production starts Q4 of the first production year","Production year adjustment ",1,"year","Adjusted for 1 year as the production starts Q4 of the first production year","Production year adjustment ",1,"year","Adjusted for 1 year as the production starts Q4 of the first production year","Production year adjustment ",1,"year","Adjusted for 1 year as the production starts Q4 of the first production year","Production year adjustment ",1,"year","Adjusted for 1 year as the production starts Q4 of the first production year","Production year adjustment ",1,"year","Adjusted for 1 year as the production starts Q4 of the first production year","Production year adjustment ",1,"year","Adjusted for 1 year as the production starts Q4 of the first production year","Production year adjustment ",1,"year","Adjusted for 1 year as the production starts Q4 of the first production year","Production year adjustment ",1,"year","Adjusted for 1 year as the production starts Q4 of the first production year","Production year adjustment ",1,"year","Adjusted for 1 year as the production starts Q4 of the first production year","Production year adjustment ",1,"year","Adjusted for 1 year as the production starts Q4 of the first production year","Production year adjustment ",1,"year","Adjusted for 1 year as the production starts Q4 of the first production year","Production year adjustment ",1,"year","Adjusted for 1 year as the production starts Q4 of the first production year","Production year adjustment ",1,"year","Adjusted for 1 year as the production starts Q4 of the first production year","Production year adjustment ",1,"year","Adjusted for 1 year as the production starts Q4 of the first production year","Production year adjustment ",1,"year","Adjusted for 1 year as the production starts Q4 of the first production year","Production year adjustment ",1,"year","Adjusted for 1 year as the production starts Q4 of the first production year","Production year adjustment ",1,"year","Adjusted for 1 year as the production starts Q4 of the first production year","Production year adjustment ",1,"year","Adjusted for 1 year as the production starts Q4 of the first production year","Production year adjustment ",1,"year","Adjusted for 1 year as the production starts Q4 of the first production year","Production year adjustment ",1,"year","Adjusted for 1 year as the production starts Q4 of the first production year","Production year adjustment ",1,"year","Adjusted for 1 year as the production starts Q4 of the first production year","Production year adjustment ",1,"year","Adjusted for 1 year as the production starts Q4 of the first production year","Production year adjustment ",1,"year","Adjusted for 1 year as the production starts Q4 of the first production year","Production year adjustment ",1,"year","Adjusted for 1 year as the production starts Q4 of the first production year","Production year adjustment ",1,"year","Adjusted for 1 year as the production starts Q4 of the first production year","Production year adjustment ",1,"year","Adjusted for 1 year as the production starts Q4 of the first production year","Production year adjustment ",1,"year","Adjusted for 1 year as the production starts Q4 of the first production year","Production year adjustment ",1,"year","Adjusted for 1 year as the production starts Q4 of the first production year","Production year adjustment ",1,"year","Adjusted for 1 year as the production starts Q4 of the first production year","Production year adjustment ",1,"year","Adjusted for 1 year as the production starts Q4 of the first production year","Production year adjustment ",1,"year","Adjusted for 1 year as the production starts Q4 of the first production year","Production year adjustment ",1,"year","Adjusted for 1 year as the production starts Q4 of the first production year","Production year adjustment ",1,"year","Adjusted for 1 year as the production starts Q4 of the first production year","Production year adjustment ",1,"year","Adjusted for 1 year as the production starts Q4 of the first production year","Production year adjustment ",1,"year","Adjusted for 1 year as the production starts Q4 of the first production year","Production year adjustment ",1,"year","Adjusted for 1 year as the production starts Q4 of the first production year","Production year adjustment ",1,"year","Adjusted for 1 year as the production starts Q4 of the first production year","Production year adjustment ",1,"year","Adjusted for 1 year as the production starts Q4 of the first production year","Production year adjustment ",1,"year","Adjusted for 1 year as the production starts Q4 of the first production year","Production year adjustment ",1,"year","Adjusted for 1 year as the production starts Q4 of the first production year","Production year adjustment ",1,"year","Adjusted for 1 year as the production starts Q4 of the first production year","Production year adjustment ",1,"year","Adjusted for 1 year as the production starts Q4 of the first production year","Production year adjustment ",1,"year","Adjusted for 1 year as the production starts Q4 of the first production year","Production year adjustment ",1,"year","Adjusted for 1 year as the production starts Q4 of the first production year","Production year adjustment ",1,"year","Adjusted for 1 year as the production starts Q4 of the first production year","Production year adjustment ",1,"year","Adjusted for 1 year as the production starts Q4 of the first production year","Production year adjustment ",1,"year","Adjusted for 1 year as the production starts Q4 of the first production year","Production year adjustment ",1,"year","Adjusted for 1 year as the production starts Q4 of the first production year","Production year adjustment ",1,"year","Adjusted for 1 year as the production starts Q4 of the first production year","Production year adjustment ",1,"year","Adjusted for 1 year as the production starts Q4 of the first production year","Production year adjustment ",1,"year","Adjusted for 1 year as the production starts Q4 of the first production year","Production year adjustment ",1,"year","Adjusted for 1 year as the production starts Q4 of the first production year","Production year adjustment ",1,"year","Adjusted for 1 year as the production starts Q4 of the first production year","Production year adjustment ",1,"year","Adjusted for 1 year as the production starts Q4 of the first production year","Production year adjustment ",1,"year","Adjusted for 1 year as the production starts Q4 of the first production year","Production year adjustment ",1,"year","Adjusted for 1 year as the production starts Q4 of the first production year","Production year adjustment ",1,"year","Adjusted for 1 year as the production starts Q4 of the first production year","Production year adjustment ",1,"year","Adjusted for 1 year as the production starts Q4 of the first production year","Production year adjustment ",1,"year","Adjusted for 1 year as the production starts Q4 of the first production year","Production year adjustment ",1,"year","Adjusted for 1 year as the production starts Q4 of the first production year","Production year adjustment ",1,"year","Adjusted for 1 year as the production starts Q4 of the first production year","Production year adjustment ",1,"year","Adjusted for 1 year as the production starts Q4 of the first production year","Production year adjustment ",1,"year","Adjusted for 1 year as the production starts Q4 of the first production year","Production year adjustment ",1,"year","Adjusted for 1 year as the production starts Q4 of the first production year","Production year adjustment ",1,"year","Adjusted for 1 year as the production starts Q4 of the first production year","Production year adjustment ",1,"year","Adjusted for 1 year as the production starts Q4 of the first production year","Production year adjustment ",1,"year","Adjusted for 1 year as the production starts Q4 of the first production year","Production year adjustment ",1,"year","Adjusted for 1 year as the production starts Q4 of the first production year","Production year adjustment ",1,"year","Adjusted for 1 year as the production starts Q4 of the first production year","Production year adjustment ",1,"year","Adjusted for 1 year as the production starts Q4 of the first production year","Production year adjustment ",1,"year","Adjusted for 1 year as the production starts Q4 of the first production year","Production year adjustment ",1,"year","Adjusted for 1 year as the production starts Q4 of the first production year","Production year adjustment ",1,"year","Adjusted for 1 year as the production starts Q4 of the first production year","Production year adjustment ",1,"year","Adjusted for 1 year as the production starts Q4 of the first production year","Production year adjustment ",1,"year","Adjusted for 1 year as the production starts Q4 of the first production year","Production year adjustment ",1,"year","Adjusted for 1 year as the production starts Q4 of the first production year","Production year adjustment ",1,"year","Adjusted for 1 year as the production starts Q4 of the first production year","Production year adjustment ",1,"year","Adjusted for 1 year as the production starts Q4 of the first production year","Production year adjustment ",1,"year","Adjusted for 1 year as the production starts Q4 of the first production year","Production year adjustment ",1,"year","Adjusted for 1 year as the production starts Q4 of the first production year","Production year adjustment ",1,"year","Adjusted for 1 year as the production starts Q4 of the first production year","Production year adjustment ",1,"year","Adjusted for 1 year as the production starts Q4 of the first production year","Production year adjustment ",1,"year","Adjusted for 1 year as the production starts Q4 of the first production year","Production year adjustment ",1,"year","Adjusted for 1 year as the production starts Q4 of the first production year","Production year adjustment ",1,"year","Adjusted for 1 year as the production starts Q4 of the first production year","Production year adjustment ",1,"year","Adjusted for 1 year as the production starts Q4 of the first production year","Production year adjustment ",1,"year","Adjusted for 1 year as the production starts Q4 of the first production year","Production year adjustment ",1,"year","Adjusted for 1 year as the production starts Q4 of the first production year","Production year adjustment ",1,"year","Adjusted for 1 year as the production starts Q4 of the first production year","Production year adjustment ",1,"year","Adjusted for 1 year as the production starts Q4 of the first production year","Production year adjustment ",1,"year","Adjusted for 1 year as the production starts Q4 of the first production year","Production year adjustment ",1,"year","Adjusted for 1 year as the production starts Q4 of the first production year","Production year adjustment ",1,"year","Adjusted for 1 year as the production starts Q4 of the first production year","Production year adjustment ",1,"year","Adjusted for 1 year as the production starts Q4 of the first production year","Production year adjustment ",1,"year","Adjusted for 1 year as the production starts Q4 of the first production year","Production year adjustment ",1,"year","Adjusted for 1 year as the production starts Q4 of the first production year","Production year adjustment ",1,"year","Adjusted for 1 year as the production starts Q4 of the first production year","Production year adjustment ",1,"year","Adjusted for 1 year as the production starts Q4 of the first production year","Production year adjustment ",1,"year","Adjusted for 1 year as the production starts Q4 of the first production year","Production year adjustment ",1,"year","Adjusted for 1 year as the production starts Q4 of the first production year","Production year adjustment ",1,"year","Adjusted for 1 year as the production starts Q4 of the first production year","Production year adjustment ",1,"year","Adjusted for 1 year as the production starts Q4 of the first production year","Production year adjustment ",1,"year","Adjusted for 1 year as the production starts Q4 of the first production year","Production year adjustment ",1,"year","Adjusted for 1 year as the production starts Q4 of the first production year","Production year adjustment ",1,"year","Adjusted for 1 year as the production starts Q4 of the first production year","Production year adjustment ",1,"year","Adjusted for 1 year as the production starts Q4 of the first production year","Production year adjustment ",1,"year","Adjusted for 1 year as the production starts Q4 of the first production year","Production year adjustment ",1,"year","Adjusted for 1 year as the production starts Q4 of the first production year","Production year adjustment ",1,"year","Adjusted for 1 year as the production starts Q4 of the first production year","Production year adjustment ",1,"year","Adjusted for 1 year as the production starts Q4 of the first production year","Production year adjustment ",1,"year","Adjusted for 1 year as the production starts Q4 of the first production year","Production year adjustment ",1,"year","Adjusted for 1 year as the production starts Q4 of the first production year","Production year adjustment ",1,"year","Adjusted for 1 year as the production starts Q4 of the first production year","Production year adjustment ",1,"year","Adjusted for 1 year as the production starts Q4 of the first production year","Production year adjustment ",1,"year","Adjusted for 1 year as the production starts Q4 of the first production year","Production year adjustment ",1,"year","Adjusted for 1 year as the production starts Q4 of the first production year","Production year adjustment ",1,"year","Adjusted for 1 year as the production starts Q4 of the first production year","Production year adjustment ",1,"year","Adjusted for 1 year as the production starts Q4 of the first production year","Production year adjustment ",1,"year","Adjusted for 1 year as the production starts Q4 of the first production year","Production year adjustment ",1,"year","Adjusted for 1 year as the production starts Q4 of the first production year","Production year adjustment ",1,"year","Adjusted for 1 year as the production starts Q4 of the first production year","Production year adjustment ",1,"year","Adjusted for 1 year as the production starts Q4 of the first production year","Production year adjustment ",1,"year","Adjusted for 1 year as the production starts Q4 of the first production year","Production year adjustment ",1,"year","Adjusted for 1 year as the production starts Q4 of the first production year","Production year adjustment ",1,"year","Adjusted for 1 year as the production starts Q4 of the first production year","Production year adjustment ",1,"year","Adjusted for 1 year as the production starts Q4 of the first production year","Production year adjustment ",1,"year","Adjusted for 1 year as the production starts Q4 of the first production year","Production year adjustment ",1,"year","Adjusted for 1 year as the production starts Q4 of the first production year","Production year adjustment ",1,"year","Adjusted for 1 year as the production starts Q4 of the first production year","Production year adjustment ",1,"year","Adjusted for 1 year as the production starts Q4 of the first production year","Production year adjustment ",1,"year","Adjusted for 1 year as the production starts Q4 of the first production year","Production year adjustment ",1,"year","Adjusted for 1 year as the production starts Q4 of the first production year","Production year adjustment ",1,"year","Adjusted for 1 year as the production starts Q4 of the first production year","Production year adjustment ",1,"year","Adjusted for 1 year as the production starts Q4 of the first production year","Production year adjustment ",1,"year","Adjusted for 1 year as the production starts Q4 of the first production year","Production year adjustment ",1,"year","Adjusted for 1 year as the production starts Q4 of the first production year","Production year adjustment ",1,"year","Adjusted for 1 year as the production starts Q4 of the first production year","Production year adjustment ",1,"year","Adjusted for 1 year as the production starts Q4 of the first production year","Production year adjustment ",1,"year","Adjusted for 1 year as the production starts Q4 of the first production year","Production year adjustment ",1,"year","Adjusted for 1 year as the production starts Q4 of the first production year","Production year adjustment ",1,"year","Adjusted for 1 year as the production starts Q4 of the first production year","Production year adjustment ",1,"year","Adjusted for 1 year as the production starts Q4 of the first production year","Production year adjustment ",1,"year","Adjusted for 1 year as the production starts Q4 of the first production year","Production year adjustment ",1,"year","Adjusted for 1 year as the production starts Q4 of the first production year","Production year adjustment ",1,"year","Adjusted for 1 year as the production starts Q4 of the first production year","Production year adjustment ",1,"year","Adjusted for 1 year as the production starts Q4 of the first production year","Production year adjustment ",1,"year","Adjusted for 1 year as the production starts Q4 of the first production year","Production year adjustment ",1,"year","Adjusted for 1 year as the production starts Q4 of the first production year","Production year adjustment ",1,"year","Adjusted for 1 year as the production starts Q4 of the first production year","Production year adjustment ",1,"year","Adjusted for 1 year as the production starts Q4 of the first production year","Production year adjustment ",1,"year","Adjusted for 1 year as the production starts Q4 of the first production year","Production year adjustment ",1,"year","Adjusted for 1 year as the production starts Q4 of the first production year","Production year adjustment ",1,"year","Adjusted for 1 year as the production starts Q4 of the first production year","Production year adjustment ",1,"year","Adjusted for 1 year as the production starts Q4 of the first production year","Production year adjustment ",1,"year","Adjusted for 1 year as the production starts Q4 of the first production year","Production year adjustment ",1,"year","Adjusted for 1 year as the production starts Q4 of the first production year","Production year adjustment ",1,"year","Adjusted for 1 year as the production starts Q4 of the first production year","Production year adjustment ",1,"year","Adjusted for 1 year as the production starts Q4 of the first production year","Production year adjustment ",1,"year","Adjusted for 1 year as the production starts Q4 of the first production year","Production year adjustment ",1,"year","Adjusted for 1 year as the production starts Q4 of the first production year","Production year adjustment ",1,"year","Adjusted for 1 year as the production starts Q4 of the first production year","Production year adjustment ",1,"year","Adjusted for 1 year as the production starts Q4 of the first production year","Production year adjustment ",1,"year","Adjusted for 1 year as the production starts Q4 of the first production year","Production year adjustment ",1,"year","Adjusted for 1 year as the production starts Q4 of the first production year","Production year adjustment ",1,"year","Adjusted for 1 year as the production starts Q4 of the first production year","Production year adjustment ",1,"year","Adjusted for 1 year as the production starts Q4 of the first production year","Production year adjustment ",1,"year","Adjusted for 1 year as the production starts Q4 of the first production year","Production year adjustment ",1,"year","Adjusted for 1 year as the production starts Q4 of the first production year","Production year adjustment ",1,"year","Adjusted for 1 year as the production starts Q4 of the first production year","Production year adjustment ",1,"year","Adjusted for 1 year as the production starts Q4 of the first production year","Production year adjustment ",1,"year","Adjusted for 1 year as the production starts Q4 of the first production year","Production year adjustment ",1,"year","Adjusted for 1 year as the production starts Q4 of the first production year","Production year adjustment ",1,"year","Adjusted for 1 year as the production starts Q4 of the first production year","Production year adjustment ",1,"year","Adjusted for 1 year as the production starts Q4 of the first production year","Production year adjustment ",1,"year","Adjusted for 1 year as the production starts Q4 of the first production year","Production year adjustment ",1,"year","Adjusted for 1 year as the production starts Q4 of the first production year","Production year adjustment ",1,"year","Adjusted for 1 year as the production starts Q4 of the first production year","Production year adjustment ",1,"year","Adjusted for 1 year as the production starts Q4 of the first production year","Production year adjustment ",1,"year","Adjusted for 1 year as the production starts Q4 of the first production year","Production year adjustment ",1,"year","Adjusted for 1 year as the production starts Q4 of the first production year","Production year adjustment ",1,"year","Adjusted for 1 year as the production starts Q4 of the first production year","Production year adjustment ",1,"year","Adjusted for 1 year as the production starts Q4 of the first production year","Production year adjustment ",1,"year","Adjusted for 1 year as the production starts Q4 of the first production year","Production year adjustment ",1,"year","Adjusted for 1 year as the production starts Q4 of the first production year","Production year adjustment ",1,"year","Adjusted for 1 year as the production starts Q4 of the first production year","Production year adjustment ",1,"year","Adjusted for 1 year as the production starts Q4 of the first production year","Production year adjustment ",1,"year","Adjusted for 1 year as the production starts Q4 of the first production year","Production year adjustment ",1,"year","Adjusted for 1 year as the production starts Q4 of the first production year","Production year adjustment ",1,"year","Adjusted for 1 year as the production starts Q4 of the first production year","Production year adjustment ",1,"year","Adjusted for 1 year as the production starts Q4 of the first production year","Production year adjustment ",1,"year","Adjusted for 1 year as the production starts Q4 of the first production year","Production year adjustment ",1,"year","Adjusted for 1 year as the production starts Q4 of the first production year","Production year adjustment ",1,"year","Adjusted for 1 year as the production starts Q4 of the first production year","Production year adjustment ",1,"year","Adjusted for 1 year as the production starts Q4 of the first production year","Production year adjustment ",1,"year","Adjusted for 1 year as the production starts Q4 of the first production year","Production year adjustment ",1,"year","Adjusted for 1 year as the production starts Q4 of the first production year","Production year adjustment ",1,"year","Adjusted for 1 year as the production starts Q4 of the first production year","Production year adjustment ",1,"year","Adjusted for 1 year as the production starts Q4 of the first production year","Production year adjustment ",1,"year","Adjusted for 1 year as the production starts Q4 of the first production year","Production year adjustment ",1,"year","Adjusted for 1 year as the production starts Q4 of the first production year","Production year adjustment ",1,"year","Adjusted for 1 year as the production starts Q4 of the first production year","Production year adjustment ",1,"year","Adjusted for 1 year as the production starts Q4 of the first production year","Production year adjustment ",1,"year","Adjusted for 1 year as the production starts Q4 of the first production year","Production year adjustment ",1,"year","Adjusted for 1 year as the production starts Q4 of the first production year","Production year adjustment ",1,"year","Adjusted for 1 year as the production starts Q4 of the first production year","Production year adjustment ",1,"year","Adjusted for 1 year as the production starts Q4 of the first production year","Production year adjustment ",1,"year","Adjusted for 1 year as the production starts Q4 of the first production year","Production year adjustment ",1,"year","Adjusted for 1 year as the production starts Q4 of the first production year","Production year adjustment ",1,"year","Adjusted for 1 year as the production starts Q4 of the first production year","Production year adjustment ",1,"year","Adjusted for 1 year as the production starts Q4 of the first production year","Production year adjustment ",1,"year","Adjusted for 1 year as the production starts Q4 of the first production year","Production year adjustment ",1,"year","Adjusted for 1 year as the production starts Q4 of the first production year","Production year adjustment ",1,"year","Adjusted for 1 year as the production starts Q4 of the first production year","Production year adjustment ",1,"year","Adjusted for 1 year as the production starts Q4 of the first production year","Production year adjustment ",1,"year","Adjusted for 1 year as the production starts Q4 of the first production year","Production year adjustment ",1,"year","Adjusted for 1 year as the production starts Q4 of the first production year","Production year adjustment ",1,"year","Adjusted for 1 year as the production starts Q4 of the first production year","Production year adjustment ",1,"year","Adjusted for 1 year as the production starts Q4 of the first production year","Production year adjustment ",1,"year","Adjusted for 1 year as the production starts Q4 of the first production year","Production year adjustment ",1,"year","Adjusted for 1 year as the production starts Q4 of the first production year","Production year adjustment ",1,"year","Adjusted for 1 year as the production starts Q4 of the first production year","Production year adjustment ",1,"year","Adjusted for 1 year as the production starts Q4 of the first production year","Production year adjustment ",1,"year","Adjusted for 1 year as the production starts Q4 of the first production year","Production year adjustment ",1,"year","Adjusted for 1 year as the production starts Q4 of the first production year","Production year adjustment ",1,"year","Adjusted for 1 year as the production starts Q4 of the first production year","Production year adjustment ",1,"year","Adjusted for 1 year as the production starts Q4 of the first production year","Production year adjustment ",1,"year","Adjusted for 1 year as the production starts Q4 of the first production year","Production year adjustment ",1,"year","Adjusted for 1 year as the production starts Q4 of the first production year","Production year adjustment ",1,"year","Adjusted for 1 year as the production starts Q4 of the first production year","Production year adjustment ",1,"year","Adjusted for 1 year as the production starts Q4 of the first production year","Production year adjustment ",1,"year","Adjusted for 1 year as the production starts Q4 of the first production year","Production year adjustment ",1,"year","Adjusted for 1 year as the production starts Q4 of the first production year","Production year adjustment ",1,"year","Adjusted for 1 year as the production starts Q4 of the first production year","Production year adjustment ",1,"year","Adjusted for 1 year as the production starts Q4 of the first production year","Production year adjustment ",1,"year","Adjusted for 1 year as the production starts Q4 of the first production year","Production year adjustment ",1,"year","Adjusted for 1 year as the production starts Q4 of the first production year","Production year adjustment ",1,"year","Adjusted for 1 year as the production starts Q4 of the first production year","Production year adjustment ",1,"year","Adjusted for 1 year as the production starts Q4 of the first production year","Production year adjustment ",1,"year","Adjusted for 1 year as the production starts Q4 of the first production year","Production year adjustment ",1,"year","Adjusted for 1 year as the production starts Q4 of the first production year","Production year adjustment ",1,"year","Adjusted for 1 year as the production starts Q4 of the first production year","Production year adjustment ",1,"year","Adjusted for 1 year as the production starts Q4 of the first production year","Production year adjustment ",1,"year","Adjusted for 1 year as the production starts Q4 of the first production year","Production year adjustment ",1,"year","Adjusted for 1 year as the production starts Q4 of the first production year","Production year adjustment ",1,"year","Adjusted for 1 year as the production starts Q4 of the first production year","Production year adjustment ",1,"year","Adjusted for 1 year as the production starts Q4 of the first production year","Production year adjustment ",1,"year","Adjusted for 1 year as the production starts Q4 of the first production year","Production year adjustment ",1,"year","Adjusted for 1 year as the production starts Q4 of the first production year","Production year adjustment ",1,"year","Adjusted for 1 year as the production starts Q4 of the first production year","Production year adjustment ",1,"year","Adjusted for 1 year as the production starts Q4 of the first production year","Production year adjustment ",1,"year","Adjusted for 1 year as the production starts Q4 of the first production year","Production year adjustment ",1,"year","Adjusted for 1 year as the production starts Q4 of the first production year","Production year adjustment ",1,"year","Adjusted for 1 year as the production starts Q4 of the first production year","Production year adjustment ",1,"year","Adjusted for 1 year as the production starts Q4 of the first production year","Production year adjustment ",1,"year","Adjusted for 1 year as the production starts Q4 of the first production year","Production year adjustment ",1,"year","Adjusted for 1 year as the production starts Q4 of the first production year","Production year adjustment ",1,"year","Adjusted for 1 year as the production starts Q4 of the first production year","Production year adjustment ",1,"year","Adjusted for 1 year as the production starts Q4 of the first production year","Production year adjustment ",1,"year","Adjusted for 1 year as the production starts Q4 of the first production year","Production year adjustment ",1,"year","Adjusted for 1 year as the production starts Q4 of the first production year","Production year adjustment ",1,"year","Adjusted for 1 year as the production starts Q4 of the first production year","Production year adjustment ",1,"year","Adjusted for 1 year as the production starts Q4 of the first production year","Production year adjustment ",1,"year","Adjusted for 1 year as the production starts Q4 of the first production year","Production year adjustment ",1,"year","Adjusted for 1 year as the production starts Q4 of the first production year","Production year adjustment ",1,"year","Adjusted for 1 year as the production starts Q4 of the first production year","Production year adjustment ",1,"year","Adjusted for 1 year as the production starts Q4 of the first production year","Production year adjustment ",1,"year","Adjusted for 1 year as the production starts Q4 of the first production year","Production year adjustment ",1,"year","Adjusted for 1 year as the production starts Q4 of the first production year","Production year adjustment ",1,"year","Adjusted for 1 year as the production starts Q4 of the first production year","Production year adjustment ",1,"year","Adjusted for 1 year as the production starts Q4 of the first production year","Production year adjustment ",1,"year","Adjusted for 1 year as the production starts Q4 of the first production year","Production year adjustment ",1,"year","Adjusted for 1 year as the production starts Q4 of the first production year","Production year adjustment ",1,"year","Adjusted for 1 year as the production starts Q4 of the first production year","Production year adjustment ",1,"year","Adjusted for 1 year as the production starts Q4 of the first production year","Production year adjustment ",1,"year","Adjusted for 1 year as the production starts Q4 of the first production year","Production year adjustment ",1,"year","Adjusted for 1 year as the production starts Q4 of the first production year","Production year adjustment ",1,"year","Adjusted for 1 year as the production starts Q4 of the first production year","Production year adjustment ",1,"year","Adjusted for 1 year as the production starts Q4 of the first production year","Production year adjustment ",1,"year","Adjusted for 1 year as the production starts Q4 of the first production year","Production year adjustment ",1,"year","Adjusted for 1 year as the production starts Q4 of the first production year","Production year adjustment ",1,"year","Adjusted for 1 year as the production starts Q4 of the first production year","Production year adjustment ",1,"year","Adjusted for 1 year as the production starts Q4 of the first production year","Production year adjustment ",1,"year","Adjusted for 1 year as the production starts Q4 of the first production year","Production year adjustment ",1,"year","Adjusted for 1 year as the production starts Q4 of the first production year","Production year adjustment ",1,"year","Adjusted for 1 year as the production starts Q4 of the first production year","Production year adjustment ",1,"year","Adjusted for 1 year as the production starts Q4 of the first production year","Production year adjustment ",1,"year","Adjusted for 1 year as the production starts Q4 of the first production year","Production year adjustment ",1,"year","Adjusted for 1 year as the production starts Q4 of the first production year","Production year adjustment ",1,"year","Adjusted for 1 year as the production starts Q4 of the first production year","Production year adjustment ",1,"year","Adjusted for 1 year as the production starts Q4 of the first production year","Production year adjustment ",1,"year","Adjusted for 1 year as the production starts Q4 of the first production year","Production year adjustment ",1,"year","Adjusted for 1 year as the production starts Q4 of the first production year","Production year adjustment ",1,"year","Adjusted for 1 year as the production starts Q4 of the first production year","Production year adjustment ",1,"year","Adjusted for 1 year as the production starts Q4 of the first production year","Production year adjustment ",1,"year","Adjusted for 1 year as the production starts Q4 of the first production year","Production year adjustment ",1,"year","Adjusted for 1 year as the production starts Q4 of the first production year","Production year adjustment ",1,"year","Adjusted for 1 year as the production starts Q4 of the first production year","Production year adjustment ",1,"year","Adjusted for 1 year as the production starts Q4 of the first production year","Production year adjustment ",1,"year","Adjusted for 1 year as the production starts Q4 of the first production year","Production year adjustment ",1,"year","Adjusted for 1 year as the production starts Q4 of the first production year","Production year adjustment ",1,"year","Adjusted for 1 year as the production starts Q4 of the first production year","Production year adjustment ",1,"year","Adjusted for 1 year as the production starts Q4 of the first production year","Production year adjustment ",1,"year","Adjusted for 1 year as the production starts Q4 of the first production year","Production year adjustment ",1,"year","Adjusted for 1 year as the production starts Q4 of the first production year","Production year adjustment ",1,"year","Adjusted for 1 year as the production starts Q4 of the first production year","Production year adjustment ",1,"year","Adjusted for 1 year as the production starts Q4 of the first production year","Production year adjustment ",1,"year","Adjusted for 1 year as the production starts Q4 of the first production year","Production year adjustment ",1,"year","Adjusted for 1 year as the production starts Q4 of the first production year","Production year adjustment ",1,"year","Adjusted for 1 year as the production starts Q4 of the first production year","Production year adjustment ",1,"year","Adjusted for 1 year as the production starts Q4 of the first production year","Production year adjustment ",1,"year","Adjusted for 1 year as the production starts Q4 of the first production year","Production year adjustment ",1,"year","Adjusted for 1 year as the production starts Q4 of the first production year","Production year adjustment ",1,"year","Adjusted for 1 year as the production starts Q4 of the first production year","Production year adjustment ",1,"year","Adjusted for 1 year as the production starts Q4 of the first production year","Production year adjustment ",1,"year","Adjusted for 1 year as the production starts Q4 of the first production year","Production year adjustment ",1,"year","Adjusted for 1 year as the production starts Q4 of the first production year","Production year adjustment ",1,"year","Adjusted for 1 year as the production starts Q4 of the first production year","Production year adjustment ",1,"year","Adjusted for 1 year as the production starts Q4 of the first production year","Production year adjustment ",1,"year","Adjusted for 1 year as the production starts Q4 of the first production year","Production year adjustment ",1,"year","Adjusted for 1 year as the production starts Q4 of the first production year","Production year adjustment ",1,"year","Adjusted for 1 year as the production starts Q4 of the first production year","Production year adjustment ",1,"year","Adjusted for 1 year as the production starts Q4 of the first production year","Production year adjustment ",1,"year","Adjusted for 1 year as the production starts Q4 of the first production year","Production year adjustment ",1,"year","Adjusted for 1 year as the production starts Q4 of the first production year","Production year adjustment ",1,"year","Adjusted for 1 year as the production starts Q4 of the first production year","Production year adjustment ",1,"year","Adjusted for 1 year as the production starts Q4 of the first production year","Production year adjustment ",1,"year","Adjusted for 1 year as the production starts Q4 of the first production year","Production year adjustment ",1,"year","Adjusted for 1 year as the production starts Q4 of the first production year","Production year adjustment ",1,"year","Adjusted for 1 year as the production starts Q4 of the first production year","Production year adjustment ",1,"year","Adjusted for 1 year as the production starts Q4 of the first production year","Production year adjustment ",1,"year","Adjusted for 1 year as the production starts Q4 of the first production year","Production year adjustment ",1,"year","Adjusted for 1 year as the production starts Q4 of the first production year","Production year adjustment ",1,"year","Adjusted for 1 year as the production starts Q4 of the first production year","Production year adjustment ",1,"year","Adjusted for 1 year as the production starts Q4 of the first production year","Production year adjustment ",1,"year","Adjusted for 1 year as the production starts Q4 of the first production year","Production year adjustment ",1,"year","Adjusted for 1 year as the production starts Q4 of the first production year","Production year adjustment ",1,"year","Adjusted for 1 year as the production starts Q4 of the first production year","Production year adjustment ",1,"year","Adjusted for 1 year as the production starts Q4 of the first production year","Production year adjustment ",1,"year","Adjusted for 1 year as the production starts Q4 of the first production year","Production year adjustment ",1,"year","Adjusted for 1 year as the production starts Q4 of the first production year","Production year adjustment ",1,"year","Adjusted for 1 year as the production starts Q4 of the first production year","Production year adjustment ",1,"year","Adjusted for 1 year as the production starts Q4 of the first production year","Production year adjustment ",1,"year","Adjusted for 1 year as the production starts Q4 of the first production year","Production year adjustment ",1,"year","Adjusted for 1 year as the production starts Q4 of the first production year","Production year adjustment ",1,"year","Adjusted for 1 year as the production starts Q4 of the first production year","Production year adjustment ",1,"year","Adjusted for 1 year as the production starts Q4 of the first production year","Production year adjustment ",1,"year","Adjusted for 1 year as the production starts Q4 of the first production year","Production year adjustment ",1,"year","Adjusted for 1 year as the production starts Q4 of the first production year","Production year adjustment ",1,"year","Adjusted for 1 year as the production starts Q4 of the first production year","Production year adjustment ",1,"year","Adjusted for 1 year as the production starts Q4 of the first production year","Production year adjustment ",1,"year","Adjusted for 1 year as the production starts Q4 of the first production year","Production year adjustment ",1,"year","Adjusted for 1 year as the production starts Q4 of the first production year","Production year adjustment ",1,"year","Adjusted for 1 year as the production starts Q4 of the first production year","Production year adjustment ",1,"year","Adjusted for 1 year as the production starts Q4 of the first production year","Production year adjustment ",1,"year","Adjusted for 1 year as the production starts Q4 of the first production year","Production year adjustment ",1,"year","Adjusted for 1 year as the production starts Q4 of the first production year","Production year adjustment ",1,"year","Adjusted for 1 year as the production starts Q4 of the first production year","Production year adjustment ",1,"year","Adjusted for 1 year as the production starts Q4 of the first production year","Production year adjustment ",1,"year","Adjusted for 1 year as the production starts Q4 of the first production year","Production year adjustment ",1,"year","Adjusted for 1 year as the production starts Q4 of the first production year","Production year adjustment ",1,"year","Adjusted for 1 year as the production starts Q4 of the first production year","Production year adjustment ",1,"year","Adjusted for 1 year as the production starts Q4 of the first production year","Production year adjustment ",1,"year","Adjusted for 1 year as the production starts Q4 of the first production year","Production year adjustment ",1,"year","Adjusted for 1 year as the production starts Q4 of the first production year","Production year adjustment ",1,"year","Adjusted for 1 year as the production starts Q4 of the first production year","Production year adjustment ",1,"year","Adjusted for 1 year as the production starts Q4 of the first production year","Production year adjustment ",1,"year","Adjusted for 1 year as the production starts Q4 of the first production year","Production year adjustment ",1,"year","Adjusted for 1 year as the production starts Q4 of the first production year","Production year adjustment ",1,"year","Adjusted for 1 year as the production starts Q4 of the first production year","Production year adjustment ",1,"year","Adjusted for 1 year as the production starts Q4 of the first production year","Production year adjustment ",1,"year","Adjusted for 1 year as the production starts Q4 of the first production year","Production year adjustment ",1,"year","Adjusted for 1 year as the production starts Q4 of the first production year","Production year adjustment ",1,"year","Adjusted for 1 year as the production starts Q4 of the first production year","Production year adjustment ",1,"year","Adjusted for 1 year as the production starts Q4 of the first production year","Production year adjustment ",1,"year","Adjusted for 1 year as the production starts Q4 of the first production year","Production year adjustment ",1,"year","Adjusted for 1 year as the production starts Q4 of the first production year","Production year adjustment ",1,"year","Adjusted for 1 year as the production starts Q4 of the first production year","Production year adjustment ",1,"year","Adjusted for 1 year as the production starts Q4 of the first production year","Production year adjustment ",1,"year","Adjusted for 1 year as the production starts Q4 of the first production year","Production year adjustment ",1,"year","Adjusted for 1 year as the production starts Q4 of the first production year","Production year adjustment ",1,"year","Adjusted for 1 year as the production starts Q4 of the first production year","Production year adjustment ",1,"year","Adjusted for 1 year as the production starts Q4 of the first production year","Production year adjustment ",1,"year","Adjusted for 1 year as the production starts Q4 of the first production year","Production year adjustment ",1,"year","Adjusted for 1 year as the production starts Q4 of the first production year","Production year adjustment ",1,"year","Adjusted for 1 year as the production starts Q4 of the first production year","Production year adjustment ",1,"year","Adjusted for 1 year as the production starts Q4 of the first production year","Production year adjustment ",1,"year","Adjusted for 1 year as the production starts Q4 of the first production year","Production year adjustment ",1,"year","Adjusted for 1 year as the production starts Q4 of the first production year","Production year adjustment ",1,"year","Adjusted for 1 year as the production starts Q4 of the first production year","Production year adjustment ",1,"year","Adjusted for 1 year as the production starts Q4 of the first production year","Production year adjustment ",1,"year","Adjusted for 1 year as the production starts Q4 of the first production year","Production year adjustment ",1,"year","Adjusted for 1 year as the production starts Q4 of the first production year","Production year adjustment ",1,"year","Adjusted for 1 year as the production starts Q4 of the first production year","Production year adjustment ",1,"year","Adjusted for 1 year as the production starts Q4 of the first production year","Production year adjustment ",1,"year","Adjusted for 1 year as the production starts Q4 of the first production year","Production year adjustment ",1,"year","Adjusted for 1 year as the production starts Q4 of the first production year","Production year adjustment ",1,"year","Adjusted for 1 year as the production starts Q4 of the first production year","Production year adjustment ",1,"year","Adjusted for 1 year as the production starts Q4 of the first production year","Production year adjustment ",1,"year","Adjusted for 1 year as the production starts Q4 of the first production year","Production year adjustment ",1,"year","Adjusted for 1 year as the production starts Q4 of the first production year","Production year adjustment ",1,"year","Adjusted for 1 year as the production starts Q4 of the first production year","Production year adjustment ",1,"year","Adjusted for 1 year as the production starts Q4 of the first production year","Production year adjustment ",1,"year","Adjusted for 1 year as the production starts Q4 of the first production year","Production year adjustment ",1,"year","Adjusted for 1 year as the production starts Q4 of the first production year","Production year adjustment ",1,"year","Adjusted for 1 year as the production starts Q4 of the first production year","Production year adjustment ",1,"year","Adjusted for 1 year as the production starts Q4 of the first production year","Production year adjustment ",1,"year","Adjusted for 1 year as the production starts Q4 of the first production year","Production year adjustment ",1,"year","Adjusted for 1 year as the production starts Q4 of the first production year","Production year adjustment ",1,"year","Adjusted for 1 year as the production starts Q4 of the first production year","Production year adjustment ",1,"year","Adjusted for 1 year as the production starts Q4 of the first production year","Production year adjustment ",1,"year","Adjusted for 1 year as the production starts Q4 of the first production year","Production year adjustment ",1,"year","Adjusted for 1 year as the production starts Q4 of the first production year","Production year adjustment ",1,"year","Adjusted for 1 year as the production starts Q4 of the first production year","Production year adjustment ",1,"year","Adjusted for 1 year as the production starts Q4 of the first production year","Production year adjustment ",1,"year","Adjusted for 1 year as the production starts Q4 of the first production year","Production year adjustment ",1,"year","Adjusted for 1 year as the production starts Q4 of the first production year","Production year adjustment ",1,"year","Adjusted for 1 year as the production starts Q4 of the first production year","Production year adjustment ",1,"year","Adjusted for 1 year as the production starts Q4 of the first production year","Production year adjustment ",1,"year","Adjusted for 1 year as the production starts Q4 of the first production year","Production year adjustment ",1,"year","Adjusted for 1 year as the production starts Q4 of the first production year","Production year adjustment ",1,"year","Adjusted for 1 year as the production starts Q4 of the first production year","Production year adjustment ",1,"year","Adjusted for 1 year as the production starts Q4 of the first production year","Production year adjustment ",1,"year","Adjusted for 1 year as the production starts Q4 of the first production year","Production year adjustment ",1,"year","Adjusted for 1 year as the production starts Q4 of the first production year","Production year adjustment ",1,"year","Adjusted for 1 year as the production starts Q4 of the first production year","Production year adjustment ",1,"year","Adjusted for 1 year as the production starts Q4 of the first production year","Production year adjustment ",1,"year","Adjusted for 1 year as the production starts Q4 of the first production year","Production year adjustment ",1,"year","Adjusted for 1 year as the production starts Q4 of the first production year","Production year adjustment ",1,"year","Adjusted for 1 year as the production starts Q4 of the first production year","Production year adjustment ",1,"year","Adjusted for 1 year as the production starts Q4 of the first production year","Production year adjustment ",1,"year","Adjusted for 1 year as the production starts Q4 of the first production year","Production year adjustment ",1,"year","Adjusted for 1 year as the production starts Q4 of the first production year","Production year adjustment ",1,"year","Adjusted for 1 year as the production starts Q4 of the first production year","Production year adjustment ",1,"year","Adjusted for 1 year as the production starts Q4 of the first production year","Production year adjustment ",1,"year","Adjusted for 1 year as the production starts Q4 of the first production year","Production year adjustment ",1,"year","Adjusted for 1 year as the production starts Q4 of the first production year","Production year adjustment ",1,"year","Adjusted for 1 year as the production starts Q4 of the first production year","Production year adjustment ",1,"year","Adjusted for 1 year as the production starts Q4 of the first production year","Production year adjustment ",1,"year","Adjusted for 1 year as the production starts Q4 of the first production year","Production year adjustment ",1,"year","Adjusted for 1 year as the production starts Q4 of the first production year","Production year adjustment ",1,"year","Adjusted for 1 year as the production starts Q4 of the first production year","Production year adjustment ",1,"year","Adjusted for 1 year as the production starts Q4 of the first production year","Production year adjustment ",1,"year","Adjusted for 1 year as the production starts Q4 of the first production year","Production year adjustment ",1,"year","Adjusted for 1 year as the production starts Q4 of the first production year","Production year adjustment ",1,"year","Adjusted for 1 year as the production starts Q4 of the first production year","Production year adjustment ",1,"year","Adjusted for 1 year as the production starts Q4 of the first production year","Production year adjustment ",1,"year","Adjusted for 1 year as the production starts Q4 of the first production year","Production year adjustment ",1,"year","Adjusted for 1 year as the production starts Q4 of the first production year","Production year adjustment ",1,"year","Adjusted for 1 year as the production starts Q4 of the first production year","Production year adjustment ",1,"year","Adjusted for 1 year as the production starts Q4 of the first production year","Production year adjustment ",1,"year","Adjusted for 1 year as the production starts Q4 of the first production year","Production year adjustment ",1,"year","Adjusted for 1 year as the production starts Q4 of the first production year","Production year adjustment ",1,"year","Adjusted for 1 year as the production starts Q4 of the first production year","Production year adjustment ",1,"year","Adjusted for 1 year as the production starts Q4 of the first production year","Production year adjustment ",1,"year","Adjusted for 1 year as the production starts Q4 of the first production year","Production year adjustment ",1,"year","Adjusted for 1 year as the production starts Q4 of the first production year","Production year adjustment ",1,"year","Adjusted for 1 year as the production starts Q4 of the first production year","Production year adjustment ",1,"year","Adjusted for 1 year as the production starts Q4 of the first production year","Production year adjustment ",1,"year","Adjusted for 1 year as the production starts Q4 of the first production year","Production year adjustment ",1,"year","Adjusted for 1 year as the production starts Q4 of the first production year","Production year adjustment ",1,"year","Adjusted for 1 year as the production starts Q4 of the first production year","Production year adjustment ",1,"year","Adjusted for 1 year as the production starts Q4 of the first production year","Production year adjustment ",1,"year","Adjusted for 1 year as the production starts Q4 of the first production year","Production year adjustment ",1,"year","Adjusted for 1 year as the production starts Q4 of the first production year","Production year adjustment ",1,"year","Adjusted for 1 year as the production starts Q4 of the first production year","Production year adjustment ",1,"year","Adjusted for 1 year as the production starts Q4 of the first production year","Production year adjustment ",1,"year","Adjusted for 1 year as the production starts Q4 of the first production year","Production year adjustment ",1,"year","Adjusted for 1 year as the production starts Q4 of the first production year","Production year adjustment ",1,"year","Adjusted for 1 year as the production starts Q4 of the first production year","Production year adjustment ",1,"year","Adjusted for 1 year as the production starts Q4 of the first production year","Production year adjustment ",1,"year","Adjusted for 1 year as the production starts Q4 of the first production year","Production year adjustment ",1,"year","Adjusted for 1 year as the production starts Q4 of the first production year","Production year adjustment ",1,"year","Adjusted for 1 year as the production starts Q4 of the first production year","Production year adjustment ",1,"year","Adjusted for 1 year as the production starts Q4 of the first production year","Production year adjustment ",1,"year","Adjusted for 1 year as the production starts Q4 of the first production year","Production year adjustment ",1,"year","Adjusted for 1 year as the production starts Q4 of the first production year","Production year adjustment ",1,"year","Adjusted for 1 year as the production starts Q4 of the first production year","Production year adjustment ",1,"year","Adjusted for 1 year as the production starts Q4 of the first production year","Production year adjustment ",1,"year","Adjusted for 1 year as the production starts Q4 of the first production year","Production year adjustment ",1,"year","Adjusted for 1 year as the production starts Q4 of the first production year","Production year adjustment ",1,"year","Adjusted for 1 year as the production starts Q4 of the first production year","Production year adjustment ",1,"year","Adjusted for 1 year as the production starts Q4 of the first production year","Production year adjustment ",1,"year","Adjusted for 1 year as the production starts Q4 of the first production year","Production year adjustment ",1,"year","Adjusted for 1 year as the production starts Q4 of the first production year","Production year adjustment ",1,"year","Adjusted for 1 year as the production starts Q4 of the first production year","Production year adjustment ",1,"year","Adjusted for 1 year as the production starts Q4 of the first production year","Production year adjustment ",1,"year","Adjusted for 1 year as the production starts Q4 of the first production year","Production year adjustment ",1,"year","Adjusted for 1 year as the production starts Q4 of the first production year","Production year adjustment ",1,"year","Adjusted for 1 year as the production starts Q4 of the first production year","Production year adjustment ",1,"year","Adjusted for 1 year as the production starts Q4 of the first production year","Production year adjustment ",1,"year","Adjusted for 1 year as the production starts Q4 of the first production year","Production year adjustment ",1,"year","Adjusted for 1 year as the production starts Q4 of the first production year","Production year adjustment ",1,"year","Adjusted for 1 year as the production starts Q4 of the first production year","Production year adjustment ",1,"year","Adjusted for 1 year as the production starts Q4 of the first production year","Production year adjustment ",1,"year","Adjusted for 1 year as the production starts Q4 of the first production year","Production year adjustment ",1,"year","Adjusted for 1 year as the production starts Q4 of the first production year","Production year adjustment ",1,"year","Adjusted for 1 year as the production starts Q4 of the first production year","Production year adjustment ",1,"year","Adjusted for 1 year as the production starts Q4 of the first production year","Production year adjustment ",1,"year","Adjusted for 1 year as the production starts Q4 of the first production year","Production year adjustment ",1,"year","Adjusted for 1 year as the production starts Q4 of the first production year","Production year adjustment ",1,"year","Adjusted for 1 year as the production starts Q4 of the first production year","Production year adjustment ",1,"year","Adjusted for 1 year as the production starts Q4 of the first production year","Production year adjustment ",1,"year","Adjusted for 1 year as the production starts Q4 of the first production year","Production year adjustment ",1,"year","Adjusted for 1 year as the production starts Q4 of the first production year","Production year adjustment ",1,"year","Adjusted for 1 year as the production starts Q4 of the first production year","Production year adjustment ",1,"year","Adjusted for 1 year as the production starts Q4 of the first production year","Production year adjustment ",1,"year","Adjusted for 1 year as the production starts Q4 of the first production year","Production year adjustment ",1,"year","Adjusted for 1 year as the production starts Q4 of the first production year","Production year adjustment ",1,"year","Adjusted for 1 year as the production starts Q4 of the first production year","Production year adjustment ",1,"year","Adjusted for 1 year as the production starts Q4 of the first production year","Production year adjustment ",1,"year","Adjusted for 1 year as the production starts Q4 of the first production year","Production year adjustment ",1,"year","Adjusted for 1 year as the production starts Q4 of the first production year","Production year adjustment ",1,"year","Adjusted for 1 year as the production starts Q4 of the first production year","Production year adjustment ",1,"year","Adjusted for 1 year as the production starts Q4 of the first production year","Production year adjustment ",1,"year","Adjusted for 1 year as the production starts Q4 of the first production year","Production year adjustment ",1,"year","Adjusted for 1 year as the production starts Q4 of the first production year","Production year adjustment ",1,"year","Adjusted for 1 year as the production starts Q4 of the first production year","Production year adjustment ",1,"year","Adjusted for 1 year as the production starts Q4 of the first production year","Production year adjustment ",1,"year","Adjusted for 1 year as the production starts Q4 of the first production year","Production year adjustment ",1,"year","Adjusted for 1 year as the production starts Q4 of the first production year","Production year adjustment ",1,"year","Adjusted for 1 year as the production starts Q4 of the first production year","Production year adjustment ",1,"year","Adjusted for 1 year as the production starts Q4 of the first production year","Production year adjustment ",1,"year","Adjusted for 1 year as the production starts Q4 of the first production year","Production year adjustment ",1,"year","Adjusted for 1 year as the production starts Q4 of the first production year","Production year adjustment ",1,"year","Adjusted for 1 year as the production starts Q4 of the first production year","Production year adjustment ",1,"year","Adjusted for 1 year as the production starts Q4 of the first production year","Production year adjustment ",1,"year","Adjusted for 1 year as the production starts Q4 of the first production year","Production year adjustment ",1,"year","Adjusted for 1 year as the production starts Q4 of the first production year","Production year adjustment ",1,"year","Adjusted for 1 year as the production starts Q4 of the first production year","Production year adjustment ",1,"year","Adjusted for 1 year as the production starts Q4 of the first production year","Production year adjustment ",1,"year","Adjusted for 1 year as the production starts Q4 of the first production year","Production year adjustment ",1,"year","Adjusted for 1 year as the production starts Q4 of the first production year","Production year adjustment ",1,"year","Adjusted for 1 year as the production starts Q4 of the first production year","Production year adjustment ",1,"year","Adjusted for 1 year as the production starts Q4 of the first production year","Production year adjustment ",1,"year","Adjusted for 1 year as the production starts Q4 of the first production year","Production year adjustment ",1,"year","Adjusted for 1 year as the production starts Q4 of the first production year","Production year adjustment ",1,"year","Adjusted for 1 year as the production starts Q4 of the first production year","Production year adjustment ",1,"year","Adjusted for 1 year as the production starts Q4 of the first production year","Production year adjustment ",1,"year","Adjusted for 1 year as the production starts Q4 of the first production year","Production year adjustment ",1,"year","Adjusted for 1 year as the production starts Q4 of the first production year","Production year adjustment ",1,"year","Adjusted for 1 year as the production starts Q4 of the first production year","Production year adjustment ",1,"year","Adjusted for 1 year as the production starts Q4 of the first production year","Production year adjustment ",1,"year","Adjusted for 1 year as the production starts Q4 of the first production year","Production year adjustment ",1,"year","Adjusted for 1 year as the production starts Q4 of the first production year","Production year adjustment ",1,"year","Adjusted for 1 year as the production starts Q4 of the first production year","Production year adjustment ",1,"year","Adjusted for 1 year as the production starts Q4 of the first production year","Production year adjustment ",1,"year","Adjusted for 1 year as the production starts Q4 of the first production year","Production year adjustment ",1,"year","Adjusted for 1 year as the production starts Q4 of the first production year","Production year adjustment ",1,"year","Adjusted for 1 year as the production starts Q4 of the first production year","Production year adjustment ",1,"year","Adjusted for 1 year as the production starts Q4 of the first production year","Production year adjustment ",1,"year","Adjusted for 1 year as the production starts Q4 of the first production year","Production year adjustment ",1,"year","Adjusted for 1 year as the production starts Q4 of the first production year","Production year adjustment ",1,"year","Adjusted for 1 year as the production starts Q4 of the first production year","Production year adjustment ",1,"year","Adjusted for 1 year as the production starts Q4 of the first production year","Production year adjustment ",1,"year","Adjusted for 1 year as the production starts Q4 of the first production year","Production year adjustment ",1,"year","Adjusted for 1 year as the production starts Q4 of the first production year","Production year adjustment ",1,"year","Adjusted for 1 year as the production starts Q4 of the first production year","Production year adjustment ",1,"year","Adjusted for 1 year as the production starts Q4 of the first production year","Production year adjustment ",1,"year","Adjusted for 1 year as the production starts Q4 of the first production year","Production year adjustment ",1,"year","Adjusted for 1 year as the production starts Q4 of the first production year","Production year adjustment ",1,"year","Adjusted for 1 year as the production starts Q4 of the first production year","Production year adjustment ",1,"year","Adjusted for 1 year as the production starts Q4 of the first production year","Production year adjustment ",1,"year","Adjusted for 1 year as the production starts Q4 of the first production year","Production year adjustment ",1,"year","Adjusted for 1 year as the production starts Q4 of the first production year","Production year adjustment ",1,"year","Adjusted for 1 year as the production starts Q4 of the first production year","Production year adjustment ",1,"year","Adjusted for 1 year as the production starts Q4 of the first production year","Production year adjustment ",1,"year","Adjusted for 1 year as the production starts Q4 of the first production year","Production year adjustment ",1,"year","Adjusted for 1 year as the production starts Q4 of the first production year","Production year adjustment ",1,"year","Adjusted for 1 year as the production starts Q4 of the first production year","Production year adjustment ",1,"year","Adjusted for 1 year as the production starts Q4 of the first production year","Production year adjustment ",1,"year","Adjusted for 1 year as the production starts Q4 of the first production year","Production year adjustment ",1,"year","Adjusted for 1 year as the production starts Q4 of the first production year","Production year adjustment ",1,"year","Adjusted for 1 year as the production starts Q4 of the first production year","Production year adjustment ",1,"year","Adjusted for 1 year as the production starts Q4 of the first production year","Production year adjustment ",1,"year","Adjusted for 1 year as the production starts Q4 of the first production year","Production year adjustment ",1,"year","Adjusted for 1 year as the production starts Q4 of the first production year","Production year adjustment ",1,"year","Adjusted for 1 year as the production starts Q4 of the first production year","Production year adjustment ",1,"year","Adjusted for 1 year as the production starts Q4 of the first production year","Production year adjustment ",1,"year","Adjusted for 1 year as the production starts Q4 of the first production year","Production year adjustment ",1,"year","Adjusted for 1 year as the production starts Q4 of the first production year","Production year adjustment ",1,"year","Adjusted for 1 year as the production starts Q4 of the first production year","Production year adjustment ",1,"year","Adjusted for 1 year as the production starts Q4 of the first production year","Production year adjustment ",1,"year","Adjusted for 1 year as the production starts Q4 of the first production year","Production year adjustment ",1,"year","Adjusted for 1 year as the production starts Q4 of the first production year","Production year adjustment ",1,"year","Adjusted for 1 year as the production starts Q4 of the first production year","Production year adjustment ",1,"year","Adjusted for 1 year as the production starts Q4 of the first production year","Production year adjustment ",1,"year","Adjusted for 1 year as the production starts Q4 of the first production year","Production year adjustment ",1,"year","Adjusted for 1 year as the production starts Q4 of the first production year","Production year adjustment ",1,"year","Adjusted for 1 year as the production starts Q4 of the first production year","Production year adjustment ",1,"year","Adjusted for 1 year as the production starts Q4 of the first production year","Production year adjustment ",1,"year","Adjusted for 1 year as the production starts Q4 of the first production year","Production year adjustment ",1,"year","Adjusted for 1 year as the production starts Q4 of the first production year","Production year adjustment ",1,"year","Adjusted for 1 year as the production starts Q4 of the first production year","Production year adjustment ",1,"year","Adjusted for 1 year as the production starts Q4 of the first production year","Production year adjustment ",1,"year","Adjusted for 1 year as the production starts Q4 of the first production year","Production year adjustment ",1,"year","Adjusted for 1 year as the production starts Q4 of the first production year","Production year adjustment ",1,"year","Adjusted for 1 year as the production starts Q4 of the first production year","Production year adjustment ",1,"year","Adjusted for 1 year as the production starts Q4 of the first production year","Production year adjustment ",1,"year","Adjusted for 1 year as the production starts Q4 of the first production year","Production year adjustment ",1,"year","Adjusted for 1 year as the production starts Q4 of the first production year","Production year adjustment ",1,"year","Adjusted for 1 year as the production starts Q4 of the first production year","Production year adjustment ",1,"year","Adjusted for 1 year as the production starts Q4 of the first production year","Production year adjustment ",1,"year","Adjusted for 1 year as the production starts Q4 of the first production year","Production year adjustment ",1,"year","Adjusted for 1 year as the production starts Q4 of the first production year","Production year adjustment ",1,"year","Adjusted for 1 year as the production starts Q4 of the first production year","Production year adjustment ",1,"year","Adjusted for 1 year as the production starts Q4 of the first production year","Production year adjustment ",1,"year","Adjusted for 1 year as the production starts Q4 of the first production year","Production year adjustment ",1,"year","Adjusted for 1 year as the production starts Q4 of the first production year","Production year adjustment ",1,"year","Adjusted for 1 year as the production starts Q4 of the first production year","Production year adjustment ",1,"year","Adjusted for 1 year as the production starts Q4 of the first production year","Production year adjustment ",1,"year","Adjusted for 1 year as the production starts Q4 of the first production year","Production year adjustment ",1,"year","Adjusted for 1 year as the production starts Q4 of the first production year","Production year adjustment ",1,"year","Adjusted for 1 year as the production starts Q4 of the first production year","Production year adjustment ",1,"year","Adjusted for 1 year as the production starts Q4 of the first production year","Production year adjustment ",1,"year","Adjusted for 1 year as the production starts Q4 of the first production year","Production year adjustment ",1,"year","Adjusted for 1 year as the production starts Q4 of the first production year","Production year adjustment ",1,"year","Adjusted for 1 year as the production starts Q4 of the first production year","Production year adjustment ",1,"year","Adjusted for 1 year as the production starts Q4 of the first production year","Production year adjustment ",1,"year","Adjusted for 1 year as the production starts Q4 of the first production year","Production year adjustment ",1,"year","Adjusted for 1 year as the production starts Q4 of the first production year","Production year adjustment ",1,"year","Adjusted for 1 year as the production starts Q4 of the first production year","Production year adjustment ",1,"year","Adjusted for 1 year as the production starts Q4 of the first production year","Production year adjustment ",1,"year","Adjusted for 1 year as the production starts Q4 of the first production year","Production year adjustment ",1,"year","Adjusted for 1 year as the production starts Q4 of the first production year","Production year adjustment ",1,"year","Adjusted for 1 year as the production starts Q4 of the first production year","Production year adjustment ",1,"year","Adjusted for 1 year as the production starts Q4 of the first production year","Production year adjustment ",1,"year","Adjusted for 1 year as the production starts Q4 of the first production year","Production year adjustment ",1,"year","Adjusted for 1 year as the production starts Q4 of the first production year","Production year adjustment ",1,"year","Adjusted for 1 year as the production starts Q4 of the first production year","Production year adjustment ",1,"year","Adjusted for 1 year as the production starts Q4 of the first production year","Production year adjustment ",1,"year","Adjusted for 1 year as the production starts Q4 of the first production year","Production year adjustment ",1,"year","Adjusted for 1 year as the production starts Q4 of the first production year","Production year adjustment ",1,"year","Adjusted for 1 year as the production starts Q4 of the first production year","Production year adjustment ",1,"year","Adjusted for 1 year as the production starts Q4 of the first production year","Production year adjustment ",1,"year","Adjusted for 1 year as the production starts Q4 of the first production year","Production year adjustment ",1,"year","Adjusted for 1 year as the production starts Q4 of the first production year","Production year adjustment ",1,"year","Adjusted for 1 year as the production starts Q4 of the first production year","Production year adjustment ",1,"year","Adjusted for 1 year as the production starts Q4 of the first production year","Production year adjustment ",1,"year","Adjusted for 1 year as the production starts Q4 of the first production year","Production year adjustment ",1,"year","Adjusted for 1 year as the production starts Q4 of the first production year","Production year adjustment ",1,"year","Adjusted for 1 year as the production starts Q4 of the first production year","Production year adjustment ",1,"year","Adjusted for 1 year as the production starts Q4 of the first production year","Production year adjustment ",1,"year","Adjusted for 1 year as the production starts Q4 of the first production year","Production year adjustment ",1,"year","Adjusted for 1 year as the production starts Q4 of the first production year","Production year adjustment ",1,"year","Adjusted for 1 year as the production starts Q4 of the first production year","Production year adjustment ",1,"year","Adjusted for 1 year as the production starts Q4 of the first production year","Production year adjustment ",1,"year","Adjusted for 1 year as the production starts Q4 of the first production year","Production year adjustment ",1,"year","Adjusted for 1 year as the production starts Q4 of the first production year","Production year adjustment ",1,"year","Adjusted for 1 year as the production starts Q4 of the first production year","Production year adjustment ",1,"year","Adjusted for 1 year as the production starts Q4 of the first production year","Production year adjustment ",1,"year","Adjusted for 1 year as the production starts Q4 of the first production year","Production year adjustment ",1,"year","Adjusted for 1 year as the production starts Q4 of the first production year","Production year adjustment ",1,"year","Adjusted for 1 year as the production starts Q4 of the first production year","Production year adjustment ",1,"year","Adjusted for 1 year as the production starts Q4 of the first production year","Production year adjustment ",1,"year","Adjusted for 1 year as the production starts Q4 of the first production year","Production year adjustment ",1,"year","Adjusted for 1 year as the production starts Q4 of the first production year","Production year adjustment ",1,"year","Adjusted for 1 year as the production starts Q4 of the first production year","Production year adjustment ",1,"year","Adjusted for 1 year as the production starts Q4 of the first production year","Production year adjustment ",1,"year","Adjusted for 1 year as the production starts Q4 of the first production year","Production year adjustment ",1,"year","Adjusted for 1 year as the production starts Q4 of the first production year","Production year adjustment ",1,"year","Adjusted for 1 year as the production starts Q4 of the first production year","Production year adjustment ",1,"year","Adjusted for 1 year as the production starts Q4 of the first production year","Production year adjustment ",1,"year","Adjusted for 1 year as the production starts Q4 of the first production year","Production year adjustment ",1,"year","Adjusted for 1 year as the production starts Q4 of the first production year","Production year adjustment ",1,"year","Adjusted for 1 year as the production starts Q4 of the first production year","Production year adjustment ",1,"year","Adjusted for 1 year as the production starts Q4 of the first production year","Production year adjustment ",1,"year","Adjusted for 1 year as the production starts Q4 of the first production year","Production year adjustment ",1,"year","Adjusted for 1 year as the production starts Q4 of the first production year","Production year adjustment ",1,"year","Adjusted for 1 year as the production starts Q4 of the first production year","Production year adjustment ",1,"year","Adjusted for 1 year as the production starts Q4 of the first production year","Production year adjustment ",1,"year","Adjusted for 1 year as the production starts Q4 of the first production year","Production year adjustment ",1,"year","Adjusted for 1 year as the production starts Q4 of the first production year","Production year adjustment ",1,"year","Adjusted for 1 year as the production starts Q4 of the first production year","Production year adjustment ",1,"year","Adjusted for 1 year as the production starts Q4 of the first production year","Production year adjustment ",1,"year","Adjusted for 1 year as the production starts Q4 of the first production year","Production year adjustment ",1,"year","Adjusted for 1 year as the production starts Q4 of the first production year","Production year adjustment ",1,"year","Adjusted for 1 year as the production starts Q4 of the first production year","Production year adjustment ",1,"year","Adjusted for 1 year as the production starts Q4 of the first production year","Production year adjustment ",1,"year","Adjusted for 1 year as the production starts Q4 of the first production year","Production year adjustment ",1,"year","Adjusted for 1 year as the production starts Q4 of the first production year","Production year adjustment ",1,"year","Adjusted for 1 year as the production starts Q4 of the first production year","Production year adjustment ",1,"year","Adjusted for 1 year as the production starts Q4 of the first production year","Production year adjustment ",1,"year","Adjusted for 1 year as the production starts Q4 of the first production year","Production year adjustment ",1,"year","Adjusted for 1 year as the production starts Q4 of the first production year","Production year adjustment ",1,"year","Adjusted for 1 year as the production starts Q4 of the first production year","Production year adjustment ",1,"year","Adjusted for 1 year as the production starts Q4 of the first production year","Production year adjustment ",1,"year","Adjusted for 1 year as the production starts Q4 of the first production year","Production year adjustment ",1,"year","Adjusted for 1 year as the production starts Q4 of the first production year","Production year adjustment ",1,"year","Adjusted for 1 year as the production starts Q4 of the first production year","Production year adjustment ",1,"year","Adjusted for 1 year as the production starts Q4 of the first production year","Production year adjustment ",1,"year","Adjusted for 1 year as the production starts Q4 of the first production year","Production year adjustment ",1,"year","Adjusted for 1 year as the production starts Q4 of the first production year","Production year adjustment ",1,"year","Adjusted for 1 year as the production starts Q4 of the first production year","Production year adjustment ",1,"year","Adjusted for 1 year as the production starts Q4 of the first production year","Production year adjustment ",1,"year","Adjusted for 1 year as the production starts Q4 of the first production year","Production year adjustment ",1,"year","Adjusted for 1 year as the production starts Q4 of the first production year","Production year adjustment ",1,"year","Adjusted for 1 year as the production starts Q4 of the first production year","Production year adjustment ",1,"year","Adjusted for 1 year as the production starts Q4 of the first production year","Production year adjustment ",1,"year","Adjusted for 1 year as the production starts Q4 of the first production year","Production year adjustment ",1,"year","Adjusted for 1 year as the production starts Q4 of the first production year","Production year adjustment ",1,"year","Adjusted for 1 year as the production starts Q4 of the first production year","Production year adjustment ",1,"year","Adjusted for 1 year as the production starts Q4 of the first production year","Production year adjustment ",1,"year","Adjusted for 1 year as the production starts Q4 of the first production year","Production year adjustment ",1,"year","Adjusted for 1 year as the production starts Q4 of the first production year","Production year adjustment ",1,"year","Adjusted for 1 year as the production starts Q4 of the first production year","Production year adjustment ",1,"year","Adjusted for 1 year as the production starts Q4 of the first production year","Production year adjustment ",1,"year","Adjusted for 1 year as the production starts Q4 of the first production year","Production year adjustment ",1,"year","Adjusted for 1 year as the production starts Q4 of the first production year","Production year adjustment ",1,"year","Adjusted for 1 year as the production starts Q4 of the first production year","Production year adjustment ",1,"year","Adjusted for 1 year as the production starts Q4 of the first production year","Production year adjustment ",1,"year","Adjusted for 1 year as the production starts Q4 of the first production year","Production year adjustment ",1,"year","Adjusted for 1 year as the production starts Q4 of the first production year","Production year adjustment ",1,"year","Adjusted for 1 year as the production starts Q4 of the first production year","Production year adjustment ",1,"year","Adjusted for 1 year as the production starts Q4 of the first production year","Production year adjustment ",1,"year","Adjusted for 1 year as the production starts Q4 of the first production year","Production year adjustment ",1,"year","Adjusted for 1 year as the production starts Q4 of the first production year","Production year adjustment ",1,"year","Adjusted for 1 year as the production starts Q4 of the first production year","Production year adjustment ",1,"year","Adjusted for 1 year as the production starts Q4 of the first production year","Production year adjustment ",1,"year","Adjusted for 1 year as the production starts Q4 of the first production year","Production year adjustment ",1,"year","Adjusted for 1 year as the production starts Q4 of the first production year","Production year adjustment ",1,"year","Adjusted for 1 year as the production starts Q4 of the first production year","Production year adjustment ",1,"year","Adjusted for 1 year as the production starts Q4 of the first production year","Production year adjustment ",1,"year","Adjusted for 1 year as the production starts Q4 of the first production year","Production year adjustment ",1,"year","Adjusted for 1 year as the production starts Q4 of the first production year","Production year adjustment ",1,"year","Adjusted for 1 year as the production starts Q4 of the first production year","Production year adjustment ",1,"year","Adjusted for 1 year as the production starts Q4 of the first production year","Production year adjustment ",1,"year","Adjusted for 1 year as the production starts Q4 of the first production year","Production year adjustment ",1,"year","Adjusted for 1 year as the production starts Q4 of the first production year","Production year adjustment ",1,"year","Adjusted for 1 year as the production starts Q4 of the first production year","Production year adjustment ",1,"year","Adjusted for 1 year as the production starts Q4 of the first production year","Production year adjustment ",1,"year","Adjusted for 1 year as the production starts Q4 of the first production year","Production year adjustment ",1,"year","Adjusted for 1 year as the production starts Q4 of the first production year","Production year adjustment ",1,"year","Adjusted for 1 year as the production starts Q4 of the first production year","Production year adjustment ",1,"year","Adjusted for 1 year as the production starts Q4 of the first production year","Production year adjustment ",1,"year","Adjusted for 1 year as the production starts Q4 of the first production year","Production year adjustment ",1,"year","Adjusted for 1 year as the production starts Q4 of the first production year","Production year adjustment ",1,"year","Adjusted for 1 year as the production starts Q4 of the first production year","Production year adjustment ",1,"year","Adjusted for 1 year as the production starts Q4 of the first production year","Production year adjustment ",1,"year","Adjusted for 1 year as the production starts Q4 of the first production year","Production year adjustment ",1,"year","Adjusted for 1 year as the production starts Q4 of the first production year","Production year adjustment ",1,"year","Adjusted for 1 year as the production starts Q4 of the first production year","Production year adjustment ",1,"year","Adjusted for 1 year as the production starts Q4 of the first production year","Production year adjustment ",1,"year","Adjusted for 1 year as the production starts Q4 of the first production year","Production year adjustment ",1,"year","Adjusted for 1 year as the production starts Q4 of the first production year","Production year adjustment ",1,"year","Adjusted for 1 year as the production starts Q4 of the first production year","Production year adjustment ",1,"year","Adjusted for 1 year as the production starts Q4 of the first production year","Production year adjustment ",1,"year","Adjusted for 1 year as the production starts Q4 of the first production year","Production year adjustment ",1,"year","Adjusted for 1 year as the production starts Q4 of the first production year","Production year adjustment ",1,"year","Adjusted for 1 year as the production starts Q4 of the first production year","Production year adjustment ",1,"year","Adjusted for 1 year as the production starts Q4 of the first production year","Production year adjustment ",1,"year","Adjusted for 1 year as the production starts Q4 of the first production year","Production year adjustment ",1,"year","Adjusted for 1 year as the production starts Q4 of the first production year","Production year adjustment ",1,"year","Adjusted for 1 year as the production starts Q4 of the first production year","Production year adjustment ",1,"year","Adjusted for 1 year as the production starts Q4 of the first production year","Production year adjustment ",1,"year","Adjusted for 1 year as the production starts Q4 of the first production year","Production year adjustment ",1,"year","Adjusted for 1 year as the production starts Q4 of the first production year","Production year adjustment ",1,"year","Adjusted for 1 year as the production starts Q4 of the first production year","Production year adjustment ",1,"year","Adjusted for 1 year as the production starts Q4 of the first production year","Production year adjustment ",1,"year","Adjusted for 1 year as the production starts Q4 of the first production year","Production year adjustment ",1,"year","Adjusted for 1 year as the production starts Q4 of the first production year","Production year adjustment ",1,"year","Adjusted for 1 year as the production starts Q4 of the first production year","Production year adjustment ",1,"year","Adjusted for 1 year as the production starts Q4 of the first production year","Production year adjustment ",1,"year","Adjusted for 1 year as the production starts Q4 of the first production year","Production year adjustment ",1,"year","Adjusted for 1 year as the production starts Q4 of the first production year","Production year adjustment ",1,"year","Adjusted for 1 year as the production starts Q4 of the first production year","Production year adjustment ",1,"year","Adjusted for 1 year as the production starts Q4 of the first production year","Production year adjustment ",1,"year","Adjusted for 1 year as the production starts Q4 of the first production year","Production year adjustment ",1,"year","Adjusted for 1 year as the production starts Q4 of the first production year","Production year adjustment ",1,"year","Adjusted for 1 year as the production starts Q4 of the first production year","Production year adjustment ",1,"year","Adjusted for 1 year as the production starts Q4 of the first production year","Production year adjustment ",1,"year","Adjusted for 1 year as the production starts Q4 of the first production year","Production year adjustment ",1,"year","Adjusted for 1 year as the production starts Q4 of the first production year","Production year adjustment ",1,"year","Adjusted for 1 year as the production starts Q4 of the first production year","Production year adjustment ",1,"year","Adjusted for 1 year as the production starts Q4 of the first production year","Production year adjustment ",1,"year","Adjusted for 1 year as the production starts Q4 of the first production year","Production year adjustment ",1,"year","Adjusted for 1 year as the production starts Q4 of the first production year","Production year adjustment ",1,"year","Adjusted for 1 year as the production starts Q4 of the first production year","Production year adjustment ",1,"year","Adjusted for 1 year as the production starts Q4 of the first production year","Production year adjustment ",1,"year","Adjusted for 1 year as the production starts Q4 of the first production year","Production year adjustment ",1,"year","Adjusted for 1 year as the production starts Q4 of the first production year","Production year adjustment ",1,"year","Adjusted for 1 year as the production starts Q4 of the first production year","Production year adjustment ",1,"year","Adjusted for 1 year as the production starts Q4 of the first production year","Production year adjustment ",1,"year","Adjusted for 1 year as the production starts Q4 of the first production year","Production year adjustment ",1,"year","Adjusted for 1 year as the production starts Q4 of the first production year","Production year adjustment ",1,"year","Adjusted for 1 year as the production starts Q4 of the first production year","Production year adjustment ",1,"year","Adjusted for 1 year as the production starts Q4 of the first production year","Production year adjustment ",1,"year","Adjusted for 1 year as the production starts Q4 of the first production year","Production year adjustment ",1,"year","Adjusted for 1 year as the production starts Q4 of the first production year","Production year adjustment ",1,"year","Adjusted for 1 year as the production starts Q4 of the first production year","Production year adjustment ",1,"year","Adjusted for 1 year as the production starts Q4 of the first production year","Production year adjustment ",1,"year","Adjusted for 1 year as the production starts Q4 of the first production year","Production year adjustment ",1,"year","Adjusted for 1 year as the production starts Q4 of the first production year","Production year adjustment ",1,"year","Adjusted for 1 year as the production starts Q4 of the first production year","Production year adjustment ",1,"year","Adjusted for 1 year as the production starts Q4 of the first production year","Production year adjustment ",1,"year","Adjusted for 1 year as the production starts Q4 of the first production year","Production year adjustment ",1,"year","Adjusted for 1 year as the production starts Q4 of the first production year","Production year adjustment ",1,"year","Adjusted for 1 year as the production starts Q4 of the first production year","Production year adjustment ",1,"year","Adjusted for 1 year as the production starts Q4 of the first production year","Production year adjustment ",1,"year","Adjusted for 1 year as the production starts Q4 of the first production year","Production year adjustment ",1,"year","Adjusted for 1 year as the production starts Q4 of the first production year","Production year adjustment ",1,"year","Adjusted for 1 year as the production starts Q4 of the first production year","Production year adjustment ",1,"year","Adjusted for 1 year as the production starts Q4 of the first production year","Production year adjustment ",1,"year","Adjusted for 1 year as the production starts Q4 of the first production year","Production year adjustment ",1,"year","Adjusted for 1 year as the production starts Q4 of the first production year","Production year adjustment ",1,"year","Adjusted for 1 year as the production starts Q4 of the first production year","Production year adjustment ",1,"year","Adjusted for 1 year as the production starts Q4 of the first production year","Production year adjustment ",1,"year","Adjusted for 1 year as the production starts Q4 of the first production year","Production year adjustment ",1,"year","Adjusted for 1 year as the production starts Q4 of the first production year","Production year adjustment ",1,"year","Adjusted for 1 year as the production starts Q4 of the first production year","Production year adjustment ",1,"year","Adjusted for 1 year as the production starts Q4 of the first production year","Production year adjustment ",1,"year","Adjusted for 1 year as the production starts Q4 of the first production year","Production year adjustment ",1,"year","Adjusted for 1 year as the production starts Q4 of the first production year","Production year adjustment ",1,"year","Adjusted for 1 year as the production starts Q4 of the first production year","Production year adjustment ",1,"year","Adjusted for 1 year as the production starts Q4 of the first production year","Production year adjustment ",1,"year","Adjusted for 1 year as the production starts Q4 of the first production year","Production year adjustment ",1,"year","Adjusted for 1 year as the production starts Q4 of the first production year","Production year adjustment ",1,"year","Adjusted for 1 year as the production starts Q4 of the first production year","Production year adjustment ",1,"year","Adjusted for 1 year as the production starts Q4 of the first production year","Production year adjustment ",1,"year","Adjusted for 1 year as the production starts Q4 of the first production year","Production year adjustment ",1,"year","Adjusted for 1 year as the production starts Q4 of the first production year","Production year adjustment ",1,"year","Adjusted for 1 year as the production starts Q4 of the first production year","Production year adjustment ",1,"year","Adjusted for 1 year as the production starts Q4 of the first production year","Production year adjustment ",1,"year","Adjusted for 1 year as the production starts Q4 of the first production year","Production year adjustment ",1,"year","Adjusted for 1 year as the production starts Q4 of the first production year","Production year adjustment ",1,"year","Adjusted for 1 year as the production starts Q4 of the first production year","Production year adjustment ",1,"year","Adjusted for 1 year as the production starts Q4 of the first production year","Production year adjustment ",1,"year","Adjusted for 1 year as the production starts Q4 of the first production year","Production year adjustment ",1,"year","Adjusted for 1 year as the production starts Q4 of the first production year","Production year adjustment ",1,"year","Adjusted for 1 year as the production starts Q4 of the first production year","Production year adjustment ",1,"year","Adjusted for 1 year as the production starts Q4 of the first production year","Production year adjustment ",1,"year","Adjusted for 1 year as the production starts Q4 of the first production year","Production year adjustment ",1,"year","Adjusted for 1 year as the production starts Q4 of the first production year","Production year adjustment ",1,"year","Adjusted for 1 year as the production starts Q4 of the first production year","Production year adjustment ",1,"year","Adjusted for 1 year as the production starts Q4 of the first production year","Production year adjustment ",1,"year","Adjusted for 1 year as the production starts Q4 of the first production year","Production year adjustment ",1,"year","Adjusted for 1 year as the production starts Q4 of the first production year","Production year adjustment ",1,"year","Adjusted for 1 year as the production starts Q4 of the first production year","Production year adjustment ",1,"year","Adjusted for 1 year as the production starts Q4 of the first production year","Production year adjustment ",1,"year","Adjusted for 1 year as the production starts Q4 of the first production year","Production year adjustment ",1,"year","Adjusted for 1 year as the production starts Q4 of the first production year","Production year adjustment ",1,"year","Adjusted for 1 year as the production starts Q4 of the first production year","Production year adjustment ",1,"year","Adjusted for 1 year as the production starts Q4 of the first production year","Production year adjustment ",1,"year","Adjusted for 1 year as the production starts Q4 of the first production year","Production year adjustment ",1,"year","Adjusted for 1 year as the production starts Q4 of the first production year","Production year adjustment ",1,"year","Adjusted for 1 year as the production starts Q4 of the first production year","Production year adjustment ",1,"year","Adjusted for 1 year as the production starts Q4 of the first production year","Production year adjustment ",1,"year","Adjusted for 1 year as the production starts Q4 of the first production year","Production year adjustment ",1,"year","Adjusted for 1 year as the production starts Q4 of the first production year","Production year adjustment ",1,"year","Adjusted for 1 year as the production starts Q4 of the first production year","Production year adjustment ",1,"year","Adjusted for 1 year as the production starts Q4 of the first production year","Production year adjustment ",1,"year","Adjusted for 1 year as the production starts Q4 of the first production year","Production year adjustment ",1,"year","Adjusted for 1 year as the production starts Q4 of the first production year","Production year adjustment ",1,"year","Adjusted for 1 year as the production starts Q4 of the first production year","Production year adjustment ",1,"year","Adjusted for 1 year as the production starts Q4 of the first production year","Production year adjustment ",1,"year","Adjusted for 1 year as the production starts Q4 of the first production year","Production year adjustment ",1,"year","Adjusted for 1 year as the production starts Q4 of the first production year","Production year adjustment ",1,"year","Adjusted for 1 year as the production starts Q4 of the first production year","Production year adjustment ",1,"year","Adjusted for 1 year as the production starts Q4 of the first production year","Production year adjustment ",1,"year","Adjusted for 1 year as the production starts Q4 of the first production year","Production year adjustment ",1,"year","Adjusted for 1 year as the production starts Q4 of the first production year","Production year adjustment ",1,"year","Adjusted for 1 year as the production starts Q4 of the first production year","Production year adjustment ",1,"year","Adjusted for 1 year as the production starts Q4 of the first production year","Production year adjustment ",1,"year","Adjusted for 1 year as the production starts Q4 of the first production year","Production year adjustment ",1,"year","Adjusted for 1 year as the production starts Q4 of the first production year","Production year adjustment ",1,"year","Adjusted for 1 year as the production starts Q4 of the first production year","Production year adjustment ",1,"year","Adjusted for 1 year as the production starts Q4 of the first production year","Production year adjustment ",1,"year","Adjusted for 1 year as the production starts Q4 of the first production year","Production year adjustment ",1,"year","Adjusted for 1 year as the production starts Q4 of the first production year","Production year adjustment ",1,"year","Adjusted for 1 year as the production starts Q4 of the first production year","Production year adjustment ",1,"year","Adjusted for 1 year as the production starts Q4 of the first production year","Production year adjustment ",1,"year","Adjusted for 1 year as the production starts Q4 of the first production year","Production year adjustment ",1,"year","Adjusted for 1 year as the production starts Q4 of the first production year","Production year adjustment ",1,"year","Adjusted for 1 year as the production starts Q4 of the first production year","Production year adjustment ",1,"year","Adjusted for 1 year as the production starts Q4 of the first production year","Production year adjustment ",1,"year","Adjusted for 1 year as the production starts Q4 of the first production year","Production year adjustment ",1,"year","Adjusted for 1 year as the production starts Q4 of the first production year","Production year adjustment ",1,"year","Adjusted for 1 year as the production starts Q4 of the first production year","Production year adjustment ",1,"year","Adjusted for 1 year as the production starts Q4 of the first production year","Production year adjustment ",1,"year","Adjusted for 1 year as the production starts Q4 of the first production year","Production year adjustment ",1,"year","Adjusted for 1 year as the production starts Q4 of the first production year","Production year adjustment ",1,"year","Adjusted for 1 year as the production starts Q4 of the first production year","Production year adjustment ",1,"year","Adjusted for 1 year as the production starts Q4 of the first production year","Production year adjustment ",1,"year","Adjusted for 1 year as the production starts Q4 of the first production year","Production year adjustment ",1,"year","Adjusted for 1 year as the production starts Q4 of the first production year","Production year adjustment ",1,"year","Adjusted for 1 year as the production starts Q4 of the first production year","Production year adjustment ",1,"year","Adjusted for 1 year as the production starts Q4 of the first production year","Production year adjustment ",1,"year","Adjusted for 1 year as the production starts Q4 of the first production year","Production year adjustment ",1,"year","Adjusted for 1 year as the production starts Q4 of the first production year","Production year adjustment ",1,"year","Adjusted for 1 year as the production starts Q4 of the first production year","Production year adjustment ",1,"year","Adjusted for 1 year as the production starts Q4 of the first production year","Production year adjustment ",1,"year","Adjusted for 1 year as the production starts Q4 of the first production year","Production year adjustment ",1,"year","Adjusted for 1 year as the production starts Q4 of the first production year","Production year adjustment ",1,"year","Adjusted for 1 year as the production starts Q4 of the first production year","Production year adjustment ",1,"year","Adjusted for 1 year as the production starts Q4 of the first production year","Production year adjustment ",1,"year","Adjusted for 1 year as the production starts Q4 of the first production year","Production year adjustment ",1,"year","Adjusted for 1 year as the production starts Q4 of the first production year","Production year adjustment ",1,"year","Adjusted for 1 year as the production starts Q4 of the first production year","Production year adjustment ",1,"year","Adjusted for 1 year as the production starts Q4 of the first production year","Production year adjustment ",1,"year","Adjusted for 1 year as the production starts Q4 of the first production year","Production year adjustment ",1,"year","Adjusted for 1 year as the production starts Q4 of the first production year","Production year adjustment ",1,"year","Adjusted for 1 year as the production starts Q4 of the first production year","Production year adjustment ",1,"year","Adjusted for 1 year as the production starts Q4 of the first production year","Production year adjustment ",1,"year","Adjusted for 1 year as the production starts Q4 of the first production year","Production year adjustment ",1,"year","Adjusted for 1 year as the production starts Q4 of the first production year","Production year adjustment ",1,"year","Adjusted for 1 year as the production starts Q4 of the first production year","Production year adjustment ",1,"year","Adjusted for 1 year as the production starts Q4 of the first production year","Production year adjustment ",1,"year","Adjusted for 1 year as the production starts Q4 of the first production year","Production year adjustment ",1,"year","Adjusted for 1 year as the production starts Q4 of the first production year","Production year adjustment ",1,"year","Adjusted for 1 year as the production starts Q4 of the first production year","Production year adjustment ",1,"year","Adjusted for 1 year as the production starts Q4 of the first production year","Production year adjustment ",1,"year","Adjusted for 1 year as the production starts Q4 of the first production year","Production year adjustment ",1,"year","Adjusted for 1 year as the production starts Q4 of the first production year","Production year adjustment ",1,"year","Adjusted for 1 year as the production starts Q4 of the first production year","Production year adjustment ",1,"year","Adjusted for 1 year as the production starts Q4 of the first production year","Production year adjustment ",1,"year","Adjusted for 1 year as the production starts Q4 of the first production year","Production year adjustment ",1,"year","Adjusted for 1 year as the production starts Q4 of the first production year","Production year adjustment ",1,"year","Adjusted for 1 year as the production starts Q4 of the first production year","Production year adjustment ",1,"year","Adjusted for 1 year as the production starts Q4 of the first production year","Production year adjustment ",1,"year","Adjusted for 1 year as the production starts Q4 of the first production year","Production year adjustment ",1,"year","Adjusted for 1 year as the production starts Q4 of the first production year","Production year adjustment ",1,"year","Adjusted for 1 year as the production starts Q4 of the first production year","Production year adjustment ",1,"year","Adjusted for 1 year as the production starts Q4 of the first production year","Production year adjustment ",1,"year","Adjusted for 1 year as the production starts Q4 of the first production year","Production year adjustment ",1,"year","Adjusted for 1 year as the production starts Q4 of the first production year","Production year adjustment ",1,"year","Adjusted for 1 year as the production starts Q4 of the first production year","Production year adjustment ",1,"year","Adjusted for 1 year as the production starts Q4 of the first production year","Production year adjustment ",1,"year","Adjusted for 1 year as the production starts Q4 of the first production year","Production year adjustment ",1,"year","Adjusted for 1 year as the production starts Q4 of the first production year","Production year adjustment ",1,"year","Adjusted for 1 year as the production starts Q4 of the first production year","Production year adjustment ",1,"year","Adjusted for 1 year as the production starts Q4 of the first production year","Production year adjustment ",1,"year","Adjusted for 1 year as the production starts Q4 of the first production year","Production year adjustment ",1,"year","Adjusted for 1 year as the production starts Q4 of the first production year","Production year adjustment ",1,"year","Adjusted for 1 year as the production starts Q4 of the first production year","Production year adjustment ",1,"year","Adjusted for 1 year as the production starts Q4 of the first production year","Production year adjustment ",1,"year","Adjusted for 1 year as the production starts Q4 of the first production year","Production year adjustment ",1,"year","Adjusted for 1 year as the production starts Q4 of the first production year","Production year adjustment ",1,"year","Adjusted for 1 year as the production starts Q4 of the first production year","Production year adjustment ",1,"year","Adjusted for 1 year as the production starts Q4 of the first production year","Production year adjustment ",1,"year","Adjusted for 1 year as the production starts Q4 of the first production year","Production year adjustment ",1,"year","Adjusted for 1 year as the production starts Q4 of the first production year","Production year adjustment ",1,"year","Adjusted for 1 year as the production starts Q4 of the first production year","Production year adjustment ",1,"year","Adjusted for 1 year as the production starts Q4 of the first production year","Production year adjustment ",1,"year","Adjusted for 1 year as the production starts Q4 of the first production year","Production year adjustment ",1,"year","Adjusted for 1 year as the production starts Q4 of the first production year","Production year adjustment ",1,"year","Adjusted for 1 year as the production starts Q4 of the first production year","Production year adjustment ",1,"year","Adjusted for 1 year as the production starts Q4 of the first production year","Production year adjustment ",1,"year","Adjusted for 1 year as the production starts Q4 of the first production year","Production year adjustment ",1,"year","Adjusted for 1 year as the production starts Q4 of the first production year","Production year adjustment ",1,"year","Adjusted for 1 year as the production starts Q4 of the first production year","Production year adjustment ",1,"year","Adjusted for 1 year as the production starts Q4 of the first production year","Production year adjustment ",1,"year","Adjusted for 1 year as the production starts Q4 of the first production year","Production year adjustment ",1,"year","Adjusted for 1 year as the production starts Q4 of the first production year","Production year adjustment ",1,"year","Adjusted for 1 year as the production starts Q4 of the first production year","Production year adjustment ",1,"year","Adjusted for 1 year as the production starts Q4 of the first production year","Production year adjustment ",1,"year","Adjusted for 1 year as the production starts Q4 of the first production year","Production year adjustment ",1,"year","Adjusted for 1 year as the production starts Q4 of the first production year","Production year adjustment ",1,"year","Adjusted for 1 year as the production starts Q4 of the first production year","Production year adjustment ",1,"year","Adjusted for 1 year as the production starts Q4 of the first production year","Production year adjustment ",1,"year","Adjusted for 1 year as the production starts Q4 of the first production year","Production year adjustment ",1,"year","Adjusted for 1 year as the production starts Q4 of the first production year","Production year adjustment ",1,"year","Adjusted for 1 year as the production starts Q4 of the first production year","Production year adjustment ",1,"year","Adjusted for 1 year as the production starts Q4 of the first production year","Production year adjustment ",1,"year","Adjusted for 1 year as the production starts Q4 of the first production year","Production year adjustment ",1,"year","Adjusted for 1 year as the production starts Q4 of the first production year","Production year adjustment ",1,"year","Adjusted for 1 year as the production starts Q4 of the first production year","Production year adjustment ",1,"year","Adjusted for 1 year as the production starts Q4 of the first production year","Production year adjustment ",1,"year","Adjusted for 1 year as the production starts Q4 of the first production year","Production year adjustment ",1,"year","Adjusted for 1 year as the production starts Q4 of the first production year","Production year adjustment ",1,"year","Adjusted for 1 year as the production starts Q4 of the first production year","Production year adjustment ",1,"year","Adjusted for 1 year as the production starts Q4 of the first production year","Production year adjustment ",1,"year","Adjusted for 1 year as the production starts Q4 of the first production year","Production year adjustment ",1,"year","Adjusted for 1 year as the production starts Q4 of the first production year","Production year adjustment ",1,"year","Adjusted for 1 year as the production starts Q4 of the first production year","Production year adjustment ",1,"year","Adjusted for 1 year as the production starts Q4 of the first production year","Production year adjustment ",1,"year","Adjusted for 1 year as the production starts Q4 of the first production year","Production year adjustment ",1,"year","Adjusted for 1 year as the production starts Q4 of the first production year","Production year adjustment ",1,"year","Adjusted for 1 year as the production starts Q4 of the first production year","Production year adjustment ",1,"year","Adjusted for 1 year as the production starts Q4 of the first production year","Production year adjustment ",1,"year","Adjusted for 1 year as the production starts Q4 of the first production year","Production year adjustment ",1,"year","Adjusted for 1 year as the production starts Q4 of the first production year","Production year adjustment ",1,"year","Adjusted for 1 year as the production starts Q4 of the first production year","Production year adjustment ",1,"year","Adjusted for 1 year as the production starts Q4 of the first production year","Production year adjustment ",1,"year","Adjusted for 1 year as the production starts Q4 of the first production year","Production year adjustment ",1,"year","Adjusted for 1 year as the production starts Q4 of the first production year","Production year adjustment ",1,"year","Adjusted for 1 year as the production starts Q4 of the first production year","Production year adjustment ",1,"year","Adjusted for 1 year as the production starts Q4 of the first production year","Production year adjustment ",1,"year","Adjusted for 1 year as the production starts Q4 of the first production year","Production year adjustment ",1,"year","Adjusted for 1 year as the production starts Q4 of the first production year","Production year adjustment ",1,"year","Adjusted for 1 year as the production starts Q4 of the first production year","Production year adjustment ",1,"year","Adjusted for 1 year as the production starts Q4 of the first production year","Production year adjustment ",1,"year","Adjusted for 1 year as the production starts Q4 of the first production year","Production year adjustment ",1,"year","Adjusted for 1 year as the production starts Q4 of the first production year","Production year adjustment ",1,"year","Adjusted for 1 year as the production starts Q4 of the first production year","Production year adjustment ",1,"year","Adjusted for 1 year as the production starts Q4 of the first production year","Production year adjustment ",1,"year","Adjusted for 1 year as the production starts Q4 of the first production year","Production year adjustment ",1,"year","Adjusted for 1 year as the production starts Q4 of the first production year","Production year adjustment ",1,"year","Adjusted for 1 year as the production starts Q4 of the first production year","Production year adjustment ",1,"year","Adjusted for 1 year as the production starts Q4 of the first production year","Production year adjustment ",1,"year","Adjusted for 1 year as the production starts Q4 of the first production year","Production year adjustment ",1,"year","Adjusted for 1 year as the production starts Q4 of the first production year","Production year adjustment ",1,"year","Adjusted for 1 year as the production starts Q4 of the first production year","Production year adjustment ",1,"year","Adjusted for 1 year as the production starts Q4 of the first production year","Production year adjustment ",1,"year","Adjusted for 1 year as the production starts Q4 of the first production year","Production year adjustment ",1,"year","Adjusted for 1 year as the production starts Q4 of the first production year","Production year adjustment ",1,"year","Adjusted for 1 year as the production starts Q4 of the first production year","Production year adjustment ",1,"year","Adjusted for 1 year as the production starts Q4 of the first production year","Production year adjustment ",1,"year","Adjusted for 1 year as the production starts Q4 of the first production year","Production year adjustment ",1,"year","Adjusted for 1 year as the production starts Q4 of the first production year","Production year adjustment ",1,"year","Adjusted for 1 year as the production starts Q4 of the first production year","Production year adjustment ",1,"year","Adjusted for 1 year as the production starts Q4 of the first production year","Production year adjustment ",1,"year","Adjusted for 1 year as the production starts Q4 of the first production year","Production year adjustment ",1,"year","Adjusted for 1 year as the production starts Q4 of the first production year","Production year adjustment ",1,"year","Adjusted for 1 year as the production starts Q4 of the first production year","Production year adjustment ",1,"year","Adjusted for 1 year as the production starts Q4 of the first production year","Production year adjustment ",1,"year","Adjusted for 1 year as the production starts Q4 of the first production year","Production year adjustment ",1,"year","Adjusted for 1 year as the production starts Q4 of the first production year","Production year adjustment ",1,"year","Adjusted for 1 year as the production starts Q4 of the first production year","Production year adjustment ",1,"year","Adjusted for 1 year as the production starts Q4 of the first production year","Production year adjustment ",1,"year","Adjusted for 1 year as the production starts Q4 of the first production year","Production year adjustment ",1,"year","Adjusted for 1 year as the production starts Q4 of the first production year","Production year adjustment ",1,"year","Adjusted for 1 year as the production starts Q4 of the first production year","Production year adjustment ",1,"year","Adjusted for 1 year as the production starts Q4 of the first production year","Production year adjustment ",1,"year","Adjusted for 1 year as the production starts Q4 of the first production year","Production year adjustment ",1,"year","Adjusted for 1 year as the production starts Q4 of the first production year","Production year adjustment ",1,"year","Adjusted for 1 year as the production starts Q4 of the first production year","Production year adjustment ",1,"year","Adjusted for 1 year as the production starts Q4 of the first production year","Production year adjustment ",1,"year","Adjusted for 1 year as the production starts Q4 of the first production year","Production year adjustment ",1,"year","Adjusted for 1 year as the production starts Q4 of the first production year","Production year adjustment ",1,"year","Adjusted for 1 year as the production starts Q4 of the first production year","Production year adjustment ",1,"year","Adjusted for 1 year as the production starts Q4 of the first production year","Production year adjustment ",1,"year","Adjusted for 1 year as the production starts Q4 of the first production year","Production year adjustment ",1,"year","Adjusted for 1 year as the production starts Q4 of the first production year","Production year adjustment ",1,"year","Adjusted for 1 year as the production starts Q4 of the first production year","Production year adjustment ",1,"year","Adjusted for 1 year as the production starts Q4 of the first production year","Production year adjustment ",1,"year","Adjusted for 1 year as the production starts Q4 of the first production year","Production year adjustment ",1,"year","Adjusted for 1 year as the production starts Q4 of the first production year","Production year adjustment ",1,"year","Adjusted for 1 year as the production starts Q4 of the first production year","Production year adjustment ",1,"year","Adjusted for 1 year as the production starts Q4 of the first production year","Production year adjustment ",1,"year","Adjusted for 1 year as the production starts Q4 of the first production year","Production year adjustment ",1,"year","Adjusted for 1 year as the production starts Q4 of the first production year","Production year adjustment ",1,"year","Adjusted for 1 year as the production starts Q4 of the first production year","Production year adjustment ",1,"year","Adjusted for 1 year as the production starts Q4 of the first production year","Production year adjustment ",1,"year","Adjusted for 1 year as the production starts Q4 of the first production year","Production year adjustment ",1,"year","Adjusted for 1 year as the production starts Q4 of the first production year","Production year adjustment ",1,"year","Adjusted for 1 year as the production starts Q4 of the first production year","Production year adjustment ",1,"year","Adjusted for 1 year as the production starts Q4 of the first production year","Production year adjustment ",1,"year","Adjusted for 1 year as the production starts Q4 of the first production year","Production year adjustment ",1,"year","Adjusted for 1 year as the production starts Q4 of the first production year","Production year adjustment ",1,"year","Adjusted for 1 year as the production starts Q4 of the first production year","Production year adjustment ",1,"year","Adjusted for 1 year as the production starts Q4 of the first production year","Production year adjustment ",1,"year","Adjusted for 1 year as the production starts Q4 of the first production year","Production year adjustment ",1,"year","Adjusted for 1 year as the production starts Q4 of the first production year","Production year adjustment ",1,"year","Adjusted for 1 year as the production starts Q4 of the first production year","Production year adjustment ",1,"year","Adjusted for 1 year as the production starts Q4 of the first production year","Production year adjustment ",1,"year","Adjusted for 1 year as the production starts Q4 of the first production year","Production year adjustment ",1,"year","Adjusted for 1 year as the production starts Q4 of the first production year","Production year adjustment ",1,"year","Adjusted for 1 year as the production starts Q4 of the first production year","Production year adjustment ",1,"year","Adjusted for 1 year as the production starts Q4 of the first production year","Production year adjustment ",1,"year","Adjusted for 1 year as the production starts Q4 of the first production year","Production year adjustment ",1,"year","Adjusted for 1 year as the production starts Q4 of the first production year","Production year adjustment ",1,"year","Adjusted for 1 year as the production starts Q4 of the first production year","Production year adjustment ",1,"year","Adjusted for 1 year as the production starts Q4 of the first production year","Production year adjustment ",1,"year","Adjusted for 1 year as the production starts Q4 of the first production year","Production year adjustment ",1,"year","Adjusted for 1 year as the production starts Q4 of the first production year","Production year adjustment ",1,"year","Adjusted for 1 year as the production starts Q4 of the first production year","Production year adjustment ",1,"year","Adjusted for 1 year as the production starts Q4 of the first production year","Production year adjustment ",1,"year","Adjusted for 1 year as the production starts Q4 of the first production year","Production year adjustment ",1,"year","Adjusted for 1 year as the production starts Q4 of the first production year","Production year adjustment ",1,"year","Adjusted for 1 year as the production starts Q4 of the first production year","Production year adjustment ",1,"year","Adjusted for 1 year as the production starts Q4 of the first production year","Production year adjustment ",1,"year","Adjusted for 1 year as the production starts Q4 of the first production year","Production year adjustment ",1,"year","Adjusted for 1 year as the production starts Q4 of the first production year","Production year adjustment ",1,"year","Adjusted for 1 year as the production starts Q4 of the first production year","Production year adjustment ",1,"year","Adjusted for 1 year as the production starts Q4 of the first production year","Production year adjustment ",1,"year","Adjusted for 1 year as the production starts Q4 of the first production year","Production year adjustment ",1,"year","Adjusted for 1 year as the production starts Q4 of the first production year","Production year adjustment ",1,"year","Adjusted for 1 year as the production starts Q4 of the first production year","Production year adjustment ",1,"year","Adjusted for 1 year as the production starts Q4 of the first production year","Production year adjustment ",1,"year","Adjusted for 1 year as the production starts Q4 of the first production year","Production year adjustment ",1,"year","Adjusted for 1 year as the production starts Q4 of the first production year","Production year adjustment ",1,"year","Adjusted for 1 year as the production starts Q4 of the first production year","Production year adjustment ",1,"year","Adjusted for 1 year as the production starts Q4 of the first production year","Production year adjustment ",1,"year","Adjusted for 1 year as the production starts Q4 of the first production year","Production year adjustment ",1,"year","Adjusted for 1 year as the production starts Q4 of the first production year","Production year adjustment ",1,"year","Adjusted for 1 year as the production starts Q4 of the first production year","Production year adjustment ",1,"year","Adjusted for 1 year as the production starts Q4 of the first production year","Production year adjustment ",1,"year","Adjusted for 1 year as the production starts Q4 of the first production year","Production year adjustment ",1,"year","Adjusted for 1 year as the production starts Q4 of the first production year","Production year adjustment ",1,"year","Adjusted for 1 year as the production starts Q4 of the first production year","Production year adjustment ",1,"year","Adjusted for 1 year as the production starts Q4 of the first production year","Production year adjustment ",1,"year","Adjusted for 1 year as the production starts Q4 of the first production year","Production year adjustment ",1,"year","Adjusted for 1 year as the production starts Q4 of the first production year","Production year adjustment ",1,"year","Adjusted for 1 year as the production starts Q4 of the first production year","Production year adjustment ",1,"year","Adjusted for 1 year as the production starts Q4 of the first production year","Production year adjustment ",1,"year","Adjusted for 1 year as the production starts Q4 of the first production year","Production year adjustment ",1,"year","Adjusted for 1 year as the production starts Q4 of the first production year","Production year adjustment ",1,"year","Adjusted for 1 year as the production starts Q4 of the first production year","Production year adjustment ",1,"year","Adjusted for 1 year as the production starts Q4 of the first production year","Production year adjustment ",1,"year","Adjusted for 1 year as the production starts Q4 of the first production year","Production year adjustment ",1,"year","Adjusted for 1 year as the production starts Q4 of the first production year","Production year adjustment ",1,"year","Adjusted for 1 year as the production starts Q4 of the first production year","Production year adjustment ",1,"year","Adjusted for 1 year as the production starts Q4 of the first production year","Production year adjustment ",1,"year","Adjusted for 1 year as the production starts Q4 of the first production year","Production year adjustment ",1,"year","Adjusted for 1 year as the production starts Q4 of the first production year","Production year adjustment ",1,"year","Adjusted for 1 year as the production starts Q4 of the first production year","Production year adjustment ",1,"year","Adjusted for 1 year as the production starts Q4 of the first production year","Production year adjustment ",1,"year","Adjusted for 1 year as the production starts Q4 of the first production year","Production year adjustment ",1,"year","Adjusted for 1 year as the production starts Q4 of the first production year","Production year adjustment ",1,"year","Adjusted for 1 year as the production starts Q4 of the first production year","Production year adjustment ",1,"year","Adjusted for 1 year as the production starts Q4 of the first production year","Production year adjustment ",1,"year","Adjusted for 1 year as the production starts Q4 of the first production year","Production year adjustment ",1,"year","Adjusted for 1 year as the production starts Q4 of the first production year","Production year adjustment ",1,"year","Adjusted for 1 year as the production starts Q4 of the first production year","Production year adjustment ",1,"year","Adjusted for 1 year as the production starts Q4 of the first production year","Production year adjustment ",1,"year","Adjusted for 1 year as the production starts Q4 of the first production year","Production year adjustment ",1,"year","Adjusted for 1 year as the production starts Q4 of the first production year","Production year adjustment ",1,"year","Adjusted for 1 year as the production starts Q4 of the first production year","Production year adjustment ",1,"year","Adjusted for 1 year as the production starts Q4 of the first production year","Production year adjustment ",1,"year","Adjusted for 1 year as the production starts Q4 of the first production year","Production year adjustment ",1,"year","Adjusted for 1 year as the production starts Q4 of the first production year","Production year adjustment ",1,"year","Adjusted for 1 year as the production starts Q4 of the first production year","Production year adjustment ",1,"year","Adjusted for 1 year as the production starts Q4 of the first production year","Production year adjustment ",1,"year","Adjusted for 1 year as the production starts Q4 of the first production year","Production year adjustment ",1,"year","Adjusted for 1 year as the production starts Q4 of the first production year","Production year adjustment ",1,"year","Adjusted for 1 year as the production starts Q4 of the first production year","Production year adjustment ",1,"year","Adjusted for 1 year as the production starts Q4 of the first production year","Production year adjustment ",1,"year","Adjusted for 1 year as the production starts Q4 of the first production year","Production year adjustment ",1,"year","Adjusted for 1 year as the production starts Q4 of the first production year","Production year adjustment ",1,"year","Adjusted for 1 year as the production starts Q4 of the first production year","Production year adjustment ",1,"year","Adjusted for 1 year as the production starts Q4 of the first production year","Production year adjustment ",1,"year","Adjusted for 1 year as the production starts Q4 of the first production year","Production year adjustment ",1,"year","Adjusted for 1 year as the production starts Q4 of the first production year","Production year adjustment ",1,"year","Adjusted for 1 year as the production starts Q4 of the first production year","Production year adjustment ",1,"year","Adjusted for 1 year as the production starts Q4 of the first production year","Production year adjustment ",1,"year","Adjusted for 1 year as the production starts Q4 of the first production year","Production year adjustment ",1,"year","Adjusted for 1 year as the production starts Q4 of the first production year","Production year adjustment ",1,"year","Adjusted for 1 year as the production starts Q4 of the first production year","Production year adjustment ",1,"year","Adjusted for 1 year as the production starts Q4 of the first production year","Production year adjustment ",1,"year","Adjusted for 1 year as the production starts Q4 of the first production year","Production year adjustment ",1,"year","Adjusted for 1 year as the production starts Q4 of the first production year","Production year adjustment ",1,"year","Adjusted for 1 year as the production starts Q4 of the first production year","Production year adjustment ",1,"year","Adjusted for 1 year as the production starts Q4 of the first production year","Production year adjustment ",1,"year","Adjusted for 1 year as the production starts Q4 of the first production year","Production year adjustment ",1,"year","Adjusted for 1 year as the production starts Q4 of the first production year","Production year adjustment ",1,"year","Adjusted for 1 year as the production starts Q4 of the first production year","Production year adjustment ",1,"year","Adjusted for 1 year as the production starts Q4 of the first production year","Production year adjustment ",1,"year","Adjusted for 1 year as the production starts Q4 of the first production year","Production year adjustment ",1,"year","Adjusted for 1 year as the production starts Q4 of the first production year","Production year adjustment ",1,"year","Adjusted for 1 year as the production starts Q4 of the first production year","Production year adjustment ",1,"year","Adjusted for 1 year as the production starts Q4 of the first production year","Production year adjustment ",1,"year","Adjusted for 1 year as the production starts Q4 of the first production year","Production year adjustment ",1,"year","Adjusted for 1 year as the production starts Q4 of the first production year","Production year adjustment ",1,"year","Adjusted for 1 year as the production starts Q4 of the first production year","Production year adjustment ",1,"year","Adjusted for 1 year as the production starts Q4 of the first production year","Production year adjustment ",1,"year","Adjusted for 1 year as the production starts Q4 of the first production year","Production year adjustment ",1,"year","Adjusted for 1 year as the production starts Q4 of the first production year","Production year adjustment ",1,"year","Adjusted for 1 year as the production starts Q4 of the first production year","Production year adjustment ",1,"year","Adjusted for 1 year as the production starts Q4 of the first production year","Production year adjustment ",1,"year","Adjusted for 1 year as the production starts Q4 of the first production year","Production year adjustment ",1,"year","Adjusted for 1 year as the production starts Q4 of the first production year","Production year adjustment ",1,"year","Adjusted for 1 year as the production starts Q4 of the first production year","Production year adjustment ",1,"year","Adjusted for 1 year as the production starts Q4 of the first production year","Production year adjustment ",1,"year","Adjusted for 1 year as the production starts Q4 of the first production year","Production year adjustment ",1,"year","Adjusted for 1 year as the production starts Q4 of the first production year","Production year adjustment ",1,"year","Adjusted for 1 year as the production starts Q4 of the first production year","Production year adjustment ",1,"year","Adjusted for 1 year as the production starts Q4 of the first production year","Production year adjustment ",1,"year","Adjusted for 1 year as the production starts Q4 of the first production year","Production year adjustment ",1,"year","Adjusted for 1 year as the production starts Q4 of the first production year","Production year adjustment ",1,"year","Adjusted for 1 year as the production starts Q4 of the first production year","Production year adjustment ",1,"year","Adjusted for 1 year as the production starts Q4 of the first production year","Production year adjustment ",1,"year","Adjusted for 1 year as the production starts Q4 of the first production year","Production year adjustment ",1,"year","Adjusted for 1 year as the production starts Q4 of the first production year","Production year adjustment ",1,"year","Adjusted for 1 year as the production starts Q4 of the first production year","Production year adjustment ",1,"year","Adjusted for 1 year as the production starts Q4 of the first production year","Production year adjustment ",1,"year","Adjusted for 1 year as the production starts Q4 of the first production year","Production year adjustment ",1,"year","Adjusted for 1 year as the production starts Q4 of the first production year","Production year adjustment ",1,"year","Adjusted for 1 year as the production starts Q4 of the first production year","Production year adjustment ",1,"year","Adjusted for 1 year as the production starts Q4 of the first production year","Production year adjustment ",1,"year","Adjusted for 1 year as the production starts Q4 of the first production year","Production year adjustment ",1,"year","Adjusted for 1 year as the production starts Q4 of the first production year","Production year adjustment ",1,"year","Adjusted for 1 year as the production starts Q4 of the first production year","Production year adjustment ",1,"year","Adjusted for 1 year as the production starts Q4 of the first production year","Production year adjustment ",1,"year","Adjusted for 1 year as the production starts Q4 of the first production year","Production year adjustment ",1,"year","Adjusted for 1 year as the production starts Q4 of the first production year","Production year adjustment ",1,"year","Adjusted for 1 year as the production starts Q4 of the first production year","Production year adjustment ",1,"year","Adjusted for 1 year as the production starts Q4 of the first production year","Production year adjustment ",1,"year","Adjusted for 1 year as the production starts Q4 of the first production year","Production year adjustment ",1,"year","Adjusted for 1 year as the production starts Q4 of the first production year","Production year adjustment ",1,"year","Adjusted for 1 year as the production starts Q4 of the first production year","Production year adjustment ",1,"year","Adjusted for 1 year as the production starts Q4 of the first production year","Production year adjustment ",1,"year","Adjusted for 1 year as the production starts Q4 of the first production year","Production year adjustment ",1,"year","Adjusted for 1 year as the production starts Q4 of the first production year","Production year adjustment ",1,"year","Adjusted for 1 year as the production starts Q4 of the first production year","Production year adjustment ",1,"year","Adjusted for 1 year as the production starts Q4 of the first production year","Production year adjustment ",1,"year","Adjusted for 1 year as the production starts Q4 of the first production year","Production year adjustment ",1,"year","Adjusted for 1 year as the production starts Q4 of the first production year","Production year adjustment ",1,"year","Adjusted for 1 year as the production starts Q4 of the first production year","Production year adjustment ",1,"year","Adjusted for 1 year as the production starts Q4 of the first production year","Production year adjustment ",1,"year","Adjusted for 1 year as the production starts Q4 of the first production year","Production year adjustment ",1,"year","Adjusted for 1 year as the production starts Q4 of the first production year","Production year adjustment ",1,"year","Adjusted for 1 year as the production starts Q4 of the first production year","Production year adjustment ",1,"year","Adjusted for 1 year as the production starts Q4 of the first production year","Production year adjustment ",1,"year","Adjusted for 1 year as the production starts Q4 of the first production year","Production year adjustment ",1,"year","Adjusted for 1 year as the production starts Q4 of the first production year","Production year adjustment ",1,"year","Adjusted for 1 year as the production starts Q4 of the first production year","Production year adjustment ",1,"year","Adjusted for 1 year as the production starts Q4 of the first production year","Production year adjustment ",1,"year","Adjusted for 1 year as the production starts Q4 of the first production year","Production year adjustment ",1,"year","Adjusted for 1 year as the production starts Q4 of the first production year","Production year adjustment ",1,"year","Adjusted for 1 year as the production starts Q4 of the first production year","Production year adjustment ",1,"year","Adjusted for 1 year as the production starts Q4 of the first production year","Production year adjustment ",1,"year","Adjusted for 1 year as the production starts Q4 of the first production year","Production year adjustment ",1,"year","Adjusted for 1 year as the production starts Q4 of the first production year","Production year adjustment ",1,"year","Adjusted for 1 year as the production starts Q4 of the first production year","Production year adjustment ",1,"year","Adjusted for 1 year as the production starts Q4 of the first production year","Production year adjustment ",1,"year","Adjusted for 1 year as the production starts Q4 of the first production year","Production year adjustment ",1,"year","Adjusted for 1 year as the production starts Q4 of the first production year","Production year adjustment ",1,"year","Adjusted for 1 year as the production starts Q4 of the first production year","Production year adjustment ",1,"year","Adjusted for 1 year as the production starts Q4 of the first production year","Production year adjustment ",1,"year","Adjusted for 1 year as the production starts Q4 of the first production year","Production year adjustment ",1,"year","Adjusted for 1 year as the production starts Q4 of the first production year","Production year adjustment ",1,"year","Adjusted for 1 year as the production starts Q4 of the first production year","Production year adjustment ",1,"year","Adjusted for 1 year as the production starts Q4 of the first production year","Production year adjustment ",1,"year","Adjusted for 1 year as the production starts Q4 of the first production year","Production year adjustment ",1,"year","Adjusted for 1 year as the production starts Q4 of the first production year","Production year adjustment ",1,"year","Adjusted for 1 year as the production starts Q4 of the first production year","Production year adjustment ",1,"year","Adjusted for 1 year as the production starts Q4 of the first production year","Production year adjustment ",1,"year","Adjusted for 1 year as the production starts Q4 of the first production year","Production year adjustment ",1,"year","Adjusted for 1 year as the production starts Q4 of the first production year","Production year adjustment ",1,"year","Adjusted for 1 year as the production starts Q4 of the first production year","Production year adjustment ",1,"year","Adjusted for 1 year as the production starts Q4 of the first production year","Production year adjustment ",1,"year","Adjusted for 1 year as the production starts Q4 of the first production year","Production year adjustment ",1,"year","Adjusted for 1 year as the production starts Q4 of the first production year","Production year adjustment ",1,"year","Adjusted for 1 year as the production starts Q4 of the first production year","Production year adjustment ",1,"year","Adjusted for 1 year as the production starts Q4 of the first production year","Production year adjustment ",1,"year","Adjusted for 1 year as the production starts Q4 of the first production year","Production year adjustment ",1,"year","Adjusted for 1 year as the production starts Q4 of the first production year","Production year adjustment ",1,"year","Adjusted for 1 year as the production starts Q4 of the first production year","Production year adjustment ",1,"year","Adjusted for 1 year as the production starts Q4 of the first production year","Production year adjustment ",1,"year","Adjusted for 1 year as the production starts Q4 of the first production year","Production year adjustment ",1,"year","Adjusted for 1 year as the production starts Q4 of the first production year","Production year adjustment ",1,"year","Adjusted for 1 year as the production starts Q4 of the first production year","Production year adjustment ",1,"year","Adjusted for 1 year as the production starts Q4 of the first production year","Production year adjustment ",1,"year","Adjusted for 1 year as the production starts Q4 of the first production year","Production year adjustment ",1,"year","Adjusted for 1 year as the production starts Q4 of the first production year","Production year adjustment ",1,"year","Adjusted for 1 year as the production starts Q4 of the first production year","Production year adjustment ",1,"year","Adjusted for 1 year as the production starts Q4 of the first production year","Production year adjustment ",1,"year","Adjusted for 1 year as the production starts Q4 of the first production year","Production year adjustment ",1,"year","Adjusted for 1 year as the production starts Q4 of the first production year","Production year adjustment ",1,"year","Adjusted for 1 year as the production starts Q4 of the first production year","Production year adjustment ",1,"year","Adjusted for 1 year as the production starts Q4 of the first production year","Production year adjustment ",1,"year","Adjusted for 1 year as the production starts Q4 of the first production year","Production year adjustment ",1,"year","Adjusted for 1 year as the production starts Q4 of the first production year","Production year adjustment ",1,"year","Adjusted for 1 year as the production starts Q4 of the first production year","Production year adjustment ",1,"year","Adjusted for 1 year as the production starts Q4 of the first production year","Production year adjustment ",1,"year","Adjusted for 1 year as the production starts Q4 of the first production year","Production year adjustment ",1,"year","Adjusted for 1 year as the production starts Q4 of the first production year","Production year adjustment ",1,"year","Adjusted for 1 year as the production starts Q4 of the first production year","Production year adjustment ",1,"year","Adjusted for 1 year as the production starts Q4 of the first production year","Production year adjustment ",1,"year","Adjusted for 1 year as the production starts Q4 of the first production year","Production year adjustment ",1,"year","Adjusted for 1 year as the production starts Q4 of the first production year","Production year adjustment ",1,"year","Adjusted for 1 year as the production starts Q4 of the first production year","Production year adjustment ",1,"year","Adjusted for 1 year as the production starts Q4 of the first production year","Production year adjustment ",1,"year","Adjusted for 1 year as the production starts Q4 of the first production year","Production year adjustment ",1,"year","Adjusted for 1 year as the production starts Q4 of the first production year","Production year adjustment ",1,"year","Adjusted for 1 year as the production starts Q4 of the first production year","Production year adjustment ",1,"year","Adjusted for 1 year as the production starts Q4 of the first production year","Production year adjustment ",1,"year","Adjusted for 1 year as the production starts Q4 of the first production year","Production year adjustment ",1,"year","Adjusted for 1 year as the production starts Q4 of the first production year","Production year adjustment ",1,"year","Adjusted for 1 year as the production starts Q4 of the first production year","Production year adjustment ",1,"year","Adjusted for 1 year as the production starts Q4 of the first production year","Production year adjustment ",1,"year","Adjusted for 1 year as the production starts Q4 of the first production year","Production year adjustment ",1,"year","Adjusted for 1 year as the production starts Q4 of the first production year","Production year adjustment ",1,"year","Adjusted for 1 year as the production starts Q4 of the first production year","Production year adjustment ",1,"year","Adjusted for 1 year as the production starts Q4 of the first production year","Production year adjustment ",1,"year","Adjusted for 1 year as the production starts Q4 of the first production year","Production year adjustment ",1,"year","Adjusted for 1 year as the production starts Q4 of the first production year","Production year adjustment ",1,"year","Adjusted for 1 year as the production starts Q4 of the first production year","Production year adjustment ",1,"year","Adjusted for 1 year as the production starts Q4 of the first production year","Production year adjustment ",1,"year","Adjusted for 1 year as the production starts Q4 of the first production year","Production year adjustment ",1,"year","Adjusted for 1 year as the production starts Q4 of the first production year","Production year adjustment ",1,"year","Adjusted for 1 year as the production starts Q4 of the first production year","Production year adjustment ",1,"year","Adjusted for 1 year as the production starts Q4 of the first production year","Production year adjustment ",1,"year","Adjusted for 1 year as the production starts Q4 of the first production year","Production year adjustment ",1,"year","Adjusted for 1 year as the production starts Q4 of the first production year","Production year adjustment ",1,"year","Adjusted for 1 year as the production starts Q4 of the first production year","Production year adjustment ",1,"year","Adjusted for 1 year as the production starts Q4 of the first production year","Production year adjustment ",1,"year","Adjusted for 1 year as the production starts Q4 of the first production year","Production year adjustment ",1,"year","Adjusted for 1 year as the production starts Q4 of the first production year","Production year adjustment ",1,"year","Adjusted for 1 year as the production starts Q4 of the first production year","Production year adjustment ",1,"year","Adjusted for 1 year as the production starts Q4 of the first production year","Production year adjustment ",1,"year","Adjusted for 1 year as the production starts Q4 of the first production year","Production year adjustment ",1,"year","Adjusted for 1 year as the production starts Q4 of the first production year","Production year adjustment ",1,"year","Adjusted for 1 year as the production starts Q4 of the first production year","Production year adjustment ",1,"year","Adjusted for 1 year as the production starts Q4 of the first production year","Production year adjustment ",1,"year","Adjusted for 1 year as the production starts Q4 of the first production year","Production year adjustment ",1,"year","Adjusted for 1 year as the production starts Q4 of the first production year","Production year adjustment ",1,"year","Adjusted for 1 year as the production starts Q4 of the first production year","Production year adjustment ",1,"year","Adjusted for 1 year as the production starts Q4 of the first production year","Production year adjustment ",1,"year","Adjusted for 1 year as the production starts Q4 of the first production year","Production year adjustment ",1,"year","Adjusted for 1 year as the production starts Q4 of the first production year","Production year adjustment ",1,"year","Adjusted for 1 year as the production starts Q4 of the first production year","Production year adjustment ",1,"year","Adjusted for 1 year as the production starts Q4 of the first production year","Production year adjustment ",1,"year","Adjusted for 1 year as the production starts Q4 of the first production year","Production year adjustment ",1,"year","Adjusted for 1 year as the production starts Q4 of the first production year","Production year adjustment ",1,"year","Adjusted for 1 year as the production starts Q4 of the first production year","Production year adjustment ",1,"year","Adjusted for 1 year as the production starts Q4 of the first production year","Production year adjustment ",1,"year","Adjusted for 1 year as the production starts Q4 of the first production year","Production year adjustment ",1,"year","Adjusted for 1 year as the production starts Q4 of the first production year","Production year adjustment ",1,"year","Adjusted for 1 year as the production starts Q4 of the first production year","Production year adjustment ",1,"year","Adjusted for 1 year as the production starts Q4 of the first production year","Production year adjustment ",1,"year","Adjusted for 1 year as the production starts Q4 of the first production year","Production year adjustment ",1,"year","Adjusted for 1 year as the production starts Q4 of the first production year","Production year adjustment ",1,"year","Adjusted for 1 year as the production starts Q4 of the first production year","Production year adjustment ",1,"year","Adjusted for 1 year as the production starts Q4 of the first production year","Production year adjustment ",1,"year","Adjusted for 1 year as the production starts Q4 of the first production year","Production year adjustment ",1,"year","Adjusted for 1 year as the production starts Q4 of the first production year","Production year adjustment ",1,"year","Adjusted for 1 year as the production starts Q4 of the first production year","Production year adjustment ",1,"year","Adjusted for 1 year as the production starts Q4 of the first production year","Production year adjustment ",1,"year","Adjusted for 1 year as the production starts Q4 of the first production year","Production year adjustment ",1,"year","Adjusted for 1 year as the production starts Q4 of the first production year","Production year adjustment ",1,"year","Adjusted for 1 year as the production starts Q4 of the first production year","Production year adjustment ",1,"year","Adjusted for 1 year as the production starts Q4 of the first production year","Production year adjustment ",1,"year","Adjusted for 1 year as the production starts Q4 of the first production year","Production year adjustment ",1,"year","Adjusted for 1 year as the production starts Q4 of the first production year","Production year adjustment ",1,"year","Adjusted for 1 year as the production starts Q4 of the first production year","Production year adjustment ",1,"year","Adjusted for 1 year as the production starts Q4 of the first production year","Production year adjustment ",1,"year","Adjusted for 1 year as the production starts Q4 of the first production year","Production year adjustment ",1,"year","Adjusted for 1 year as the production starts Q4 of the first production year","Production year adjustment ",1,"year","Adjusted for 1 year as the production starts Q4 of the first production year","Production year adjustment ",1,"year","Adjusted for 1 year as the production starts Q4 of the first production year","Production year adjustment ",1,"year","Adjusted for 1 year as the production starts Q4 of the first production year","Production year adjustment ",1,"year","Adjusted for 1 year as the production starts Q4 of the first production year","Production year adjustment ",1,"year","Adjusted for 1 year as the production starts Q4 of the first production year","Production year adjustment ",1,"year","Adjusted for 1 year as the production starts Q4 of the first production year","Production year adjustment ",1,"year","Adjusted for 1 year as the production starts Q4 of the first production year","Production year adjustment ",1,"year","Adjusted for 1 year as the production starts Q4 of the first production year","Production year adjustment ",1,"year","Adjusted for 1 year as the production starts Q4 of the first production year","Production year adjustment ",1,"year","Adjusted for 1 year as the production starts Q4 of the first production year","Production year adjustment ",1,"year","Adjusted for 1 year as the production starts Q4 of the first production year","Production year adjustment ",1,"year","Adjusted for 1 year as the production starts Q4 of the first production year","Production year adjustment ",1,"year","Adjusted for 1 year as the production starts Q4 of the first production year","Production year adjustment ",1,"year","Adjusted for 1 year as the production starts Q4 of the first production year","Production year adjustment ",1,"year","Adjusted for 1 year as the production starts Q4 of the first production year","Production year adjustment ",1,"year","Adjusted for 1 year as the production starts Q4 of the first production year","Production year adjustment ",1,"year","Adjusted for 1 year as the production starts Q4 of the first production year","Production year adjustment ",1,"year","Adjusted for 1 year as the production starts Q4 of the first production year","Production year adjustment ",1,"year","Adjusted for 1 year as the production starts Q4 of the first production year","Production year adjustment ",1,"year","Adjusted for 1 year as the production starts Q4 of the first production year","Production year adjustment ",1,"year","Adjusted for 1 year as the production starts Q4 of the first production year","Production year adjustment ",1,"year","Adjusted for 1 year as the production starts Q4 of the first production year","Production year adjustment ",1,"year","Adjusted for 1 year as the production starts Q4 of the first production year","Production year adjustment ",1,"year","Adjusted for 1 year as the production starts Q4 of the first production year","Production year adjustment ",1,"year","Adjusted for 1 year as the production starts Q4 of the first production year","Production year adjustment ",1,"year","Adjusted for 1 year as the production starts Q4 of the first production year","Production year adjustment ",1,"year","Adjusted for 1 year as the production starts Q4 of the first production year","Production year adjustment ",1,"year","Adjusted for 1 year as the production starts Q4 of the first production year","Production year adjustment ",1,"year","Adjusted for 1 year as the production starts Q4 of the first production year","Production year adjustment ",1,"year","Adjusted for 1 year as the production starts Q4 of the first production year","Production year adjustment ",1,"year","Adjusted for 1 year as the production starts Q4 of the first production year","Production year adjustment ",1,"year","Adjusted for 1 year as the production starts Q4 of the first production year","Production year adjustment ",1,"year","Adjusted for 1 year as the production starts Q4 of the first production year","Production year adjustment ",1,"year","Adjusted for 1 year as the production starts Q4 of the first production year","Production year adjustment ",1,"year","Adjusted for 1 year as the production starts Q4 of the first production year","Production year adjustment ",1,"year","Adjusted for 1 year as the production starts Q4 of the first production year","Production year adjustment ",1,"year","Adjusted for 1 year as the production starts Q4 of the first production year","Production year adjustment ",1,"year","Adjusted for 1 year as the production starts Q4 of the first production year","Production year adjustment ",1,"year","Adjusted for 1 year as the production starts Q4 of the first production year","Production year adjustment ",1,"year","Adjusted for 1 year as the production starts Q4 of the first production year","Production year adjustment ",1,"year","Adjusted for 1 year as the production starts Q4 of the first production year","Production year adjustment ",1,"year","Adjusted for 1 year as the production starts Q4 of the first production year","Production year adjustment ",1,"year","Adjusted for 1 year as the production starts Q4 of the first production year","Production year adjustment ",1,"year","Adjusted for 1 year as the production starts Q4 of the first production year","Production year adjustment ",1,"year","Adjusted for 1 year as the production starts Q4 of the first production year","Production year adjustment ",1,"year","Adjusted for 1 year as the production starts Q4 of the first production year","Production year adjustment ",1,"year","Adjusted for 1 year as the production starts Q4 of the first production year","Production year adjustment ",1,"year","Adjusted for 1 year as the production starts Q4 of the first production year","Production year adjustment ",1,"year","Adjusted for 1 year as the production starts Q4 of the first production year","Production year adjustment ",1,"year","Adjusted for 1 year as the production starts Q4 of the first production year","Production year adjustment ",1,"year","Adjusted for 1 year as the production starts Q4 of the first production year","Production year adjustment ",1,"year","Adjusted for 1 year as the production starts Q4 of the first production year","Production year adjustment ",1,"year","Adjusted for 1 year as the production starts Q4 of the first production year","Production year adjustment ",1,"year","Adjusted for 1 year as the production starts Q4 of the first production year","Production year adjustment ",1,"year","Adjusted for 1 year as the production starts Q4 of the first production year","Production year adjustment ",1,"year","Adjusted for 1 year as the production starts Q4 of the first production year","Production year adjustment ",1,"year","Adjusted for 1 year as the production starts Q4 of the first production year","Production year adjustment ",1,"year","Adjusted for 1 year as the production starts Q4 of the first production year","Production year adjustment ",1,"year","Adjusted for 1 year as the production starts Q4 of the first production year","Production year adjustment ",1,"year","Adjusted for 1 year as the production starts Q4 of the first production year","Production year adjustment ",1,"year","Adjusted for 1 year as the production starts Q4 of the first production year","Production year adjustment ",1,"year","Adjusted for 1 year as the production starts Q4 of the first production year","Production year adjustment ",1,"year","Adjusted for 1 year as the production starts Q4 of the first production year","Production year adjustment ",1,"year","Adjusted for 1 year as the production starts Q4 of the first production year","Production year adjustment ",1,"year","Adjusted for 1 year as the production starts Q4 of the first production year","Production year adjustment ",1,"year","Adjusted for 1 year as the production starts Q4 of the first production year","Production year adjustment ",1,"year","Adjusted for 1 year as the production starts Q4 of the first production year","Production year adjustment ",1,"year","Adjusted for 1 year as the production starts Q4 of the first production year","Production year adjustment ",1,"year","Adjusted for 1 year as the production starts Q4 of the first production year","Production year adjustment ",1,"year","Adjusted for 1 year as the production starts Q4 of the first production year","Production year adjustment ",1,"year","Adjusted for 1 year as the production starts Q4 of the first production year","Production year adjustment ",1,"year","Adjusted for 1 year as the production starts Q4 of the first production year","Production year adjustment ",1,"year","Adjusted for 1 year as the production starts Q4 of the first production year","Production year adjustment ",1,"year","Adjusted for 1 year as the production starts Q4 of the first production year","Production year adjustment ",1,"year","Adjusted for 1 year as the production starts Q4 of the first production year","Production year adjustment ",1,"year","Adjusted for 1 year as the production starts Q4 of the first production year","Production year adjustment ",1,"year","Adjusted for 1 year as the production starts Q4 of the first production year","Production year adjustment ",1,"year","Adjusted for 1 year as the production starts Q4 of the first production year","Production year adjustment ",1,"year","Adjusted for 1 year as the production starts Q4 of the first production year","Production year adjustment ",1,"year","Adjusted for 1 year as the production starts Q4 of the first production year","Production year adjustment ",1,"year","Adjusted for 1 year as the production starts Q4 of the first production year","Production year adjustment ",1,"year","Adjusted for 1 year as the production starts Q4 of the first production year","Production year adjustment ",1,"year","Adjusted for 1 year as the production starts Q4 of the first production year","Production year adjustment ",1,"year","Adjusted for 1 year as the production starts Q4 of the first production year","Production year adjustment ",1,"year","Adjusted for 1 year as the production starts Q4 of the first production year","Production year adjustment ",1,"year","Adjusted for 1 year as the production starts Q4 of the first production year","Production year adjustment ",1,"year","Adjusted for 1 year as the production starts Q4 of the first production year","Production year adjustment ",1,"year","Adjusted for 1 year as the production starts Q4 of the first production year","Production year adjustment ",1,"year","Adjusted for 1 year as the production starts Q4 of the first production year","Production year adjustment ",1,"year","Adjusted for 1 year as the production starts Q4 of the first production year","Production year adjustment ",1,"year","Adjusted for 1 year as the production starts Q4 of the first production year","Production year adjustment ",1,"year","Adjusted for 1 year as the production starts Q4 of the first production year","Production year adjustment ",1,"year","Adjusted for 1 year as the production starts Q4 of the first production year","Production year adjustment ",1,"year","Adjusted for 1 year as the production starts Q4 of the first production year","Production year adjustment ",1,"year","Adjusted for 1 year as the production starts Q4 of the first production year","Production year adjustment ",1,"year","Adjusted for 1 year as the production starts Q4 of the first production year","Production year adjustment ",1,"year","Adjusted for 1 year as the production starts Q4 of the first production year","Production year adjustment ",1,"year","Adjusted for 1 year as the production starts Q4 of the first production year","Production year adjustment ",1,"year","Adjusted for 1 year as the production starts Q4 of the first production year","Production year adjustment ",1,"year","Adjusted for 1 year as the production starts Q4 of the first production year","Production year adjustment ",1,"year","Adjusted for 1 year as the production starts Q4 of the first production year","Production year adjustment ",1,"year","Adjusted for 1 year as the production starts Q4 of the first production year","Production year adjustment ",1,"year","Adjusted for 1 year as the production starts Q4 of the first production year","Production year adjustment ",1,"year","Adjusted for 1 year as the production starts Q4 of the first production year","Production year adjustment ",1,"year","Adjusted for 1 year as the production starts Q4 of the first production year","Production year adjustment ",1,"year","Adjusted for 1 year as the production starts Q4 of the first production year","Production year adjustment ",1,"year","Adjusted for 1 year as the production starts Q4 of the first production year","Production year adjustment ",1,"year","Adjusted for 1 year as the production starts Q4 of the first production year","Production year adjustment ",1,"year","Adjusted for 1 year as the production starts Q4 of the first production year","Production year adjustment ",1,"year","Adjusted for 1 year as the production starts Q4 of the first production year","Production year adjustment ",1,"year","Adjusted for 1 year as the production starts Q4 of the first production year","Production year adjustment ",1,"year","Adjusted for 1 year as the production starts Q4 of the first production year","Production year adjustment ",1,"year","Adjusted for 1 year as the production starts Q4 of the first production year","Production year adjustment ",1,"year","Adjusted for 1 year as the production starts Q4 of the first production year","Production year adjustment ",1,"year","Adjusted for 1 year as the production starts Q4 of the first production year","Production year adjustment ",1,"year","Adjusted for 1 year as the production starts Q4 of the first production year","Production year adjustment ",1,"year","Adjusted for 1 year as the production starts Q4 of the first production year","Production year adjustment ",1,"year","Adjusted for 1 year as the production starts Q4 of the first production year","Production year adjustment ",1,"year","Adjusted for 1 year as the production starts Q4 of the first production year","Production year adjustment ",1,"year","Adjusted for 1 year as the production starts Q4 of the first production year","Production year adjustment ",1,"year","Adjusted for 1 year as the production starts Q4 of the first production year","Production year adjustment ",1,"year","Adjusted for 1 year as the production starts Q4 of the first production year","Production year adjustment ",1,"year","Adjusted for 1 year as the production starts Q4 of the first production year","Production year adjustment ",1,"year","Adjusted for 1 year as the production starts Q4 of the first production year","Production year adjustment ",1,"year","Adjusted for 1 year as the production starts Q4 of the first production year","Production year adjustment ",1,"year","Adjusted for 1 year as the production starts Q4 of the first production year","Production year adjustment ",1,"year","Adjusted for 1 year as the production starts Q4 of the first production year","Production year adjustment ",1,"year","Adjusted for 1 year as the production starts Q4 of the first production year","Production year adjustment ",1,"year","Adjusted for 1 year as the production starts Q4 of the first production year","Production year adjustment ",1,"year","Adjusted for 1 year as the production starts Q4 of the first production year","Production year adjustment ",1,"year","Adjusted for 1 year as the production starts Q4 of the first production year","Production year adjustment ",1,"year","Adjusted for 1 year as the production starts Q4 of the first production year","Production year adjustment ",1,"year","Adjusted for 1 year as the production starts Q4 of the first production year","Production year adjustment ",1,"year","Adjusted for 1 year as the production starts Q4 of the first production year","Production year adjustment ",1,"year","Adjusted for 1 year as the production starts Q4 of the first production year","Production year adjustment ",1,"year","Adjusted for 1 year as the production starts Q4 of the first production year","Production year adjustment ",1,"year","Adjusted for 1 year as the production starts Q4 of the first production year","Production year adjustment ",1,"year","Adjusted for 1 year as the production starts Q4 of the first production year","Production year adjustment ",1,"year","Adjusted for 1 year as the production starts Q4 of the first production year","Production year adjustment ",1,"year","Adjusted for 1 year as the production starts Q4 of the first production year","Production year adjustment ",1,"year","Adjusted for 1 year as the production starts Q4 of the first production year","Production year adjustment ",1,"year","Adjusted for 1 year as the production starts Q4 of the first production year","Production year adjustment ",1,"year","Adjusted for 1 year as the production starts Q4 of the first production year","Production year adjustment ",1,"year","Adjusted for 1 year as the production starts Q4 of the first production year","Production year adjustment ",1,"year","Adjusted for 1 year as the production starts Q4 of the first production year","Production year adjustment ",1,"year","Adjusted for 1 year as the production starts Q4 of the first production year","Production year adjustment ",1,"year","Adjusted for 1 year as the production starts Q4 of the first production year","Production year adjustment ",1,"year","Adjusted for 1 year as the production starts Q4 of the first production year","Production year adjustment ",1,"year","Adjusted for 1 year as the production starts Q4 of the first production year","Production year adjustment ",1,"year","Adjusted for 1 year as the production starts Q4 of the first production year","Production year adjustment ",1,"year","Adjusted for 1 year as the production starts Q4 of the first production year","Production year adjustment ",1,"year","Adjusted for 1 year as the production starts Q4 of the first production year","Production year adjustment ",1,"year","Adjusted for 1 year as the production starts Q4 of the first production year","Production year adjustment ",1,"year","Adjusted for 1 year as the production starts Q4 of the first production year","Production year adjustment ",1,"year","Adjusted for 1 year as the production starts Q4 of the first production year","Production year adjustment ",1,"year","Adjusted for 1 year as the production starts Q4 of the first production year","Production year adjustment ",1,"year","Adjusted for 1 year as the production starts Q4 of the first production year","Production year adjustment ",1,"year","Adjusted for 1 year as the production starts Q4 of the first production year","Production year adjustment ",1,"year","Adjusted for 1 year as the production starts Q4 of the first production year","Production year adjustment ",1,"year","Adjusted for 1 year as the production starts Q4 of the first production year","Production year adjustment ",1,"year","Adjusted for 1 year as the production starts Q4 of the first production year","Production year adjustment ",1,"year","Adjusted for 1 year as the production starts Q4 of the first production year","Production year adjustment ",1,"year","Adjusted for 1 year as the production starts Q4 of the first production year","Production year adjustment ",1,"year","Adjusted for 1 year as the production starts Q4 of the first production year","Production year adjustment ",1,"year","Adjusted for 1 year as the production starts Q4 of the first production year","Production year adjustment ",1,"year","Adjusted for 1 year as the production starts Q4 of the first production year","Production year adjustment ",1,"year","Adjusted for 1 year as the production starts Q4 of the first production year","Production year adjustment ",1,"year","Adjusted for 1 year as the production starts Q4 of the first production year","Production year adjustment ",1,"year","Adjusted for 1 year as the production starts Q4 of the first production year","Production year adjustment ",1,"year","Adjusted for 1 year as the production starts Q4 of the first production year","Production year adjustment ",1,"year","Adjusted for 1 year as the production starts Q4 of the first production year","Production year adjustment ",1,"year","Adjusted for 1 year as the production starts Q4 of the first production year","Production year adjustment ",1,"year","Adjusted for 1 year as the production starts Q4 of the first production year","Production year adjustment ",1,"year","Adjusted for 1 year as the production starts Q4 of the first production year","Production year adjustment ",1,"year","Adjusted for 1 year as the production starts Q4 of the first production year","Production year adjustment ",1,"year","Adjusted for 1 year as the production starts Q4 of the first production year","Production year adjustment ",1,"year","Adjusted for 1 year as the production starts Q4 of the first production year","Production year adjustment ",1,"year","Adjusted for 1 year as the production starts Q4 of the first production year","Production year adjustment ",1,"year","Adjusted for 1 year as the production starts Q4 of the first production year","Production year adjustment ",1,"year","Adjusted for 1 year as the production starts Q4 of the first production year","Production year adjustment ",1,"year","Adjusted for 1 year as the production starts Q4 of the first production year","Production year adjustment ",1,"year","Adjusted for 1 year as the production starts Q4 of the first production year","Production year adjustment ",1,"year","Adjusted for 1 year as the production starts Q4 of the first production year","Production year adjustment ",1,"year","Adjusted for 1 year as the production starts Q4 of the first production year","Production year adjustment ",1,"year","Adjusted for 1 year as the production starts Q4 of the first production year","Production year adjustment ",1,"year","Adjusted for 1 year as the production starts Q4 of the first production year","Production year adjustment ",1,"year","Adjusted for 1 year as the production starts Q4 of the first production year","Production year adjustment ",1,"year","Adjusted for 1 year as the production starts Q4 of the first production year","Production year adjustment ",1,"year","Adjusted for 1 year as the production starts Q4 of the first production year","Production year adjustment ",1,"year","Adjusted for 1 year as the production starts Q4 of the first production year","Production year adjustment ",1,"year","Adjusted for 1 year as the production starts Q4 of the first production year","Production year adjustment ",1,"year","Adjusted for 1 year as the production starts Q4 of the first production year","Production year adjustment ",1,"year","Adjusted for 1 year as the production starts Q4 of the first production year","Production year adjustment ",1,"year","Adjusted for 1 year as the production starts Q4 of the first production year","Production year adjustment ",1,"year","Adjusted for 1 year as the production starts Q4 of the first production year","Production year adjustment ",1,"year","Adjusted for 1 year as the production starts Q4 of the first production year","Production year adjustment ",1,"year","Adjusted for 1 year as the production starts Q4 of the first production year","Production year adjustment ",1,"year","Adjusted for 1 year as the production starts Q4 of the first production year","Production year adjustment ",1,"year","Adjusted for 1 year as the production starts Q4 of the first production year","Production year adjustment ",1,"year","Adjusted for 1 year as the production starts Q4 of the first production year","Production year adjustment ",1,"year","Adjusted for 1 year as the production starts Q4 of the first production year","Production year adjustment ",1,"year","Adjusted for 1 year as the production starts Q4 of the first production year","Production year adjustment ",1,"year","Adjusted for 1 year as the production starts Q4 of the first production year","Production year adjustment ",1,"year","Adjusted for 1 year as the production starts Q4 of the first production year","Production year adjustment ",1,"year","Adjusted for 1 year as the production starts Q4 of the first production year","Production year adjustment ",1,"year","Adjusted for 1 year as the production starts Q4 of the first production year","Production year adjustment ",1,"year","Adjusted for 1 year as the production starts Q4 of the first production year","Production year adjustment ",1,"year","Adjusted for 1 year as the production starts Q4 of the first production year","Production year adjustment ",1,"year","Adjusted for 1 year as the production starts Q4 of the first production year","Production year adjustment ",1,"year","Adjusted for 1 year as the production starts Q4 of the first production year","Production year adjustment ",1,"year","Adjusted for 1 year as the production starts Q4 of the first production year","Production year adjustment ",1,"year","Adjusted for 1 year as the production starts Q4 of the first production year","Production year adjustment ",1,"year","Adjusted for 1 year as the production starts Q4 of the first production year","Production year adjustment ",1,"year","Adjusted for 1 year as the production starts Q4 of the first production year","Production year adjustment ",1,"year","Adjusted for 1 year as the production starts Q4 of the first production year","Production year adjustment ",1,"year","Adjusted for 1 year as the production starts Q4 of the first production year","Production year adjustment ",1,"year","Adjusted for 1 year as the production starts Q4 of the first production year","Production year adjustment ",1,"year","Adjusted for 1 year as the production starts Q4 of the first production year","Production year adjustment ",1,"year","Adjusted for 1 year as the production starts Q4 of the first production year","Production year adjustment ",1,"year","Adjusted for 1 year as the production starts Q4 of the first production year","Production year adjustment ",1,"year","Adjusted for 1 year as the production starts Q4 of the first production year","Production year adjustment ",1,"year","Adjusted for 1 year as the production starts Q4 of the first production year","Production year adjustment ",1,"year","Adjusted for 1 year as the production starts Q4 of the first production year","Production year adjustment ",1,"year","Adjusted for 1 year as the production starts Q4 of the first production year","Production year adjustment ",1,"year","Adjusted for 1 year as the production starts Q4 of the first production year","Production year adjustment ",1,"year","Adjusted for 1 year as the production starts Q4 of the first production year","Production year adjustment ",1,"year","Adjusted for 1 year as the production starts Q4 of the first production year","Production year adjustment ",1,"year","Adjusted for 1 year as the production starts Q4 of the first production year","Production year adjustment ",1,"year","Adjusted for 1 year as the production starts Q4 of the first production year","Production year adjustment ",1,"year","Adjusted for 1 year as the production starts Q4 of the first production year","Production year adjustment ",1,"year","Adjusted for 1 year as the production starts Q4 of the first production year","Production year adjustment ",1,"year","Adjusted for 1 year as the production starts Q4 of the first production year","Production year adjustment ",1,"year","Adjusted for 1 year as the production starts Q4 of the first production year","Production year adjustment ",1,"year","Adjusted for 1 year as the production starts Q4 of the first production year","Production year adjustment ",1,"year","Adjusted for 1 year as the production starts Q4 of the first production year","Production year adjustment ",1,"year","Adjusted for 1 year as the production starts Q4 of the first production year","Production year adjustment ",1,"year","Adjusted for 1 year as the production starts Q4 of the first production year","Production year adjustment ",1,"year","Adjusted for 1 year as the production starts Q4 of the first production year","Production year adjustment ",1,"year","Adjusted for 1 year as the production starts Q4 of the first production year","Production year adjustment ",1,"year","Adjusted for 1 year as the production starts Q4 of the first production year","Production year adjustment ",1,"year","Adjusted for 1 year as the production starts Q4 of the first production year","Production year adjustment ",1,"year","Adjusted for 1 year as the production starts Q4 of the first production year","Production year adjustment ",1,"year","Adjusted for 1 year as the production starts Q4 of the first production year","Production year adjustment ",1,"year","Adjusted for 1 year as the production starts Q4 of the first production year","Production year adjustment ",1,"year","Adjusted for 1 year as the production starts Q4 of the first production year","Production year adjustment ",1,"year","Adjusted for 1 year as the production starts Q4 of the first production year","Production year adjustment ",1,"year","Adjusted for 1 year as the production starts Q4 of the first production year","Production year adjustment ",1,"year","Adjusted for 1 year as the production starts Q4 of the first production year","Production year adjustment ",1,"year","Adjusted for 1 year as the production starts Q4 of the first production year","Production year adjustment ",1,"year","Adjusted for 1 year as the production starts Q4 of the first production year","Production year adjustment ",1,"year","Adjusted for 1 year as the production starts Q4 of the first production year","Production year adjustment ",1,"year","Adjusted for 1 year as the production starts Q4 of the first production year","Production year adjustment ",1,"year","Adjusted for 1 year as the production starts Q4 of the first production year","Production year adjustment ",1,"year","Adjusted for 1 year as the production starts Q4 of the first production year","Production year adjustment ",1,"year","Adjusted for 1 year as the production starts Q4 of the first production year","Production year adjustment ",1,"year","Adjusted for 1 year as the production starts Q4 of the first production year","Production year adjustment ",1,"year","Adjusted for 1 year as the production starts Q4 of the first production year","Production year adjustment ",1,"year","Adjusted for 1 year as the production starts Q4 of the first production year","Production year adjustment ",1,"year","Adjusted for 1 year as the production starts Q4 of the first production year","Production year adjustment ",1,"year","Adjusted for 1 year as the production starts Q4 of the first production year","Production year adjustment ",1,"year","Adjusted for 1 year as the production starts Q4 of the first production year","Production year adjustment ",1,"year","Adjusted for 1 year as the production starts Q4 of the first production year","Production year adjustment ",1,"year","Adjusted for 1 year as the production starts Q4 of the first production year","Production year adjustment ",1,"year","Adjusted for 1 year as the production starts Q4 of the first production year","Production year adjustment ",1,"year","Adjusted for 1 year as the production starts Q4 of the first production year","Production year adjustment ",1,"year","Adjusted for 1 year as the production starts Q4 of the first production year","Production year adjustment ",1,"year","Adjusted for 1 year as the production starts Q4 of the first production year","Production year adjustment ",1,"year","Adjusted for 1 year as the production starts Q4 of the first production year","Production year adjustment ",1,"year","Adjusted for 1 year as the production starts Q4 of the first production year","Production year adjustment ",1,"year","Adjusted for 1 year as the production starts Q4 of the first production year","Production year adjustment ",1,"year","Adjusted for 1 year as the production starts Q4 of the first production year","Production year adjustment ",1,"year","Adjusted for 1 year as the production starts Q4 of the first production year","Production year adjustment ",1,"year","Adjusted for 1 year as the production starts Q4 of the first production year"]
[]
[null,null,"Production ramp up rate"]
[null,null,null,null,"Ramp up production area 1 (year 1)",{"$f":"IF($F$7='Projects Inputs '!$F$2,'Projects Inputs '!F32,IF($F$7='Projects Inputs '!$G$2,'Projects Inputs '!G32,\"n/a\"))","v":0.2},"Mwmtpa"]
[null,null,null,null,"Ramp up production area 1 (year 2)",{"$f":"IF($F$7='Projects Inputs '!$F$2,'Projects Inputs '!F33,IF($F$7='Projects Inputs '!$G$2,'Projects Inputs '!G33,\"n/a\"))","v":1},"Mwmtpa"]
[null,null,null,null,"Ramp up production area 1 (year 3)",{"$f":"IF($F$7='Projects Inputs '!$F$2,'Projects Inputs '!F34,IF($F$7='Projects Inputs '!$G$2,'Projects Inputs '!G34,\"n/a\"))","v":2},"Mwmtpa"]
[null,null,null,null,"Ramp up production  area 1 (year 4)",{"$f":"IF($F$7='Projects Inputs '!$F$2,'Projects Inputs '!F35,IF($F$7='Projects Inputs '!$G$2,'Projects Inputs '!G35,\"n/a\"))","v":5},"Mwmtpa"]
[null,null,null,null,"Annual Full operation capacity area 1( Wet Ore)",{"$f":"IF($F$7='Projects Inputs '!$F$2,'Projects Inputs '!F36,IF($F$7='Projects Inputs '!$G$2,'Projects Inputs '!G36,\"n/a\"))","v":10.75},"Mwmtpa"]
[null,null,null,null,"Operation closing production area 1",{"$f":"IF($F$7='Projects Inputs '!$F$2,'Projects Inputs '!F37,IF($F$7='Projects Inputs '!$G$2,'Projects Inputs '!G37,\"n/a\"))","v":5.4},"Mwmtpa"]
[null,null,null,null,"Ramp up production area 2 (year 1)",{"$f":"IF($F$7='Projects Inputs '!$F$2,'Projects Inputs '!F38,IF($F$7='Projects Inputs '!$G$2,'Projects Inputs '!G38,\"n/a\"))","v":0},"Mwmtpa"]
[null,null,null,null,"Ramp up production area 2 (year 2)",{"$f":"IF($F$7='Projects Inputs '!$F$2,'Projects Inputs '!F39,IF($F$7='Projects Inputs '!$G$2,'Projects Inputs '!G39,\"n/a\"))","v":0},"Mwmtpa"]
[null,null,null,null,"Ramp up production area 2 (year 3)",{"$f":"IF($F$7='Projects Inputs '!$F$2,'Projects Inputs '!F40,IF($F$7='Projects Inputs '!$G$2,'Projects Inputs '!G40,\"n/a\"))","v":0},"Mwmtpa"]
[null,null,null,null,"Annual Full operation capacity area 2( Wet Ore)",{"$f":"IF($F$7='Projects Inputs '!$F$2,'Projects Inputs '!F41,IF($F$7='Projects Inputs '!$G$2,'Projects Inputs '!G41,\"n/a\"))","v":0},"Mwmtpa"]
[null,null,null,null,"Operation closing production area 2",{"$f":"IF($F$7='Projects Inputs '!$F$2,'Projects Inputs '!F42,IF($F$7='Projects Inputs '!$G$2,'Projects Inputs '!G42,\"n/a\"))","v":0},"Mwmtpa"]
[null,null,null,null,"Wet ore to Dry ore rate area 1",{"$f":"IF($F$7='Projects Inputs '!$F$2,'Projects Inputs '!F43,IF($F$7='Projects Inputs '!$G$2,'Projects Inputs '!G43,\"n/a\"))","v":0.72}]
[null,null,null,null,"Wet ore to Dry ore rate area 2",{"$f":"IF($F$7='Projects Inputs '!$F$2,'Projects Inputs '!F44,IF($F$7='Projects Inputs '!$G$2,'Projects Inputs '!G44,\"n/a\"))","v":0}]
[]
[null,null,"Nodules metal grade Area 1"]
[null,null,null,null,"Manganese",{"$f":"IF($F$7='Projects Inputs '!$F$2,'Projects Inputs '!F47,IF($F$7='Projects Inputs '!$G$2,'Projects Inputs '!G47,\"n/a\"))","v":0.3115},"%"]
[null,null,null,null,"Nickel",{"$f":"IF($F$7='Projects Inputs '!$F$2,'Projects Inputs '!F48,IF($F$7='Projects Inputs '!$G$2,'Projects Inputs '!G48,\"n/a\"))","v":1.4E-2},"%"]
[null,null,null,null,"Cobalt",{"$f":"IF($F$7='Projects Inputs '!$F$2,'Projects Inputs '!F49,IF($F$7='Projects Inputs '!$G$2,'Projects Inputs '!G49,\"n/a\"))","v":1.4E-3},"%"]
[null,null,null,null,"Copper",{"$f":"IF($F$7='Projects Inputs '!$F$2,'Projects Inputs '!F50,IF($F$7='Projects Inputs '!$G$2,'Projects Inputs '!G50,\"n/a\"))","v":1.14E-2},"%"]
[]
[null,null,"Nodules metal grade Area 2"]
[null,null,null,null,"Manganese",{"$f":"IF($F$7='Projects Inputs '!$F$2,'Projects Inputs '!F53,IF($F$7='Projects Inputs '!$G$2,'Projects Inputs '!G53,\"n/a\"))","v":0.3115},"%"]
[null,null,null,null,"Nickel",{"$f":"IF($F$7='Projects Inputs '!$F$2,'Projects Inputs '!F54,IF($F$7='Projects Inputs '!$G$2,'Projects Inputs '!G54,\"n/a\"))","v":1.4E-2},"%"]
[null,null,null,null,"Cobalt",{"$f":"IF($F$7='Projects Inputs '!$F$2,'Projects Inputs '!F55,IF($F$7='Projects Inputs '!$G$2,'Projects Inputs '!G55,\"n/a\"))","v":1.4E-3},"%"]
[null,null,null,null,"Copper",{"$f":"IF($F$7='Projects Inputs '!$F$2,'Projects Inputs '!F56,IF($F$7='Projects Inputs '!$G$2,'Projects Inputs '!G56,\"n/a\"))","v":1.14E-2},"%"]
[]
[null,null,"Nodules recovery phase"]
[null,null,null,null,"Alloy production - start",{"$f":"IF($F$7='Projects Inputs '!$F$2,'Projects Inputs '!F59,IF($F$7='Projects Inputs '!$G$2,'Projects Inputs '!G59,\"n/a\"))","v":3},"year # "]
[null,null,null,null,"Alloy production - end",{"$f":"IF($F$7='Projects Inputs '!$F$2,'Projects Inputs '!F60,IF($F$7='Projects Inputs '!$G$2,'Projects Inputs '!G60,\"n/a\"))","v":4},"year # "]
[null,null,null,null,"Alloy - Matte transition - start",{"$f":"IF($F$7='Projects Inputs '!$F$2,'Projects Inputs '!F61,IF($F$7='Projects Inputs '!$G$2,'Projects Inputs '!G61,\"n/a\"))","v":5},"year # "]
[null,null,null,null,"Alloy - Matte transition - end",{"$f":"IF($F$7='Projects Inputs '!$F$2,'Projects Inputs '!F62,IF($F$7='Projects Inputs '!$G$2,'Projects Inputs '!G62,\"n/a\"))","v":5},"year # ",null,null,null,null,null,null,null,null,null,null,null,null,null,null,null,null,null,null,null,null,null,null,null,null,null,null,null,null,null,null,null,null,null,null,null,null,null,null,null,null,null,null,null,"Alloy - Matte transition","Alloy - Matte transition","Alloy - Matte transition","Alloy - Matte transition","Alloy - Matte transition","Alloy - Matte transition","Alloy - Matte transition","Alloy - Matte transition","Alloy - Matte transition","Alloy - Matte transition","Alloy - Matte transition","Alloy - Matte transition","Alloy - Matte transition","Alloy - Matte transition","Alloy - Matte transition","Alloy - Matte transition","Alloy - Matte transition","Alloy - Matte transition","Alloy - Matte transition","Alloy - Matte transition","Alloy - Matte transition","Alloy - Matte transition","Alloy - Matte transition","Alloy - Matte transition","Alloy - Matte transition","Alloy - Matte transition","Alloy - Matte transition","Alloy - Matte transition","Alloy - Matte transition","Alloy - Matte transition","Alloy - Matte transition","Alloy - Matte transition","Alloy - Matte transition","Alloy - Matte transition","Alloy - Matte transition","Alloy - Matte transition","Alloy - Matte transition","Alloy - Matte transition","Alloy - Matte transition","Alloy - Matte transition","Alloy - Matte transition","Alloy - Matte transition","Alloy - Matte transition","Alloy - Matte transition","Alloy - Matte transition","Alloy - Matte transition","Alloy - Matte transition","Alloy - Matte transition","Alloy - Matte transition","Alloy - Matte transition","Alloy - Matte transition","Alloy - Matte transition","Alloy - Matte transition","Alloy - Matte transition","Alloy - Matte transition","Alloy - Matte transition","Alloy - Matte transition","Alloy - Matte transition","Alloy - Matte transition","Alloy - Matte transition","Alloy - Matte transition","Alloy - Matte transition","Alloy - Matte transition","Alloy - Matte transition","Alloy - Matte transition","Alloy - Matte transition","Alloy - Matte transition","Alloy - Matte transition","Alloy - Matte transition","Alloy - Matte transition","Alloy - Matte transition","Alloy - Matte transition","Alloy - Matte transition","Alloy - Matte transition","Alloy - Matte transition","Alloy - Matte transition","Alloy - Matte transition","Alloy - Matte transition","Alloy - Matte transition","Alloy - Matte transition","Alloy - Matte transition","Alloy - Matte transition","Alloy - Matte transition","Alloy - Matte transition","Alloy - Matte transition","Alloy - Matte transition","Alloy - Matte transition","Alloy - Matte transition","Alloy - Matte transition","Alloy - Matte transition","Alloy - Matte transition","Alloy - Matte transition","Alloy - Matte transition","Alloy - Matte transition","Alloy - Matte transition","Alloy - Matte transition","Alloy - Matte transition","Alloy - Matte transition","Alloy - Matte transition","Alloy - Matte transition","Alloy - Matte transition","Alloy - Matte transition","Alloy - Matte transition","Alloy - Matte transition","Alloy - Matte transition","Alloy - Matte transition","Alloy - Matte transition","Alloy - Matte transition","Alloy - Matte transition","Alloy - Matte transition","Alloy - Matte transition","Alloy - Matte transition","Alloy - Matte transition","Alloy - Matte transition","Alloy - Matte transition","Alloy - Matte transition","Alloy - Matte transition","Alloy - Matte transition","Alloy - Matte transition","Alloy - Matte transition","Alloy - Matte transition","Alloy - Matte transition","Alloy - Matte transition","Alloy - Matte transition","Alloy - Matte transition","Alloy - Matte transition","Alloy - Matte transition","Alloy - Matte transition","Alloy - Matte transition","Alloy - Matte transition","Alloy - Matte transition","Alloy - Matte transition","Alloy - Matte transition","Alloy - Matte transition","Alloy - Matte transition","Alloy - Matte transition","Alloy - Matte transition","Alloy - Matte transition","Alloy - Matte transition","Alloy - Matte transition","Alloy - Matte transition","Alloy - Matte transition","Alloy - Matte transition","Alloy - Matte transition","Alloy - Matte transition","Alloy - Matte transition","Alloy - Matte transition","Alloy - Matte transition","Alloy - Matte transition","Alloy - Matte transition","Alloy - Matte transition","Alloy - Matte transition","Alloy - Matte transition","Alloy - Matte transition","Alloy - Matte transition","Alloy - Matte transition","Alloy - Matte transition","Alloy - Matte transition","Alloy - Matte transition","Alloy - Matte transition","Alloy - Matte transition","Alloy - Matte transition","Alloy - Matte transition","Alloy - Matte transition","Alloy - Matte transition","Alloy - Matte transition","Alloy - Matte transition","Alloy - Matte transition","Alloy - Matte transition","Alloy - Matte transition","Alloy - Matte transition","Alloy - Matte transition","Alloy - Matte transition","Alloy - Matte transition","Alloy - Matte transition","Alloy - Matte transition","Alloy - Matte transition","Alloy - Matte transition","Alloy - Matte transition","Alloy - Matte transition","Alloy - Matte transition","Alloy - Matte transition","Alloy - Matte transition","Alloy - Matte transition","Alloy - Matte transition","Alloy - Matte transition","Alloy - Matte transition","Alloy - Matte transition","Alloy - Matte transition","Alloy - Matte transition","Alloy - Matte transition","Alloy - Matte transition","Alloy - Matte transition","Alloy - Matte transition","Alloy - Matte transition","Alloy - Matte transition","Alloy - Matte transition","Alloy - Matte transition","Alloy - Matte transition","Alloy - Matte transition","Alloy - Matte transition","Alloy - Matte transition","Alloy - Matte transition","Alloy - Matte transition","Alloy - Matte transition","Alloy - Matte transition","Alloy - Matte transition","Alloy - Matte transition","Alloy - Matte transition","Alloy - Matte transition","Alloy - Matte transition","Alloy - Matte transition","Alloy - Matte transition","Alloy - Matte transition","Alloy - Matte transition","Alloy - Matte transition","Alloy - Matte transition","Alloy - Matte transition","Alloy - Matte transition","Alloy - Matte transition","Alloy - Matte transition","Alloy - Matte transition","Alloy - Matte transition","Alloy - Matte transition","Alloy - Matte transition","Alloy - Matte transition","Alloy - Matte transition","Alloy - Matte transition","Alloy - Matte transition","Alloy - Matte transition","Alloy - Matte transition","Alloy - Matte transition","Alloy - Matte transition","Alloy - Matte transition","Alloy - Matte transition","Alloy - Matte transition","Alloy - Matte transition","Alloy - Matte transition","Alloy - Matte transition","Alloy - Matte transition","Alloy - Matte transition","Alloy - Matte transition","Alloy - Matte transition","Alloy - Matte transition","Alloy - Matte transition","Alloy - Matte transition","Alloy - Matte transition","Alloy - Matte transition","Alloy - Matte transition","Alloy - Matte transition","Alloy - Matte transition","Alloy - Matte transition","Alloy - Matte transition","Alloy - Matte transition","Alloy - Matte transition","Alloy - Matte transition","Alloy - Matte transition","Alloy - Matte transition","Alloy - Matte transition","Alloy - Matte transition","Alloy - Matte transition","Alloy - Matte transition","Alloy - Matte transition","Alloy - Matte transition","Alloy - Matte transition","Alloy - Matte transition","Alloy - Matte transition","Alloy - Matte transition","Alloy - Matte transition","Alloy - Matte transition","Alloy - Matte transition","Alloy - Matte transition","Alloy - Matte transition","Alloy - Matte transition","Alloy - Matte transition","Alloy - Matte transition","Alloy - Matte transition","Alloy - Matte transition","Alloy - Matte transition","Alloy - Matte transition","Alloy - Matte transition","Alloy - Matte transition","Alloy - Matte transition","Alloy - Matte transition","Alloy - Matte transition","Alloy - Matte transition","Alloy - Matte transition","Alloy - Matte transition","Alloy - Matte transition","Alloy - Matte transition","Alloy - Matte transition","Alloy - Matte transition","Alloy - Matte transition","Alloy - Matte transition","Alloy - Matte transition","Alloy - Matte transition","Alloy - Matte transition","Alloy - Matte transition","Alloy - Matte transition","Alloy - Matte transition","Alloy - Matte transition","Alloy - Matte transition","Alloy - Matte transition","Alloy - Matte transition","Alloy - Matte transition","Alloy - Matte transition","Alloy - Matte transition","Alloy - Matte transition","Alloy - Matte transition","Alloy - Matte transition","Alloy - Matte transition","Alloy - Matte transition","Alloy - Matte transition","Alloy - Matte transition","Alloy - Matte transition","Alloy - Matte transition","Alloy - Matte transition","Alloy - Matte transition","Alloy - Matte transition","Alloy - Matte transition","Alloy - Matte transition","Alloy - Matte transition","Alloy - Matte transition","Alloy - Matte transition","Alloy - Matte transition","Alloy - Matte transition","Alloy - Matte transition","Alloy - Matte transition","Alloy - Matte transition","Alloy - Matte transition","Alloy - Matte transition","Alloy - Matte transition","Alloy - Matte transition","Alloy - Matte transition","Alloy - Matte transition","Alloy - Matte transition","Alloy - Matte transition","Alloy - Matte transition","Alloy - Matte transition","Alloy - Matte transition","Alloy - Matte transition","Alloy - Matte transition","Alloy - Matte transition","Alloy - Matte transition","Alloy - Matte transition","Alloy - Matte transition","Alloy - Matte transition","Alloy - Matte transition","Alloy - Matte transition","Alloy - Matte transition","Alloy - Matte transition","Alloy - Matte transition","Alloy - Matte transition","Alloy - Matte transition","Alloy - Matte transition","Alloy - Matte transition","Alloy - Matte transition","Alloy - Matte transition","Alloy - Matte transition","Alloy - Matte transition","Alloy - Matte transition","Alloy - Matte transition","Alloy - Matte transition","Alloy - Matte transition","Alloy - Matte transition","Alloy - Matte transition","Alloy - Matte transition","Alloy - Matte transition","Alloy - Matte transition","Alloy - Matte transition","Alloy - Matte transition","Alloy - Matte transition","Alloy - Matte transition","Alloy - Matte transition","Alloy - Matte transition","Alloy - Matte transition","Alloy - Matte transition","Alloy - Matte transition","Alloy - Matte transition","Alloy - Matte transition","Alloy - Matte transition","Alloy - Matte transition","Alloy - Matte transition","Alloy - Matte transition","Alloy - Matte transition","Alloy - Matte transition","Alloy - Matte transition","Alloy - Matte transition","Alloy - Matte transition","Alloy - Matte transition","Alloy - Matte transition","Alloy - Matte transition","Alloy - Matte transition","Alloy - Matte transition","Alloy - Matte transition","Alloy - Matte transition","Alloy - Matte transition","Alloy - Matte transition","Alloy - Matte transition","Alloy - Matte transition","Alloy - Matte transition","Alloy - Matte transition","Alloy - Matte transition","Alloy - Matte transition","Alloy - Matte transition","Alloy - Matte transition","Alloy - Matte transition","Alloy - Matte transition","Alloy - Matte transition","Alloy - Matte transition","Alloy - Matte transition","Alloy - Matte transition","Alloy - Matte transition","Alloy - Matte transition","Alloy - Matte transition","Alloy - Matte transition","Alloy - Matte transition","Alloy - Matte transition","Alloy - Matte transition","Alloy - Matte transition","Alloy - Matte transition","Alloy - Matte transition","Alloy - Matte transition","Alloy - Matte transition","Alloy - Matte transition","Alloy - Matte transition","Alloy - Matte transition","Alloy - Matte transition","Alloy - Matte transition","Alloy - Matte transition","Alloy - Matte transition","Alloy - Matte transition","Alloy - Matte transition","Alloy - Matte transition","Alloy - Matte transition","Alloy - Matte transition","Alloy - Matte transition","Alloy - Matte transition","Alloy - Matte transition","Alloy - Matte transition","Alloy - Matte transition","Alloy - Matte transition","Alloy - Matte transition","Alloy - Matte transition","Alloy - Matte transition","Alloy - Matte transition","Alloy - Matte transition","Alloy - Matte transition","Alloy - Matte transition","Alloy - Matte transition","Alloy - Matte transition","Alloy - Matte transition","Alloy - Matte transition","Alloy - Matte transition","Alloy - Matte transition","Alloy - Matte transition","Alloy - Matte transition","Alloy - Matte transition","Alloy - Matte transition","Alloy - Matte transition","Alloy - Matte transition","Alloy - Matte transition","Alloy - Matte transition","Alloy - Matte transition","Alloy - Matte transition","Alloy - Matte transition","Alloy - Matte transition","Alloy - Matte transition","Alloy - Matte transition","Alloy - Matte transition","Alloy - Matte transition","Alloy - Matte transition","Alloy - Matte transition","Alloy - Matte transition","Alloy - Matte transition","Alloy - Matte transition","Alloy - Matte transition","Alloy - Matte transition","Alloy - Matte transition","Alloy - Matte transition","Alloy - Matte transition","Alloy - Matte transition","Alloy - Matte transition","Alloy - Matte transition","Alloy - Matte transition","Alloy - Matte transition","Alloy - Matte transition","Alloy - Matte transition","Alloy - Matte transition","Alloy - Matte transition","Alloy - Matte transition","Alloy - Matte transition","Alloy - Matte transition","Alloy - Matte transition","Alloy - Matte transition","Alloy - Matte transition","Alloy - Matte transition","Alloy - Matte transition","Alloy - Matte transition","Alloy - Matte transition","Alloy - Matte transition","Alloy - Matte transition","Alloy - Matte transition","Alloy - Matte transition","Alloy - Matte transition","Alloy - Matte transition","Alloy - Matte transition","Alloy - Matte transition","Alloy - Matte transition","Alloy - Matte transition","Alloy - Matte transition","Alloy - Matte transition","Alloy - Matte transition","Alloy - Matte transition","Alloy - Matte transition","Alloy - Matte transition","Alloy - Matte transition","Alloy - Matte transition","Alloy - Matte transition","Alloy - Matte transition","Alloy - Matte transition","Alloy - Matte transition","Alloy - Matte transition","Alloy - Matte transition","Alloy - Matte transition","Alloy - Matte transition","Alloy - Matte transition","Alloy - Matte transition","Alloy - Matte transition","Alloy - Matte transition","Alloy - Matte transition","Alloy - Matte transition","Alloy - Matte transition","Alloy - Matte transition","Alloy - Matte transition","Alloy - Matte transition","Alloy - Matte transition","Alloy - Matte transition","Alloy - Matte transition","Alloy - Matte transition","Alloy - Matte transition","Alloy - Matte transition","Alloy - Matte transition","Alloy - Matte transition","Alloy - Matte transition","Alloy - Matte transition","Alloy - Matte transition","Alloy - Matte transition","Alloy - Matte transition","Alloy - Matte transition","Alloy - Matte transition","Alloy - Matte transition","Alloy - Matte transition","Alloy - Matte transition","Alloy - Matte transition","Alloy - Matte transition","Alloy - Matte transition","Alloy - Matte transition","Alloy - Matte transition","Alloy - Matte transition","Alloy - Matte transition","Alloy - Matte transition","Alloy - Matte transition","Alloy - Matte transition","Alloy - Matte transition","Alloy - Matte transition","Alloy - Matte transition","Alloy - Matte transition","Alloy - Matte transition","Alloy - Matte transition","Alloy - Matte transition","Alloy - Matte transition","Alloy - Matte transition","Alloy - Matte transition","Alloy - Matte transition","Alloy - Matte transition","Alloy - Matte transition","Alloy - Matte transition","Alloy - Matte transition","Alloy - Matte transition","Alloy - Matte transition","Alloy - Matte transition","Alloy - Matte transition","Alloy - Matte transition","Alloy - Matte transition","Alloy - Matte transition","Alloy - Matte transition","Alloy - Matte transition","Alloy - Matte transition","Alloy - Matte transition","Alloy - Matte transition","Alloy - Matte transition","Alloy - Matte transition","Alloy - Matte transition","Alloy - Matte transition","Alloy - Matte transition","Alloy - Matte transition","Alloy - Matte transition","Alloy - Matte transition","Alloy - Matte transition","Alloy - Matte transition","Alloy - Matte transition","Alloy - Matte transition","Alloy - Matte transition","Alloy - Matte transition","Alloy - Matte transition","Alloy - Matte transition","Alloy - Matte transition","Alloy - Matte transition","Alloy - Matte transition","Alloy - Matte transition","Alloy - Matte transition","Alloy - Matte transition","Alloy - Matte transition","Alloy - Matte transition","Alloy - Matte transition","Alloy - Matte transition","Alloy - Matte transition","Alloy - Matte transition","Alloy - Matte transition","Alloy - Matte transition","Alloy - Matte transition","Alloy - Matte transition","Alloy - Matte transition","Alloy - Matte transition","Alloy - Matte transition","Alloy - Matte transition","Alloy - Matte transition","Alloy - Matte transition","Alloy - Matte transition","Alloy - Matte transition","Alloy - Matte transition","Alloy - Matte transition","Alloy - Matte transition","Alloy - Matte transition","Alloy - Matte transition","Alloy - Matte transition","Alloy - Matte transition","Alloy - Matte transition","Alloy - Matte transition","Alloy - Matte transition","Alloy - Matte transition","Alloy - Matte transition","Alloy - Matte transition","Alloy - Matte transition","Alloy - Matte transition","Alloy - Matte transition","Alloy - Matte transition","Alloy - Matte transition","Alloy - Matte transition","Alloy - Matte transition","Alloy - Matte transition","Alloy - Matte transition","Alloy - Matte transition","Alloy - Matte transition","Alloy - Matte transition","Alloy - Matte transition","Alloy - Matte transition","Alloy - Matte transition","Alloy - Matte transition","Alloy - Matte transition","Alloy - Matte transition","Alloy - Matte transition","Alloy - Matte transition","Alloy - Matte transition","Alloy - Matte transition","Alloy - Matte transition","Alloy - Matte transition","Alloy - Matte transition","Alloy - Matte transition","Alloy - Matte transition","Alloy - Matte transition","Alloy - Matte transition","Alloy - Matte transition","Alloy - Matte transition","Alloy - Matte transition","Alloy - Matte transition","Alloy - Matte transition","Alloy - Matte transition","Alloy - Matte transition","Alloy - Matte transition","Alloy - Matte transition","Alloy - Matte transition","Alloy - Matte transition","Alloy - Matte transition","Alloy - Matte transition","Alloy - Matte transition","Alloy - Matte transition","Alloy - Matte transition","Alloy - Matte transition","Alloy - Matte transition","Alloy - Matte transition","Alloy - Matte transition","Alloy - Matte transition","Alloy - Matte transition","Alloy - Matte transition","Alloy - Matte transition","Alloy - Matte transition","Alloy - Matte transition","Alloy - Matte transition","Alloy - Matte transition","Alloy - Matte transition","Alloy - Matte transition","Alloy - Matte transition","Alloy - Matte transition","Alloy - Matte transition","Alloy - Matte transition","Alloy - Matte transition","Alloy - Matte transition","Alloy - Matte transition","Alloy - Matte transition","Alloy - Matte transition","Alloy - Matte transition","Alloy - Matte transition","Alloy - Matte transition","Alloy - Matte transition","Alloy - Matte transition","Alloy - Matte transition","Alloy - Matte transition","Alloy - Matte transition","Alloy - Matte transition","Alloy - Matte transition","Alloy - Matte transition","Alloy - Matte transition","Alloy - Matte transition","Alloy - Matte transition","Alloy - Matte transition","Alloy - Matte transition","Alloy - Matte transition","Alloy - Matte transition","Alloy - Matte transition","Alloy - Matte transition","Alloy - Matte transition","Alloy - Matte transition","Alloy - Matte transition","Alloy - Matte transition","Alloy - Matte transition","Alloy - Matte transition","Alloy - Matte transition","Alloy - Matte transition","Alloy - Matte transition","Alloy - Matte transition","Alloy - Matte transition","Alloy - Matte transition","Alloy - Matte transition","Alloy - Matte transition","Alloy - Matte transition","Alloy - Matte transition","Alloy - Matte transition","Alloy - Matte transition","Alloy - Matte transition","Alloy - Matte transition","Alloy - Matte transition","Alloy - Matte transition","Alloy - Matte transition","Alloy - Matte transition","Alloy - Matte transition","Alloy - Matte transition","Alloy - Matte transition","Alloy - Matte transition","Alloy - Matte transition","Alloy - Matte transition","Alloy - Matte transition","Alloy - Matte transition","Alloy - Matte transition","Alloy - Matte transition","Alloy - Matte transition","Alloy - Matte transition","Alloy - Matte transition","Alloy - Matte transition","Alloy - Matte transition","Alloy - Matte transition","Alloy - Matte transition","Alloy - Matte transition","Alloy - Matte transition","Alloy - Matte transition","Alloy - Matte transition","Alloy - Matte transition","Alloy - Matte transition","Alloy - Matte transition","Alloy - Matte transition","Alloy - Matte transition","Alloy - Matte transition","Alloy - Matte transition","Alloy - Matte transition","Alloy - Matte transition","Alloy - Matte transition","Alloy - Matte transition","Alloy - Matte transition","Alloy - Matte transition","Alloy - Matte transition","Alloy - Matte transition","Alloy - Matte transition","Alloy - Matte transition","Alloy - Matte transition","Alloy - Matte transition","Alloy - Matte transition","Alloy - Matte transition","Alloy - Matte transition","Alloy - Matte transition","Alloy - Matte transition","Alloy - Matte transition","Alloy - Matte transition","Alloy - Matte transition","Alloy - Matte transition","Alloy - Matte transition","Alloy - Matte transition","Alloy - Matte transition","Alloy - Matte transition","Alloy - Matte transition","Alloy - Matte transition","Alloy - Matte transition","Alloy - Matte transition","Alloy - Matte transition","Alloy - Matte transition","Alloy - Matte transition","Alloy - Matte transition","Alloy - Matte transition","Alloy - Matte transition","Alloy - Matte transition","Alloy - Matte transition","Alloy - Matte transition","Alloy - Matte transition","Alloy - Matte transition","Alloy - Matte transition","Alloy - Matte transition","Alloy - Matte transition","Alloy - Matte transition","Alloy - Matte transition","Alloy - Matte transition","Alloy - Matte transition","Alloy - Matte transition","Alloy - Matte transition","Alloy - Matte transition","Alloy - Matte transition","Alloy - Matte transition","Alloy - Matte transition","Alloy - Matte transition","Alloy - Matte transition","Alloy - Matte transition","Alloy - Matte transition","Alloy - Matte transition","Alloy - Matte transition","Alloy - Matte transition","Alloy - Matte transition","Alloy - Matte transition","Alloy - Matte transition","Alloy - Matte transition","Alloy - Matte transition","Alloy - Matte transition","Alloy - Matte transition","Alloy - Matte transition","Alloy - Matte transition","Alloy - Matte transition","Alloy - Matte transition","Alloy - Matte transition","Alloy - Matte transition","Alloy - Matte transition","Alloy - Matte transition","Alloy - Matte transition","Alloy - Matte transition","Alloy - Matte transition","Alloy - Matte transition","Alloy - Matte transition","Alloy - Matte transition","Alloy - Matte transition","Alloy - Matte transition","Alloy - Matte transition","Alloy - Matte transition","Alloy - Matte transition","Alloy - Matte transition","Alloy - Matte transition","Alloy - Matte transition","Alloy - Matte transition","Alloy - Matte transition","Alloy - Matte transition","Alloy - Matte transition","Alloy - Matte transition","Alloy - Matte transition","Alloy - Matte transition","Alloy - Matte transition","Alloy - Matte transition","Alloy - Matte transition","Alloy - Matte transition","Alloy - Matte transition","Alloy - Matte transition","Alloy - Matte transition","Alloy - Matte transition","Alloy - Matte transition","Alloy - Matte transition","Alloy - Matte transition","Alloy - Matte transition","Alloy - Matte transition","Alloy - Matte transition","Alloy - Matte transition","Alloy - Matte transition","Alloy - Matte transition","Alloy - Matte transition","Alloy - Matte transition","Alloy - Matte transition","Alloy - Matte transition","Alloy - Matte transition","Alloy - Matte transition","Alloy - Matte transition","Alloy - Matte transition","Alloy - Matte transition","Alloy - Matte transition","Alloy - Matte transition","Alloy - Matte transition","Alloy - Matte transition","Alloy - Matte transition","Alloy - Matte transition","Alloy - Matte transition","Alloy - Matte transition","Alloy - Matte transition","Alloy - Matte transition","Alloy - Matte transition","Alloy - Matte transition","Alloy - Matte transition","Alloy - Matte transition","Alloy - Matte transition","Alloy - Matte transition","Alloy - Matte transition","Alloy - Matte transition","Alloy - Matte transition","Alloy - Matte transition","Alloy - Matte transition","Alloy - Matte transition","Alloy - Matte transition","Alloy - Matte transition","Alloy - Matte transition","Alloy - Matte transition","Alloy - Matte transition","Alloy - Matte transition","Alloy - Matte transition","Alloy - Matte transition","Alloy - Matte transition","Alloy - Matte transition","Alloy - Matte transition","Alloy - Matte transition","Alloy - Matte transition","Alloy - Matte transition","Alloy - Matte transition","Alloy - Matte transition","Alloy - Matte transition","Alloy - Matte transition","Alloy - Matte transition","Alloy - Matte transition","Alloy - Matte transition","Alloy - Matte transition","Alloy - Matte transition","Alloy - Matte transition","Alloy - Matte transition","Alloy - Matte transition","Alloy - Matte transition","Alloy - Matte transition","Alloy - Matte transition","Alloy - Matte transition","Alloy - Matte transition","Alloy - Matte transition","Alloy - Matte transition","Alloy - Matte transition","Alloy - Matte transition","Alloy - Matte transition","Alloy - Matte transition","Alloy - Matte transition","Alloy - Matte transition","Alloy - Matte transition","Alloy - Matte transition","Alloy - Matte transition","Alloy - Matte transition","Alloy - Matte transition","Alloy - Matte transition","Alloy - Matte transition","Alloy - Matte transition","Alloy - Matte transition","Alloy - Matte transition","Alloy - Matte transition","Alloy - Matte transition","Alloy - Matte transition","Alloy - Matte transition","Alloy - Matte transition","Alloy - Matte transition","Alloy - Matte transition","Alloy - Matte transition","Alloy - Matte transition","Alloy - Matte transition","Alloy - Matte transition","Alloy - Matte transition","Alloy - Matte transition","Alloy - Matte transition","Alloy - Matte transition","Alloy - Matte transition","Alloy - Matte transition","Alloy - Matte transition","Alloy - Matte transition","Alloy - Matte transition","Alloy - Matte transition","Alloy - Matte transition","Alloy - Matte transition","Alloy - Matte transition","Alloy - Matte transition","Alloy - Matte transition","Alloy - Matte transition","Alloy - Matte transition","Alloy - Matte transition","Alloy - Matte transition","Alloy - Matte transition","Alloy - Matte transition","Alloy - Matte transition","Alloy - Matte transition","Alloy - Matte transition","Alloy - Matte transition","Alloy - Matte transition","Alloy - Matte transition","Alloy - Matte transition","Alloy - Matte transition","Alloy - Matte transition","Alloy - Matte transition","Alloy - Matte transition","Alloy - Matte transition","Alloy - Matte transition","Alloy - Matte transition","Alloy - Matte transition","Alloy - Matte transition","Alloy - Matte transition","Alloy - Matte transition","Alloy - Matte transition","Alloy - Matte transition","Alloy - Matte transition","Alloy - Matte transition","Alloy - Matte transition","Alloy - Matte transition","Alloy - Matte transition","Alloy - Matte transition","Alloy - Matte transition","Alloy - Matte transition","Alloy - Matte transition","Alloy - Matte transition","Alloy - Matte transition","Alloy - Matte transition","Alloy - Matte transition","Alloy - Matte transition","Alloy - Matte transition","Alloy - Matte transition","Alloy - Matte transition","Alloy - Matte transition","Alloy - Matte transition","Alloy - Matte transition","Alloy - Matte transition","Alloy - Matte transition","Alloy - Matte transition","Alloy - Matte transition","Alloy - Matte transition","Alloy - Matte transition","Alloy - Matte transition","Alloy - Matte transition","Alloy - Matte transition","Alloy - Matte transition","Alloy - Matte transition","Alloy - Matte transition","Alloy - Matte transition","Alloy - Matte transition","Alloy - Matte transition","Alloy - Matte transition","Alloy - Matte transition","Alloy - Matte transition","Alloy - Matte transition","Alloy - Matte transition","Alloy - Matte transition","Alloy - Matte transition","Alloy - Matte transition","Alloy - Matte transition","Alloy - Matte transition","Alloy - Matte transition","Alloy - Matte transition","Alloy - Matte transition","Alloy - Matte transition","Alloy - Matte transition","Alloy - Matte transition","Alloy - Matte transition","Alloy - Matte transition","Alloy - Matte transition","Alloy - Matte transition","Alloy - Matte transition","Alloy - Matte transition","Alloy - Matte transition","Alloy - Matte transition","Alloy - Matte transition","Alloy - Matte transition","Alloy - Matte transition","Alloy - Matte transition","Alloy - Matte transition","Alloy - Matte transition","Alloy - Matte transition","Alloy - Matte transition","Alloy - Matte transition","Alloy - Matte transition","Alloy - Matte transition","Alloy - Matte transition","Alloy - Matte transition","Alloy - Matte transition","Alloy - Matte transition","Alloy - Matte transition","Alloy - Matte transition","Alloy - Matte transition","Alloy - Matte transition","Alloy - Matte transition","Alloy - Matte transition","Alloy - Matte transition","Alloy - Matte transition","Alloy - Matte transition","Alloy - Matte transition","Alloy - Matte transition","Alloy - Matte transition","Alloy - Matte transition","Alloy - Matte transition","Alloy - Matte transition","Alloy - Matte transition","Alloy - Matte transition","Alloy - Matte transition","Alloy - Matte transition","Alloy - Matte transition","Alloy - Matte transition","Alloy - Matte transition","Alloy - Matte transition","Alloy - Matte transition","Alloy - Matte transition","Alloy - Matte transition","Alloy - Matte transition","Alloy - Matte transition","Alloy - Matte transition","Alloy - Matte transition","Alloy - Matte transition","Alloy - Matte transition","Alloy - Matte transition","Alloy - Matte transition","Alloy - Matte transition","Alloy - Matte transition","Alloy - Matte transition","Alloy - Matte transition","Alloy - Matte transition","Alloy - Matte transition","Alloy - Matte transition","Alloy - Matte transition","Alloy - Matte transition","Alloy - Matte transition","Alloy - Matte transition","Alloy - Matte transition","Alloy - Matte transition","Alloy - Matte transition","Alloy - Matte transition","Alloy - Matte transition","Alloy - Matte transition","Alloy - Matte transition","Alloy - Matte transition","Alloy - Matte transition","Alloy - Matte transition","Alloy - Matte transition","Alloy - Matte transition","Alloy - Matte transition","Alloy - Matte transition","Alloy - Matte transition","Alloy - Matte transition","Alloy - Matte transition","Alloy - Matte transition","Alloy - Matte transition","Alloy - Matte transition","Alloy - Matte transition","Alloy - Matte transition","Alloy - Matte transition","Alloy - Matte transition","Alloy - Matte transition","Alloy - Matte transition","Alloy - Matte transition","Alloy - Matte transition","Alloy - Matte transition","Alloy - Matte transition","Alloy - Matte transition","Alloy - Matte transition","Alloy - Matte transition","Alloy - Matte transition","Alloy - Matte transition","Alloy - Matte transition","Alloy - Matte transition","Alloy - Matte transition","Alloy - Matte transition","Alloy - Matte transition","Alloy - Matte transition","Alloy - Matte transition","Alloy - Matte transition","Alloy - Matte transition","Alloy - Matte transition","Alloy - Matte transition","Alloy - Matte transition","Alloy - Matte transition","Alloy - Matte transition","Alloy - Matte transition","Alloy - Matte transition","Alloy - Matte transition","Alloy - Matte transition","Alloy - Matte transition","Alloy - Matte transition","Alloy - Matte transition","Alloy - Matte transition","Alloy - Matte transition","Alloy - Matte transition","Alloy - Matte transition","Alloy - Matte transition","Alloy - Matte transition","Alloy - Matte transition","Alloy - Matte transition","Alloy - Matte transition","Alloy - Matte transition","Alloy - Matte transition","Alloy - Matte transition","Alloy - Matte transition","Alloy - Matte transition","Alloy - Matte transition","Alloy - Matte transition","Alloy - Matte transition","Alloy - Matte transition","Alloy - Matte transition","Alloy - Matte transition","Alloy - Matte transition","Alloy - Matte transition","Alloy - Matte transition","Alloy - Matte transition","Alloy - Matte transition","Alloy - Matte transition","Alloy - Matte transition","Alloy - Matte transition","Alloy - Matte transition","Alloy - Matte transition","Alloy - Matte transition","Alloy - Matte transition","Alloy - Matte transition","Alloy - Matte transition","Alloy - Matte transition","Alloy - Matte transition","Alloy - Matte transition","Alloy - Matte transition","Alloy - Matte transition","Alloy - Matte transition","Alloy - Matte transition","Alloy - Matte transition","Alloy - Matte transition","Alloy - Matte transition","Alloy - Matte transition","Alloy - Matte transition","Alloy - Matte transition","Alloy - Matte transition","Alloy - Matte transition","Alloy - Matte transition","Alloy - Matte transition","Alloy - Matte transition","Alloy - Matte transition","Alloy - Matte transition","Alloy - Matte transition","Alloy - Matte transition","Alloy - Matte transition","Alloy - Matte transition","Alloy - Matte transition","Alloy - Matte transition","Alloy - Matte transition","Alloy - Matte transition","Alloy - Matte transition","Alloy - Matte transition","Alloy - Matte transition","Alloy - Matte transition","Alloy - Matte transition","Alloy - Matte transition","Alloy - Matte transition","Alloy - Matte transition","Alloy - Matte transition","Alloy - Matte transition","Alloy - Matte transition","Alloy - Matte transition","Alloy - Matte transition","Alloy - Matte transition","Alloy - Matte transition","Alloy - Matte transition","Alloy - Matte transition","Alloy - Matte transition","Alloy - Matte transition","Alloy - Matte transition","Alloy - Matte transition","Alloy - Matte transition","Alloy - Matte transition","Alloy - Matte transition","Alloy - Matte transition","Alloy - Matte transition","Alloy - Matte transition","Alloy - Matte transition","Alloy - Matte transition","Alloy - Matte transition","Alloy - Matte transition","Alloy - Matte transition","Alloy - Matte transition","Alloy - Matte transition","Alloy - Matte transition","Alloy - Matte transition","Alloy - Matte transition","Alloy - Matte transition","Alloy - Matte transition","Alloy - Matte transition","Alloy - Matte transition","Alloy - Matte transition","Alloy - Matte transition","Alloy - Matte transition","Alloy - Matte transition","Alloy - Matte transition","Alloy - Matte transition","Alloy - Matte transition","Alloy - Matte transition","Alloy - Matte transition","Alloy - Matte transition","Alloy - Matte transition","Alloy - Matte transition","Alloy - Matte transition","Alloy - Matte transition","Alloy - Matte transition","Alloy - Matte transition","Alloy - Matte transition","Alloy - Matte transition","Alloy - Matte transition","Alloy - Matte transition","Alloy - Matte transition","Alloy - Matte transition","Alloy - Matte transition","Alloy - Matte transition","Alloy - Matte transition","Alloy - Matte transition","Alloy - Matte transition","Alloy - Matte transition","Alloy - Matte transition","Alloy - Matte transition","Alloy - Matte transition","Alloy - Matte transition","Alloy - Matte transition","Alloy - Matte transition","Alloy - Matte transition","Alloy - Matte transition","Alloy - Matte transition","Alloy - Matte transition","Alloy - Matte transition","Alloy - Matte transition","Alloy - Matte transition","Alloy - Matte transition","Alloy - Matte transition","Alloy - Matte transition","Alloy - Matte transition","Alloy - Matte transition","Alloy - Matte transition","Alloy - Matte transition","Alloy - Matte transition","Alloy - Matte transition","Alloy - Matte transition","Alloy - Matte transition","Alloy - Matte transition","Alloy - Matte transition","Alloy - Matte transition","Alloy - Matte transition","Alloy - Matte transition","Alloy - Matte transition","Alloy - Matte transition","Alloy - Matte transition","Alloy - Matte transition","Alloy - Matte transition","Alloy - Matte transition","Alloy - Matte transition","Alloy - Matte transition","Alloy - Matte transition","Alloy - Matte transition","Alloy - Matte transition","Alloy - Matte transition","Alloy - Matte transition","Alloy - Matte transition","Alloy - Matte transition","Alloy - Matte transition","Alloy - Matte transition","Alloy - Matte transition","Alloy - Matte transition","Alloy - Matte transition","Alloy - Matte transition","Alloy - Matte transition","Alloy - Matte transition","Alloy - Matte transition","Alloy - Matte transition","Alloy - Matte transition","Alloy - Matte transition","Alloy - Matte transition","Alloy - Matte transition","Alloy - Matte transition","Alloy - Matte transition","Alloy - Matte transition","Alloy - Matte transition","Alloy - Matte transition","Alloy - Matte transition","Alloy - Matte transition","Alloy - Matte transition","Alloy - Matte transition","Alloy - Matte transition","Alloy - Matte transition","Alloy - Matte transition","Alloy - Matte transition","Alloy - Matte transition","Alloy - Matte transition","Alloy - Matte transition","Alloy - Matte transition","Alloy - Matte transition","Alloy - Matte transition","Alloy - Matte transition","Alloy - Matte transition","Alloy - Matte transition","Alloy - Matte transition","Alloy - Matte transition","Alloy - Matte transition","Alloy - Matte transition","Alloy - Matte transition","Alloy - Matte transition","Alloy - Matte transition","Alloy - Matte transition","Alloy - Matte transition","Alloy - Matte transition","Alloy - Matte transition","Alloy - Matte transition","Alloy - Matte transition","Alloy - Matte transition","Alloy - Matte transition","Alloy - Matte transition","Alloy - Matte transition","Alloy - Matte transition","Alloy - Matte transition","Alloy - Matte transition","Alloy - Matte transition","Alloy - Matte transition","Alloy - Matte transition","Alloy - Matte transition","Alloy - Matte transition","Alloy - Matte transition","Alloy - Matte transition","Alloy - Matte transition","Alloy - Matte transition","Alloy - Matte transition","Alloy - Matte transition","Alloy - Matte transition","Alloy - Matte transition","Alloy - Matte transition","Alloy - Matte transition","Alloy - Matte transition","Alloy - Matte transition","Alloy - Matte transition","Alloy - Matte transition","Alloy - Matte transition","Alloy - Matte transition","Alloy - Matte transition","Alloy - Matte transition","Alloy - Matte transition","Alloy - Matte transition","Alloy - Matte transition","Alloy - Matte transition","Alloy - Matte transition","Alloy - Matte transition","Alloy - Matte transition","Alloy - Matte transition","Alloy - Matte transition","Alloy - Matte transition","Alloy - Matte transition","Alloy - Matte transition","Alloy - Matte transition","Alloy - Matte transition","Alloy - Matte transition","Alloy - Matte transition","Alloy - Matte transition","Alloy - Matte transition","Alloy - Matte transition","Alloy - Matte transition","Alloy - Matte transition","Alloy - Matte transition","Alloy - Matte transition","Alloy - Matte transition","Alloy - Matte transition","Alloy - Matte transition","Alloy - Matte transition","Alloy - Matte transition","Alloy - Matte transition","Alloy - Matte transition","Alloy - Matte transition","Alloy - Matte transition","Alloy - Matte transition","Alloy - Matte transition","Alloy - Matte transition","Alloy - Matte transition","Alloy - Matte transition","Alloy - Matte transition","Alloy - Matte transition","Alloy - Matte transition","Alloy - Matte transition","Alloy - Matte transition","Alloy - Matte transition","Alloy - Matte transition","Alloy - Matte transition","Alloy - Matte transition","Alloy - Matte transition","Alloy - Matte transition","Alloy - Matte transition","Alloy - Matte transition","Alloy - Matte transition","Alloy - Matte transition","Alloy - Matte transition","Alloy - Matte transition","Alloy - Matte transition","Alloy - Matte transition","Alloy - Matte transition","Alloy - Matte transition","Alloy - Matte transition","Alloy - Matte transition","Alloy - Matte transition","Alloy - Matte transition","Alloy - Matte transition","Alloy - Matte transition","Alloy - Matte transition","Alloy - Matte transition","Alloy - Matte transition","Alloy - Matte transition","Alloy - Matte transition","Alloy - Matte transition","Alloy - Matte transition","Alloy - Matte transition","Alloy - Matte transition","Alloy - Matte transition","Alloy - Matte transition","Alloy - Matte transition","Alloy - Matte transition","Alloy - Matte transition","Alloy - Matte transition","Alloy - Matte transition","Alloy - Matte transition","Alloy - Matte transition","Alloy - Matte transition","Alloy - Matte transition","Alloy - Matte transition","Alloy - Matte transition","Alloy - Matte transition","Alloy - Matte transition","Alloy - Matte transition","Alloy - Matte transition","Alloy - Matte transition","Alloy - Matte transition","Alloy - Matte transition","Alloy - Matte transition","Alloy - Matte transition","Alloy - Matte transition","Alloy - Matte transition","Alloy - Matte transition","Alloy - Matte transition","Alloy - Matte transition","Alloy - Matte transition","Alloy - Matte transition","Alloy - Matte transition","Alloy - Matte transition","Alloy - Matte transition","Alloy - Matte transition","Alloy - Matte transition","Alloy - Matte transition","Alloy - Matte transition","Alloy - Matte transition","Alloy - Matte transition","Alloy - Matte transition","Alloy - Matte transition","Alloy - Matte transition","Alloy - Matte transition","Alloy - Matte transition","Alloy - Matte transition","Alloy - Matte transition","Alloy - Matte transition","Alloy - Matte transition","Alloy - Matte transition","Alloy - Matte transition","Alloy - Matte transition","Alloy - Matte transition","Alloy - Matte transition","Alloy - Matte transition","Alloy - Matte transition","Alloy - Matte transition","Alloy - Matte transition","Alloy - Matte transition","Alloy - Matte transition","Alloy - Matte transition","Alloy - Matte transition","Alloy - Matte transition","Alloy - Matte transition","Alloy - Matte transition","Alloy - Matte transition","Alloy - Matte transition","Alloy - Matte transition","Alloy - Matte transition","Alloy - Matte transition","Alloy - Matte transition","Alloy - Matte transition","Alloy - Matte transition","Alloy - Matte transition","Alloy - Matte transition","Alloy - Matte transition","Alloy - Matte transition","Alloy - Matte transition","Alloy - Matte transition","Alloy - Matte transition","Alloy - Matte transition","Alloy - Matte transition","Alloy - Matte transition","Alloy - Matte transition","Alloy - Matte transition","Alloy - Matte transition","Alloy - Matte transition","Alloy - Matte transition","Alloy - Matte transition","Alloy - Matte transition","Alloy - Matte transition","Alloy - Matte transition","Alloy - Matte transition","Alloy - Matte transition","Alloy - Matte transition","Alloy - Matte transition","Alloy - Matte transition","Alloy - Matte transition","Alloy - Matte transition","Alloy - Matte transition","Alloy - Matte transition","Alloy - Matte transition","Alloy - Matte transition","Alloy - Matte transition","Alloy - Matte transition","Alloy - Matte transition","Alloy - Matte transition","Alloy - Matte transition","Alloy - Matte transition","Alloy - Matte transition","Alloy - Matte transition","Alloy - Matte transition","Alloy - Matte transition","Alloy - Matte transition","Alloy - Matte transition","Alloy - Matte transition","Alloy - Matte transition","Alloy - Matte transition","Alloy - Matte transition","Alloy - Matte transition","Alloy - Matte transition","Alloy - Matte transition","Alloy - Matte transition","Alloy - Matte transition","Alloy - Matte transition","Alloy - Matte transition","Alloy - Matte transition","Alloy - Matte transition","Alloy - Matte transition","Alloy - Matte transition","Alloy - Matte transition","Alloy - Matte transition","Alloy - Matte transition","Alloy - Matte transition","Alloy - Matte transition","Alloy - Matte transition","Alloy - Matte transition","Alloy - Matte transition","Alloy - Matte transition","Alloy - Matte transition","Alloy - Matte transition","Alloy - Matte transition","Alloy - Matte transition","Alloy - Matte transition","Alloy - Matte transition","Alloy - Matte transition","Alloy - Matte transition","Alloy - Matte transition","Alloy - Matte transition","Alloy - Matte transition","Alloy - Matte transition","Alloy - Matte transition","Alloy - Matte transition","Alloy - Matte transition","Alloy - Matte transition","Alloy - Matte transition","Alloy - Matte transition","Alloy - Matte transition","Alloy - Matte transition","Alloy - Matte transition","Alloy - Matte transition","Alloy - Matte transition","Alloy - Matte transition","Alloy - Matte transition","Alloy - Matte transition","Alloy - Matte transition","Alloy - Matte transition","Alloy - Matte transition","Alloy - Matte transition","Alloy - Matte transition","Alloy - Matte transition","Alloy - Matte transition","Alloy - Matte transition","Alloy - Matte transition","Alloy - Matte transition","Alloy - Matte transition","Alloy - Matte transition","Alloy - Matte transition","Alloy - Matte transition","Alloy - Matte transition","Alloy - Matte transition","Alloy - Matte transition","Alloy - Matte transition","Alloy - Matte transition","Alloy - Matte transition","Alloy - Matte transition","Alloy - Matte transition","Alloy - Matte transition","Alloy - Matte transition","Alloy - Matte transition","Alloy - Matte transition","Alloy - Matte transition","Alloy - Matte transition","Alloy - Matte transition","Alloy - Matte transition","Alloy - Matte transition","Alloy - Matte transition","Alloy - Matte transition","Alloy - Matte transition","Alloy - Matte transition","Alloy - Matte transition","Alloy - Matte transition","Alloy - Matte transition","Alloy - Matte transition","Alloy - Matte transition","Alloy - Matte transition","Alloy - Matte transition","Alloy - Matte transition","Alloy - Matte transition","Alloy - Matte transition","Alloy - Matte transition","Alloy - Matte transition","Alloy - Matte transition","Alloy - Matte transition","Alloy - Matte transition","Alloy - Matte transition","Alloy - Matte transition","Alloy - Matte transition","Alloy - Matte transition","Alloy - Matte transition","Alloy - Matte transition","Alloy - Matte transition","Alloy - Matte transition","Alloy - Matte transition","Alloy - Matte transition","Alloy - Matte transition","Alloy - Matte transition","Alloy - Matte transition","Alloy - Matte transition","Alloy - Matte transition","Alloy - Matte transition","Alloy - Matte transition","Alloy - Matte transition","Alloy - Matte transition","Alloy - Matte transition","Alloy - Matte transition","Alloy - Matte transition","Alloy - Matte transition","Alloy - Matte transition","Alloy - Matte transition","Alloy - Matte transition","Alloy - Matte transition","Alloy - Matte transition","Alloy - Matte transition","Alloy - Matte transition","Alloy - Matte transition","Alloy - Matte transition","Alloy - Matte transition","Alloy - Matte transition","Alloy - Matte transition","Alloy - Matte transition","Alloy - Matte transition","Alloy - Matte transition","Alloy - Matte transition","Alloy - Matte transition","Alloy - Matte transition","Alloy - Matte transition","Alloy - Matte transition","Alloy - Matte transition","Alloy - Matte transition","Alloy - Matte transition","Alloy - Matte transition","Alloy - Matte transition","Alloy - Matte transition","Alloy - Matte transition","Alloy - Matte transition","Alloy - Matte transition","Alloy - Matte transition","Alloy - Matte transition","Alloy - Matte transition","Alloy - Matte transition","Alloy - Matte transition","Alloy - Matte transition","Alloy - Matte transition","Alloy - Matte transition","Alloy - Matte transition","Alloy - Matte transition","Alloy - Matte transition","Alloy - Matte transition","Alloy - Matte transition","Alloy - Matte transition","Alloy - Matte transition","Alloy - Matte transition","Alloy - Matte transition","Alloy - Matte transition","Alloy - Matte transition","Alloy - Matte transition","Alloy - Matte transition","Alloy - Matte transition","Alloy - Matte transition","Alloy - Matte transition","Alloy - Matte transition","Alloy - Matte transition","Alloy - Matte transition","Alloy - Matte transition","Alloy - Matte transition","Alloy - Matte transition","Alloy - Matte transition","Alloy - Matte transition","Alloy - Matte transition","Alloy - Matte transition","Alloy - Matte transition","Alloy - Matte transition","Alloy - Matte transition","Alloy - Matte transition","Alloy - Matte transition","Alloy - Matte transition","Alloy - Matte transition","Alloy - Matte transition","Alloy - Matte transition","Alloy - Matte transition","Alloy - Matte transition","Alloy - Matte transition","Alloy - Matte transition","Alloy - Matte transition","Alloy - Matte transition","Alloy - Matte transition","Alloy - Matte transition","Alloy - Matte transition","Alloy - Matte transition","Alloy - Matte transition","Alloy - Matte transition","Alloy - Matte transition","Alloy - Matte transition","Alloy - Matte transition","Alloy - Matte transition","Alloy - Matte transition","Alloy - Matte transition","Alloy - Matte transition","Alloy - Matte transition","Alloy - Matte transition","Alloy - Matte transition","Alloy - Matte transition","Alloy - Matte transition","Alloy - Matte transition","Alloy - Matte transition","Alloy - Matte transition","Alloy - Matte transition","Alloy - Matte transition","Alloy - Matte transition","Alloy - Matte transition","Alloy - Matte transition","Alloy - Matte transition","Alloy - Matte transition","Alloy - Matte transition","Alloy - Matte transition","Alloy - Matte transition","Alloy - Matte transition","Alloy - Matte transition","Alloy - Matte transition","Alloy - Matte transition","Alloy - Matte transition","Alloy - Matte transition","Alloy - Matte transition","Alloy - Matte transition","Alloy - Matte transition","Alloy - Matte transition","Alloy - Matte transition","Alloy - Matte transition","Alloy - Matte transition","Alloy - Matte transition","Alloy - Matte transition","Alloy - Matte transition","Alloy - Matte transition","Alloy - Matte transition","Alloy - Matte transition","Alloy - Matte transition","Alloy - Matte transition","Alloy - Matte transition","Alloy - Matte transition","Alloy - Matte transition","Alloy - Matte transition","Alloy - Matte transition","Alloy - Matte transition","Alloy - Matte transition","Alloy - Matte transition","Alloy - Matte transition","Alloy - Matte transition","Alloy - Matte transition","Alloy - Matte transition","Alloy - Matte transition","Alloy - Matte transition","Alloy - Matte transition","Alloy - Matte transition","Alloy - Matte transition","Alloy - Matte transition","Alloy - Matte transition","Alloy - Matte transition","Alloy - Matte transition","Alloy - Matte transition","Alloy - Matte transition","Alloy - Matte transition","Alloy - Matte transition","Alloy - Matte transition","Alloy - Matte transition","Alloy - Matte transition","Alloy - Matte transition","Alloy - Matte transition","Alloy - Matte transition","Alloy - Matte transition","Alloy - Matte transition","Alloy - Matte transition","Alloy - Matte transition","Alloy - Matte transition","Alloy - Matte transition","Alloy - Matte transition","Alloy - Matte transition","Alloy - Matte transition","Alloy - Matte transition","Alloy - Matte transition","Alloy - Matte transition","Alloy - Matte transition","Alloy - Matte transition","Alloy - Matte transition","Alloy - Matte transition","Alloy - Matte transition","Alloy - Matte transition","Alloy - Matte transition","Alloy - Matte transition","Alloy - Matte transition","Alloy - Matte transition","Alloy - Matte transition","Alloy - Matte transition","Alloy - Matte transition","Alloy - Matte transition","Alloy - Matte transition","Alloy - Matte transition","Alloy - Matte transition","Alloy - Matte transition","Alloy - Matte transition","Alloy - Matte transition","Alloy - Matte transition","Alloy - Matte transition","Alloy - Matte transition","Alloy - Matte transition","Alloy - Matte transition","Alloy - Matte transition","Alloy - Matte transition","Alloy - Matte transition","Alloy - Matte transition","Alloy - Matte transition","Alloy - Matte transition","Alloy - Matte transition","Alloy - Matte transition","Alloy - Matte transition","Alloy - Matte transition","Alloy - Matte transition","Alloy - Matte transition","Alloy - Matte transition","Alloy - Matte transition","Alloy - Matte transition","Alloy - Matte transition","Alloy - Matte transition","Alloy - Matte transition","Alloy - Matte transition","Alloy - Matte transition","Alloy - Matte transition","Alloy - Matte transition","Alloy - Matte transition","Alloy - Matte transition","Alloy - Matte transition","Alloy - Matte transition","Alloy - Matte transition","Alloy - Matte transition","Alloy - Matte transition","Alloy - Matte transition","Alloy - Matte transition","Alloy - Matte transition","Alloy - Matte transition","Alloy - Matte transition","Alloy - Matte transition","Alloy - Matte transition","Alloy - Matte transition","Alloy - Matte transition","Alloy - Matte transition","Alloy - Matte transition","Alloy - Matte transition","Alloy - Matte transition","Alloy - Matte transition","Alloy - Matte transition","Alloy - Matte transition","Alloy - Matte transition","Alloy - Matte transition","Alloy - Matte transition","Alloy - Matte transition","Alloy - Matte transition","Alloy - Matte transition","Alloy - Matte transition","Alloy - Matte transition","Alloy - Matte transition","Alloy - Matte transition","Alloy - Matte transition","Alloy - Matte transition","Alloy - Matte transition","Alloy - Matte transition","Alloy - Matte transition","Alloy - Matte transition","Alloy - Matte transition","Alloy - Matte transition","Alloy - Matte transition","Alloy - Matte transition","Alloy - Matte transition","Alloy - Matte transition","Alloy - Matte transition","Alloy - Matte transition","Alloy - Matte transition","Alloy - Matte transition","Alloy - Matte transition","Alloy - Matte transition","Alloy - Matte transition","Alloy - Matte transition","Alloy - Matte transition","Alloy - Matte transition","Alloy - Matte transition","Alloy - Matte transition","Alloy - Matte transition","Alloy - Matte transition","Alloy - Matte transition","Alloy - Matte transition","Alloy - Matte transition","Alloy - Matte transition","Alloy - Matte transition","Alloy - Matte transition","Alloy - Matte transition","Alloy - Matte transition","Alloy - Matte transition","Alloy - Matte transition","Alloy - Matte transition","Alloy - Matte transition","Alloy - Matte transition","Alloy - Matte transition","Alloy - Matte transition","Alloy - Matte transition","Alloy - Matte transition","Alloy - Matte transition","Alloy - Matte transition","Alloy - Matte transition","Alloy - Matte transition","Alloy - Matte transition","Alloy - Matte transition","Alloy - Matte transition","Alloy - Matte transition","Alloy - Matte transition","Alloy - Matte transition","Alloy - Matte transition","Alloy - Matte transition","Alloy - Matte transition","Alloy - Matte transition","Alloy - Matte transition","Alloy - Matte transition","Alloy - Matte transition","Alloy - Matte transition","Alloy - Matte transition","Alloy - Matte transition","Alloy - Matte transition","Alloy - Matte transition","Alloy - Matte transition","Alloy - Matte transition","Alloy - Matte transition","Alloy - Matte transition","Alloy - Matte transition","Alloy - Matte transition","Alloy - Matte transition","Alloy - Matte transition","Alloy - Matte transition","Alloy - Matte transition","Alloy - Matte transition","Alloy - Matte transition","Alloy - Matte transition","Alloy - Matte transition","Alloy - Matte transition","Alloy - Matte transition","Alloy - Matte transition","Alloy - Matte transition","Alloy - Matte transition","Alloy - Matte transition","Alloy - Matte transition","Alloy - Matte transition","Alloy - Matte transition","Alloy - Matte transition","Alloy - Matte transition","Alloy - Matte transition","Alloy - Matte transition","Alloy - Matte transition","Alloy - Matte transition","Alloy - Matte transition","Alloy - Matte transition","Alloy - Matte transition","Alloy - Matte transition","Alloy - Matte transition","Alloy - Matte transition","Alloy - Matte transition","Alloy - Matte transition","Alloy - Matte transition","Alloy - Matte transition","Alloy - Matte transition","Alloy - Matte transition","Alloy - Matte transition","Alloy - Matte transition","Alloy - Matte transition","Alloy - Matte transition","Alloy - Matte transition","Alloy - Matte transition","Alloy - Matte transition","Alloy - Matte transition","Alloy - Matte transition","Alloy - Matte transition","Alloy - Matte transition","Alloy - Matte transition","Alloy - Matte transition","Alloy - Matte transition","Alloy - Matte transition","Alloy - Matte transition","Alloy - Matte transition","Alloy - Matte transition","Alloy - Matte transition","Alloy - Matte transition","Alloy - Matte transition","Alloy - Matte transition","Alloy - Matte transition","Alloy - Matte transition","Alloy - Matte transition","Alloy - Matte transition","Alloy - Matte transition","Alloy - Matte transition","Alloy - Matte transition","Alloy - Matte transition","Alloy - Matte transition","Alloy - Matte transition","Alloy - Matte transition","Alloy - Matte transition","Alloy - Matte transition","Alloy - Matte transition","Alloy - Matte transition","Alloy - Matte transition","Alloy - Matte transition","Alloy - Matte transition","Alloy - Matte transition","Alloy - Matte transition","Alloy - Matte transition","Alloy - Matte transition","Alloy - Matte transition","Alloy - Matte transition","Alloy - Matte transition","Alloy - Matte transition","Alloy - Matte transition","Alloy - Matte transition","Alloy - Matte transition","Alloy - Matte transition","Alloy - Matte transition","Alloy - Matte transition","Alloy - Matte transition","Alloy - Matte transition","Alloy - Matte transition","Alloy - Matte transition","Alloy - Matte transition","Alloy - Matte transition","Alloy - Matte transition","Alloy - Matte transition","Alloy - Matte transition","Alloy - Matte transition","Alloy - Matte transition","Alloy - Matte transition","Alloy - Matte transition","Alloy - Matte transition","Alloy - Matte transition","Alloy - Matte transition","Alloy - Matte transition","Alloy - Matte transition","Alloy - Matte transition","Alloy - Matte transition","Alloy - Matte transition","Alloy - Matte transition","Alloy - Matte transition","Alloy - Matte transition","Alloy - Matte transition","Alloy - Matte transition","Alloy - Matte transition","Alloy - Matte transition","Alloy - Matte transition","Alloy - Matte transition","Alloy - Matte transition","Alloy - Matte transition","Alloy - Matte transition","Alloy - Matte transition","Alloy - Matte transition","Alloy - Matte transition","Alloy - Matte transition","Alloy - Matte transition","Alloy - Matte transition","Alloy - Matte transition","Alloy - Matte transition","Alloy - Matte transition","Alloy - Matte transition","Alloy - Matte transition","Alloy - Matte transition","Alloy - Matte transition","Alloy - Matte transition","Alloy - Matte transition","Alloy - Matte transition","Alloy - Matte transition","Alloy - Matte transition","Alloy - Matte transition","Alloy - Matte transition","Alloy - Matte transition","Alloy - Matte transition","Alloy - Matte transition","Alloy - Matte transition","Alloy - Matte transition","Alloy - Matte transition","Alloy - Matte transition","Alloy - Matte transition","Alloy - Matte transition","Alloy - Matte transition","Alloy - Matte transition","Alloy - Matte transition","Alloy - Matte transition","Alloy - Matte transition","Alloy - Matte transition","Alloy - Matte transition","Alloy - Matte transition","Alloy - Matte transition","Alloy - Matte transition","Alloy - Matte transition","Alloy - Matte transition","Alloy - Matte transition","Alloy - Matte transition","Alloy - Matte transition","Alloy - Matte transition","Alloy - Matte transition","Alloy - Matte transition","Alloy - Matte transition","Alloy - Matte transition","Alloy - Matte transition","Alloy - Matte transition","Alloy - Matte transition","Alloy - Matte transition","Alloy - Matte transition","Alloy - Matte transition","Alloy - Matte transition","Alloy - Matte transition","Alloy - Matte transition","Alloy - Matte transition","Alloy - Matte transition","Alloy - Matte transition","Alloy - Matte transition","Alloy - Matte transition","Alloy - Matte transition","Alloy - Matte transition","Alloy - Matte transition","Alloy - Matte transition","Alloy - Matte transition","Alloy - Matte transition","Alloy - Matte transition","Alloy - Matte transition","Alloy - Matte transition","Alloy - Matte transition","Alloy - Matte transition","Alloy - Matte transition","Alloy - Matte transition","Alloy - Matte transition","Alloy - Matte transition","Alloy - Matte transition","Alloy - Matte transition","Alloy - Matte transition","Alloy - Matte transition","Alloy - Matte transition","Alloy - Matte transition","Alloy - Matte transition","Alloy - Matte transition","Alloy - Matte transition","Alloy - Matte transition","Alloy - Matte transition","Alloy - Matte transition","Alloy - Matte transition","Alloy - Matte transition","Alloy - Matte transition","Alloy - Matte transition","Alloy - Matte transition","Alloy - Matte transition","Alloy - Matte transition","Alloy - Matte transition","Alloy - Matte transition","Alloy - Matte transition","Alloy - Matte transition","Alloy - Matte transition","Alloy - Matte transition","Alloy - Matte transition","Alloy - Matte transition","Alloy - Matte transition","Alloy - Matte transition","Alloy - Matte transition","Alloy - Matte transition","Alloy - Matte transition","Alloy - Matte transition","Alloy - Matte transition","Alloy - Matte transition","Alloy - Matte transition","Alloy - Matte transition","Alloy - Matte transition","Alloy - Matte transition","Alloy - Matte transition","Alloy - Matte transition","Alloy - Matte transition","Alloy - Matte transition","Alloy - Matte transition","Alloy - Matte transition","Alloy - Matte transition","Alloy - Matte transition","Alloy - Matte transition","Alloy - Matte transition","Alloy - Matte transition","Alloy - Matte transition","Alloy - Matte transition","Alloy - Matte transition","Alloy - Matte transition","Alloy - Matte transition","Alloy - Matte transition","Alloy - Matte transition","Alloy - Matte transition","Alloy - Matte transition","Alloy - Matte transition","Alloy - Matte transition","Alloy - Matte transition","Alloy - Matte transition","Alloy - Matte transition","Alloy - Matte transition","Alloy - Matte transition","Alloy - Matte transition","Alloy - Matte transition","Alloy - Matte transition","Alloy - Matte transition","Alloy - Matte transition","Alloy - Matte transition","Alloy - Matte transition","Alloy - Matte transition","Alloy - Matte transition","Alloy - Matte transition","Alloy - Matte transition","Alloy - Matte transition","Alloy - Matte transition","Alloy - Matte transition","Alloy - Matte transition","Alloy - Matte transition","Alloy - Matte transition","Alloy - Matte transition","Alloy - Matte transition","Alloy - Matte transition","Alloy - Matte transition","Alloy - Matte transition","Alloy - Matte transition","Alloy - Matte transition","Alloy - Matte transition","Alloy - Matte transition","Alloy - Matte transition","Alloy - Matte transition","Alloy - Matte transition","Alloy - Matte transition","Alloy - Matte transition","Alloy - Matte transition","Alloy - Matte transition","Alloy - Matte transition","Alloy - Matte transition","Alloy - Matte transition","Alloy - Matte transition","Alloy - Matte transition","Alloy - Matte transition","Alloy - Matte transition","Alloy - Matte transition","Alloy - Matte transition","Alloy - Matte transition","Alloy - Matte transition","Alloy - Matte transition","Alloy - Matte transition","Alloy - Matte transition","Alloy - Matte transition","Alloy - Matte transition","Alloy - Matte transition","Alloy - Matte transition","Alloy - Matte transition","Alloy - Matte transition","Alloy - Matte transition","Alloy - Matte transition","Alloy - Matte transition","Alloy - Matte transition","Alloy - Matte transition","Alloy - Matte transition","Alloy - Matte transition","Alloy - Matte transition","Alloy - Matte transition","Alloy - Matte transition","Alloy - Matte transition","Alloy - Matte transition","Alloy - Matte transition","Alloy - Matte transition","Alloy - Matte transition","Alloy - Matte transition","Alloy - Matte transition","Alloy - Matte transition","Alloy - Matte transition","Alloy - Matte transition","Alloy - Matte transition","Alloy - Matte transition","Alloy - Matte transition","Alloy - Matte transition","Alloy - Matte transition","Alloy - Matte transition","Alloy - Matte transition","Alloy - Matte transition","Alloy - Matte transition","Alloy - Matte transition","Alloy - Matte transition","Alloy - Matte transition","Alloy - Matte transition","Alloy - Matte transition","Alloy - Matte transition","Alloy - Matte transition","Alloy - Matte transition","Alloy - Matte transition","Alloy - Matte transition","Alloy - Matte transition","Alloy - Matte transition","Alloy - Matte transition","Alloy - Matte transition","Alloy - Matte transition","Alloy - Matte transition","Alloy - Matte transition","Alloy - Matte transition","Alloy - Matte transition","Alloy - Matte transition","Alloy - Matte transition","Alloy - Matte transition","Alloy - Matte transition","Alloy - Matte transition","Alloy - Matte transition","Alloy - Matte transition","Alloy - Matte transition","Alloy - Matte transition","Alloy - Matte transition","Alloy - Matte transition","Alloy - Matte transition","Alloy - Matte transition","Alloy - Matte transition","Alloy - Matte transition","Alloy - Matte transition","Alloy - Matte transition","Alloy - Matte transition","Alloy - Matte transition","Alloy - Matte transition","Alloy - Matte transition","Alloy - Matte transition","Alloy - Matte transition","Alloy - Matte transition","Alloy - Matte transition","Alloy - Matte transition","Alloy - Matte transition","Alloy - Matte transition","Alloy - Matte transition","Alloy - Matte transition","Alloy - Matte transition","Alloy - Matte transition","Alloy - Matte transition","Alloy - Matte transition","Alloy - Matte transition","Alloy - Matte transition","Alloy - Matte transition","Alloy - Matte transition","Alloy - Matte transition","Alloy - Matte transition","Alloy - Matte transition","Alloy - Matte transition","Alloy - Matte transition","Alloy - Matte transition","Alloy - Matte transition","Alloy - Matte transition","Alloy - Matte transition","Alloy - Matte transition","Alloy - Matte transition","Alloy - Matte transition","Alloy - Matte transition","Alloy - Matte transition","Alloy - Matte transition","Alloy - Matte transition","Alloy - Matte transition","Alloy - Matte transition","Alloy - Matte transition","Alloy - Matte transition","Alloy - Matte transition","Alloy - Matte transition","Alloy - Matte transition","Alloy - Matte transition","Alloy - Matte transition","Alloy - Matte transition","Alloy - Matte transition","Alloy - Matte transition","Alloy - Matte transition","Alloy - Matte transition","Alloy - Matte transition","Alloy - Matte transition","Alloy - Matte transition","Alloy - Matte transition","Alloy - Matte transition","Alloy - Matte transition","Alloy - Matte transition","Alloy - Matte transition","Alloy - Matte transition","Alloy - Matte transition","Alloy - Matte transition","Alloy - Matte transition","Alloy - Matte transition","Alloy - Matte transition","Alloy - Matte transition","Alloy - Matte transition","Alloy - Matte transition","Alloy - Matte transition","Alloy - Matte transition","Alloy - Matte transition","Alloy - Matte transition","Alloy - Matte transition","Alloy - Matte transition","Alloy - Matte transition","Alloy - Matte transition","Alloy - Matte transition","Alloy - Matte transition","Alloy - Matte transition","Alloy - Matte transition","Alloy - Matte transition","Alloy - Matte transition","Alloy - Matte transition","Alloy - Matte transition","Alloy - Matte transition","Alloy - Matte transition","Alloy - Matte transition","Alloy - Matte transition","Alloy - Matte transition","Alloy - Matte transition","Alloy - Matte transition","Alloy - Matte transition","Alloy - Matte transition","Alloy - Matte transition","Alloy - Matte transition","Alloy - Matte transition","Alloy - Matte transition","Alloy - Matte transition","Alloy - Matte transition","Alloy - Matte transition","Alloy - Matte transition","Alloy - Matte transition","Alloy - Matte transition","Alloy - Matte transition","Alloy - Matte transition","Alloy - Matte transition","Alloy - Matte transition","Alloy - Matte transition","Alloy - Matte transition","Alloy - Matte transition","Alloy - Matte transition","Alloy - Matte transition","Alloy - Matte transition","Alloy - Matte transition","Alloy - Matte transition","Alloy - Matte transition","Alloy - Matte transition","Alloy - Matte transition","Alloy - Matte transition","Alloy - Matte transition","Alloy - Matte transition","Alloy - Matte transition","Alloy - Matte transition","Alloy - Matte transition","Alloy - Matte transition","Alloy - Matte transition","Alloy - Matte transition","Alloy - Matte transition","Alloy - Matte transition","Alloy - Matte transition","Alloy - Matte transition","Alloy - Matte transition","Alloy - Matte transition","Alloy - Matte transition","Alloy - Matte transition","Alloy - Matte transition","Alloy - Matte transition","Alloy - Matte transition","Alloy - Matte transition","Alloy - Matte transition","Alloy - Matte transition","Alloy - Matte transition","Alloy - Matte transition","Alloy - Matte transition","Alloy - Matte transition","Alloy - Matte transition","Alloy - Matte transition","Alloy - Matte transition","Alloy - Matte transition","Alloy - Matte transition","Alloy - Matte transition","Alloy - Matte transition","Alloy - Matte transition","Alloy - Matte transition","Alloy - Matte transition","Alloy - Matte transition","Alloy - Matte transition","Alloy - Matte transition","Alloy - Matte transition","Alloy - Matte transition","Alloy - Matte transition","Alloy - Matte transition","Alloy - Matte transition","Alloy - Matte transition","Alloy - Matte transition","Alloy - Matte transition","Alloy - Matte transition","Alloy - Matte transition","Alloy - Matte transition","Alloy - Matte transition","Alloy - Matte transition","Alloy - Matte transition","Alloy - Matte transition","Alloy - Matte transition","Alloy - Matte transition","Alloy - Matte transition","Alloy - Matte transition","Alloy - Matte transition","Alloy - Matte transition","Alloy - Matte transition","Alloy - Matte transition","Alloy - Matte transition","Alloy - Matte transition","Alloy - Matte transition","Alloy - Matte transition","Alloy - Matte transition","Alloy - Matte transition","Alloy - Matte transition","Alloy - Matte transition","Alloy - Matte transition","Alloy - Matte transition","Alloy - Matte transition","Alloy - Matte transition","Alloy - Matte transition","Alloy - Matte transition","Alloy - Matte transition","Alloy - Matte transition","Alloy - Matte transition","Alloy - Matte transition","Alloy - Matte transition","Alloy - Matte transition","Alloy - Matte transition","Alloy - Matte transition","Alloy - Matte transition","Alloy - Matte transition","Alloy - Matte transition","Alloy - Matte transition","Alloy - Matte transition","Alloy - Matte transition","Alloy - Matte transition","Alloy - Matte transition","Alloy - Matte transition","Alloy - Matte transition","Alloy - Matte transition","Alloy - Matte transition","Alloy - Matte transition","Alloy - Matte transition","Alloy - Matte transition","Alloy - Matte transition","Alloy - Matte transition","Alloy - Matte transition","Alloy - Matte transition","Alloy - Matte transition","Alloy - Matte transition","Alloy - Matte transition","Alloy - Matte transition","Alloy - Matte transition","Alloy - Matte transition","Alloy - Matte transition","Alloy - Matte transition","Alloy - Matte transition","Alloy - Matte transition","Alloy - Matte transition","Alloy - Matte transition","Alloy - Matte transition","Alloy - Matte transition","Alloy - Matte transition","Alloy - Matte transition","Alloy - Matte transition","Alloy - Matte transition","Alloy - Matte transition","Alloy - Matte transition","Alloy - Matte transition","Alloy - Matte transition","Alloy - Matte transition","Alloy - Matte transition","Alloy - Matte transition","Alloy - Matte transition","Alloy - Matte transition","Alloy - Matte transition","Alloy - Matte transition","Alloy - Matte transition","Alloy - Matte transition","Alloy - Matte transition","Alloy - Matte transition","Alloy - Matte transition","Alloy - Matte transition","Alloy - Matte transition","Alloy - Matte transition","Alloy - Matte transition","Alloy - Matte transition","Alloy - Matte transition","Alloy - Matte transition","Alloy - Matte transition","Alloy - Matte transition","Alloy - Matte transition","Alloy - Matte transition","Alloy - Matte transition","Alloy - Matte transition","Alloy - Matte transition","Alloy - Matte transition","Alloy - Matte transition","Alloy - Matte transition","Alloy - Matte transition","Alloy - Matte transition","Alloy - Matte transition","Alloy - Matte transition","Alloy - Matte transition","Alloy - Matte transition","Alloy - Matte transition","Alloy - Matte transition","Alloy - Matte transition","Alloy - Matte transition","Alloy - Matte transition","Alloy - Matte transition","Alloy - Matte transition","Alloy - Matte transition","Alloy - Matte transition","Alloy - Matte transition","Alloy - Matte transition","Alloy - Matte transition","Alloy - Matte transition","Alloy - Matte transition","Alloy - Matte transition","Alloy - Matte transition","Alloy - Matte transition","Alloy - Matte transition","Alloy - Matte transition","Alloy - Matte transition","Alloy - Matte transition","Alloy - Matte transition","Alloy - Matte transition","Alloy - Matte transition","Alloy - Matte transition","Alloy - Matte transition","Alloy - Matte transition","Alloy - Matte transition","Alloy - Matte transition","Alloy - Matte transition","Alloy - Matte transition","Alloy - Matte transition","Alloy - Matte transition","Alloy - Matte transition","Alloy - Matte transition","Alloy - Matte transition","Alloy - Matte transition","Alloy - Matte transition","Alloy - Matte transition","Alloy - Matte transition","Alloy - Matte transition","Alloy - Matte transition","Alloy - Matte transition","Alloy - Matte transition","Alloy - Matte transition","Alloy - Matte transition","Alloy - Matte transition","Alloy - Matte transition","Alloy - Matte transition","Alloy - Matte transition","Alloy - Matte transition","Alloy - Matte transition","Alloy - Matte transition","Alloy - Matte transition","Alloy - Matte transition","Alloy - Matte transition","Alloy - Matte transition","Alloy - Matte transition","Alloy - Matte transition","Alloy - Matte transition","Alloy - Matte transition","Alloy - Matte transition","Alloy - Matte transition","Alloy - Matte transition","Alloy - Matte transition","Alloy - Matte transition","Alloy - Matte transition","Alloy - Matte transition","Alloy - Matte transition","Alloy - Matte transition","Alloy - Matte transition","Alloy - Matte transition","Alloy - Matte transition","Alloy - Matte transition","Alloy - Matte transition","Alloy - Matte transition","Alloy - Matte transition","Alloy - Matte transition","Alloy - Matte transition","Alloy - Matte transition","Alloy - Matte transition","Alloy - Matte transition","Alloy - Matte transition","Alloy - Matte transition","Alloy - Matte transition","Alloy - Matte transition","Alloy - Matte transition","Alloy - Matte transition","Alloy - Matte transition","Alloy - Matte transition","Alloy - Matte transition","Alloy - Matte transition","Alloy - Matte transition","Alloy - Matte transition","Alloy - Matte transition","Alloy - Matte transition","Alloy - Matte transition","Alloy - Matte transition","Alloy - Matte transition","Alloy - Matte transition","Alloy - Matte transition","Alloy - Matte transition","Alloy - Matte transition","Alloy - Matte transition","Alloy - Matte transition","Alloy - Matte transition","Alloy - Matte transition","Alloy - Matte transition","Alloy - Matte transition","Alloy - Matte transition","Alloy - Matte transition","Alloy - Matte transition","Alloy - Matte transition","Alloy - Matte transition","Alloy - Matte transition","Alloy - Matte transition","Alloy - Matte transition","Alloy - Matte transition","Alloy - Matte transition","Alloy - Matte transition","Alloy - Matte transition","Alloy - Matte transition","Alloy - Matte transition","Alloy - Matte transition","Alloy - Matte transition","Alloy - Matte transition","Alloy - Matte transition","Alloy - Matte transition","Alloy - Matte transition","Alloy - Matte transition","Alloy - Matte transition","Alloy - Matte transition","Alloy - Matte transition","Alloy - Matte transition","Alloy - Matte transition","Alloy - Matte transition","Alloy - Matte transition","Alloy - Matte transition","Alloy - Matte transition","Alloy - Matte transition","Alloy - Matte transition","Alloy - Matte transition","Alloy - Matte transition","Alloy - Matte transition","Alloy - Matte transition","Alloy - Matte transition","Alloy - Matte transition","Alloy - Matte transition","Alloy - Matte transition","Alloy - Matte transition","Alloy - Matte transition","Alloy - Matte transition","Alloy - Matte transition","Alloy - Matte transition","Alloy - Matte transition","Alloy - Matte transition","Alloy - Matte transition","Alloy - Matte transition","Alloy - Matte transition","Alloy - Matte transition","Alloy - Matte transition","Alloy - Matte transition","Alloy - Matte transition","Alloy - Matte transition","Alloy - Matte transition","Alloy - Matte transition","Alloy - Matte transition","Alloy - Matte transition","Alloy - Matte transition","Alloy - Matte transition","Alloy - Matte transition","Alloy - Matte transition","Alloy - Matte transition","Alloy - Matte transition","Alloy - Matte transition","Alloy - Matte transition","Alloy - Matte transition","Alloy - Matte transition","Alloy - Matte transition","Alloy - Matte transition","Alloy - Matte transition","Alloy - Matte transition","Alloy - Matte transition","Alloy - Matte transition","Alloy - Matte transition","Alloy - Matte transition","Alloy - Matte transition","Alloy - Matte transition","Alloy - Matte transition","Alloy - Matte transition","Alloy - Matte transition","Alloy - Matte transition","Alloy - Matte transition","Alloy - Matte transition","Alloy - Matte transition","Alloy - Matte transition","Alloy - Matte transition","Alloy - Matte transition","Alloy - Matte transition","Alloy - Matte transition","Alloy - Matte transition","Alloy - Matte transition","Alloy - Matte transition","Alloy - Matte transition","Alloy - Matte transition","Alloy - Matte transition","Alloy - Matte transition","Alloy - Matte transition","Alloy - Matte transition","Alloy - Matte transition","Alloy - Matte transition","Alloy - Matte transition","Alloy - Matte transition","Alloy - Matte transition","Alloy - Matte transition","Alloy - Matte transition","Alloy - Matte transition","Alloy - Matte transition","Alloy - Matte transition","Alloy - Matte transition","Alloy - Matte transition","Alloy - Matte transition","Alloy - Matte transition","Alloy - Matte transition","Alloy - Matte transition","Alloy - Matte transition","Alloy - Matte transition","Alloy - Matte transition","Alloy - Matte transition","Alloy - Matte transition","Alloy - Matte transition","Alloy - Matte transition","Alloy - Matte transition","Alloy - Matte transition","Alloy - Matte transition","Alloy - Matte transition","Alloy - Matte transition","Alloy - Matte transition","Alloy - Matte transition","Alloy - Matte transition","Alloy - Matte transition","Alloy - Matte transition","Alloy - Matte transition","Alloy - Matte transition","Alloy - Matte transition","Alloy - Matte transition","Alloy - Matte transition","Alloy - Matte transition","Alloy - Matte transition","Alloy - Matte transition","Alloy - Matte transition","Alloy - Matte transition","Alloy - Matte transition","Alloy - Matte transition","Alloy - Matte transition","Alloy - Matte transition","Alloy - Matte transition","Alloy - Matte transition","Alloy - Matte transition","Alloy - Matte transition","Alloy - Matte transition","Alloy - Matte transition","Alloy - Matte transition","Alloy - Matte transition","Alloy - Matte transition","Alloy - Matte transition","Alloy - Matte transition","Alloy - Matte transition","Alloy - Matte transition","Alloy - Matte transition","Alloy - Matte transition","Alloy - Matte transition","Alloy - Matte transition","Alloy - Matte transition","Alloy - Matte transition","Alloy - Matte transition","Alloy - Matte transition","Alloy - Matte transition","Alloy - Matte transition","Alloy - Matte transition","Alloy - Matte transition","Alloy - Matte transition","Alloy - Matte transition","Alloy - Matte transition","Alloy - Matte transition","Alloy - Matte transition","Alloy - Matte transition","Alloy - Matte transition","Alloy - Matte transition","Alloy - Matte transition","Alloy - Matte transition","Alloy - Matte transition","Alloy - Matte transition","Alloy - Matte transition","Alloy - Matte transition","Alloy - Matte transition","Alloy - Matte transition","Alloy - Matte transition","Alloy - Matte transition","Alloy - Matte transition","Alloy - Matte transition","Alloy - Matte transition","Alloy - Matte transition","Alloy - Matte transition","Alloy - Matte transition","Alloy - Matte transition","Alloy - Matte transition","Alloy - Matte transition","Alloy - Matte transition","Alloy - Matte transition","Alloy - Matte transition","Alloy - Matte transition","Alloy - Matte transition","Alloy - Matte transition","Alloy - Matte transition","Alloy - Matte transition","Alloy - Matte transition","Alloy - Matte transition","Alloy - Matte transition","Alloy - Matte transition","Alloy - Matte transition","Alloy - Matte transition","Alloy - Matte transition","Alloy - Matte transition","Alloy - Matte transition","Alloy - Matte transition","Alloy - Matte transition","Alloy - Matte transition","Alloy - Matte transition","Alloy - Matte transition","Alloy - Matte transition","Alloy - Matte transition","Alloy - Matte transition","Alloy - Matte transition","Alloy - Matte transition","Alloy - Matte transition","Alloy - Matte transition","Alloy - Matte transition","Alloy - Matte transition","Alloy - Matte transition","Alloy - Matte transition","Alloy - Matte transition","Alloy - Matte transition","Alloy - Matte transition","Alloy - Matte transition","Alloy - Matte transition","Alloy - Matte transition","Alloy - Matte transition","Alloy - Matte transition","Alloy - Matte transition","Alloy - Matte transition","Alloy - Matte transition","Alloy - Matte transition","Alloy - Matte transition","Alloy - Matte transition","Alloy - Matte transition","Alloy - Matte transition","Alloy - Matte transition","Alloy - Matte transition","Alloy - Matte transition","Alloy - Matte transition","Alloy - Matte transition","Alloy - Matte transition","Alloy - Matte transition","Alloy - Matte transition","Alloy - Matte transition","Alloy - Matte transition","Alloy - Matte transition","Alloy - Matte transition","Alloy - Matte transition","Alloy - Matte transition","Alloy - Matte transition","Alloy - Matte transition","Alloy - Matte transition","Alloy - Matte transition","Alloy - Matte transition","Alloy - Matte transition","Alloy - Matte transition","Alloy - Matte transition","Alloy - Matte transition","Alloy - Matte transition","Alloy - Matte transition","Alloy - Matte transition","Alloy - Matte transition","Alloy - Matte transition","Alloy - Matte transition","Alloy - Matte transition","Alloy - Matte transition","Alloy - Matte transition","Alloy - Matte transition","Alloy - Matte transition","Alloy - Matte transition","Alloy - Matte transition","Alloy - Matte transition","Alloy - Matte transition","Alloy - Matte transition","Alloy - Matte transition","Alloy - Matte transition","Alloy - Matte transition","Alloy - Matte transition","Alloy - Matte transition","Alloy - Matte transition","Alloy - Matte transition","Alloy - Matte transition","Alloy - Matte transition","Alloy - Matte transition","Alloy - Matte transition","Alloy - Matte transition","Alloy - Matte transition","Alloy - Matte transition","Alloy - Matte transition","Alloy - Matte transition","Alloy - Matte transition","Alloy - Matte transition","Alloy - Matte transition","Alloy - Matte transition","Alloy - Matte transition","Alloy - Matte transition","Alloy - Matte transition","Alloy - Matte transition","Alloy - Matte transition","Alloy - Matte transition","Alloy - Matte transition","Alloy - Matte transition","Alloy - Matte transition","Alloy - Matte transition","Alloy - Matte transition","Alloy - Matte transition","Alloy - Matte transition","Alloy - Matte transition","Alloy - Matte transition","Alloy - Matte transition","Alloy - Matte transition","Alloy - Matte transition","Alloy - Matte transition","Alloy - Matte transition","Alloy - Matte transition","Alloy - Matte transition","Alloy - Matte transition","Alloy - Matte transition","Alloy - Matte transition","Alloy - Matte transition","Alloy - Matte transition","Alloy - Matte transition","Alloy - Matte transition","Alloy - Matte transition","Alloy - Matte transition","Alloy - Matte transition","Alloy - Matte transition","Alloy - Matte transition","Alloy - Matte transition","Alloy - Matte transition","Alloy - Matte transition","Alloy - Matte transition","Alloy - Matte transition","Alloy - Matte transition","Alloy - Matte transition","Alloy - Matte transition","Alloy - Matte transition","Alloy - Matte transition","Alloy - Matte transition","Alloy - Matte transition","Alloy - Matte transition","Alloy - Matte transition","Alloy - Matte transition","Alloy - Matte transition","Alloy - Matte transition","Alloy - Matte transition","Alloy - Matte transition","Alloy - Matte transition","Alloy - Matte transition","Alloy - Matte transition","Alloy - Matte transition","Alloy - Matte transition","Alloy - Matte transition","Alloy - Matte transition","Alloy - Matte transition","Alloy - Matte transition","Alloy - Matte transition","Alloy - Matte transition","Alloy - Matte transition","Alloy - Matte transition","Alloy - Matte transition","Alloy - Matte transition","Alloy - Matte transition","Alloy - Matte transition","Alloy - Matte transition","Alloy - Matte transition","Alloy - Matte transition","Alloy - Matte transition","Alloy - Matte transition","Alloy - Matte transition","Alloy - Matte transition","Alloy - Matte transition","Alloy - Matte transition","Alloy - Matte transition","Alloy - Matte transition","Alloy - Matte transition","Alloy - Matte transition","Alloy - Matte transition","Alloy - Matte transition","Alloy - Matte transition","Alloy - Matte transition","Alloy - Matte transition","Alloy - Matte transition","Alloy - Matte transition","Alloy - Matte transition","Alloy - Matte transition","Alloy - Matte transition","Alloy - Matte transition","Alloy - Matte transition","Alloy - Matte transition","Alloy - Matte transition","Alloy - Matte transition","Alloy - Matte transition","Alloy - Matte transition","Alloy - Matte transition","Alloy - Matte transition","Alloy - Matte transition","Alloy - Matte transition","Alloy - Matte transition","Alloy - Matte transition","Alloy - Matte transition","Alloy - Matte transition","Alloy - Matte transition","Alloy - Matte transition","Alloy - Matte transition","Alloy - Matte transition","Alloy - Matte transition","Alloy - Matte transition","Alloy - Matte transition","Alloy - Matte transition","Alloy - Matte transition","Alloy - Matte transition","Alloy - Matte transition","Alloy - Matte transition","Alloy - Matte transition","Alloy - Matte transition","Alloy - Matte transition","Alloy - Matte transition","Alloy - Matte transition","Alloy - Matte transition","Alloy - Matte transition","Alloy - Matte transition","Alloy - Matte transition","Alloy - Matte transition","Alloy - Matte transition","Alloy - Matte transition","Alloy - Matte transition","Alloy - Matte transition","Alloy - Matte transition","Alloy - Matte transition","Alloy - Matte transition","Alloy - Matte transition","Alloy - Matte transition","Alloy - Matte transition","Alloy - Matte transition","Alloy - Matte transition","Alloy - Matte transition","Alloy - Matte transition","Alloy - Matte transition","Alloy - Matte transition","Alloy - Matte transition","Alloy - Matte transition","Alloy - Matte transition","Alloy - Matte transition","Alloy - Matte transition","Alloy - Matte transition","Alloy - Matte transition","Alloy - Matte transition","Alloy - Matte transition","Alloy - Matte transition","Alloy - Matte transition","Alloy - Matte transition","Alloy - Matte transition","Alloy - Matte transition","Alloy - Matte transition","Alloy - Matte transition","Alloy - Matte transition","Alloy - Matte transition","Alloy - Matte transition","Alloy - Matte transition","Alloy - Matte transition","Alloy - Matte transition","Alloy - Matte transition","Alloy - Matte transition","Alloy - Matte transition","Alloy - Matte transition","Alloy - Matte transition","Alloy - Matte transition","Alloy - Matte transition","Alloy - Matte transition","Alloy - Matte transition","Alloy - Matte transition","Alloy - Matte transition","Alloy - Matte transition","Alloy - Matte transition","Alloy - Matte transition","Alloy - Matte transition","Alloy - Matte transition","Alloy - Matte transition","Alloy - Matte transition","Alloy - Matte transition","Alloy - Matte transition","Alloy - Matte transition","Alloy - Matte transition","Alloy - Matte transition","Alloy - Matte transition","Alloy - Matte transition","Alloy - Matte transition","Alloy - Matte transition","Alloy - Matte transition","Alloy - Matte transition","Alloy - Matte transition","Alloy - Matte transition","Alloy - Matte transition","Alloy - Matte transition","Alloy - Matte transition","Alloy - Matte transition","Alloy - Matte transition","Alloy - Matte transition","Alloy - Matte transition","Alloy - Matte transition","Alloy - Matte transition","Alloy - Matte transition","Alloy - Matte transition","Alloy - Matte transition","Alloy - Matte transition","Alloy - Matte transition","Alloy - Matte transition","Alloy - Matte transition","Alloy - Matte transition","Alloy - Matte transition","Alloy - Matte transition","Alloy - Matte transition","Alloy - Matte transition","Alloy - Matte transition","Alloy - Matte transition","Alloy - Matte transition","Alloy - Matte transition","Alloy - Matte transition","Alloy - Matte transition","Alloy - Matte transition","Alloy - Matte transition","Alloy - Matte transition","Alloy - Matte transition","Alloy - Matte transition","Alloy - Matte transition","Alloy - Matte transition","Alloy - Matte transition","Alloy - Matte transition","Alloy - Matte transition","Alloy - Matte transition","Alloy - Matte transition","Alloy - Matte transition","Alloy - Matte transition","Alloy - Matte transition","Alloy - Matte transition","Alloy - Matte transition","Alloy - Matte transition","Alloy - Matte transition","Alloy - Matte transition","Alloy - Matte transition","Alloy - Matte transition","Alloy - Matte transition","Alloy - Matte transition","Alloy - Matte transition","Alloy - Matte transition","Alloy - Matte transition","Alloy - Matte transition","Alloy - Matte transition","Alloy - Matte transition","Alloy - Matte transition","Alloy - Matte transition","Alloy - Matte transition","Alloy - Matte transition","Alloy - Matte transition","Alloy - Matte transition","Alloy - Matte transition","Alloy - Matte transition","Alloy - Matte transition","Alloy - Matte transition","Alloy - Matte transition","Alloy - Matte transition","Alloy - Matte transition","Alloy - Matte transition","Alloy - Matte transition","Alloy - Matte transition","Alloy - Matte transition","Alloy - Matte transition","Alloy - Matte transition","Alloy - Matte transition","Alloy - Matte transition","Alloy - Matte transition","Alloy - Matte transition","Alloy - Matte transition","Alloy - Matte transition","Alloy - Matte transition","Alloy - Matte transition","Alloy - Matte transition","Alloy - Matte transition","Alloy - Matte transition","Alloy - Matte transition","Alloy - Matte transition","Alloy - Matte transition","Alloy - Matte transition","Alloy - Matte transition","Alloy - Matte transition","Alloy - Matte transition","Alloy - Matte transition","Alloy - Matte transition","Alloy - Matte transition","Alloy - Matte transition","Alloy - Matte transition","Alloy - Matte transition","Alloy - Matte transition","Alloy - Matte transition","Alloy - Matte transition","Alloy - Matte transition","Alloy - Matte transition","Alloy - Matte transition","Alloy - Matte transition","Alloy - Matte transition","Alloy - Matte transition","Alloy - Matte transition","Alloy - Matte transition","Alloy - Matte transition","Alloy - Matte transition","Alloy - Matte transition","Alloy - Matte transition","Alloy - Matte transition","Alloy - Matte transition","Alloy - Matte transition","Alloy - Matte transition","Alloy - Matte transition","Alloy - Matte transition","Alloy - Matte transition","Alloy - Matte transition","Alloy - Matte transition","Alloy - Matte transition","Alloy - Matte transition","Alloy - Matte transition","Alloy - Matte transition","Alloy - Matte transition","Alloy - Matte transition","Alloy - Matte transition","Alloy - Matte transition","Alloy - Matte transition","Alloy - Matte transition","Alloy - Matte transition","Alloy - Matte transition","Alloy - Matte transition","Alloy - Matte transition","Alloy - Matte transition","Alloy - Matte transition","Alloy - Matte transition","Alloy - Matte transition","Alloy - Matte transition","Alloy - Matte transition","Alloy - Matte transition","Alloy - Matte transition","Alloy - Matte transition","Alloy - Matte transition","Alloy - Matte transition","Alloy - Matte transition","Alloy - Matte transition","Alloy - Matte transition","Alloy - Matte transition","Alloy - Matte transition","Alloy - Matte transition","Alloy - Matte transition","Alloy - Matte transition","Alloy - Matte transition","Alloy - Matte transition","Alloy - Matte transition","Alloy - Matte transition","Alloy - Matte transition","Alloy - Matte transition","Alloy - Matte transition","Alloy - Matte transition","Alloy - Matte transition","Alloy - Matte transition","Alloy - Matte transition","Alloy - Matte transition","Alloy - Matte transition","Alloy - Matte transition","Alloy - Matte transition","Alloy - Matte transition","Alloy - Matte transition","Alloy - Matte transition","Alloy - Matte transition","Alloy - Matte transition","Alloy - Matte transition","Alloy - Matte transition","Alloy - Matte transition","Alloy - Matte transition","Alloy - Matte transition","Alloy - Matte transition","Alloy - Matte transition","Alloy - Matte transition","Alloy - Matte transition","Alloy - Matte transition","Alloy - Matte transition","Alloy - Matte transition","Alloy - Matte transition","Alloy - Matte transition","Alloy - Matte transition","Alloy - Matte transition","Alloy - Matte transition","Alloy - Matte transition","Alloy - Matte transition","Alloy - Matte transition","Alloy - Matte transition","Alloy - Matte transition","Alloy - Matte transition","Alloy - Matte transition","Alloy - Matte transition","Alloy - Matte transition","Alloy - Matte transition","Alloy - Matte transition","Alloy - Matte transition","Alloy - Matte transition","Alloy - Matte transition","Alloy - Matte transition","Alloy - Matte transition","Alloy - Matte transition","Alloy - Matte transition","Alloy - Matte transition","Alloy - Matte transition","Alloy - Matte transition","Alloy - Matte transition","Alloy - Matte transition","Alloy - Matte transition","Alloy - Matte transition","Alloy - Matte transition","Alloy - Matte transition","Alloy - Matte transition","Alloy - Matte transition","Alloy - Matte transition","Alloy - Matte transition","Alloy - Matte transition","Alloy - Matte transition","Alloy - Matte transition","Alloy - Matte transition","Alloy - Matte transition","Alloy - Matte transition","Alloy - Matte transition","Alloy - Matte transition","Alloy - Matte transition","Alloy - Matte transition","Alloy - Matte transition","Alloy - Matte transition","Alloy - Matte transition","Alloy - Matte transition","Alloy - Matte transition","Alloy - Matte transition","Alloy - Matte transition","Alloy - Matte transition","Alloy - Matte transition","Alloy - Matte transition","Alloy - Matte transition","Alloy - Matte transition","Alloy - Matte transition","Alloy - Matte transition","Alloy - Matte transition","Alloy - Matte transition","Alloy - Matte transition","Alloy - Matte transition","Alloy - Matte transition","Alloy - Matte transition","Alloy - Matte transition","Alloy - Matte transition","Alloy - Matte transition","Alloy - Matte transition","Alloy - Matte transition","Alloy - Matte transition","Alloy - Matte transition","Alloy - Matte transition","Alloy - Matte transition","Alloy - Matte transition","Alloy - Matte transition","Alloy - Matte transition","Alloy - Matte transition","Alloy - Matte transition","Alloy - Matte transition","Alloy - Matte transition","Alloy - Matte transition","Alloy - Matte transition","Alloy - Matte transition","Alloy - Matte transition","Alloy - Matte transition","Alloy - Matte transition","Alloy - Matte transition","Alloy - Matte transition","Alloy - Matte transition","Alloy - Matte transition","Alloy - Matte transition","Alloy - Matte transition","Alloy - Matte transition","Alloy - Matte transition","Alloy - Matte transition","Alloy - Matte transition","Alloy - Matte transition","Alloy - Matte transition","Alloy - Matte transition","Alloy - Matte transition","Alloy - Matte transition","Alloy - Matte transition","Alloy - Matte transition","Alloy - Matte transition","Alloy - Matte transition","Alloy - Matte transition","Alloy - Matte transition","Alloy - Matte transition","Alloy - Matte transition","Alloy - Matte transition","Alloy - Matte transition","Alloy - Matte transition","Alloy - Matte transition","Alloy - Matte transition","Alloy - Matte transition","Alloy - Matte transition","Alloy - Matte transition","Alloy - Matte transition","Alloy - Matte transition","Alloy - Matte transition","Alloy - Matte transition","Alloy - Matte transition","Alloy - Matte transition","Alloy - Matte transition","Alloy - Matte transition","Alloy - Matte transition","Alloy - Matte transition","Alloy - Matte transition","Alloy - Matte transition","Alloy - Matte transition","Alloy - Matte transition","Alloy - Matte transition","Alloy - Matte transition","Alloy - Matte transition","Alloy - Matte transition","Alloy - Matte transition","Alloy - Matte transition","Alloy - Matte transition","Alloy - Matte transition","Alloy - Matte transition","Alloy - Matte transition","Alloy - Matte transition","Alloy - Matte transition","Alloy - Matte transition","Alloy - Matte transition","Alloy - Matte transition","Alloy - Matte transition","Alloy - Matte transition","Alloy - Matte transition","Alloy - Matte transition","Alloy - Matte transition","Alloy - Matte transition","Alloy - Matte transition","Alloy - Matte transition","Alloy - Matte transition","Alloy - Matte transition","Alloy - Matte transition","Alloy - Matte transition","Alloy - Matte transition","Alloy - Matte transition","Alloy - Matte transition","Alloy - Matte transition","Alloy - Matte transition","Alloy - Matte transition","Alloy - Matte transition","Alloy - Matte transition","Alloy - Matte transition","Alloy - Matte transition","Alloy - Matte transition","Alloy - Matte transition","Alloy - Matte transition","Alloy - Matte transition","Alloy - Matte transition","Alloy - Matte transition","Alloy - Matte transition","Alloy - Matte transition","Alloy - Matte transition","Alloy - Matte transition","Alloy - Matte transition","Alloy - Matte transition","Alloy - Matte transition","Alloy - Matte transition","Alloy - Matte transition","Alloy - Matte transition","Alloy - Matte transition","Alloy - Matte transition","Alloy - Matte transition","Alloy - Matte transition","Alloy - Matte transition","Alloy - Matte transition","Alloy - Matte transition","Alloy - Matte transition","Alloy - Matte transition","Alloy - Matte transition","Alloy - Matte transition","Alloy - Matte transition","Alloy - Matte transition","Alloy - Matte transition","Alloy - Matte transition","Alloy - Matte transition","Alloy - Matte transition","Alloy - Matte transition","Alloy - Matte transition","Alloy - Matte transition","Alloy - Matte transition","Alloy - Matte transition","Alloy - Matte transition","Alloy - Matte transition","Alloy - Matte transition","Alloy - Matte transition","Alloy - Matte transition","Alloy - Matte transition","Alloy - Matte transition","Alloy - Matte transition","Alloy - Matte transition","Alloy - Matte transition","Alloy - Matte transition","Alloy - Matte transition","Alloy - Matte transition","Alloy - Matte transition","Alloy - Matte transition","Alloy - Matte transition","Alloy - Matte transition","Alloy - Matte transition","Alloy - Matte transition","Alloy - Matte transition","Alloy - Matte transition","Alloy - Matte transition","Alloy - Matte transition","Alloy - Matte transition","Alloy - Matte transition","Alloy - Matte transition","Alloy - Matte transition","Alloy - Matte transition","Alloy - Matte transition","Alloy - Matte transition","Alloy - Matte transition","Alloy - Matte transition","Alloy - Matte transition","Alloy - Matte transition","Alloy - Matte transition","Alloy - Matte transition","Alloy - Matte transition","Alloy - Matte transition","Alloy - Matte transition","Alloy - Matte transition","Alloy - Matte transition","Alloy - Matte transition","Alloy - Matte transition","Alloy - Matte transition","Alloy - Matte transition","Alloy - Matte transition","Alloy - Matte transition","Alloy - Matte transition","Alloy - Matte transition","Alloy - Matte transition","Alloy - Matte transition","Alloy - Matte transition","Alloy - Matte transition","Alloy - Matte transition","Alloy - Matte transition","Alloy - Matte transition","Alloy - Matte transition","Alloy - Matte transition","Alloy - Matte transition","Alloy - Matte transition","Alloy - Matte transition","Alloy - Matte transition","Alloy - Matte transition","Alloy - Matte transition","Alloy - Matte transition","Alloy - Matte transition","Alloy - Matte transition","Alloy - Matte transition","Alloy - Matte transition","Alloy - Matte transition","Alloy - Matte transition","Alloy - Matte transition","Alloy - Matte transition","Alloy - Matte transition","Alloy - Matte transition","Alloy - Matte transition","Alloy - Matte transition","Alloy - Matte transition","Alloy - Matte transition","Alloy - Matte transition","Alloy - Matte transition","Alloy - Matte transition","Alloy - Matte transition","Alloy - Matte transition","Alloy - Matte transition","Alloy - Matte transition","Alloy - Matte transition","Alloy - Matte transition","Alloy - Matte transition","Alloy - Matte transition","Alloy - Matte transition","Alloy - Matte transition","Alloy - Matte transition","Alloy - Matte transition","Alloy - Matte transition","Alloy - Matte transition","Alloy - Matte transition","Alloy - Matte transition","Alloy - Matte transition","Alloy - Matte transition","Alloy - Matte transition","Alloy - Matte transition","Alloy - Matte transition","Alloy - Matte transition","Alloy - Matte transition","Alloy - Matte transition","Alloy - Matte transition","Alloy - Matte transition","Alloy - Matte transition","Alloy - Matte transition","Alloy - Matte transition","Alloy - Matte transition","Alloy - Matte transition","Alloy - Matte transition","Alloy - Matte transition","Alloy - Matte transition","Alloy - Matte transition","Alloy - Matte transition","Alloy - Matte transition","Alloy - Matte transition","Alloy - Matte transition","Alloy - Matte transition","Alloy - Matte transition","Alloy - Matte transition","Alloy - Matte transition","Alloy - Matte transition","Alloy - Matte transition","Alloy - Matte transition","Alloy - Matte transition","Alloy - Matte transition","Alloy - Matte transition","Alloy - Matte transition","Alloy - Matte transition","Alloy - Matte transition","Alloy - Matte transition","Alloy - Matte transition","Alloy - Matte transition","Alloy - Matte transition","Alloy - Matte transition","Alloy - Matte transition","Alloy - Matte transition","Alloy - Matte transition","Alloy - Matte transition","Alloy - Matte transition","Alloy - Matte transition","Alloy - Matte transition","Alloy - Matte transition","Alloy - Matte transition","Alloy - Matte transition","Alloy - Matte transition","Alloy - Matte transition","Alloy - Matte transition","Alloy - Matte transition","Alloy - Matte transition","Alloy - Matte transition","Alloy - Matte transition","Alloy - Matte transition","Alloy - Matte transition","Alloy - Matte transition","Alloy - Matte transition","Alloy - Matte transition","Alloy - Matte transition","Alloy - Matte transition","Alloy - Matte transition","Alloy - Matte transition","Alloy - Matte transition","Alloy - Matte transition","Alloy - Matte transition","Alloy - Matte transition","Alloy - Matte transition","Alloy - Matte transition","Alloy - Matte transition","Alloy - Matte transition","Alloy - Matte transition","Alloy - Matte transition","Alloy - Matte transition","Alloy - Matte transition","Alloy - Matte transition","Alloy - Matte transition","Alloy - Matte transition","Alloy - Matte transition","Alloy - Matte transition","Alloy - Matte transition","Alloy - Matte transition","Alloy - Matte transition","Alloy - Matte transition","Alloy - Matte transition","Alloy - Matte transition","Alloy - Matte transition","Alloy - Matte transition","Alloy - Matte transition","Alloy - Matte transition","Alloy - Matte transition","Alloy - Matte transition","Alloy - Matte transition","Alloy - Matte transition","Alloy - Matte transition","Alloy - Matte transition","Alloy - Matte transition","Alloy - Matte transition","Alloy - Matte transition","Alloy - Matte transition","Alloy - Matte transition","Alloy - Matte transition","Alloy - Matte transition","Alloy - Matte transition","Alloy - Matte transition","Alloy - Matte transition","Alloy - Matte transition","Alloy - Matte transition","Alloy - Matte transition","Alloy - Matte transition","Alloy - Matte transition","Alloy - Matte transition","Alloy - Matte transition","Alloy - Matte transition","Alloy - Matte transition","Alloy - Matte transition","Alloy - Matte transition","Alloy - Matte transition","Alloy - Matte transition","Alloy - Matte transition","Alloy - Matte transition","Alloy - Matte transition","Alloy - Matte transition","Alloy - Matte transition","Alloy - Matte transition","Alloy - Matte transition","Alloy - Matte transition","Alloy - Matte transition","Alloy - Matte transition","Alloy - Matte transition","Alloy - Matte transition","Alloy - Matte transition","Alloy - Matte transition","Alloy - Matte transition","Alloy - Matte transition","Alloy - Matte transition","Alloy - Matte transition","Alloy - Matte transition","Alloy - Matte transition","Alloy - Matte transition","Alloy - Matte transition","Alloy - Matte transition","Alloy - Matte transition","Alloy - Matte transition","Alloy - Matte transition","Alloy - Matte transition","Alloy - Matte transition","Alloy - Matte transition","Alloy - Matte transition","Alloy - Matte transition","Alloy - Matte transition","Alloy - Matte transition","Alloy - Matte transition","Alloy - Matte transition","Alloy - Matte transition","Alloy - Matte transition","Alloy - Matte transition","Alloy - Matte transition","Alloy - Matte transition","Alloy - Matte transition","Alloy - Matte transition","Alloy - Matte transition","Alloy - Matte transition","Alloy - Matte transition","Alloy - Matte transition","Alloy - Matte transition","Alloy - Matte transition","Alloy - Matte transition","Alloy - Matte transition","Alloy - Matte transition","Alloy - Matte transition","Alloy - Matte transition","Alloy - Matte transition","Alloy - Matte transition","Alloy - Matte transition","Alloy - Matte transition","Alloy - Matte transition","Alloy - Matte transition","Alloy - Matte transition","Alloy - Matte transition","Alloy - Matte transition","Alloy - Matte transition","Alloy - Matte transition","Alloy - Matte transition","Alloy - Matte transition","Alloy - Matte transition","Alloy - Matte transition","Alloy - Matte transition","Alloy - Matte transition","Alloy - Matte transition","Alloy - Matte transition","Alloy - Matte transition","Alloy - Matte transition","Alloy - Matte transition","Alloy - Matte transition","Alloy - Matte transition","Alloy - Matte transition","Alloy - Matte transition","Alloy - Matte transition","Alloy - Matte transition","Alloy - Matte transition","Alloy - Matte transition","Alloy - Matte transition","Alloy - Matte transition","Alloy - Matte transition","Alloy - Matte transition","Alloy - Matte transition","Alloy - Matte transition","Alloy - Matte transition","Alloy - Matte transition","Alloy - Matte transition","Alloy - Matte transition","Alloy - Matte transition","Alloy - Matte transition","Alloy - Matte transition","Alloy - Matte transition","Alloy - Matte transition","Alloy - Matte transition","Alloy - Matte transition","Alloy - Matte transition","Alloy - Matte transition","Alloy - Matte transition","Alloy - Matte transition","Alloy - Matte transition","Alloy - Matte transition","Alloy - Matte transition","Alloy - Matte transition","Alloy - Matte transition","Alloy - Matte transition","Alloy - Matte transition","Alloy - Matte transition","Alloy - Matte transition","Alloy - Matte transition","Alloy - Matte transition","Alloy - Matte transition","Alloy - Matte transition","Alloy - Matte transition","Alloy - Matte transition","Alloy - Matte transition","Alloy - Matte transition","Alloy - Matte transition","Alloy - Matte transition","Alloy - Matte transition","Alloy - Matte transition","Alloy - Matte transition","Alloy - Matte transition","Alloy - Matte transition","Alloy - Matte transition","Alloy - Matte transition","Alloy - Matte transition","Alloy - Matte transition","Alloy - Matte transition","Alloy - Matte transition","Alloy - Matte transition","Alloy - Matte transition","Alloy - Matte transition","Alloy - Matte transition","Alloy - Matte transition","Alloy - Matte transition","Alloy - Matte transition","Alloy - Matte transition","Alloy - Matte transition","Alloy - Matte transition","Alloy - Matte transition","Alloy - Matte transition","Alloy - Matte transition","Alloy - Matte transition","Alloy - Matte transition","Alloy - Matte transition","Alloy - Matte transition","Alloy - Matte transition","Alloy - Matte transition","Alloy - Matte transition","Alloy - Matte transition","Alloy - Matte transition","Alloy - Matte transition","Alloy - Matte transition","Alloy - Matte transition","Alloy - Matte transition","Alloy - Matte transition","Alloy - Matte transition","Alloy - Matte transition","Alloy - Matte transition","Alloy - Matte transition","Alloy - Matte transition","Alloy - Matte transition","Alloy - Matte transition","Alloy - Matte transition","Alloy - Matte transition","Alloy - Matte transition","Alloy - Matte transition","Alloy - Matte transition","Alloy - Matte transition","Alloy - Matte transition","Alloy - Matte transition","Alloy - Matte transition","Alloy - Matte transition","Alloy - Matte transition","Alloy - Matte transition","Alloy - Matte transition","Alloy - Matte transition","Alloy - Matte transition","Alloy - Matte transition","Alloy - Matte transition","Alloy - Matte transition","Alloy - Matte transition","Alloy - Matte transition","Alloy - Matte transition","Alloy - Matte transition","Alloy - Matte transition","Alloy - Matte transition","Alloy - Matte transition","Alloy - Matte transition","Alloy - Matte transition","Alloy - Matte transition","Alloy - Matte transition","Alloy - Matte transition","Alloy - Matte transition","Alloy - Matte transition","Alloy - Matte transition","Alloy - Matte transition","Alloy - Matte transition","Alloy - Matte transition","Alloy - Matte transition","Alloy - Matte transition","Alloy - Matte transition","Alloy - Matte transition","Alloy - Matte transition","Alloy - Matte transition","Alloy - Matte transition","Alloy - Matte transition","Alloy - Matte transition","Alloy - Matte transition","Alloy - Matte transition","Alloy - Matte transition","Alloy - Matte transition","Alloy - Matte transition","Alloy - Matte transition","Alloy - Matte transition","Alloy - Matte transition","Alloy - Matte transition","Alloy - Matte transition","Alloy - Matte transition","Alloy - Matte transition","Alloy - Matte transition","Alloy - Matte transition","Alloy - Matte transition","Alloy - Matte transition","Alloy - Matte transition","Alloy - Matte transition","Alloy - Matte transition","Alloy - Matte transition","Alloy - Matte transition","Alloy - Matte transition","Alloy - Matte transition","Alloy - Matte transition","Alloy - Matte transition","Alloy - Matte transition","Alloy - Matte transition","Alloy - Matte transition","Alloy - Matte transition","Alloy - Matte transition","Alloy - Matte transition","Alloy - Matte transition","Alloy - Matte transition","Alloy - Matte transition","Alloy - Matte transition","Alloy - Matte transition","Alloy - Matte transition","Alloy - Matte transition","Alloy - Matte transition","Alloy - Matte transition","Alloy - Matte transition","Alloy - Matte transition","Alloy - Matte transition","Alloy - Matte transition","Alloy - Matte transition","Alloy - Matte transition","Alloy - Matte transition","Alloy - Matte transition","Alloy - Matte transition","Alloy - Matte transition","Alloy - Matte transition","Alloy - Matte transition","Alloy - Matte transition","Alloy - Matte transition","Alloy - Matte transition","Alloy - Matte transition","Alloy - Matte transition","Alloy - Matte transition","Alloy - Matte transition","Alloy - Matte transition","Alloy - Matte transition","Alloy - Matte transition","Alloy - Matte transition","Alloy - Matte transition","Alloy - Matte transition","Alloy - Matte transition","Alloy - Matte transition","Alloy - Matte transition","Alloy - Matte transition","Alloy - Matte transition","Alloy - Matte transition","Alloy - Matte transition","Alloy - Matte transition","Alloy - Matte transition","Alloy - Matte transition","Alloy - Matte transition","Alloy - Matte transition","Alloy - Matte transition","Alloy - Matte transition","Alloy - Matte transition","Alloy - Matte transition","Alloy - Matte transition","Alloy - Matte transition","Alloy - Matte transition","Alloy - Matte transition","Alloy - Matte transition","Alloy - Matte transition","Alloy - Matte transition","Alloy - Matte transition","Alloy - Matte transition","Alloy - Matte transition","Alloy - Matte transition","Alloy - Matte transition","Alloy - Matte transition","Alloy - Matte transition","Alloy - Matte transition","Alloy - Matte transition","Alloy - Matte transition","Alloy - Matte transition","Alloy - Matte transition","Alloy - Matte transition","Alloy - Matte transition","Alloy - Matte transition","Alloy - Matte transition","Alloy - Matte transition","Alloy - Matte transition","Alloy - Matte transition","Alloy - Matte transition","Alloy - Matte transition","Alloy - Matte transition","Alloy - Matte transition","Alloy - Matte transition","Alloy - Matte transition","Alloy - Matte transition","Alloy - Matte transition","Alloy - Matte transition","Alloy - Matte transition","Alloy - Matte transition","Alloy - Matte transition","Alloy - Matte transition","Alloy - Matte transition","Alloy - Matte transition","Alloy - Matte transition","Alloy - Matte transition","Alloy - Matte transition","Alloy - Matte transition","Alloy - Matte transition","Alloy - Matte transition","Alloy - Matte transition","Alloy - Matte transition","Alloy - Matte transition","Alloy - Matte transition","Alloy - Matte transition","Alloy - Matte transition","Alloy - Matte transition","Alloy - Matte transition","Alloy - Matte transition","Alloy - Matte transition","Alloy - Matte transition","Alloy - Matte transition","Alloy - Matte transition","Alloy - Matte transition","Alloy - Matte transition","Alloy - Matte transition","Alloy - Matte transition","Alloy - Matte transition","Alloy - Matte transition","Alloy - Matte transition","Alloy - Matte transition","Alloy - Matte transition","Alloy - Matte transition","Alloy - Matte transition","Alloy - Matte transition","Alloy - Matte transition","Alloy - Matte transition","Alloy - Matte transition","Alloy - Matte transition","Alloy - Matte transition","Alloy - Matte transition","Alloy - Matte transition","Alloy - Matte transition","Alloy - Matte transition","Alloy - Matte transition","Alloy - Matte transition","Alloy - Matte transition","Alloy - Matte transition","Alloy - Matte transition","Alloy - Matte transition","Alloy - Matte transition","Alloy - Matte transition","Alloy - Matte transition","Alloy - Matte transition","Alloy - Matte transition","Alloy - Matte transition","Alloy - Matte transition","Alloy - Matte transition","Alloy - Matte transition","Alloy - Matte transition","Alloy - Matte transition","Alloy - Matte transition","Alloy - Matte transition","Alloy - Matte transition","Alloy - Matte transition","Alloy - Matte transition","Alloy - Matte transition","Alloy - Matte transition","Alloy - Matte transition","Alloy - Matte transition","Alloy - Matte transition","Alloy - Matte transition","Alloy - Matte transition","Alloy - Matte transition","Alloy - Matte transition","Alloy - Matte transition","Alloy - Matte transition","Alloy - Matte transition","Alloy - Matte transition","Alloy - Matte transition","Alloy - Matte transition","Alloy - Matte transition","Alloy - Matte transition","Alloy - Matte transition","Alloy - Matte transition","Alloy - Matte transition","Alloy - Matte transition","Alloy - Matte transition","Alloy - Matte transition","Alloy - Matte transition","Alloy - Matte transition","Alloy - Matte transition","Alloy - Matte transition","Alloy - Matte transition","Alloy - Matte transition","Alloy - Matte transition","Alloy - Matte transition","Alloy - Matte transition","Alloy - Matte transition","Alloy - Matte transition","Alloy - Matte transition","Alloy - Matte transition","Alloy - Matte transition","Alloy - Matte transition","Alloy - Matte transition","Alloy - Matte transition","Alloy - Matte transition","Alloy - Matte transition","Alloy - Matte transition","Alloy - Matte transition","Alloy - Matte transition","Alloy - Matte transition","Alloy - Matte transition","Alloy - Matte transition","Alloy - Matte transition","Alloy - Matte transition","Alloy - Matte transition","Alloy - Matte transition","Alloy - Matte transition","Alloy - Matte transition","Alloy - Matte transition","Alloy - Matte transition","Alloy - Matte transition","Alloy - Matte transition","Alloy - Matte transition","Alloy - Matte transition","Alloy - Matte transition","Alloy - Matte transition","Alloy - Matte transition","Alloy - Matte transition","Alloy - Matte transition","Alloy - Matte transition","Alloy - Matte transition","Alloy - Matte transition","Alloy - Matte transition","Alloy - Matte transition","Alloy - Matte transition","Alloy - Matte transition","Alloy - Matte transition","Alloy - Matte transition","Alloy - Matte transition","Alloy - Matte transition","Alloy - Matte transition","Alloy - Matte transition","Alloy - Matte transition","Alloy - Matte transition","Alloy - Matte transition","Alloy - Matte transition","Alloy - Matte transition","Alloy - Matte transition","Alloy - Matte transition","Alloy - Matte transition","Alloy - Matte transition","Alloy - Matte transition","Alloy - Matte transition","Alloy - Matte transition","Alloy - Matte transition","Alloy - Matte transition","Alloy - Matte transition","Alloy - Matte transition","Alloy - Matte transition","Alloy - Matte transition","Alloy - Matte transition","Alloy - Matte transition","Alloy - Matte transition","Alloy - Matte transition","Alloy - Matte transition","Alloy - Matte transition","Alloy - Matte transition","Alloy - Matte transition","Alloy - Matte transition","Alloy - Matte transition","Alloy - Matte transition","Alloy - Matte transition","Alloy - Matte transition","Alloy - Matte transition","Alloy - Matte transition","Alloy - Matte transition","Alloy - Matte transition","Alloy - Matte transition","Alloy - Matte transition","Alloy - Matte transition","Alloy - Matte transition","Alloy - Matte transition","Alloy - Matte transition","Alloy - Matte transition","Alloy - Matte transition","Alloy - Matte transition","Alloy - Matte transition","Alloy - Matte transition","Alloy - Matte transition","Alloy - Matte transition","Alloy - Matte transition","Alloy - Matte transition","Alloy - Matte transition","Alloy - Matte transition","Alloy - Matte transition","Alloy - Matte transition","Alloy - Matte transition","Alloy - Matte transition","Alloy - Matte transition","Alloy - Matte transition","Alloy - Matte transition","Alloy - Matte transition","Alloy - Matte transition","Alloy - Matte transition","Alloy - Matte transition","Alloy - Matte transition","Alloy - Matte transition","Alloy - Matte transition","Alloy - Matte transition","Alloy - Matte transition","Alloy - Matte transition","Alloy - Matte transition","Alloy - Matte transition","Alloy - Matte transition","Alloy - Matte transition","Alloy - Matte transition","Alloy - Matte transition","Alloy - Matte transition","Alloy - Matte transition","Alloy - Matte transition","Alloy - Matte transition","Alloy - Matte transition","Alloy - Matte transition","Alloy - Matte transition","Alloy - Matte transition","Alloy - Matte transition","Alloy - Matte transition","Alloy - Matte transition","Alloy - Matte transition","Alloy - Matte transition","Alloy - Matte transition","Alloy - Matte transition","Alloy - Matte transition","Alloy - Matte transition","Alloy - Matte transition","Alloy - Matte transition","Alloy - Matte transition","Alloy - Matte transition","Alloy - Matte transition","Alloy - Matte transition","Alloy - Matte transition","Alloy - Matte transition","Alloy - Matte transition","Alloy - Matte transition","Alloy - Matte transition","Alloy - Matte transition","Alloy - Matte transition","Alloy - Matte transition","Alloy - Matte transition","Alloy - Matte transition","Alloy - Matte transition","Alloy - Matte transition","Alloy - Matte transition","Alloy - Matte transition","Alloy - Matte transition","Alloy - Matte transition","Alloy - Matte transition","Alloy - Matte transition","Alloy - Matte transition","Alloy - Matte transition","Alloy - Matte transition","Alloy - Matte transition","Alloy - Matte transition","Alloy - Matte transition","Alloy - Matte transition","Alloy - Matte transition","Alloy - Matte transition","Alloy - Matte transition","Alloy - Matte transition","Alloy - Matte transition","Alloy - Matte transition","Alloy - Matte transition","Alloy - Matte transition","Alloy - Matte transition","Alloy - Matte transition","Alloy - Matte transition","Alloy - Matte transition","Alloy - Matte transition","Alloy - Matte transition","Alloy - Matte transition","Alloy - Matte transition","Alloy - Matte transition","Alloy - Matte transition","Alloy - Matte transition","Alloy - Matte transition","Alloy - Matte transition","Alloy - Matte transition","Alloy - Matte transition","Alloy - Matte transition","Alloy - Matte transition","Alloy - Matte transition","Alloy - Matte transition","Alloy - Matte transition","Alloy - Matte transition","Alloy - Matte transition","Alloy - Matte transition","Alloy - Matte transition","Alloy - Matte transition","Alloy - Matte transition","Alloy - Matte transition","Alloy - Matte transition","Alloy - Matte transition","Alloy - Matte transition","Alloy - Matte transition","Alloy - Matte transition","Alloy - Matte transition","Alloy - Matte transition","Alloy - Matte transition","Alloy - Matte transition","Alloy - Matte transition","Alloy - Matte transition","Alloy - Matte transition","Alloy - Matte transition","Alloy - Matte transition","Alloy - Matte transition","Alloy - Matte transition","Alloy - Matte transition","Alloy - Matte transition","Alloy - Matte transition","Alloy - Matte transition","Alloy - Matte transition","Alloy - Matte transition","Alloy - Matte transition","Alloy - Matte transition","Alloy - Matte transition","Alloy - Matte transition","Alloy - Matte transition","Alloy - Matte transition","Alloy - Matte transition","Alloy - Matte transition","Alloy - Matte transition","Alloy - Matte transition","Alloy - Matte transition","Alloy - Matte transition","Alloy - Matte transition","Alloy - Matte transition","Alloy - Matte transition","Alloy - Matte transition","Alloy - Matte transition","Alloy - Matte transition","Alloy - Matte transition","Alloy - Matte transition","Alloy - Matte transition","Alloy - Matte transition","Alloy - Matte transition","Alloy - Matte transition","Alloy - Matte transition","Alloy - Matte transition","Alloy - Matte transition","Alloy - Matte transition","Alloy - Matte transition","Alloy - Matte transition","Alloy - Matte transition","Alloy - Matte transition","Alloy - Matte transition","Alloy - Matte transition","Alloy - Matte transition","Alloy - Matte transition","Alloy - Matte transition","Alloy - Matte transition","Alloy - Matte transition","Alloy - Matte transition","Alloy - Matte transition","Alloy - Matte transition","Alloy - Matte transition","Alloy - Matte transition","Alloy - Matte transition","Alloy - Matte transition","Alloy - Matte transition","Alloy - Matte transition","Alloy - Matte transition","Alloy - Matte transition","Alloy - Matte transition","Alloy - Matte transition","Alloy - Matte transition","Alloy - Matte transition","Alloy - Matte transition","Alloy - Matte transition","Alloy - Matte transition","Alloy - Matte transition","Alloy - Matte transition","Alloy - Matte transition","Alloy - Matte transition","Alloy - Matte transition","Alloy - Matte transition","Alloy - Matte transition","Alloy - Matte transition","Alloy - Matte transition","Alloy - Matte transition","Alloy - Matte transition","Alloy - Matte transition","Alloy - Matte transition","Alloy - Matte transition","Alloy - Matte transition","Alloy - Matte transition","Alloy - Matte transition","Alloy - Matte transition","Alloy - Matte transition","Alloy - Matte transition","Alloy - Matte transition","Alloy - Matte transition","Alloy - Matte transition","Alloy - Matte transition","Alloy - Matte transition","Alloy - Matte transition","Alloy - Matte transition","Alloy - Matte transition","Alloy - Matte transition","Alloy - Matte transition","Alloy - Matte transition","Alloy - Matte transition","Alloy - Matte transition","Alloy - Matte transition","Alloy - Matte transition","Alloy - Matte transition","Alloy - Matte transition","Alloy - Matte transition","Alloy - Matte transition","Alloy - Matte transition","Alloy - Matte transition","Alloy - Matte transition","Alloy - Matte transition","Alloy - Matte transition","Alloy - Matte transition","Alloy - Matte transition","Alloy - Matte transition","Alloy - Matte transition","Alloy - Matte transition","Alloy - Matte transition","Alloy - Matte transition","Alloy - Matte transition","Alloy - Matte transition","Alloy - Matte transition","Alloy - Matte transition","Alloy - Matte transition","Alloy - Matte transition","Alloy - Matte transition","Alloy - Matte transition","Alloy - Matte transition","Alloy - Matte transition","Alloy - Matte transition","Alloy - Matte transition","Alloy - Matte transition","Alloy - Matte transition","Alloy - Matte transition","Alloy - Matte transition","Alloy - Matte transition","Alloy - Matte transition","Alloy - Matte transition","Alloy - Matte transition","Alloy - Matte transition","Alloy - Matte transition","Alloy - Matte transition","Alloy - Matte transition","Alloy - Matte transition","Alloy - Matte transition","Alloy - Matte transition","Alloy - Matte transition","Alloy - Matte transition","Alloy - Matte transition","Alloy - Matte transition","Alloy - Matte transition","Alloy - Matte transition","Alloy - Matte transition","Alloy - Matte transition","Alloy - Matte transition","Alloy - Matte transition","Alloy - Matte transition","Alloy - Matte transition","Alloy - Matte transition","Alloy - Matte transition","Alloy - Matte transition","Alloy - Matte transition","Alloy - Matte transition","Alloy - Matte transition","Alloy - Matte transition","Alloy - Matte transition","Alloy - Matte transition","Alloy - Matte transition","Alloy - Matte transition","Alloy - Matte transition","Alloy - Matte transition","Alloy - Matte transition","Alloy - Matte transition","Alloy - Matte transition","Alloy - Matte transition","Alloy - Matte transition","Alloy - Matte transition","Alloy - Matte transition","Alloy - Matte transition","Alloy - Matte transition","Alloy - Matte transition","Alloy - Matte transition","Alloy - Matte transition","Alloy - Matte transition","Alloy - Matte transition","Alloy - Matte transition","Alloy - Matte transition","Alloy - Matte transition","Alloy - Matte transition","Alloy - Matte transition","Alloy - Matte transition","Alloy - Matte transition","Alloy - Matte transition","Alloy - Matte transition","Alloy - Matte transition","Alloy - Matte transition","Alloy - Matte transition","Alloy - Matte transition","Alloy - Matte transition","Alloy - Matte transition","Alloy - Matte transition","Alloy - Matte transition","Alloy - Matte transition","Alloy - Matte transition","Alloy - Matte transition","Alloy - Matte transition","Alloy - Matte transition","Alloy - Matte transition","Alloy - Matte transition","Alloy - Matte transition","Alloy - Matte transition","Alloy - Matte transition","Alloy - Matte transition","Alloy - Matte transition","Alloy - Matte transition","Alloy - Matte transition","Alloy - Matte transition","Alloy - Matte transition","Alloy - Matte transition","Alloy - Matte transition","Alloy - Matte transition","Alloy - Matte transition","Alloy - Matte transition","Alloy - Matte transition","Alloy - Matte transition","Alloy - Matte transition","Alloy - Matte transition","Alloy - Matte transition","Alloy - Matte transition","Alloy - Matte transition","Alloy - Matte transition","Alloy - Matte transition","Alloy - Matte transition","Alloy - Matte transition","Alloy - Matte transition","Alloy - Matte transition","Alloy - Matte transition","Alloy - Matte transition","Alloy - Matte transition","Alloy - Matte transition","Alloy - Matte transition","Alloy - Matte transition","Alloy - Matte transition","Alloy - Matte transition","Alloy - Matte transition","Alloy - Matte transition","Alloy - Matte transition","Alloy - Matte transition","Alloy - Matte transition","Alloy - Matte transition","Alloy - Matte transition","Alloy - Matte transition","Alloy - Matte transition","Alloy - Matte transition","Alloy - Matte transition","Alloy - Matte transition","Alloy - Matte transition","Alloy - Matte transition","Alloy - Matte transition","Alloy - Matte transition","Alloy - Matte transition","Alloy - Matte transition","Alloy - Matte transition","Alloy - Matte transition","Alloy - Matte transition","Alloy - Matte transition","Alloy - Matte transition","Alloy - Matte transition","Alloy - Matte transition","Alloy - Matte transition","Alloy - Matte transition","Alloy - Matte transition","Alloy - Matte transition","Alloy - Matte transition","Alloy - Matte transition","Alloy - Matte transition","Alloy - Matte transition","Alloy - Matte transition","Alloy - Matte transition","Alloy - Matte transition","Alloy - Matte transition","Alloy - Matte transition","Alloy - Matte transition","Alloy - Matte transition","Alloy - Matte transition","Alloy - Matte transition","Alloy - Matte transition","Alloy - Matte transition","Alloy - Matte transition","Alloy - Matte transition","Alloy - Matte transition","Alloy - Matte transition","Alloy - Matte transition","Alloy - Matte transition","Alloy - Matte transition","Alloy - Matte transition","Alloy - Matte transition","Alloy - Matte transition","Alloy - Matte transition","Alloy - Matte transition","Alloy - Matte transition","Alloy - Matte transition","Alloy - Matte transition","Alloy - Matte transition","Alloy - Matte transition","Alloy - Matte transition","Alloy - Matte transition","Alloy - Matte transition","Alloy - Matte transition","Alloy - Matte transition","Alloy - Matte transition","Alloy - Matte transition","Alloy - Matte transition","Alloy - Matte transition","Alloy - Matte transition","Alloy - Matte transition","Alloy - Matte transition","Alloy - Matte transition","Alloy - Matte transition","Alloy - Matte transition","Alloy - Matte transition","Alloy - Matte transition","Alloy - Matte transition","Alloy - Matte transition","Alloy - Matte transition","Alloy - Matte transition","Alloy - Matte transition","Alloy - Matte transition","Alloy - Matte transition","Alloy - Matte transition","Alloy - Matte transition","Alloy - Matte transition","Alloy - Matte transition","Alloy - Matte transition","Alloy - Matte transition","Alloy - Matte transition","Alloy - Matte transition","Alloy - Matte transition","Alloy - Matte transition","Alloy - Matte transition","Alloy - Matte transition","Alloy - Matte transition","Alloy - Matte transition","Alloy - Matte transition","Alloy - Matte transition","Alloy - Matte transition","Alloy - Matte transition","Alloy - Matte transition","Alloy - Matte transition","Alloy - Matte transition","Alloy - Matte transition","Alloy - Matte transition","Alloy - Matte transition","Alloy - Matte transition","Alloy - Matte transition","Alloy - Matte transition","Alloy - Matte transition","Alloy - Matte transition","Alloy - Matte transition","Alloy - Matte transition","Alloy - Matte transition","Alloy - Matte transition","Alloy - Matte transition","Alloy - Matte transition","Alloy - Matte transition","Alloy - Matte transition","Alloy - Matte transition","Alloy - Matte transition","Alloy - Matte transition","Alloy - Matte transition","Alloy - Matte transition","Alloy - Matte transition","Alloy - Matte transition","Alloy - Matte transition","Alloy - Matte transition","Alloy - Matte transition","Alloy - Matte transition","Alloy - Matte transition","Alloy - Matte transition","Alloy - Matte transition","Alloy - Matte transition","Alloy - Matte transition","Alloy - Matte transition","Alloy - Matte transition","Alloy - Matte transition","Alloy - Matte transition","Alloy - Matte transition","Alloy - Matte transition","Alloy - Matte transition","Alloy - Matte transition","Alloy - Matte transition","Alloy - Matte transition","Alloy - Matte transition","Alloy - Matte transition","Alloy - Matte transition","Alloy - Matte transition","Alloy - Matte transition","Alloy - Matte transition","Alloy - Matte transition","Alloy - Matte transition","Alloy - Matte transition","Alloy - Matte transition","Alloy - Matte transition","Alloy - Matte transition","Alloy - Matte transition","Alloy - Matte transition","Alloy - Matte transition","Alloy - Matte transition","Alloy - Matte transition","Alloy - Matte transition","Alloy - Matte transition","Alloy - Matte transition","Alloy - Matte transition","Alloy - Matte transition","Alloy - Matte transition","Alloy - Matte transition","Alloy - Matte transition","Alloy - Matte transition","Alloy - Matte transition","Alloy - Matte transition","Alloy - Matte transition","Alloy - Matte transition","Alloy - Matte transition","Alloy - Matte transition","Alloy - Matte transition","Alloy - Matte transition","Alloy - Matte transition","Alloy - Matte transition","Alloy - Matte transition","Alloy - Matte transition","Alloy - Matte transition","Alloy - Matte transition","Alloy - Matte transition","Alloy - Matte transition","Alloy - Matte transition","Alloy - Matte transition","Alloy - Matte transition","Alloy - Matte transition","Alloy - Matte transition","Alloy - Matte transition","Alloy - Matte transition","Alloy - Matte transition","Alloy - Matte transition","Alloy - Matte transition","Alloy - Matte transition","Alloy - Matte transition","Alloy - Matte transition","Alloy - Matte transition","Alloy - Matte transition","Alloy - Matte transition","Alloy - Matte transition","Alloy - Matte transition","Alloy - Matte transition","Alloy - Matte transition","Alloy - Matte transition","Alloy - Matte transition","Alloy - Matte transition","Alloy - Matte transition","Alloy - Matte transition","Alloy - Matte transition","Alloy - Matte transition","Alloy - Matte transition","Alloy - Matte transition","Alloy - Matte transition","Alloy - Matte transition","Alloy - Matte transition","Alloy - Matte transition","Alloy - Matte transition","Alloy - Matte transition","Alloy - Matte transition","Alloy - Matte transition","Alloy - Matte transition","Alloy - Matte transition","Alloy - Matte transition","Alloy - Matte transition","Alloy - Matte transition","Alloy - Matte transition","Alloy - Matte transition","Alloy - Matte transition","Alloy - Matte transition","Alloy - Matte transition","Alloy - Matte transition","Alloy - Matte transition","Alloy - Matte transition","Alloy - Matte transition","Alloy - Matte transition","Alloy - Matte transition","Alloy - Matte transition","Alloy - Matte transition","Alloy - Matte transition","Alloy - Matte transition","Alloy - Matte transition","Alloy - Matte transition","Alloy - Matte transition","Alloy - Matte transition","Alloy - Matte transition","Alloy - Matte transition","Alloy - Matte transition","Alloy - Matte transition","Alloy - Matte transition","Alloy - Matte transition","Alloy - Matte transition","Alloy - Matte transition","Alloy - Matte transition","Alloy - Matte transition","Alloy - Matte transition","Alloy - Matte transition","Alloy - Matte transition","Alloy - Matte transition","Alloy - Matte transition","Alloy - Matte transition","Alloy - Matte transition","Alloy - Matte transition","Alloy - Matte transition","Alloy - Matte transition","Alloy - Matte transition","Alloy - Matte transition","Alloy - Matte transition","Alloy - Matte transition","Alloy - Matte transition","Alloy - Matte transition","Alloy - Matte transition","Alloy - Matte transition","Alloy - Matte transition","Alloy - Matte transition","Alloy - Matte transition","Alloy - Matte transition","Alloy - Matte transition","Alloy - Matte transition","Alloy - Matte transition","Alloy - Matte transition","Alloy - Matte transition","Alloy - Matte transition","Alloy - Matte transition","Alloy - Matte transition","Alloy - Matte transition","Alloy - Matte transition","Alloy - Matte transition","Alloy - Matte transition","Alloy - Matte transition","Alloy - Matte transition","Alloy - Matte transition","Alloy - Matte transition","Alloy - Matte transition","Alloy - Matte transition","Alloy - Matte transition","Alloy - Matte transition","Alloy - Matte transition","Alloy - Matte transition","Alloy - Matte transition","Alloy - Matte transition","Alloy - Matte transition","Alloy - Matte transition","Alloy - Matte transition","Alloy - Matte transition","Alloy - Matte transition","Alloy - Matte transition","Alloy - Matte transition","Alloy - Matte transition","Alloy - Matte transition","Alloy - Matte transition","Alloy - Matte transition","Alloy - Matte transition","Alloy - Matte transition","Alloy - Matte transition","Alloy - Matte transition","Alloy - Matte transition","Alloy - Matte transition","Alloy - Matte transition","Alloy - Matte transition","Alloy - Matte transition","Alloy - Matte transition","Alloy - Matte transition","Alloy - Matte transition","Alloy - Matte transition","Alloy - Matte transition","Alloy - Matte transition","Alloy - Matte transition","Alloy - Matte transition","Alloy - Matte transition","Alloy - Matte transition","Alloy - Matte transition","Alloy - Matte transition","Alloy - Matte transition","Alloy - Matte transition","Alloy - Matte transition","Alloy - Matte transition","Alloy - Matte transition","Alloy - Matte transition","Alloy - Matte transition","Alloy - Matte transition","Alloy - Matte transition","Alloy - Matte transition","Alloy - Matte transition","Alloy - Matte transition","Alloy - Matte transition","Alloy - Matte transition","Alloy - Matte transition","Alloy - Matte transition","Alloy - Matte transition","Alloy - Matte transition","Alloy - Matte transition","Alloy - Matte transition","Alloy - Matte transition","Alloy - Matte transition","Alloy - Matte transition","Alloy - Matte transition","Alloy - Matte transition","Alloy - Matte transition","Alloy - Matte transition","Alloy - Matte transition","Alloy - Matte transition","Alloy - Matte transition","Alloy - Matte transition","Alloy - Matte transition","Alloy - Matte transition","Alloy - Matte transition","Alloy - Matte transition","Alloy - Matte transition","Alloy - Matte transition","Alloy - Matte transition","Alloy - Matte transition","Alloy - Matte transition","Alloy - Matte transition","Alloy - Matte transition","Alloy - Matte transition","Alloy - Matte transition","Alloy - Matte transition","Alloy - Matte transition","Alloy - Matte transition","Alloy - Matte transition","Alloy - Matte transition","Alloy - Matte transition","Alloy - Matte transition","Alloy - Matte transition","Alloy - Matte transition","Alloy - Matte transition","Alloy - Matte transition","Alloy - Matte transition","Alloy - Matte transition","Alloy - Matte transition","Alloy - Matte transition","Alloy - Matte transition","Alloy - Matte transition","Alloy - Matte transition","Alloy - Matte transition","Alloy - Matte transition","Alloy - Matte transition","Alloy - Matte transition","Alloy - Matte transition","Alloy - Matte transition","Alloy - Matte transition","Alloy - Matte transition","Alloy - Matte transition","Alloy - Matte transition","Alloy - Matte transition","Alloy - Matte transition","Alloy - Matte transition","Alloy - Matte transition","Alloy - Matte transition","Alloy - Matte transition","Alloy - Matte transition","Alloy - Matte transition","Alloy - Matte transition","Alloy - Matte transition","Alloy - Matte transition","Alloy - Matte transition","Alloy - Matte transition","Alloy - Matte transition","Alloy - Matte transition","Alloy - Matte transition","Alloy - Matte transition","Alloy - Matte transition","Alloy - Matte transition","Alloy - Matte transition","Alloy - Matte transition","Alloy - Matte transition","Alloy - Matte transition","Alloy - Matte transition","Alloy - Matte transition","Alloy - Matte transition","Alloy - Matte transition","Alloy - Matte transition","Alloy - Matte transition","Alloy - Matte transition","Alloy - Matte transition","Alloy - Matte transition","Alloy - Matte transition","Alloy - Matte transition","Alloy - Matte transition","Alloy - Matte transition","Alloy - Matte transition","Alloy - Matte transition","Alloy - Matte transition","Alloy - Matte transition","Alloy - Matte transition","Alloy - Matte transition","Alloy - Matte transition","Alloy - Matte transition","Alloy - Matte transition","Alloy - Matte transition","Alloy - Matte transition","Alloy - Matte transition","Alloy - Matte transition","Alloy - Matte transition","Alloy - Matte transition","Alloy - Matte transition","Alloy - Matte transition","Alloy - Matte transition","Alloy - Matte transition","Alloy - Matte transition","Alloy - Matte transition","Alloy - Matte transition","Alloy - Matte transition","Alloy - Matte transition","Alloy - Matte transition","Alloy - Matte transition","Alloy - Matte transition","Alloy - Matte transition","Alloy - Matte transition","Alloy - Matte transition","Alloy - Matte transition","Alloy - Matte transition","Alloy - Matte transition","Alloy - Matte transition","Alloy - Matte transition","Alloy - Matte transition","Alloy - Matte transition","Alloy - Matte transition","Alloy - Matte transition","Alloy - Matte transition","Alloy - Matte transition","Alloy - Matte transition","Alloy - Matte transition","Alloy - Matte transition","Alloy - Matte transition","Alloy - Matte transition","Alloy - Matte transition","Alloy - Matte transition","Alloy - Matte transition","Alloy - Matte transition","Alloy - Matte transition","Alloy - Matte transition","Alloy - Matte transition","Alloy - Matte transition","Alloy - Matte transition","Alloy - Matte transition","Alloy - Matte transition","Alloy - Matte transition","Alloy - Matte transition","Alloy - Matte transition","Alloy - Matte transition","Alloy - Matte transition","Alloy - Matte transition","Alloy - Matte transition","Alloy - Matte transition","Alloy - Matte transition","Alloy - Matte transition","Alloy - Matte transition","Alloy - Matte transition","Alloy - Matte transition","Alloy - Matte transition","Alloy - Matte transition","Alloy - Matte transition","Alloy - Matte transition","Alloy - Matte transition","Alloy - Matte transition","Alloy - Matte transition","Alloy - Matte transition","Alloy - Matte transition","Alloy - Matte transition","Alloy - Matte transition","Alloy - Matte transition","Alloy - Matte transition","Alloy - Matte transition","Alloy - Matte transition","Alloy - Matte transition","Alloy - Matte transition","Alloy - Matte transition","Alloy - Matte transition","Alloy - Matte transition","Alloy - Matte transition","Alloy - Matte transition","Alloy - Matte transition","Alloy - Matte transition","Alloy - Matte transition","Alloy - Matte transition","Alloy - Matte transition","Alloy - Matte transition","Alloy - Matte transition","Alloy - Matte transition","Alloy - Matte transition","Alloy - Matte transition","Alloy - Matte transition","Alloy - Matte transition","Alloy - Matte transition","Alloy - Matte transition","Alloy - Matte transition","Alloy - Matte transition","Alloy - Matte transition","Alloy - Matte transition","Alloy - Matte transition","Alloy - Matte transition","Alloy - Matte transition","Alloy - Matte transition","Alloy - Matte transition","Alloy - Matte transition","Alloy - Matte transition","Alloy - Matte transition","Alloy - Matte transition","Alloy - Matte transition","Alloy - Matte transition","Alloy - Matte transition","Alloy - Matte transition","Alloy - Matte transition","Alloy - Matte transition","Alloy - Matte transition","Alloy - Matte transition","Alloy - Matte transition","Alloy - Matte transition","Alloy - Matte transition","Alloy - Matte transition","Alloy - Matte transition","Alloy - Matte transition","Alloy - Matte transition","Alloy - Matte transition","Alloy - Matte transition","Alloy - Matte transition","Alloy - Matte transition","Alloy - Matte transition","Alloy - Matte transition","Alloy - Matte transition","Alloy - Matte transition","Alloy - Matte transition","Alloy - Matte transition","Alloy - Matte transition","Alloy - Matte transition","Alloy - Matte transition","Alloy - Matte transition","Alloy - Matte transition","Alloy - Matte transition","Alloy - Matte transition","Alloy - Matte transition","Alloy - Matte transition","Alloy - Matte transition","Alloy - Matte transition","Alloy - Matte transition","Alloy - Matte transition","Alloy - Matte transition","Alloy - Matte transition","Alloy - Matte transition","Alloy - Matte transition","Alloy - Matte transition","Alloy - Matte transition","Alloy - Matte transition","Alloy - Matte transition","Alloy - Matte transition","Alloy - Matte transition","Alloy - Matte transition","Alloy - Matte transition","Alloy - Matte transition","Alloy - Matte transition","Alloy - Matte transition","Alloy - Matte transition","Alloy - Matte transition","Alloy - Matte transition","Alloy - Matte transition","Alloy - Matte transition","Alloy - Matte transition","Alloy - Matte transition","Alloy - Matte transition","Alloy - Matte transition","Alloy - Matte transition","Alloy - Matte transition","Alloy - Matte transition","Alloy - Matte transition","Alloy - Matte transition","Alloy - Matte transition","Alloy - Matte transition","Alloy - Matte transition","Alloy - Matte transition","Alloy - Matte transition","Alloy - Matte transition","Alloy - Matte transition","Alloy - Matte transition","Alloy - Matte transition","Alloy - Matte transition","Alloy - Matte transition","Alloy - Matte transition","Alloy - Matte transition","Alloy - Matte transition","Alloy - Matte transition","Alloy - Matte transition","Alloy - Matte transition","Alloy - Matte transition","Alloy - Matte transition","Alloy - Matte transition","Alloy - Matte transition","Alloy - Matte transition","Alloy - Matte transition","Alloy - Matte transition","Alloy - Matte transition","Alloy - Matte transition","Alloy - Matte transition","Alloy - Matte transition","Alloy - Matte transition","Alloy - Matte transition","Alloy - Matte transition","Alloy - Matte transition","Alloy - Matte transition","Alloy - Matte transition","Alloy - Matte transition","Alloy - Matte transition","Alloy - Matte transition","Alloy - Matte transition","Alloy - Matte transition","Alloy - Matte transition","Alloy - Matte transition","Alloy - Matte transition","Alloy - Matte transition","Alloy - Matte transition","Alloy - Matte transition","Alloy - Matte transition","Alloy - Matte transition","Alloy - Matte transition","Alloy - Matte transition","Alloy - Matte transition","Alloy - Matte transition","Alloy - Matte transition","Alloy - Matte transition","Alloy - Matte transition","Alloy - Matte transition","Alloy - Matte transition","Alloy - Matte transition","Alloy - Matte transition","Alloy - Matte transition","Alloy - Matte transition","Alloy - Matte transition","Alloy - Matte transition","Alloy - Matte transition","Alloy - Matte transition","Alloy - Matte transition","Alloy - Matte transition","Alloy - Matte transition","Alloy - Matte transition","Alloy - Matte transition","Alloy - Matte transition","Alloy - Matte transition","Alloy - Matte transition","Alloy - Matte transition","Alloy - Matte transition","Alloy - Matte transition","Alloy - Matte transition","Alloy - Matte transition","Alloy - Matte transition","Alloy - Matte transition","Alloy - Matte transition","Alloy - Matte transition","Alloy - Matte transition","Alloy - Matte transition","Alloy - Matte transition","Alloy - Matte transition","Alloy - Matte transition","Alloy - Matte transition","Alloy - Matte transition","Alloy - Matte transition","Alloy - Matte transition","Alloy - Matte transition","Alloy - Matte transition","Alloy - Matte transition","Alloy - Matte transition","Alloy - Matte transition","Alloy - Matte transition","Alloy - Matte transition","Alloy - Matte transition","Alloy - Matte transition","Alloy - Matte transition","Alloy - Matte transition","Alloy - Matte transition","Alloy - Matte transition","Alloy - Matte transition","Alloy - Matte transition","Alloy - Matte transition","Alloy - Matte transition","Alloy - Matte transition","Alloy - Matte transition","Alloy - Matte transition","Alloy - Matte transition","Alloy - Matte transition","Alloy - Matte transition","Alloy - Matte transition","Alloy - Matte transition","Alloy - Matte transition","Alloy - Matte transition","Alloy - Matte transition","Alloy - Matte transition","Alloy - Matte transition","Alloy - Matte transition","Alloy - Matte transition","Alloy - Matte transition","Alloy - Matte transition","Alloy - Matte transition","Alloy - Matte transition","Alloy - Matte transition","Alloy - Matte transition","Alloy - Matte transition","Alloy - Matte transition","Alloy - Matte transition","Alloy - Matte transition","Alloy - Matte transition","Alloy - Matte transition","Alloy - Matte transition","Alloy - Matte transition","Alloy - Matte transition","Alloy - Matte transition","Alloy - Matte transition","Alloy - Matte transition","Alloy - Matte transition","Alloy - Matte transition","Alloy - Matte transition","Alloy - Matte transition","Alloy - Matte transition","Alloy - Matte transition","Alloy - Matte transition","Alloy - Matte transition","Alloy - Matte transition","Alloy - Matte transition","Alloy - Matte transition","Alloy - Matte transition","Alloy - Matte transition","Alloy - Matte transition","Alloy - Matte transition","Alloy - Matte transition","Alloy - Matte transition","Alloy - Matte transition","Alloy - Matte transition","Alloy - Matte transition","Alloy - Matte transition","Alloy - Matte transition","Alloy - Matte transition","Alloy - Matte transition","Alloy - Matte transition","Alloy - Matte transition","Alloy - Matte transition","Alloy - Matte transition","Alloy - Matte transition","Alloy - Matte transition","Alloy - Matte transition","Alloy - Matte transition","Alloy - Matte transition","Alloy - Matte transition","Alloy - Matte transition","Alloy - Matte transition","Alloy - Matte transition","Alloy - Matte transition","Alloy - Matte transition","Alloy - Matte transition","Alloy - Matte transition","Alloy - Matte transition","Alloy - Matte transition","Alloy - Matte transition","Alloy - Matte transition","Alloy - Matte transition","Alloy - Matte transition","Alloy - Matte transition","Alloy - Matte transition","Alloy - Matte transition","Alloy - Matte transition","Alloy - Matte transition","Alloy - Matte transition","Alloy - Matte transition","Alloy - Matte transition","Alloy - Matte transition","Alloy - Matte transition","Alloy - Matte transition","Alloy - Matte transition","Alloy - Matte transition","Alloy - Matte transition","Alloy - Matte transition","Alloy - Matte transition","Alloy - Matte transition","Alloy - Matte transition","Alloy - Matte transition","Alloy - Matte transition","Alloy - Matte transition","Alloy - Matte transition","Alloy - Matte transition","Alloy - Matte transition","Alloy - Matte transition","Alloy - Matte transition","Alloy - Matte transition","Alloy - Matte transition","Alloy - Matte transition","Alloy - Matte transition","Alloy - Matte transition","Alloy - Matte transition","Alloy - Matte transition","Alloy - Matte transition","Alloy - Matte transition","Alloy - Matte transition","Alloy - Matte transition","Alloy - Matte transition","Alloy - Matte transition","Alloy - Matte transition","Alloy - Matte transition","Alloy - Matte transition","Alloy - Matte transition","Alloy - Matte transition","Alloy - Matte transition","Alloy - Matte transition","Alloy - Matte transition","Alloy - Matte transition","Alloy - Matte transition","Alloy - Matte transition","Alloy - Matte transition","Alloy - Matte transition","Alloy - Matte transition","Alloy - Matte transition","Alloy - Matte transition","Alloy - Matte transition","Alloy - Matte transition","Alloy - Matte transition","Alloy - Matte transition","Alloy - Matte transition","Alloy - Matte transition","Alloy - Matte transition","Alloy - Matte transition","Alloy - Matte transition","Alloy - Matte transition","Alloy - Matte transition","Alloy - Matte transition","Alloy - Matte transition","Alloy - Matte transition","Alloy - Matte transition","Alloy - Matte transition","Alloy - Matte transition","Alloy - Matte transition","Alloy - Matte transition","Alloy - Matte transition","Alloy - Matte transition","Alloy - Matte transition","Alloy - Matte transition","Alloy - Matte transition","Alloy - Matte transition","Alloy - Matte transition","Alloy - Matte transition","Alloy - Matte transition","Alloy - Matte transition","Alloy - Matte transition","Alloy - Matte transition","Alloy - Matte transition","Alloy - Matte transition","Alloy - Matte transition","Alloy - Matte transition","Alloy - Matte transition","Alloy - Matte transition","Alloy - Matte transition","Alloy - Matte transition","Alloy - Matte transition","Alloy - Matte transition","Alloy - Matte transition","Alloy - Matte transition","Alloy - Matte transition","Alloy - Matte transition","Alloy - Matte transition","Alloy - Matte transition","Alloy - Matte transition","Alloy - Matte transition","Alloy - Matte transition","Alloy - Matte transition","Alloy - Matte transition","Alloy - Matte transition","Alloy - Matte transition","Alloy - Matte transition","Alloy - Matte transition","Alloy - Matte transition","Alloy - Matte transition","Alloy - Matte transition","Alloy - Matte transition","Alloy - Matte transition","Alloy - Matte transition","Alloy - Matte transition","Alloy - Matte transition","Alloy - Matte transition","Alloy - Matte transition","Alloy - Matte transition","Alloy - Matte transition","Alloy - Matte transition","Alloy - Matte transition","Alloy - Matte transition","Alloy - Matte transition","Alloy - Matte transition","Alloy - Matte transition","Alloy - Matte transition","Alloy - Matte transition","Alloy - Matte transition","Alloy - Matte transition","Alloy - Matte transition","Alloy - Matte transition","Alloy - Matte transition","Alloy - Matte transition","Alloy - Matte transition","Alloy - Matte transition","Alloy - Matte transition","Alloy - Matte transition","Alloy - Matte transition","Alloy - Matte transition","Alloy - Matte transition","Alloy - Matte transition","Alloy - Matte transition","Alloy - Matte transition","Alloy - Matte transition","Alloy - Matte transition","Alloy - Matte transition","Alloy - Matte transition","Alloy - Matte transition","Alloy - Matte transition","Alloy - Matte transition","Alloy - Matte transition","Alloy - Matte transition","Alloy - Matte transition","Alloy - Matte transition","Alloy - Matte transition","Alloy - Matte transition","Alloy - Matte transition","Alloy - Matte transition","Alloy - Matte transition","Alloy - Matte transition","Alloy - Matte transition","Alloy - Matte transition","Alloy - Matte transition","Alloy - Matte transition","Alloy - Matte transition","Alloy - Matte transition","Alloy - Matte transition","Alloy - Matte transition","Alloy - Matte transition","Alloy - Matte transition","Alloy - Matte transition","Alloy - Matte transition","Alloy - Matte transition","Alloy - Matte transition","Alloy - Matte transition","Alloy - Matte transition","Alloy - Matte transition","Alloy - Matte transition","Alloy - Matte transition","Alloy - Matte transition","Alloy - Matte transition","Alloy - Matte transition","Alloy - Matte transition","Alloy - Matte transition","Alloy - Matte transition","Alloy - Matte transition","Alloy - Matte transition","Alloy - Matte transition","Alloy - Matte transition","Alloy - Matte transition","Alloy - Matte transition","Alloy - Matte transition","Alloy - Matte transition","Alloy - Matte transition","Alloy - Matte transition","Alloy - Matte transition","Alloy - Matte transition","Alloy - Matte transition","Alloy - Matte transition","Alloy - Matte transition","Alloy - Matte transition","Alloy - Matte transition","Alloy - Matte transition","Alloy - Matte transition","Alloy - Matte transition","Alloy - Matte transition","Alloy - Matte transition","Alloy - Matte transition","Alloy - Matte transition","Alloy - Matte transition","Alloy - Matte transition","Alloy - Matte transition","Alloy - Matte transition","Alloy - Matte transition","Alloy - Matte transition","Alloy - Matte transition","Alloy - Matte transition","Alloy - Matte transition","Alloy - Matte transition","Alloy - Matte transition","Alloy - Matte transition","Alloy - Matte transition","Alloy - Matte transition","Alloy - Matte transition","Alloy - Matte transition","Alloy - Matte transition","Alloy - Matte transition","Alloy - Matte transition","Alloy - Matte transition","Alloy - Matte transition","Alloy - Matte transition","Alloy - Matte transition","Alloy - Matte transition","Alloy - Matte transition","Alloy - Matte transition","Alloy - Matte transition","Alloy - Matte transition","Alloy - Matte transition","Alloy - Matte transition","Alloy - Matte transition","Alloy - Matte transition","Alloy - Matte transition","Alloy - Matte transition","Alloy - Matte transition","Alloy - Matte transition","Alloy - Matte transition","Alloy - Matte transition","Alloy - Matte transition","Alloy - Matte transition","Alloy - Matte transition","Alloy - Matte transition","Alloy - Matte transition","Alloy - Matte transition","Alloy - Matte transition","Alloy - Matte transition","Alloy - Matte transition","Alloy - Matte transition","Alloy - Matte transition","Alloy - Matte transition","Alloy - Matte transition","Alloy - Matte transition","Alloy - Matte transition","Alloy - Matte transition","Alloy - Matte transition","Alloy - Matte transition","Alloy - Matte transition","Alloy - Matte transition","Alloy - Matte transition","Alloy - Matte transition","Alloy - Matte transition","Alloy - Matte transition","Alloy - Matte transition","Alloy - Matte transition","Alloy - Matte transition","Alloy - Matte transition","Alloy - Matte transition","Alloy - Matte transition","Alloy - Matte transition","Alloy - Matte transition","Alloy - Matte transition","Alloy - Matte transition","Alloy - Matte transition","Alloy - Matte transition","Alloy - Matte transition","Alloy - Matte transition","Alloy - Matte transition","Alloy - Matte transition","Alloy - Matte transition","Alloy - Matte transition","Alloy - Matte transition","Alloy - Matte transition","Alloy - Matte transition","Alloy - Matte transition","Alloy - Matte transition","Alloy - Matte transition","Alloy - Matte transition","Alloy - Matte transition","Alloy - Matte transition","Alloy - Matte transition","Alloy - Matte transition","Alloy - Matte transition","Alloy - Matte transition","Alloy - Matte transition","Alloy - Matte transition","Alloy - Matte transition","Alloy - Matte transition","Alloy - Matte transition","Alloy - Matte transition","Alloy - Matte transition","Alloy - Matte transition","Alloy - Matte transition","Alloy - Matte transition","Alloy - Matte transition","Alloy - Matte transition","Alloy - Matte transition","Alloy - Matte transition","Alloy - Matte transition","Alloy - Matte transition","Alloy - Matte transition","Alloy - Matte transition","Alloy - Matte transition","Alloy - Matte transition","Alloy - Matte transition","Alloy - Matte transition","Alloy - Matte transition","Alloy - Matte transition","Alloy - Matte transition","Alloy - Matte transition","Alloy - Matte transition","Alloy - Matte transition","Alloy - Matte transition","Alloy - Matte transition","Alloy - Matte transition","Alloy - Matte transition","Alloy - Matte transition","Alloy - Matte transition","Alloy - Matte transition","Alloy - Matte transition","Alloy - Matte transition","Alloy - Matte transition","Alloy - Matte transition","Alloy - Matte transition","Alloy - Matte transition","Alloy - Matte transition","Alloy - Matte transition","Alloy - Matte transition","Alloy - Matte transition","Alloy - Matte transition","Alloy - Matte transition","Alloy - Matte transition","Alloy - Matte transition","Alloy - Matte transition","Alloy - Matte transition","Alloy - Matte transition","Alloy - Matte transition","Alloy - Matte transition","Alloy - Matte transition","Alloy - Matte transition","Alloy - Matte transition","Alloy - Matte transition","Alloy - Matte transition","Alloy - Matte transition","Alloy - Matte transition","Alloy - Matte transition","Alloy - Matte transition","Alloy - Matte transition","Alloy - Matte transition","Alloy - Matte transition","Alloy - Matte transition","Alloy - Matte transition","Alloy - Matte transition","Alloy - Matte transition","Alloy - Matte transition","Alloy - Matte transition","Alloy - Matte transition","Alloy - Matte transition","Alloy - Matte transition","Alloy - Matte transition","Alloy - Matte transition","Alloy - Matte transition","Alloy - Matte transition","Alloy - Matte transition","Alloy - Matte transition","Alloy - Matte transition","Alloy - Matte transition","Alloy - Matte transition","Alloy - Matte transition","Alloy - Matte transition","Alloy - Matte transition","Alloy - Matte transition","Alloy - Matte transition","Alloy - Matte transition","Alloy - Matte transition","Alloy - Matte transition","Alloy - Matte transition","Alloy - Matte transition","Alloy - Matte transition","Alloy - Matte transition","Alloy - Matte transition","Alloy - Matte transition","Alloy - Matte transition","Alloy - Matte transition","Alloy - Matte transition","Alloy - Matte transition","Alloy - Matte transition","Alloy - Matte transition","Alloy - Matte transition","Alloy - Matte transition","Alloy - Matte transition","Alloy - Matte transition","Alloy - Matte transition","Alloy - Matte transition","Alloy - Matte transition","Alloy - Matte transition","Alloy - Matte transition","Alloy - Matte transition","Alloy - Matte transition","Alloy - Matte transition","Alloy - Matte transition","Alloy - Matte transition","Alloy - Matte transition","Alloy - Matte transition","Alloy - Matte transition","Alloy - Matte transition","Alloy - Matte transition","Alloy - Matte transition","Alloy - Matte transition","Alloy - Matte transition","Alloy - Matte transition","Alloy - Matte transition","Alloy - Matte transition","Alloy - Matte transition","Alloy - Matte transition","Alloy - Matte transition","Alloy - Matte transition","Alloy - Matte transition","Alloy - Matte transition","Alloy - Matte transition","Alloy - Matte transition","Alloy - Matte transition","Alloy - Matte transition","Alloy - Matte transition","Alloy - Matte transition","Alloy - Matte transition","Alloy - Matte transition","Alloy - Matte transition","Alloy - Matte transition","Alloy - Matte transition","Alloy - Matte transition","Alloy - Matte transition","Alloy - Matte transition","Alloy - Matte transition","Alloy - Matte transition","Alloy - Matte transition","Alloy - Matte transition","Alloy - Matte transition","Alloy - Matte transition","Alloy - Matte transition","Alloy - Matte transition","Alloy - Matte transition","Alloy - Matte transition","Alloy - Matte transition","Alloy - Matte transition","Alloy - Matte transition","Alloy - Matte transition","Alloy - Matte transition","Alloy - Matte transition","Alloy - Matte transition","Alloy - Matte transition","Alloy - Matte transition","Alloy - Matte transition","Alloy - Matte transition","Alloy - Matte transition","Alloy - Matte transition","Alloy - Matte transition","Alloy - Matte transition","Alloy - Matte transition","Alloy - Matte transition","Alloy - Matte transition","Alloy - Matte transition","Alloy - Matte transition","Alloy - Matte transition","Alloy - Matte transition","Alloy - Matte transition","Alloy - Matte transition","Alloy - Matte transition","Alloy - Matte transition","Alloy - Matte transition","Alloy - Matte transition","Alloy - Matte transition","Alloy - Matte transition","Alloy - Matte transition","Alloy - Matte transition","Alloy - Matte transition","Alloy - Matte transition","Alloy - Matte transition","Alloy - Matte transition","Alloy - Matte transition","Alloy - Matte transition","Alloy - Matte transition","Alloy - Matte transition","Alloy - Matte transition","Alloy - Matte transition","Alloy - Matte transition","Alloy - Matte transition","Alloy - Matte transition","Alloy - Matte transition","Alloy - Matte transition","Alloy - Matte transition","Alloy - Matte transition","Alloy - Matte transition","Alloy - Matte transition","Alloy - Matte transition","Alloy - Matte transition","Alloy - Matte transition","Alloy - Matte transition","Alloy - Matte transition","Alloy - Matte transition","Alloy - Matte transition","Alloy - Matte transition","Alloy - Matte transition","Alloy - Matte transition","Alloy - Matte transition","Alloy - Matte transition","Alloy - Matte transition","Alloy - Matte transition","Alloy - Matte transition","Alloy - Matte transition","Alloy - Matte transition","Alloy - Matte transition","Alloy - Matte transition","Alloy - Matte transition","Alloy - Matte transition","Alloy - Matte transition","Alloy - Matte transition","Alloy - Matte transition","Alloy - Matte transition","Alloy - Matte transition","Alloy - Matte transition","Alloy - Matte transition","Alloy - Matte transition","Alloy - Matte transition","Alloy - Matte transition","Alloy - Matte transition","Alloy - Matte transition","Alloy - Matte transition","Alloy - Matte transition","Alloy - Matte transition","Alloy - Matte transition","Alloy - Matte transition","Alloy - Matte transition","Alloy - Matte transition","Alloy - Matte transition","Alloy - Matte transition","Alloy - Matte transition","Alloy - Matte transition","Alloy - Matte transition","Alloy - Matte transition","Alloy - Matte transition","Alloy - Matte transition","Alloy - Matte transition","Alloy - Matte transition","Alloy - Matte transition","Alloy - Matte transition","Alloy - Matte transition","Alloy - Matte transition","Alloy - Matte transition","Alloy - Matte transition","Alloy - Matte transition","Alloy - Matte transition","Alloy - Matte transition","Alloy - Matte transition","Alloy - Matte transition","Alloy - Matte transition","Alloy - Matte transition","Alloy - Matte transition","Alloy - Matte transition","Alloy - Matte transition","Alloy - Matte transition","Alloy - Matte transition","Alloy - Matte transition","Alloy - Matte transition","Alloy - Matte transition","Alloy - Matte transition","Alloy - Matte transition","Alloy - Matte transition","Alloy - Matte transition","Alloy - Matte transition","Alloy - Matte transition","Alloy - Matte transition","Alloy - Matte transition","Alloy - Matte transition","Alloy - Matte transition","Alloy - Matte transition","Alloy - Matte transition","Alloy - Matte transition","Alloy - Matte transition","Alloy - Matte transition","Alloy - Matte transition","Alloy - Matte transition","Alloy - Matte transition","Alloy - Matte transition","Alloy - Matte transition","Alloy - Matte transition","Alloy - Matte transition","Alloy - Matte transition","Alloy - Matte transition","Alloy - Matte transition","Alloy - Matte transition","Alloy - Matte transition","Alloy - Matte transition","Alloy - Matte transition","Alloy - Matte transition","Alloy - Matte transition","Alloy - Matte transition","Alloy - Matte transition","Alloy - Matte transition","Alloy - Matte transition","Alloy - Matte transition","Alloy - Matte transition","Alloy - Matte transition","Alloy - Matte transition","Alloy - Matte transition","Alloy - Matte transition","Alloy - Matte transition","Alloy - Matte transition","Alloy - Matte transition","Alloy - Matte transition","Alloy - Matte transition","Alloy - Matte transition","Alloy - Matte transition","Alloy - Matte transition","Alloy - Matte transition","Alloy - Matte transition","Alloy - Matte transition","Alloy - Matte transition","Alloy - Matte transition","Alloy - Matte transition","Alloy - Matte transition","Alloy - Matte transition","Alloy - Matte transition","Alloy - Matte transition","Alloy - Matte transition","Alloy - Matte transition","Alloy - Matte transition","Alloy - Matte transition","Alloy - Matte transition","Alloy - Matte transition","Alloy - Matte transition","Alloy - Matte transition","Alloy - Matte transition","Alloy - Matte transition","Alloy - Matte transition","Alloy - Matte transition","Alloy - Matte transition","Alloy - Matte transition","Alloy - Matte transition","Alloy - Matte transition","Alloy - Matte transition","Alloy - Matte transition","Alloy - Matte transition","Alloy - Matte transition","Alloy - Matte transition","Alloy - Matte transition","Alloy - Matte transition","Alloy - Matte transition","Alloy - Matte transition","Alloy - Matte transition","Alloy - Matte transition","Alloy - Matte transition","Alloy - Matte transition","Alloy - Matte transition","Alloy - Matte transition","Alloy - Matte transition","Alloy - Matte transition","Alloy - Matte transition","Alloy - Matte transition","Alloy - Matte transition","Alloy - Matte transition","Alloy - Matte transition","Alloy - Matte transition","Alloy - Matte transition","Alloy - Matte transition","Alloy - Matte transition","Alloy - Matte transition","Alloy - Matte transition","Alloy - Matte transition","Alloy - Matte transition","Alloy - Matte transition","Alloy - Matte transition","Alloy - Matte transition","Alloy - Matte transition","Alloy - Matte transition","Alloy - Matte transition","Alloy - Matte transition","Alloy - Matte transition","Alloy - Matte transition","Alloy - Matte transition","Alloy - Matte transition","Alloy - Matte transition","Alloy - Matte transition","Alloy - Matte transition","Alloy - Matte transition","Alloy - Matte transition","Alloy - Matte transition","Alloy - Matte transition","Alloy - Matte transition","Alloy - Matte transition","Alloy - Matte transition","Alloy - Matte transition","Alloy - Matte transition","Alloy - Matte transition","Alloy - Matte transition","Alloy - Matte transition","Alloy - Matte transition","Alloy - Matte transition","Alloy - Matte transition","Alloy - Matte transition","Alloy - Matte transition","Alloy - Matte transition","Alloy - Matte transition","Alloy - Matte transition","Alloy - Matte transition","Alloy - Matte transition","Alloy - Matte transition","Alloy - Matte transition","Alloy - Matte transition","Alloy - Matte transition","Alloy - Matte transition","Alloy - Matte transition","Alloy - Matte transition","Alloy - Matte transition","Alloy - Matte transition","Alloy - Matte transition","Alloy - Matte transition","Alloy - Matte transition","Alloy - Matte transition","Alloy - Matte transition","Alloy - Matte transition","Alloy - Matte transition","Alloy - Matte transition","Alloy - Matte transition","Alloy - Matte transition","Alloy - Matte transition","Alloy - Matte transition","Alloy - Matte transition","Alloy - Matte transition","Alloy - Matte transition","Alloy - Matte transition","Alloy - Matte transition","Alloy - Matte transition","Alloy - Matte transition","Alloy - Matte transition","Alloy - Matte transition","Alloy - Matte transition","Alloy - Matte transition","Alloy - Matte transition","Alloy - Matte transition","Alloy - Matte transition","Alloy - Matte transition","Alloy - Matte transition","Alloy - Matte transition","Alloy - Matte transition","Alloy - Matte transition","Alloy - Matte transition","Alloy - Matte transition","Alloy - Matte transition","Alloy - Matte transition","Alloy - Matte transition","Alloy - Matte transition","Alloy - Matte transition","Alloy - Matte transition","Alloy - Matte transition","Alloy - Matte transition","Alloy - Matte transition","Alloy - Matte transition","Alloy - Matte transition","Alloy - Matte transition","Alloy - Matte transition","Alloy - Matte transition","Alloy - Matte transition","Alloy - Matte transition","Alloy - Matte transition","Alloy - Matte transition","Alloy - Matte transition","Alloy - Matte transition","Alloy - Matte transition","Alloy - Matte transition","Alloy - Matte transition","Alloy - Matte transition","Alloy - Matte transition","Alloy - Matte transition","Alloy - Matte transition","Alloy - Matte transition","Alloy - Matte transition","Alloy - Matte transition","Alloy - Matte transition","Alloy - Matte transition","Alloy - Matte transition","Alloy - Matte transition","Alloy - Matte transition","Alloy - Matte transition","Alloy - Matte transition","Alloy - Matte transition","Alloy - Matte transition","Alloy - Matte transition","Alloy - Matte transition","Alloy - Matte transition","Alloy - Matte transition","Alloy - Matte transition","Alloy - Matte transition","Alloy - Matte transition","Alloy - Matte transition","Alloy - Matte transition","Alloy - Matte transition","Alloy - Matte transition","Alloy - Matte transition","Alloy - Matte transition","Alloy - Matte transition","Alloy - Matte transition","Alloy - Matte transition","Alloy - Matte transition","Alloy - Matte transition","Alloy - Matte transition","Alloy - Matte transition","Alloy - Matte transition","Alloy - Matte transition","Alloy - Matte transition","Alloy - Matte transition","Alloy - Matte transition","Alloy - Matte transition","Alloy - Matte transition","Alloy - Matte transition","Alloy - Matte transition","Alloy - Matte transition","Alloy - Matte transition","Alloy - Matte transition","Alloy - Matte transition","Alloy - Matte transition","Alloy - Matte transition","Alloy - Matte transition","Alloy - Matte transition","Alloy - Matte transition","Alloy - Matte transition","Alloy - Matte transition","Alloy - Matte transition","Alloy - Matte transition","Alloy - Matte transition","Alloy - Matte transition","Alloy - Matte transition","Alloy - Matte transition","Alloy - Matte transition","Alloy - Matte transition","Alloy - Matte transition","Alloy - Matte transition","Alloy - Matte transition","Alloy - Matte transition","Alloy - Matte transition","Alloy - Matte transition","Alloy - Matte transition","Alloy - Matte transition","Alloy - Matte transition","Alloy - Matte transition","Alloy - Matte transition","Alloy - Matte transition","Alloy - Matte transition","Alloy - Matte transition","Alloy - Matte transition","Alloy - Matte transition","Alloy - Matte transition","Alloy - Matte transition","Alloy - Matte transition","Alloy - Matte transition","Alloy - Matte transition","Alloy - Matte transition","Alloy - Matte transition","Alloy - Matte transition","Alloy - Matte transition","Alloy - Matte transition","Alloy - Matte transition","Alloy - Matte transition","Alloy - Matte transition","Alloy - Matte transition","Alloy - Matte transition","Alloy - Matte transition","Alloy - Matte transition","Alloy - Matte transition","Alloy - Matte transition","Alloy - Matte transition","Alloy - Matte transition","Alloy - Matte transition","Alloy - Matte transition","Alloy - Matte transition","Alloy - Matte transition","Alloy - Matte transition","Alloy - Matte transition","Alloy - Matte transition","Alloy - Matte transition","Alloy - Matte transition","Alloy - Matte transition","Alloy - Matte transition","Alloy - Matte transition","Alloy - Matte transition","Alloy - Matte transition","Alloy - Matte transition","Alloy - Matte transition","Alloy - Matte transition","Alloy - Matte transition","Alloy - Matte transition","Alloy - Matte transition","Alloy - Matte transition","Alloy - Matte transition","Alloy - Matte transition","Alloy - Matte transition","Alloy - Matte transition","Alloy - Matte transition","Alloy - Matte transition","Alloy - Matte transition","Alloy - Matte transition","Alloy - Matte transition","Alloy - Matte transition","Alloy - Matte transition","Alloy - Matte transition","Alloy - Matte transition","Alloy - Matte transition","Alloy - Matte transition","Alloy - Matte transition","Alloy - Matte transition","Alloy - Matte transition","Alloy - Matte transition","Alloy - Matte transition","Alloy - Matte transition","Alloy - Matte transition","Alloy - Matte transition","Alloy - Matte transition","Alloy - Matte transition","Alloy - Matte transition","Alloy - Matte transition","Alloy - Matte transition","Alloy - Matte transition","Alloy - Matte transition","Alloy - Matte transition","Alloy - Matte transition","Alloy - Matte transition","Alloy - Matte transition","Alloy - Matte transition","Alloy - Matte transition","Alloy - Matte transition","Alloy - Matte transition","Alloy - Matte transition","Alloy - Matte transition","Alloy - Matte transition","Alloy - Matte transition","Alloy - Matte transition","Alloy - Matte transition","Alloy - Matte transition","Alloy - Matte transition","Alloy - Matte transition","Alloy - Matte transition","Alloy - Matte transition","Alloy - Matte transition","Alloy - Matte transition","Alloy - Matte transition","Alloy - Matte transition","Alloy - Matte transition","Alloy - Matte transition","Alloy - Matte transition","Alloy - Matte transition","Alloy - Matte transition","Alloy - Matte transition","Alloy - Matte transition","Alloy - Matte transition","Alloy - Matte transition","Alloy - Matte transition","Alloy - Matte transition","Alloy - Matte transition","Alloy - Matte transition","Alloy - Matte transition","Alloy - Matte transition","Alloy - Matte transition","Alloy - Matte transition","Alloy - Matte transition","Alloy - Matte transition","Alloy - Matte transition","Alloy - Matte transition","Alloy - Matte transition","Alloy - Matte transition","Alloy - Matte transition","Alloy - Matte transition","Alloy - Matte transition","Alloy - Matte transition","Alloy - Matte transition","Alloy - Matte transition","Alloy - Matte transition","Alloy - Matte transition","Alloy - Matte transition","Alloy - Matte transition","Alloy - Matte transition","Alloy - Matte transition","Alloy - Matte transition","Alloy - Matte transition","Alloy - Matte transition","Alloy - Matte transition","Alloy - Matte transition","Alloy - Matte transition","Alloy - Matte transition","Alloy - Matte transition","Alloy - Matte transition","Alloy - Matte transition","Alloy - Matte transition","Alloy - Matte transition","Alloy - Matte transition","Alloy - Matte transition","Alloy - Matte transition","Alloy - Matte transition","Alloy - Matte transition","Alloy - Matte transition","Alloy - Matte transition","Alloy - Matte transition","Alloy - Matte transition","Alloy - Matte transition","Alloy - Matte transition","Alloy - Matte transition","Alloy - Matte transition","Alloy - Matte transition","Alloy - Matte transition","Alloy - Matte transition","Alloy - Matte transition","Alloy - Matte transition","Alloy - Matte transition","Alloy - Matte transition","Alloy - Matte transition","Alloy - Matte transition","Alloy - Matte transition","Alloy - Matte transition","Alloy - Matte transition","Alloy - Matte transition","Alloy - Matte transition","Alloy - Matte transition","Alloy - Matte transition","Alloy - Matte transition","Alloy - Matte transition","Alloy - Matte transition","Alloy - Matte transition","Alloy - Matte transition","Alloy - Matte transition","Alloy - Matte transition","Alloy - Matte transition","Alloy - Matte transition","Alloy - Matte transition","Alloy - Matte transition","Alloy - Matte transition","Alloy - Matte transition","Alloy - Matte transition","Alloy - Matte transition","Alloy - Matte transition","Alloy - Matte transition","Alloy - Matte transition","Alloy - Matte transition","Alloy - Matte transition","Alloy - Matte transition","Alloy - Matte transition","Alloy - Matte transition","Alloy - Matte transition","Alloy - Matte transition","Alloy - Matte transition","Alloy - Matte transition","Alloy - Matte transition","Alloy - Matte transition","Alloy - Matte transition","Alloy - Matte transition","Alloy - Matte transition","Alloy - Matte transition","Alloy - Matte transition","Alloy - Matte transition","Alloy - Matte transition","Alloy - Matte transition","Alloy - Matte transition","Alloy - Matte transition","Alloy - Matte transition","Alloy - Matte transition","Alloy - Matte transition","Alloy - Matte transition","Alloy - Matte transition","Alloy - Matte transition","Alloy - Matte transition","Alloy - Matte transition","Alloy - Matte transition","Alloy - Matte transition","Alloy - Matte transition","Alloy - Matte transition","Alloy - Matte transition","Alloy - Matte transition","Alloy - Matte transition","Alloy - Matte transition","Alloy - Matte transition","Alloy - Matte transition","Alloy - Matte transition","Alloy - Matte transition","Alloy - Matte transition","Alloy - Matte transition","Alloy - Matte transition","Alloy - Matte transition","Alloy - Matte transition","Alloy - Matte transition","Alloy - Matte transition","Alloy - Matte transition","Alloy - Matte transition","Alloy - Matte transition","Alloy - Matte transition","Alloy - Matte transition","Alloy - Matte transition","Alloy - Matte transition","Alloy - Matte transition","Alloy - Matte transition","Alloy - Matte transition","Alloy - Matte transition","Alloy - Matte transition","Alloy - Matte transition","Alloy - Matte transition","Alloy - Matte transition","Alloy - Matte transition","Alloy - Matte transition","Alloy - Matte transition","Alloy - Matte transition","Alloy - Matte transition","Alloy - Matte transition","Alloy - Matte transition","Alloy - Matte transition","Alloy - Matte transition","Alloy - Matte transition","Alloy - Matte transition","Alloy - Matte transition","Alloy - Matte transition","Alloy - Matte transition","Alloy - Matte transition","Alloy - Matte transition","Alloy - Matte transition","Alloy - Matte transition","Alloy - Matte transition","Alloy - Matte transition","Alloy - Matte transition","Alloy - Matte transition","Alloy - Matte transition","Alloy - Matte transition","Alloy - Matte transition","Alloy - Matte transition","Alloy - Matte transition","Alloy - Matte transition","Alloy - Matte transition","Alloy - Matte transition","Alloy - Matte transition","Alloy - Matte transition","Alloy - Matte transition","Alloy - Matte transition","Alloy - Matte transition","Alloy - Matte transition","Alloy - Matte transition","Alloy - Matte transition","Alloy - Matte transition","Alloy - Matte transition","Alloy - Matte transition","Alloy - Matte transition","Alloy - Matte transition","Alloy - Matte transition","Alloy - Matte transition","Alloy - Matte transition","Alloy - Matte transition","Alloy - Matte transition","Alloy - Matte transition","Alloy - Matte transition","Alloy - Matte transition","Alloy - Matte transition","Alloy - Matte transition","Alloy - Matte transition","Alloy - Matte transition","Alloy - Matte transition","Alloy - Matte transition","Alloy - Matte transition","Alloy - Matte transition","Alloy - Matte transition","Alloy - Matte transition","Alloy - Matte transition","Alloy - Matte transition","Alloy - Matte transition","Alloy - Matte transition","Alloy - Matte transition","Alloy - Matte transition","Alloy - Matte transition","Alloy - Matte transition","Alloy - Matte transition","Alloy - Matte transition","Alloy - Matte transition","Alloy - Matte transition","Alloy - Matte transition","Alloy - Matte transition","Alloy - Matte transition","Alloy - Matte transition","Alloy - Matte transition","Alloy - Matte transition","Alloy - Matte transition","Alloy - Matte transition","Alloy - Matte transition","Alloy - Matte transition","Alloy - Matte transition","Alloy - Matte transition","Alloy - Matte transition","Alloy - Matte transition","Alloy - Matte transition","Alloy - Matte transition","Alloy - Matte transition","Alloy - Matte transition","Alloy - Matte transition","Alloy - Matte transition","Alloy - Matte transition","Alloy - Matte transition","Alloy - Matte transition","Alloy - Matte transition","Alloy - Matte transition","Alloy - Matte transition","Alloy - Matte transition","Alloy - Matte transition","Alloy - Matte transition","Alloy - Matte transition","Alloy - Matte transition","Alloy - Matte transition","Alloy - Matte transition","Alloy - Matte transition","Alloy - Matte transition","Alloy - Matte transition","Alloy - Matte transition","Alloy - Matte transition","Alloy - Matte transition","Alloy - Matte transition","Alloy - Matte transition","Alloy - Matte transition","Alloy - Matte transition","Alloy - Matte transition","Alloy - Matte transition","Alloy - Matte transition","Alloy - Matte transition","Alloy - Matte transition","Alloy - Matte transition","Alloy - Matte transition","Alloy - Matte transition","Alloy - Matte transition","Alloy - Matte transition","Alloy - Matte transition","Alloy - Matte transition","Alloy - Matte transition","Alloy - Matte transition","Alloy - Matte transition","Alloy - Matte transition","Alloy - Matte transition","Alloy - Matte transition","Alloy - Matte transition","Alloy - Matte transition","Alloy - Matte transition","Alloy - Matte transition","Alloy - Matte transition","Alloy - Matte transition","Alloy - Matte transition","Alloy - Matte transition","Alloy - Matte transition","Alloy - Matte transition","Alloy - Matte transition","Alloy - Matte transition","Alloy - Matte transition","Alloy - Matte transition","Alloy - Matte transition","Alloy - Matte transition","Alloy - Matte transition","Alloy - Matte transition","Alloy - Matte transition","Alloy - Matte transition","Alloy - Matte transition","Alloy - Matte transition","Alloy - Matte transition","Alloy - Matte transition","Alloy - Matte transition","Alloy - Matte transition","Alloy - Matte transition","Alloy - Matte transition","Alloy - Matte transition","Alloy - Matte transition","Alloy - Matte transition","Alloy - Matte transition","Alloy - Matte transition","Alloy - Matte transition","Alloy - Matte transition","Alloy - Matte transition","Alloy - Matte transition","Alloy - Matte transition","Alloy - Matte transition","Alloy - Matte transition","Alloy - Matte transition","Alloy - Matte transition","Alloy - Matte transition","Alloy - Matte transition","Alloy - Matte transition","Alloy - Matte transition","Alloy - Matte transition","Alloy - Matte transition","Alloy - Matte transition","Alloy - Matte transition","Alloy - Matte transition","Alloy - Matte transition","Alloy - Matte transition","Alloy - Matte transition","Alloy - Matte transition","Alloy - Matte transition","Alloy - Matte transition","Alloy - Matte transition","Alloy - Matte transition","Alloy - Matte transition","Alloy - Matte transition","Alloy - Matte transition","Alloy - Matte transition","Alloy - Matte transition","Alloy - Matte transition","Alloy - Matte transition","Alloy - Matte transition","Alloy - Matte transition","Alloy - Matte transition","Alloy - Matte transition","Alloy - Matte transition","Alloy - Matte transition","Alloy - Matte transition","Alloy - Matte transition","Alloy - Matte transition","Alloy - Matte transition","Alloy - Matte transition","Alloy - Matte transition","Alloy - Matte transition","Alloy - Matte transition","Alloy - Matte transition","Alloy - Matte transition","Alloy - Matte transition","Alloy - Matte transition","Alloy - Matte transition","Alloy - Matte transition","Alloy - Matte transition","Alloy - Matte transition","Alloy - Matte transition","Alloy - Matte transition","Alloy - Matte transition","Alloy - Matte transition","Alloy - Matte transition","Alloy - Matte transition","Alloy - Matte transition","Alloy - Matte transition","Alloy - Matte transition","Alloy - Matte transition","Alloy - Matte transition","Alloy - Matte transition","Alloy - Matte transition","Alloy - Matte transition","Alloy - Matte transition","Alloy - Matte transition","Alloy - Matte transition","Alloy - Matte transition","Alloy - Matte transition","Alloy - Matte transition","Alloy - Matte transition","Alloy - Matte transition","Alloy - Matte transition","Alloy - Matte transition","Alloy - Matte transition","Alloy - Matte transition","Alloy - Matte transition","Alloy - Matte transition","Alloy - Matte transition","Alloy - Matte transition","Alloy - Matte transition","Alloy - Matte transition","Alloy - Matte transition","Alloy - Matte transition","Alloy - Matte transition","Alloy - Matte transition","Alloy - Matte transition","Alloy - Matte transition","Alloy - Matte transition","Alloy - Matte transition","Alloy - Matte transition","Alloy - Matte transition","Alloy - Matte transition","Alloy - Matte transition","Alloy - Matte transition","Alloy - Matte transition","Alloy - Matte transition","Alloy - Matte transition","Alloy - Matte transition","Alloy - Matte transition","Alloy - Matte transition","Alloy - Matte transition","Alloy - Matte transition","Alloy - Matte transition","Alloy - Matte transition","Alloy - Matte transition","Alloy - Matte transition","Alloy - Matte transition","Alloy - Matte transition","Alloy - Matte transition","Alloy - Matte transition","Alloy - Matte transition","Alloy - Matte transition","Alloy - Matte transition","Alloy - Matte transition","Alloy - Matte transition","Alloy - Matte transition","Alloy - Matte transition","Alloy - Matte transition","Alloy - Matte transition","Alloy - Matte transition","Alloy - Matte transition","Alloy - Matte transition","Alloy - Matte transition","Alloy - Matte transition","Alloy - Matte transition","Alloy - Matte transition","Alloy - Matte transition","Alloy - Matte transition","Alloy - Matte transition","Alloy - Matte transition","Alloy - Matte transition","Alloy - Matte transition","Alloy - Matte transition","Alloy - Matte transition","Alloy - Matte transition","Alloy - Matte transition","Alloy - Matte transition","Alloy - Matte transition","Alloy - Matte transition","Alloy - Matte transition","Alloy - Matte transition","Alloy - Matte transition","Alloy - Matte transition","Alloy - Matte transition","Alloy - Matte transition","Alloy - Matte transition","Alloy - Matte transition","Alloy - Matte transition","Alloy - Matte transition","Alloy - Matte transition","Alloy - Matte transition","Alloy - Matte transition","Alloy - Matte transition","Alloy - Matte transition","Alloy - Matte transition","Alloy - Matte transition","Alloy - Matte transition","Alloy - Matte transition","Alloy - Matte transition","Alloy - Matte transition","Alloy - Matte transition","Alloy - Matte transition","Alloy - Matte transition","Alloy - Matte transition","Alloy - Matte transition","Alloy - Matte transition","Alloy - Matte transition","Alloy - Matte transition","Alloy - Matte transition","Alloy - Matte transition","Alloy - Matte transition","Alloy - Matte transition","Alloy - Matte transition","Alloy - Matte transition","Alloy - Matte transition","Alloy - Matte transition","Alloy - Matte transition","Alloy - Matte transition","Alloy - Matte transition","Alloy - Matte transition","Alloy - Matte transition","Alloy - Matte transition","Alloy - Matte transition","Alloy - Matte transition","Alloy - Matte transition","Alloy - Matte transition","Alloy - Matte transition","Alloy - Matte transition","Alloy - Matte transition","Alloy - Matte transition","Alloy - Matte transition","Alloy - Matte transition","Alloy - Matte transition","Alloy - Matte transition","Alloy - Matte transition","Alloy - Matte transition","Alloy - Matte transition","Alloy - Matte transition","Alloy - Matte transition","Alloy - Matte transition","Alloy - Matte transition","Alloy - Matte transition","Alloy - Matte transition","Alloy - Matte transition","Alloy - Matte transition","Alloy - Matte transition","Alloy - Matte transition","Alloy - Matte transition","Alloy - Matte transition","Alloy - Matte transition","Alloy - Matte transition","Alloy - Matte transition","Alloy - Matte transition","Alloy - Matte transition","Alloy - Matte transition","Alloy - Matte transition","Alloy - Matte transition","Alloy - Matte transition","Alloy - Matte transition","Alloy - Matte transition","Alloy - Matte transition","Alloy - Matte transition","Alloy - Matte transition","Alloy - Matte transition","Alloy - Matte transition","Alloy - Matte transition","Alloy - Matte transition","Alloy - Matte transition","Alloy - Matte transition","Alloy - Matte transition","Alloy - Matte transition","Alloy - Matte transition","Alloy - Matte transition","Alloy - Matte transition","Alloy - Matte transition","Alloy - Matte transition","Alloy - Matte transition","Alloy - Matte transition","Alloy - Matte transition","Alloy - Matte transition","Alloy - Matte transition","Alloy - Matte transition","Alloy - Matte transition","Alloy - Matte transition","Alloy - Matte transition","Alloy - Matte transition","Alloy - Matte transition","Alloy - Matte transition","Alloy - Matte transition","Alloy - Matte transition","Alloy - Matte transition","Alloy - Matte transition","Alloy - Matte transition","Alloy - Matte transition","Alloy - Matte transition","Alloy - Matte transition","Alloy - Matte transition","Alloy - Matte transition","Alloy - Matte transition","Alloy - Matte transition","Alloy - Matte transition","Alloy - Matte transition","Alloy - Matte transition","Alloy - Matte transition","Alloy - Matte transition","Alloy - Matte transition","Alloy - Matte transition","Alloy - Matte transition","Alloy - Matte transition","Alloy - Matte transition","Alloy - Matte transition","Alloy - Matte transition","Alloy - Matte transition","Alloy - Matte transition","Alloy - Matte transition","Alloy - Matte transition","Alloy - Matte transition","Alloy - Matte transition","Alloy - Matte transition","Alloy - Matte transition","Alloy - Matte transition","Alloy - Matte transition","Alloy - Matte transition","Alloy - Matte transition","Alloy - Matte transition","Alloy - Matte transition","Alloy - Matte transition","Alloy - Matte transition","Alloy - Matte transition","Alloy - Matte transition","Alloy - Matte transition","Alloy - Matte transition","Alloy - Matte transition","Alloy - Matte transition","Alloy - Matte transition","Alloy - Matte transition","Alloy - Matte transition","Alloy - Matte transition","Alloy - Matte transition","Alloy - Matte transition","Alloy - Matte transition","Alloy - Matte transition","Alloy - Matte transition","Alloy - Matte transition","Alloy - Matte transition","Alloy - Matte transition","Alloy - Matte transition","Alloy - Matte transition","Alloy - Matte transition","Alloy - Matte transition","Alloy - Matte transition","Alloy - Matte transition","Alloy - Matte transition","Alloy - Matte transition","Alloy - Matte transition","Alloy - Matte transition","Alloy - Matte transition","Alloy - Matte transition","Alloy - Matte transition","Alloy - Matte transition","Alloy - Matte transition","Alloy - Matte transition","Alloy - Matte transition","Alloy - Matte transition","Alloy - Matte transition","Alloy - Matte transition","Alloy - Matte transition","Alloy - Matte transition","Alloy - Matte transition","Alloy - Matte transition","Alloy - Matte transition","Alloy - Matte transition","Alloy - Matte transition","Alloy - Matte transition","Alloy - Matte transition","Alloy - Matte transition","Alloy - Matte transition","Alloy - Matte transition","Alloy - Matte transition","Alloy - Matte transition","Alloy - Matte transition","Alloy - Matte transition","Alloy - Matte transition","Alloy - Matte transition","Alloy - Matte transition","Alloy - Matte transition","Alloy - Matte transition","Alloy - Matte transition","Alloy - Matte transition","Alloy - Matte transition","Alloy - Matte transition","Alloy - Matte transition","Alloy - Matte transition","Alloy - Matte transition","Alloy - Matte transition","Alloy - Matte transition","Alloy - Matte transition","Alloy - Matte transition","Alloy - Matte transition","Alloy - Matte transition","Alloy - Matte transition","Alloy - Matte transition","Alloy - Matte transition","Alloy - Matte transition","Alloy - Matte transition","Alloy - Matte transition","Alloy - Matte transition","Alloy - Matte transition","Alloy - Matte transition","Alloy - Matte transition","Alloy - Matte transition","Alloy - Matte transition","Alloy - Matte transition","Alloy - Matte transition","Alloy - Matte transition","Alloy - Matte transition","Alloy - Matte transition","Alloy - Matte transition","Alloy - Matte transition","Alloy - Matte transition","Alloy - Matte transition","Alloy - Matte transition","Alloy - Matte transition","Alloy - Matte transition","Alloy - Matte transition","Alloy - Matte transition","Alloy - Matte transition","Alloy - Matte transition","Alloy - Matte transition","Alloy - Matte transition","Alloy - Matte transition","Alloy - Matte transition","Alloy - Matte transition","Alloy - Matte transition","Alloy - Matte transition","Alloy - Matte transition","Alloy - Matte transition","Alloy - Matte transition","Alloy - Matte transition","Alloy - Matte transition","Alloy - Matte transition","Alloy - Matte transition","Alloy - Matte transition","Alloy - Matte transition","Alloy - Matte transition","Alloy - Matte transition","Alloy - Matte transition","Alloy - Matte transition","Alloy - Matte transition","Alloy - Matte transition","Alloy - Matte transition","Alloy - Matte transition","Alloy - Matte transition","Alloy - Matte transition","Alloy - Matte transition","Alloy - Matte transition","Alloy - Matte transition","Alloy - Matte transition","Alloy - Matte transition","Alloy - Matte transition","Alloy - Matte transition","Alloy - Matte transition","Alloy - Matte transition","Alloy - Matte transition","Alloy - Matte transition","Alloy - Matte transition","Alloy - Matte transition","Alloy - Matte transition","Alloy - Matte transition","Alloy - Matte transition","Alloy - Matte transition","Alloy - Matte transition","Alloy - Matte transition","Alloy - Matte transition","Alloy - Matte transition","Alloy - Matte transition","Alloy - Matte transition","Alloy - Matte transition","Alloy - Matte transition","Alloy - Matte transition","Alloy - Matte transition","Alloy - Matte transition","Alloy - Matte transition","Alloy - Matte transition","Alloy - Matte transition","Alloy - Matte transition","Alloy - Matte transition","Alloy - Matte transition","Alloy - Matte transition","Alloy - Matte transition","Alloy - Matte transition","Alloy - Matte transition","Alloy - Matte transition","Alloy - Matte transition","Alloy - Matte transition","Alloy - Matte transition","Alloy - Matte transition","Alloy - Matte transition","Alloy - Matte transition","Alloy - Matte transition","Alloy - Matte transition","Alloy - Matte transition","Alloy - Matte transition","Alloy - Matte transition","Alloy - Matte transition","Alloy - Matte transition","Alloy - Matte transition","Alloy - Matte transition","Alloy - Matte transition","Alloy - Matte transition","Alloy - Matte transition","Alloy - Matte transition","Alloy - Matte transition","Alloy - Matte transition","Alloy - Matte transition","Alloy - Matte transition","Alloy - Matte transition","Alloy - Matte transition","Alloy - Matte transition","Alloy - Matte transition","Alloy - Matte transition","Alloy - Matte transition","Alloy - Matte transition","Alloy - Matte transition","Alloy - Matte transition","Alloy - Matte transition","Alloy - Matte transition","Alloy - Matte transition","Alloy - Matte transition","Alloy - Matte transition","Alloy - Matte transition","Alloy - Matte transition","Alloy - Matte transition","Alloy - Matte transition","Alloy - Matte transition","Alloy - Matte transition","Alloy - Matte transition","Alloy - Matte transition","Alloy - Matte transition","Alloy - Matte transition","Alloy - Matte transition","Alloy - Matte transition","Alloy - Matte transition","Alloy - Matte transition","Alloy - Matte transition","Alloy - Matte transition","Alloy - Matte transition","Alloy - Matte transition","Alloy - Matte transition","Alloy - Matte transition","Alloy - Matte transition","Alloy - Matte transition","Alloy - Matte transition","Alloy - Matte transition","Alloy - Matte transition","Alloy - Matte transition","Alloy - Matte transition","Alloy - Matte transition","Alloy - Matte transition","Alloy - Matte transition","Alloy - Matte transition","Alloy - Matte transition","Alloy - Matte transition","Alloy - Matte transition","Alloy - Matte transition","Alloy - Matte transition","Alloy - Matte transition","Alloy - Matte transition","Alloy - Matte transition","Alloy - Matte transition","Alloy - Matte transition","Alloy - Matte transition","Alloy - Matte transition","Alloy - Matte transition","Alloy - Matte transition","Alloy - Matte transition","Alloy - Matte transition","Alloy - Matte transition","Alloy - Matte transition","Alloy - Matte transition","Alloy - Matte transition","Alloy - Matte transition","Alloy - Matte transition","Alloy - Matte transition","Alloy - Matte transition","Alloy - Matte transition","Alloy - Matte transition","Alloy - Matte transition","Alloy - Matte transition","Alloy - Matte transition","Alloy - Matte transition","Alloy - Matte transition","Alloy - Matte transition","Alloy - Matte transition","Alloy - Matte transition","Alloy - Matte transition","Alloy - Matte transition","Alloy - Matte transition","Alloy - Matte transition","Alloy - Matte transition","Alloy - Matte transition","Alloy - Matte transition","Alloy - Matte transition","Alloy - Matte transition","Alloy - Matte transition","Alloy - Matte transition","Alloy - Matte transition","Alloy - Matte transition","Alloy - Matte transition","Alloy - Matte transition","Alloy - Matte transition","Alloy - Matte transition","Alloy - Matte transition","Alloy - Matte transition","Alloy - Matte transition","Alloy - Matte transition","Alloy - Matte transition","Alloy - Matte transition","Alloy - Matte transition","Alloy - Matte transition","Alloy - Matte transition","Alloy - Matte transition","Alloy - Matte transition","Alloy - Matte transition","Alloy - Matte transition","Alloy - Matte transition","Alloy - Matte transition","Alloy - Matte transition","Alloy - Matte transition","Alloy - Matte transition","Alloy - Matte transition","Alloy - Matte transition","Alloy - Matte transition","Alloy - Matte transition","Alloy - Matte transition","Alloy - Matte transition","Alloy - Matte transition","Alloy - Matte transition","Alloy - Matte transition","Alloy - Matte transition","Alloy - Matte transition","Alloy - Matte transition","Alloy - Matte transition","Alloy - Matte transition","Alloy - Matte transition","Alloy - Matte transition","Alloy - Matte transition","Alloy - Matte transition","Alloy - Matte transition","Alloy - Matte transition","Alloy - Matte transition","Alloy - Matte transition","Alloy - Matte transition","Alloy - Matte transition","Alloy - Matte transition","Alloy - Matte transition","Alloy - Matte transition","Alloy - Matte transition","Alloy - Matte transition","Alloy - Matte transition","Alloy - Matte transition","Alloy - Matte transition","Alloy - Matte transition","Alloy - Matte transition","Alloy - Matte transition","Alloy - Matte transition","Alloy - Matte transition","Alloy - Matte transition","Alloy - Matte transition","Alloy - Matte transition","Alloy - Matte transition","Alloy - Matte transition","Alloy - Matte transition","Alloy - Matte transition","Alloy - Matte transition","Alloy - Matte transition","Alloy - Matte transition","Alloy - Matte transition","Alloy - Matte transition","Alloy - Matte transition","Alloy - Matte transition","Alloy - Matte transition","Alloy - Matte transition","Alloy - Matte transition","Alloy - Matte transition","Alloy - Matte transition","Alloy - Matte transition","Alloy - Matte transition","Alloy - Matte transition","Alloy - Matte transition","Alloy - Matte transition","Alloy - Matte transition","Alloy - Matte transition","Alloy - Matte transition","Alloy - Matte transition","Alloy - Matte transition","Alloy - Matte transition","Alloy - Matte transition","Alloy - Matte transition","Alloy - Matte transition","Alloy - Matte transition","Alloy - Matte transition","Alloy - Matte transition","Alloy - Matte transition","Alloy - Matte transition","Alloy - Matte transition","Alloy - Matte transition","Alloy - Matte transition","Alloy - Matte transition","Alloy - Matte transition","Alloy - Matte transition","Alloy - Matte transition","Alloy - Matte transition","Alloy - Matte transition","Alloy - Matte transition","Alloy - Matte transition","Alloy - Matte transition","Alloy - Matte transition","Alloy - Matte transition","Alloy - Matte transition","Alloy - Matte transition","Alloy - Matte transition","Alloy - Matte transition","Alloy - Matte transition","Alloy - Matte transition","Alloy - Matte transition","Alloy - Matte transition","Alloy - Matte transition","Alloy - Matte transition","Alloy - Matte transition","Alloy - Matte transition","Alloy - Matte transition","Alloy - Matte transition","Alloy - Matte transition","Alloy - Matte transition","Alloy - Matte transition","Alloy - Matte transition","Alloy - Matte transition","Alloy - Matte transition","Alloy - Matte transition","Alloy - Matte transition","Alloy - Matte transition","Alloy - Matte transition","Alloy - Matte transition","Alloy - Matte transition","Alloy - Matte transition","Alloy - Matte transition","Alloy - Matte transition","Alloy - Matte transition","Alloy - Matte transition","Alloy - Matte transition","Alloy - Matte transition","Alloy - Matte transition","Alloy - Matte transition","Alloy - Matte transition","Alloy - Matte transition","Alloy - Matte transition","Alloy - Matte transition","Alloy - Matte transition","Alloy - Matte transition","Alloy - Matte transition","Alloy - Matte transition","Alloy - Matte transition","Alloy - Matte transition","Alloy - Matte transition","Alloy - Matte transition","Alloy - Matte transition","Alloy - Matte transition","Alloy - Matte transition","Alloy - Matte transition","Alloy - Matte transition","Alloy - Matte transition","Alloy - Matte transition","Alloy - Matte transition","Alloy - Matte transition","Alloy - Matte transition","Alloy - Matte transition","Alloy - Matte transition","Alloy - Matte transition","Alloy - Matte transition","Alloy - Matte transition","Alloy - Matte transition","Alloy - Matte transition","Alloy - Matte transition","Alloy - Matte transition","Alloy - Matte transition","Alloy - Matte transition","Alloy - Matte transition","Alloy - Matte transition","Alloy - Matte transition","Alloy - Matte transition","Alloy - Matte transition","Alloy - Matte transition","Alloy - Matte transition","Alloy - Matte transition","Alloy - Matte transition","Alloy - Matte transition","Alloy - Matte transition","Alloy - Matte transition","Alloy - Matte transition","Alloy - Matte transition","Alloy - Matte transition","Alloy - Matte transition","Alloy - Matte transition","Alloy - Matte transition","Alloy - Matte transition","Alloy - Matte transition","Alloy - Matte transition","Alloy - Matte transition","Alloy - Matte transition","Alloy - Matte transition","Alloy - Matte transition","Alloy - Matte transition","Alloy - Matte transition","Alloy - Matte transition","Alloy - Matte transition","Alloy - Matte transition","Alloy - Matte transition","Alloy - Matte transition","Alloy - Matte transition","Alloy - Matte transition","Alloy - Matte transition","Alloy - Matte transition","Alloy - Matte transition","Alloy - Matte transition","Alloy - Matte transition","Alloy - Matte transition","Alloy - Matte transition","Alloy - Matte transition","Alloy - Matte transition","Alloy - Matte transition","Alloy - Matte transition","Alloy - Matte transition","Alloy - Matte transition","Alloy - Matte transition","Alloy - Matte transition","Alloy - Matte transition","Alloy - Matte transition","Alloy - Matte transition","Alloy - Matte transition","Alloy - Matte transition","Alloy - Matte transition","Alloy - Matte transition","Alloy - Matte transition","Alloy - Matte transition","Alloy - Matte transition","Alloy - Matte transition","Alloy - Matte transition","Alloy - Matte transition","Alloy - Matte transition","Alloy - Matte transition","Alloy - Matte transition","Alloy - Matte transition","Alloy - Matte transition","Alloy - Matte transition","Alloy - Matte transition","Alloy - Matte transition","Alloy - Matte transition","Alloy - Matte transition","Alloy - Matte transition","Alloy - Matte transition","Alloy - Matte transition","Alloy - Matte transition","Alloy - Matte transition","Alloy - Matte transition","Alloy - Matte transition","Alloy - Matte transition","Alloy - Matte transition","Alloy - Matte transition","Alloy - Matte transition","Alloy - Matte transition","Alloy - Matte transition","Alloy - Matte transition","Alloy - Matte transition","Alloy - Matte transition","Alloy - Matte transition","Alloy - Matte transition","Alloy - Matte transition","Alloy - Matte transition","Alloy - Matte transition","Alloy - Matte transition","Alloy - Matte transition","Alloy - Matte transition","Alloy - Matte transition","Alloy - Matte transition","Alloy - Matte transition","Alloy - Matte transition","Alloy - Matte transition","Alloy - Matte transition","Alloy - Matte transition","Alloy - Matte transition","Alloy - Matte transition","Alloy - Matte transition","Alloy - Matte transition","Alloy - Matte transition","Alloy - Matte transition","Alloy - Matte transition","Alloy - Matte transition","Alloy - Matte transition","Alloy - Matte transition","Alloy - Matte transition","Alloy - Matte transition","Alloy - Matte transition","Alloy - Matte transition","Alloy - Matte transition","Alloy - Matte transition","Alloy - Matte transition","Alloy - Matte transition","Alloy - Matte transition","Alloy - Matte transition","Alloy - Matte transition","Alloy - Matte transition","Alloy - Matte transition","Alloy - Matte transition","Alloy - Matte transition","Alloy - Matte transition","Alloy - Matte transition","Alloy - Matte transition","Alloy - Matte transition","Alloy - Matte transition","Alloy - Matte transition","Alloy - Matte transition","Alloy - Matte transition","Alloy - Matte transition","Alloy - Matte transition","Alloy - Matte transition","Alloy - Matte transition","Alloy - Matte transition","Alloy - Matte transition","Alloy - Matte transition","Alloy - Matte transition","Alloy - Matte transition","Alloy - Matte transition","Alloy - Matte transition","Alloy - Matte transition","Alloy - Matte transition","Alloy - Matte transition","Alloy - Matte transition","Alloy - Matte transition","Alloy - Matte transition","Alloy - Matte transition","Alloy - Matte transition","Alloy - Matte transition","Alloy - Matte transition","Alloy - Matte transition","Alloy - Matte transition","Alloy - Matte transition","Alloy - Matte transition","Alloy - Matte transition","Alloy - Matte transition","Alloy - Matte transition","Alloy - Matte transition","Alloy - Matte transition","Alloy - Matte transition","Alloy - Matte transition","Alloy - Matte transition","Alloy - Matte transition","Alloy - Matte transition","Alloy - Matte transition","Alloy - Matte transition","Alloy - Matte transition","Alloy - Matte transition","Alloy - Matte transition","Alloy - Matte transition","Alloy - Matte transition","Alloy - Matte transition","Alloy - Matte transition","Alloy - Matte transition","Alloy - Matte transition","Alloy - Matte transition","Alloy - Matte transition","Alloy - Matte transition","Alloy - Matte transition","Alloy - Matte transition","Alloy - Matte transition","Alloy - Matte transition","Alloy - Matte transition","Alloy - Matte transition","Alloy - Matte transition","Alloy - Matte transition","Alloy - Matte transition","Alloy - Matte transition","Alloy - Matte transition","Alloy - Matte transition","Alloy - Matte transition","Alloy - Matte transition","Alloy - Matte transition","Alloy - Matte transition","Alloy - Matte transition","Alloy - Matte transition","Alloy - Matte transition","Alloy - Matte transition","Alloy - Matte transition","Alloy - Matte transition","Alloy - Matte transition","Alloy - Matte transition","Alloy - Matte transition","Alloy - Matte transition","Alloy - Matte transition","Alloy - Matte transition","Alloy - Matte transition","Alloy - Matte transition","Alloy - Matte transition","Alloy - Matte transition","Alloy - Matte transition","Alloy - Matte transition","Alloy - Matte transition","Alloy - Matte transition","Alloy - Matte transition","Alloy - Matte transition","Alloy - Matte transition","Alloy - Matte transition","Alloy - Matte transition","Alloy - Matte transition","Alloy - Matte transition","Alloy - Matte transition","Alloy - Matte transition","Alloy - Matte transition","Alloy - Matte transition","Alloy - Matte transition","Alloy - Matte transition","Alloy - Matte transition","Alloy - Matte transition","Alloy - Matte transition","Alloy - Matte transition","Alloy - Matte transition","Alloy - Matte transition","Alloy - Matte transition","Alloy - Matte transition","Alloy - Matte transition","Alloy - Matte transition","Alloy - Matte transition","Alloy - Matte transition","Alloy - Matte transition","Alloy - Matte transition","Alloy - Matte transition","Alloy - Matte transition","Alloy - Matte transition","Alloy - Matte transition","Alloy - Matte transition","Alloy - Matte transition","Alloy - Matte transition","Alloy - Matte transition","Alloy - Matte transition","Alloy - Matte transition","Alloy - Matte transition","Alloy - Matte transition","Alloy - Matte transition","Alloy - Matte transition","Alloy - Matte transition","Alloy - Matte transition","Alloy - Matte transition","Alloy - Matte transition","Alloy - Matte transition","Alloy - Matte transition","Alloy - Matte transition","Alloy - Matte transition","Alloy - Matte transition","Alloy - Matte transition","Alloy - Matte transition","Alloy - Matte transition","Alloy - Matte transition","Alloy - Matte transition","Alloy - Matte transition","Alloy - Matte transition","Alloy - Matte transition","Alloy - Matte transition","Alloy - Matte transition","Alloy - Matte transition","Alloy - Matte transition","Alloy - Matte transition","Alloy - Matte transition","Alloy - Matte transition","Alloy - Matte transition","Alloy - Matte transition","Alloy - Matte transition","Alloy - Matte transition","Alloy - Matte transition","Alloy - Matte transition","Alloy - Matte transition","Alloy - Matte transition","Alloy - Matte transition","Alloy - Matte transition","Alloy - Matte transition","Alloy - Matte transition","Alloy - Matte transition","Alloy - Matte transition","Alloy - Matte transition","Alloy - Matte transition","Alloy - Matte transition","Alloy - Matte transition","Alloy - Matte transition","Alloy - Matte transition","Alloy - Matte transition","Alloy - Matte transition","Alloy - Matte transition","Alloy - Matte transition","Alloy - Matte transition","Alloy - Matte transition","Alloy - Matte transition","Alloy - Matte transition","Alloy - Matte transition","Alloy - Matte transition","Alloy - Matte transition","Alloy - Matte transition","Alloy - Matte transition","Alloy - Matte transition","Alloy - Matte transition","Alloy - Matte transition","Alloy - Matte transition","Alloy - Matte transition","Alloy - Matte transition","Alloy - Matte transition","Alloy - Matte transition","Alloy - Matte transition","Alloy - Matte transition","Alloy - Matte transition","Alloy - Matte transition","Alloy - Matte transition","Alloy - Matte transition","Alloy - Matte transition","Alloy - Matte transition","Alloy - Matte transition","Alloy - Matte transition","Alloy - Matte transition","Alloy - Matte transition","Alloy - Matte transition","Alloy - Matte transition","Alloy - Matte transition","Alloy - Matte transition","Alloy - Matte transition","Alloy - Matte transition","Alloy - Matte transition","Alloy - Matte transition","Alloy - Matte transition","Alloy - Matte transition","Alloy - Matte transition","Alloy - Matte transition","Alloy - Matte transition","Alloy - Matte transition","Alloy - Matte transition","Alloy - Matte transition","Alloy - Matte transition","Alloy - Matte transition","Alloy - Matte transition","Alloy - Matte transition","Alloy - Matte transition","Alloy - Matte transition","Alloy - Matte transition","Alloy - Matte transition","Alloy - Matte transition","Alloy - Matte transition","Alloy - Matte transition","Alloy - Matte transition","Alloy - Matte transition","Alloy - Matte transition","Alloy - Matte transition","Alloy - Matte transition","Alloy - Matte transition","Alloy - Matte transition","Alloy - Matte transition","Alloy - Matte transition","Alloy - Matte transition","Alloy - Matte transition","Alloy - Matte transition","Alloy - Matte transition","Alloy - Matte transition","Alloy - Matte transition","Alloy - Matte transition","Alloy - Matte transition","Alloy - Matte transition","Alloy - Matte transition","Alloy - Matte transition","Alloy - Matte transition","Alloy - Matte transition","Alloy - Matte transition","Alloy - Matte transition","Alloy - Matte transition","Alloy - Matte transition","Alloy - Matte transition","Alloy - Matte transition","Alloy - Matte transition","Alloy - Matte transition","Alloy - Matte transition","Alloy - Matte transition","Alloy - Matte transition","Alloy - Matte transition","Alloy - Matte transition","Alloy - Matte transition","Alloy - Matte transition","Alloy - Matte transition","Alloy - Matte transition","Alloy - Matte transition","Alloy - Matte transition","Alloy - Matte transition","Alloy - Matte transition","Alloy - Matte transition","Alloy - Matte transition","Alloy - Matte transition","Alloy - Matte transition","Alloy - Matte transition","Alloy - Matte transition","Alloy - Matte transition","Alloy - Matte transition","Alloy - Matte transition","Alloy - Matte transition","Alloy - Matte transition","Alloy - Matte transition","Alloy - Matte transition","Alloy - Matte transition","Alloy - Matte transition","Alloy - Matte transition","Alloy - Matte transition","Alloy - Matte transition","Alloy - Matte transition","Alloy - Matte transition","Alloy - Matte transition","Alloy - Matte transition","Alloy - Matte transition","Alloy - Matte transition","Alloy - Matte transition","Alloy - Matte transition","Alloy - Matte transition","Alloy - Matte transition","Alloy - Matte transition","Alloy - Matte transition","Alloy - Matte transition","Alloy - Matte transition","Alloy - Matte transition","Alloy - Matte transition","Alloy - Matte transition","Alloy - Matte transition","Alloy - Matte transition","Alloy - Matte transition","Alloy - Matte transition","Alloy - Matte transition","Alloy - Matte transition","Alloy - Matte transition","Alloy - Matte transition","Alloy - Matte transition","Alloy - Matte transition","Alloy - Matte transition","Alloy - Matte transition","Alloy - Matte transition","Alloy - Matte transition","Alloy - Matte transition","Alloy - Matte transition","Alloy - Matte transition","Alloy - Matte transition","Alloy - Matte transition","Alloy - Matte transition","Alloy - Matte transition","Alloy - Matte transition","Alloy - Matte transition","Alloy - Matte transition","Alloy - Matte transition","Alloy - Matte transition","Alloy - Matte transition","Alloy - Matte transition","Alloy - Matte transition","Alloy - Matte transition","Alloy - Matte transition","Alloy - Matte transition","Alloy - Matte transition","Alloy - Matte transition","Alloy - Matte transition","Alloy - Matte transition","Alloy - Matte transition","Alloy - Matte transition","Alloy - Matte transition","Alloy - Matte transition","Alloy - Matte transition","Alloy - Matte transition","Alloy - Matte transition","Alloy - Matte transition","Alloy - Matte transition","Alloy - Matte transition","Alloy - Matte transition","Alloy - Matte transition","Alloy - Matte transition","Alloy - Matte transition","Alloy - Matte transition","Alloy - Matte transition","Alloy - Matte transition","Alloy - Matte transition","Alloy - Matte transition","Alloy - Matte transition","Alloy - Matte transition","Alloy - Matte transition","Alloy - Matte transition","Alloy - Matte transition","Alloy - Matte transition","Alloy - Matte transition","Alloy - Matte transition","Alloy - Matte transition","Alloy - Matte transition","Alloy - Matte transition","Alloy - Matte transition","Alloy - Matte transition","Alloy - Matte transition","Alloy - Matte transition","Alloy - Matte transition","Alloy - Matte transition","Alloy - Matte transition","Alloy - Matte transition","Alloy - Matte transition","Alloy - Matte transition","Alloy - Matte transition","Alloy - Matte transition","Alloy - Matte transition","Alloy - Matte transition","Alloy - Matte transition","Alloy - Matte transition","Alloy - Matte transition","Alloy - Matte transition","Alloy - Matte transition","Alloy - Matte transition","Alloy - Matte transition","Alloy - Matte transition","Alloy - Matte transition","Alloy - Matte transition","Alloy - Matte transition","Alloy - Matte transition","Alloy - Matte transition","Alloy - Matte transition","Alloy - Matte transition","Alloy - Matte transition","Alloy - Matte transition","Alloy - Matte transition","Alloy - Matte transition","Alloy - Matte transition","Alloy - Matte transition","Alloy - Matte transition","Alloy - Matte transition","Alloy - Matte transition","Alloy - Matte transition","Alloy - Matte transition","Alloy - Matte transition","Alloy - Matte transition","Alloy - Matte transition","Alloy - Matte transition","Alloy - Matte transition","Alloy - Matte transition","Alloy - Matte transition","Alloy - Matte transition","Alloy - Matte transition","Alloy - Matte transition","Alloy - Matte transition","Alloy - Matte transition","Alloy - Matte transition","Alloy - Matte transition","Alloy - Matte transition","Alloy - Matte transition","Alloy - Matte transition","Alloy - Matte transition","Alloy - Matte transition","Alloy - Matte transition","Alloy - Matte transition","Alloy - Matte transition","Alloy - Matte transition","Alloy - Matte transition","Alloy - Matte transition","Alloy - Matte transition","Alloy - Matte transition","Alloy - Matte transition","Alloy - Matte transition","Alloy - Matte transition","Alloy - Matte transition","Alloy - Matte transition","Alloy - Matte transition","Alloy - Matte transition","Alloy - Matte transition","Alloy - Matte transition","Alloy - Matte transition","Alloy - Matte transition","Alloy - Matte transition","Alloy - Matte transition","Alloy - Matte transition","Alloy - Matte transition","Alloy - Matte transition","Alloy - Matte transition","Alloy - Matte transition","Alloy - Matte transition","Alloy - Matte transition","Alloy - Matte transition","Alloy - Matte transition","Alloy - Matte transition","Alloy - Matte transition","Alloy - Matte transition","Alloy - Matte transition","Alloy - Matte transition","Alloy - Matte transition","Alloy - Matte transition","Alloy - Matte transition","Alloy - Matte transition","Alloy - Matte transition","Alloy - Matte transition","Alloy - Matte transition","Alloy - Matte transition","Alloy - Matte transition","Alloy - Matte transition","Alloy - Matte transition","Alloy - Matte transition","Alloy - Matte transition","Alloy - Matte transition","Alloy - Matte transition","Alloy - Matte transition","Alloy - Matte transition","Alloy - Matte transition","Alloy - Matte transition","Alloy - Matte transition","Alloy - Matte transition","Alloy - Matte transition","Alloy - Matte transition","Alloy - Matte transition","Alloy - Matte transition","Alloy - Matte transition","Alloy - Matte transition","Alloy - Matte transition","Alloy - Matte transition","Alloy - Matte transition","Alloy - Matte transition","Alloy - Matte transition","Alloy - Matte transition","Alloy - Matte transition","Alloy - Matte transition","Alloy - Matte transition","Alloy - Matte transition","Alloy - Matte transition","Alloy - Matte transition","Alloy - Matte transition","Alloy - Matte transition","Alloy - Matte transition","Alloy - Matte transition","Alloy - Matte transition","Alloy - Matte transition","Alloy - Matte transition","Alloy - Matte transition","Alloy - Matte transition","Alloy - Matte transition","Alloy - Matte transition","Alloy - Matte transition","Alloy - Matte transition","Alloy - Matte transition","Alloy - Matte transition","Alloy - Matte transition","Alloy - Matte transition","Alloy - Matte transition","Alloy - Matte transition","Alloy - Matte transition","Alloy - Matte transition","Alloy - Matte transition","Alloy - Matte transition","Alloy - Matte transition","Alloy - Matte transition","Alloy - Matte transition","Alloy - Matte transition","Alloy - Matte transition","Alloy - Matte transition","Alloy - Matte transition","Alloy - Matte transition","Alloy - Matte transition","Alloy - Matte transition","Alloy - Matte transition","Alloy - Matte transition","Alloy - Matte transition","Alloy - Matte transition","Alloy - Matte transition","Alloy - Matte transition","Alloy - Matte transition","Alloy - Matte transition","Alloy - Matte transition","Alloy - Matte transition","Alloy - Matte transition","Alloy - Matte transition","Alloy - Matte transition","Alloy - Matte transition","Alloy - Matte transition","Alloy - Matte transition","Alloy - Matte transition","Alloy - Matte transition","Alloy - Matte transition","Alloy - Matte transition","Alloy - Matte transition","Alloy - Matte transition","Alloy - Matte transition","Alloy - Matte transition","Alloy - Matte transition","Alloy - Matte transition","Alloy - Matte transition","Alloy - Matte transition","Alloy - Matte transition","Alloy - Matte transition","Alloy - Matte transition","Alloy - Matte transition","Alloy - Matte transition","Alloy - Matte transition","Alloy - Matte transition","Alloy - Matte transition","Alloy - Matte transition","Alloy - Matte transition","Alloy - Matte transition","Alloy - Matte transition","Alloy - Matte transition","Alloy - Matte transition","Alloy - Matte transition","Alloy - Matte transition","Alloy - Matte transition","Alloy - Matte transition","Alloy - Matte transition","Alloy - Matte transition","Alloy - Matte transition","Alloy - Matte transition","Alloy - Matte transition","Alloy - Matte transition","Alloy - Matte transition","Alloy - Matte transition","Alloy - Matte transition","Alloy - Matte transition","Alloy - Matte transition","Alloy - Matte transition","Alloy - Matte transition","Alloy - Matte transition","Alloy - Matte transition","Alloy - Matte transition","Alloy - Matte transition","Alloy - Matte transition","Alloy - Matte transition","Alloy - Matte transition","Alloy - Matte transition","Alloy - Matte transition","Alloy - Matte transition","Alloy - Matte transition","Alloy - Matte transition","Alloy - Matte transition","Alloy - Matte transition","Alloy - Matte transition","Alloy - Matte transition","Alloy - Matte transition","Alloy - Matte transition","Alloy - Matte transition","Alloy - Matte transition","Alloy - Matte transition","Alloy - Matte transition","Alloy - Matte transition","Alloy - Matte transition","Alloy - Matte transition","Alloy - Matte transition","Alloy - Matte transition","Alloy - Matte transition","Alloy - Matte transition","Alloy - Matte transition","Alloy - Matte transition","Alloy - Matte transition","Alloy - Matte transition","Alloy - Matte transition","Alloy - Matte transition","Alloy - Matte transition","Alloy - Matte transition","Alloy - Matte transition","Alloy - Matte transition","Alloy - Matte transition","Alloy - Matte transition","Alloy - Matte transition","Alloy - Matte transition","Alloy - Matte transition","Alloy - Matte transition","Alloy - Matte transition","Alloy - Matte transition","Alloy - Matte transition","Alloy - Matte transition","Alloy - Matte transition","Alloy - Matte transition","Alloy - Matte transition","Alloy - Matte transition","Alloy - Matte transition","Alloy - Matte transition","Alloy - Matte transition","Alloy - Matte transition","Alloy - Matte transition","Alloy - Matte transition","Alloy - Matte transition","Alloy - Matte transition","Alloy - Matte transition","Alloy - Matte transition","Alloy - Matte transition","Alloy - Matte transition","Alloy - Matte transition","Alloy - Matte transition","Alloy - Matte transition","Alloy - Matte transition","Alloy - Matte transition","Alloy - Matte transition","Alloy - Matte transition","Alloy - Matte transition","Alloy - Matte transition","Alloy - Matte transition","Alloy - Matte transition","Alloy - Matte transition","Alloy - Matte transition","Alloy - Matte transition","Alloy - Matte transition","Alloy - Matte transition","Alloy - Matte transition","Alloy - Matte transition","Alloy - Matte transition","Alloy - Matte transition","Alloy - Matte transition","Alloy - Matte transition","Alloy - Matte transition","Alloy - Matte transition","Alloy - Matte transition","Alloy - Matte transition","Alloy - Matte transition","Alloy - Matte transition","Alloy - Matte transition","Alloy - Matte transition","Alloy - Matte transition","Alloy - Matte transition","Alloy - Matte transition","Alloy - Matte transition","Alloy - Matte transition","Alloy - Matte transition","Alloy - Matte transition","Alloy - Matte transition","Alloy - Matte transition","Alloy - Matte transition","Alloy - Matte transition","Alloy - Matte transition","Alloy - Matte transition","Alloy - Matte transition","Alloy - Matte transition","Alloy - Matte transition","Alloy - Matte transition","Alloy - Matte transition","Alloy - Matte transition","Alloy - Matte transition","Alloy - Matte transition","Alloy - Matte transition","Alloy - Matte transition","Alloy - Matte transition","Alloy - Matte transition","Alloy - Matte transition","Alloy - Matte transition","Alloy - Matte transition","Alloy - Matte transition","Alloy - Matte transition","Alloy - Matte transition","Alloy - Matte transition","Alloy - Matte transition","Alloy - Matte transition","Alloy - Matte transition","Alloy - Matte transition","Alloy - Matte transition","Alloy - Matte transition","Alloy - Matte transition","Alloy - Matte transition","Alloy - Matte transition","Alloy - Matte transition","Alloy - Matte transition","Alloy - Matte transition","Alloy - Matte transition","Alloy - Matte transition","Alloy - Matte transition","Alloy - Matte transition","Alloy - Matte transition","Alloy - Matte transition","Alloy - Matte transition","Alloy - Matte transition","Alloy - Matte transition","Alloy - Matte transition","Alloy - Matte transition","Alloy - Matte transition","Alloy - Matte transition","Alloy - Matte transition","Alloy - Matte transition","Alloy - Matte transition","Alloy - Matte transition","Alloy - Matte transition","Alloy - Matte transition","Alloy - Matte transition","Alloy - Matte transition","Alloy - Matte transition","Alloy - Matte transition","Alloy - Matte transition","Alloy - Matte transition","Alloy - Matte transition","Alloy - Matte transition","Alloy - Matte transition","Alloy - Matte transition","Alloy - Matte transition","Alloy - Matte transition","Alloy - Matte transition","Alloy - Matte transition","Alloy - Matte transition","Alloy - Matte transition","Alloy - Matte transition","Alloy - Matte transition","Alloy - Matte transition","Alloy - Matte transition","Alloy - Matte transition","Alloy - Matte transition","Alloy - Matte transition","Alloy - Matte transition","Alloy - Matte transition","Alloy - Matte transition","Alloy - Matte transition","Alloy - Matte transition","Alloy - Matte transition","Alloy - Matte transition","Alloy - Matte transition","Alloy - Matte transition","Alloy - Matte transition","Alloy - Matte transition","Alloy - Matte transition","Alloy - Matte transition","Alloy - Matte transition","Alloy - Matte transition","Alloy - Matte transition","Alloy - Matte transition","Alloy - Matte transition","Alloy - Matte transition","Alloy - Matte transition","Alloy - Matte transition","Alloy - Matte transition","Alloy - Matte transition","Alloy - Matte transition","Alloy - Matte transition","Alloy - Matte transition","Alloy - Matte transition","Alloy - Matte transition","Alloy - Matte transition","Alloy - Matte transition","Alloy - Matte transition","Alloy - Matte transition","Alloy - Matte transition","Alloy - Matte transition","Alloy - Matte transition","Alloy - Matte transition","Alloy - Matte transition","Alloy - Matte transition","Alloy - Matte transition","Alloy - Matte transition","Alloy - Matte transition","Alloy - Matte transition","Alloy - Matte transition","Alloy - Matte transition","Alloy - Matte transition","Alloy - Matte transition","Alloy - Matte transition","Alloy - Matte transition","Alloy - Matte transition","Alloy - Matte transition","Alloy - Matte transition","Alloy - Matte transition","Alloy - Matte transition","Alloy - Matte transition","Alloy - Matte transition","Alloy - Matte transition","Alloy - Matte transition","Alloy - Matte transition","Alloy - Matte transition","Alloy - Matte transition","Alloy - Matte transition","Alloy - Matte transition","Alloy - Matte transition","Alloy - Matte transition","Alloy - Matte transition","Alloy - Matte transition","Alloy - Matte transition","Alloy - Matte transition","Alloy - Matte transition","Alloy - Matte transition","Alloy - Matte transition","Alloy - Matte transition","Alloy - Matte transition","Alloy - Matte transition","Alloy - Matte transition","Alloy - Matte transition","Alloy - Matte transition","Alloy - Matte transition","Alloy - Matte transition","Alloy - Matte transition","Alloy - Matte transition","Alloy - Matte transition","Alloy - Matte transition","Alloy - Matte transition","Alloy - Matte transition","Alloy - Matte transition","Alloy - Matte transition","Alloy - Matte transition","Alloy - Matte transition","Alloy - Matte transition","Alloy - Matte transition","Alloy - Matte transition","Alloy - Matte transition","Alloy - Matte transition","Alloy - Matte transition","Alloy - Matte transition","Alloy - Matte transition","Alloy - Matte transition","Alloy - Matte transition","Alloy - Matte transition","Alloy - Matte transition","Alloy - Matte transition","Alloy - Matte transition","Alloy - Matte transition","Alloy - Matte transition","Alloy - Matte transition","Alloy - Matte transition","Alloy - Matte transition","Alloy - Matte transition","Alloy - Matte transition","Alloy - Matte transition","Alloy - Matte transition","Alloy - Matte transition","Alloy - Matte transition","Alloy - Matte transition","Alloy - Matte transition","Alloy - Matte transition","Alloy - Matte transition","Alloy - Matte transition","Alloy - Matte transition","Alloy - Matte transition","Alloy - Matte transition","Alloy - Matte transition","Alloy - Matte transition","Alloy - Matte transition","Alloy - Matte transition","Alloy - Matte transition","Alloy - Matte transition","Alloy - Matte transition","Alloy - Matte transition","Alloy - Matte transition","Alloy - Matte transition","Alloy - Matte transition","Alloy - Matte transition","Alloy - Matte transition","Alloy - Matte transition","Alloy - Matte transition","Alloy - Matte transition","Alloy - Matte transition","Alloy - Matte transition","Alloy - Matte transition","Alloy - Matte transition","Alloy - Matte transition","Alloy - Matte transition","Alloy - Matte transition","Alloy - Matte transition","Alloy - Matte transition","Alloy - Matte transition","Alloy - Matte transition","Alloy - Matte transition","Alloy - Matte transition","Alloy - Matte transition","Alloy - Matte transition","Alloy - Matte transition","Alloy - Matte transition","Alloy - Matte transition","Alloy - Matte transition","Alloy - Matte transition","Alloy - Matte transition","Alloy - Matte transition","Alloy - Matte transition","Alloy - Matte transition","Alloy - Matte transition","Alloy - Matte transition","Alloy - Matte transition","Alloy - Matte transition","Alloy - Matte transition","Alloy - Matte transition","Alloy - Matte transition","Alloy - Matte transition","Alloy - Matte transition","Alloy - Matte transition","Alloy - Matte transition","Alloy - Matte transition","Alloy - Matte transition","Alloy - Matte transition","Alloy - Matte transition","Alloy - Matte transition","Alloy - Matte transition","Alloy - Matte transition","Alloy - Matte transition","Alloy - Matte transition","Alloy - Matte transition","Alloy - Matte transition","Alloy - Matte transition","Alloy - Matte transition","Alloy - Matte transition","Alloy - Matte transition","Alloy - Matte transition","Alloy - Matte transition","Alloy - Matte transition","Alloy - Matte transition","Alloy - Matte transition","Alloy - Matte transition","Alloy - Matte transition","Alloy - Matte transition","Alloy - Matte transition","Alloy - Matte transition","Alloy - Matte transition","Alloy - Matte transition","Alloy - Matte transition","Alloy - Matte transition","Alloy - Matte transition","Alloy - Matte transition","Alloy - Matte transition","Alloy - Matte transition","Alloy - Matte transition","Alloy - Matte transition","Alloy - Matte transition","Alloy - Matte transition","Alloy - Matte transition","Alloy - Matte transition","Alloy - Matte transition","Alloy - Matte transition","Alloy - Matte transition","Alloy - Matte transition","Alloy - Matte transition","Alloy - Matte transition","Alloy - Matte transition","Alloy - Matte transition","Alloy - Matte transition","Alloy - Matte transition","Alloy - Matte transition","Alloy - Matte transition","Alloy - Matte transition","Alloy - Matte transition","Alloy - Matte transition","Alloy - Matte transition","Alloy - Matte transition","Alloy - Matte transition","Alloy - Matte transition","Alloy - Matte transition","Alloy - Matte transition","Alloy - Matte transition","Alloy - Matte transition","Alloy - Matte transition","Alloy - Matte transition","Alloy - Matte transition","Alloy - Matte transition","Alloy - Matte transition","Alloy - Matte transition","Alloy - Matte transition","Alloy - Matte transition","Alloy - Matte transition","Alloy - Matte transition","Alloy - Matte transition","Alloy - Matte transition","Alloy - Matte transition","Alloy - Matte transition","Alloy - Matte transition","Alloy - Matte transition","Alloy - Matte transition","Alloy - Matte transition","Alloy - Matte transition","Alloy - Matte transition","Alloy - Matte transition","Alloy - Matte transition","Alloy - Matte transition","Alloy - Matte transition","Alloy - Matte transition","Alloy - Matte transition","Alloy - Matte transition","Alloy - Matte transition","Alloy - Matte transition","Alloy - Matte transition","Alloy - Matte transition","Alloy - Matte transition","Alloy - Matte transition","Alloy - Matte transition","Alloy - Matte transition","Alloy - Matte transition","Alloy - Matte transition","Alloy - Matte transition","Alloy - Matte transition","Alloy - Matte transition","Alloy - Matte transition","Alloy - Matte transition","Alloy - Matte transition","Alloy - Matte transition","Alloy - Matte transition","Alloy - Matte transition","Alloy - Matte transition","Alloy - Matte transition","Alloy - Matte transition","Alloy - Matte transition","Alloy - Matte transition","Alloy - Matte transition","Alloy - Matte transition","Alloy - Matte transition","Alloy - Matte transition","Alloy - Matte transition","Alloy - Matte transition","Alloy - Matte transition","Alloy - Matte transition","Alloy - Matte transition","Alloy - Matte transition","Alloy - Matte transition","Alloy - Matte transition","Alloy - Matte transition","Alloy - Matte transition","Alloy - Matte transition","Alloy - Matte transition","Alloy - Matte transition","Alloy - Matte transition","Alloy - Matte transition","Alloy - Matte transition","Alloy - Matte transition","Alloy - Matte transition","Alloy - Matte transition","Alloy - Matte transition","Alloy - Matte transition","Alloy - Matte transition","Alloy - Matte transition","Alloy - Matte transition","Alloy - Matte transition","Alloy - Matte transition","Alloy - Matte transition","Alloy - Matte transition","Alloy - Matte transition","Alloy - Matte transition","Alloy - Matte transition","Alloy - Matte transition","Alloy - Matte transition","Alloy - Matte transition","Alloy - Matte transition","Alloy - Matte transition","Alloy - Matte transition","Alloy - Matte transition","Alloy - Matte transition","Alloy - Matte transition","Alloy - Matte transition","Alloy - Matte transition","Alloy - Matte transition","Alloy - Matte transition","Alloy - Matte transition","Alloy - Matte transition","Alloy - Matte transition","Alloy - Matte transition","Alloy - Matte transition","Alloy - Matte transition","Alloy - Matte transition","Alloy - Matte transition","Alloy - Matte transition","Alloy - Matte transition","Alloy - Matte transition","Alloy - Matte transition","Alloy - Matte transition","Alloy - Matte transition","Alloy - Matte transition","Alloy - Matte transition","Alloy - Matte transition","Alloy - Matte transition","Alloy - Matte transition","Alloy - Matte transition","Alloy - Matte transition","Alloy - Matte transition","Alloy - Matte transition","Alloy - Matte transition","Alloy - Matte transition","Alloy - Matte transition","Alloy - Matte transition","Alloy - Matte transition","Alloy - Matte transition","Alloy - Matte transition","Alloy - Matte transition","Alloy - Matte transition","Alloy - Matte transition","Alloy - Matte transition","Alloy - Matte transition","Alloy - Matte transition","Alloy - Matte transition","Alloy - Matte transition","Alloy - Matte transition","Alloy - Matte transition","Alloy - Matte transition","Alloy - Matte transition","Alloy - Matte transition","Alloy - Matte transition","Alloy - Matte transition","Alloy - Matte transition","Alloy - Matte transition","Alloy - Matte transition","Alloy - Matte transition","Alloy - Matte transition","Alloy - Matte transition","Alloy - Matte transition","Alloy - Matte transition","Alloy - Matte transition","Alloy - Matte transition","Alloy - Matte transition","Alloy - Matte transition","Alloy - Matte transition","Alloy - Matte transition","Alloy - Matte transition","Alloy - Matte transition","Alloy - Matte transition","Alloy - Matte transition","Alloy - Matte transition","Alloy - Matte transition","Alloy - Matte transition","Alloy - Matte transition","Alloy - Matte transition","Alloy - Matte transition","Alloy - Matte transition","Alloy - Matte transition","Alloy - Matte transition","Alloy - Matte transition","Alloy - Matte transition","Alloy - Matte transition","Alloy - Matte transition","Alloy - Matte transition","Alloy - Matte transition","Alloy - Matte transition","Alloy - Matte transition","Alloy - Matte transition","Alloy - Matte transition","Alloy - Matte transition","Alloy - Matte transition","Alloy - Matte transition","Alloy - Matte transition","Alloy - Matte transition","Alloy - Matte transition","Alloy - Matte transition","Alloy - Matte transition","Alloy - Matte transition","Alloy - Matte transition","Alloy - Matte transition","Alloy - Matte transition","Alloy - Matte transition","Alloy - Matte transition","Alloy - Matte transition","Alloy - Matte transition","Alloy - Matte transition","Alloy - Matte transition","Alloy - Matte transition","Alloy - Matte transition","Alloy - Matte transition","Alloy - Matte transition","Alloy - Matte transition","Alloy - Matte transition","Alloy - Matte transition","Alloy - Matte transition","Alloy - Matte transition","Alloy - Matte transition","Alloy - Matte transition","Alloy - Matte transition","Alloy - Matte transition","Alloy - Matte transition","Alloy - Matte transition","Alloy - Matte transition","Alloy - Matte transition","Alloy - Matte transition","Alloy - Matte transition","Alloy - Matte transition","Alloy - Matte transition","Alloy - Matte transition","Alloy - Matte transition","Alloy - Matte transition","Alloy - Matte transition","Alloy - Matte transition","Alloy - Matte transition","Alloy - Matte transition","Alloy - Matte transition","Alloy - Matte transition","Alloy - Matte transition","Alloy - Matte transition","Alloy - Matte transition","Alloy - Matte transition","Alloy - Matte transition","Alloy - Matte transition","Alloy - Matte transition","Alloy - Matte transition","Alloy - Matte transition","Alloy - Matte transition","Alloy - Matte transition","Alloy - Matte transition","Alloy - Matte transition","Alloy - Matte transition","Alloy - Matte transition","Alloy - Matte transition","Alloy - Matte transition","Alloy - Matte transition","Alloy - Matte transition","Alloy - Matte transition","Alloy - Matte transition","Alloy - Matte transition","Alloy - Matte transition","Alloy - Matte transition","Alloy - Matte transition","Alloy - Matte transition","Alloy - Matte transition","Alloy - Matte transition","Alloy - Matte transition","Alloy - Matte transition","Alloy - Matte transition","Alloy - Matte transition","Alloy - Matte transition","Alloy - Matte transition","Alloy - Matte transition","Alloy - Matte transition","Alloy - Matte transition","Alloy - Matte transition","Alloy - Matte transition","Alloy - Matte transition","Alloy - Matte transition","Alloy - Matte transition","Alloy - Matte transition","Alloy - Matte transition","Alloy - Matte transition","Alloy - Matte transition","Alloy - Matte transition","Alloy - Matte transition","Alloy - Matte transition","Alloy - Matte transition","Alloy - Matte transition","Alloy - Matte transition","Alloy - Matte transition","Alloy - Matte transition","Alloy - Matte transition","Alloy - Matte transition","Alloy - Matte transition","Alloy - Matte transition","Alloy - Matte transition","Alloy - Matte transition","Alloy - Matte transition","Alloy - Matte transition","Alloy - Matte transition","Alloy - Matte transition","Alloy - Matte transition","Alloy - Matte transition","Alloy - Matte transition","Alloy - Matte transition","Alloy - Matte transition","Alloy - Matte transition","Alloy - Matte transition","Alloy - Matte transition","Alloy - Matte transition","Alloy - Matte transition","Alloy - Matte transition","Alloy - Matte transition","Alloy - Matte transition","Alloy - Matte transition","Alloy - Matte transition","Alloy - Matte transition","Alloy - Matte transition","Alloy - Matte transition","Alloy - Matte transition","Alloy - Matte transition","Alloy - Matte transition","Alloy - Matte transition","Alloy - Matte transition","Alloy - Matte transition","Alloy - Matte transition","Alloy - Matte transition","Alloy - Matte transition","Alloy - Matte transition","Alloy - Matte transition","Alloy - Matte transition","Alloy - Matte transition","Alloy - Matte transition","Alloy - Matte transition","Alloy - Matte transition","Alloy - Matte transition","Alloy - Matte transition","Alloy - Matte transition","Alloy - Matte transition","Alloy - Matte transition","Alloy - Matte transition","Alloy - Matte transition","Alloy - Matte transition","Alloy - Matte transition","Alloy - Matte transition","Alloy - Matte transition","Alloy - Matte transition","Alloy - Matte transition","Alloy - Matte transition","Alloy - Matte transition","Alloy - Matte transition","Alloy - Matte transition","Alloy - Matte transition","Alloy - Matte transition","Alloy - Matte transition","Alloy - Matte transition","Alloy - Matte transition","Alloy - Matte transition","Alloy - Matte transition","Alloy - Matte transition","Alloy - Matte transition","Alloy - Matte transition","Alloy - Matte transition","Alloy - Matte transition","Alloy - Matte transition","Alloy - Matte transition","Alloy - Matte transition","Alloy - Matte transition","Alloy - Matte transition","Alloy - Matte transition","Alloy - Matte transition","Alloy - Matte transition","Alloy - Matte transition","Alloy - Matte transition","Alloy - Matte transition","Alloy - Matte transition","Alloy - Matte transition","Alloy - Matte transition","Alloy - Matte transition","Alloy - Matte transition","Alloy - Matte transition","Alloy - Matte transition","Alloy - Matte transition","Alloy - Matte transition","Alloy - Matte transition","Alloy - Matte transition","Alloy - Matte transition","Alloy - Matte transition","Alloy - Matte transition","Alloy - Matte transition","Alloy - Matte transition","Alloy - Matte transition","Alloy - Matte transition","Alloy - Matte transition","Alloy - Matte transition","Alloy - Matte transition","Alloy - Matte transition","Alloy - Matte transition","Alloy - Matte transition","Alloy - Matte transition","Alloy - Matte transition","Alloy - Matte transition","Alloy - Matte transition","Alloy - Matte transition","Alloy - Matte transition","Alloy - Matte transition","Alloy - Matte transition","Alloy - Matte transition","Alloy - Matte transition","Alloy - Matte transition","Alloy - Matte transition","Alloy - Matte transition","Alloy - Matte transition","Alloy - Matte transition","Alloy - Matte transition","Alloy - Matte transition","Alloy - Matte transition","Alloy - Matte transition","Alloy - Matte transition","Alloy - Matte transition","Alloy - Matte transition","Alloy - Matte transition","Alloy - Matte transition","Alloy - Matte transition","Alloy - Matte transition","Alloy - Matte transition","Alloy - Matte transition","Alloy - Matte transition","Alloy - Matte transition","Alloy - Matte transition","Alloy - Matte transition","Alloy - Matte transition","Alloy - Matte transition","Alloy - Matte transition","Alloy - Matte transition","Alloy - Matte transition","Alloy - Matte transition","Alloy - Matte transition","Alloy - Matte transition","Alloy - Matte transition","Alloy - Matte transition","Alloy - Matte transition","Alloy - Matte transition","Alloy - Matte transition","Alloy - Matte transition","Alloy - Matte transition","Alloy - Matte transition","Alloy - Matte transition","Alloy - Matte transition","Alloy - Matte transition","Alloy - Matte transition","Alloy - Matte transition","Alloy - Matte transition","Alloy - Matte transition","Alloy - Matte transition","Alloy - Matte transition","Alloy - Matte transition","Alloy - Matte transition","Alloy - Matte transition","Alloy - Matte transition","Alloy - Matte transition","Alloy - Matte transition","Alloy - Matte transition","Alloy - Matte transition","Alloy - Matte transition","Alloy - Matte transition","Alloy - Matte transition","Alloy - Matte transition","Alloy - Matte transition","Alloy - Matte transition","Alloy - Matte transition","Alloy - Matte transition","Alloy - Matte transition","Alloy - Matte transition","Alloy - Matte transition","Alloy - Matte transition","Alloy - Matte transition","Alloy - Matte transition","Alloy - Matte transition","Alloy - Matte transition","Alloy - Matte transition","Alloy - Matte transition","Alloy - Matte transition","Alloy - Matte transition","Alloy - Matte transition","Alloy - Matte transition","Alloy - Matte transition","Alloy - Matte transition","Alloy - Matte transition","Alloy - Matte transition","Alloy - Matte transition","Alloy - Matte transition","Alloy - Matte transition","Alloy - Matte transition","Alloy - Matte transition","Alloy - Matte transition","Alloy - Matte transition","Alloy - Matte transition","Alloy - Matte transition","Alloy - Matte transition","Alloy - Matte transition","Alloy - Matte transition","Alloy - Matte transition","Alloy - Matte transition","Alloy - Matte transition","Alloy - Matte transition","Alloy - Matte transition","Alloy - Matte transition","Alloy - Matte transition","Alloy - Matte transition","Alloy - Matte transition","Alloy - Matte transition","Alloy - Matte transition","Alloy - Matte transition","Alloy - Matte transition","Alloy - Matte transition","Alloy - Matte transition","Alloy - Matte transition","Alloy - Matte transition","Alloy - Matte transition","Alloy - Matte transition","Alloy - Matte transition","Alloy - Matte transition","Alloy - Matte transition","Alloy - Matte transition","Alloy - Matte transition","Alloy - Matte transition","Alloy - Matte transition","Alloy - Matte transition","Alloy - Matte transition","Alloy - Matte transition","Alloy - Matte transition","Alloy - Matte transition","Alloy - Matte transition","Alloy - Matte transition","Alloy - Matte transition","Alloy - Matte transition","Alloy - Matte transition","Alloy - Matte transition","Alloy - Matte transition","Alloy - Matte transition","Alloy - Matte transition","Alloy - Matte transition","Alloy - Matte transition","Alloy - Matte transition","Alloy - Matte transition","Alloy - Matte transition","Alloy - Matte transition","Alloy - Matte transition","Alloy - Matte transition","Alloy - Matte transition","Alloy - Matte transition","Alloy - Matte transition","Alloy - Matte transition","Alloy - Matte transition","Alloy - Matte transition","Alloy - Matte transition","Alloy - Matte transition","Alloy - Matte transition","Alloy - Matte transition","Alloy - Matte transition","Alloy - Matte transition","Alloy - Matte transition","Alloy - Matte transition","Alloy - Matte transition","Alloy - Matte transition","Alloy - Matte transition","Alloy - Matte transition","Alloy - Matte transition","Alloy - Matte transition","Alloy - Matte transition","Alloy - Matte transition","Alloy - Matte transition","Alloy - Matte transition","Alloy - Matte transition","Alloy - Matte transition","Alloy - Matte transition","Alloy - Matte transition","Alloy - Matte transition","Alloy - Matte transition","Alloy - Matte transition","Alloy - Matte transition","Alloy - Matte transition","Alloy - Matte transition","Alloy - Matte transition","Alloy - Matte transition","Alloy - Matte transition","Alloy - Matte transition","Alloy - Matte transition","Alloy - Matte transition","Alloy - Matte transition","Alloy - Matte transition","Alloy - Matte transition","Alloy - Matte transition","Alloy - Matte transition","Alloy - Matte transition","Alloy - Matte transition","Alloy - Matte transition","Alloy - Matte transition","Alloy - Matte transition","Alloy - Matte transition","Alloy - Matte transition","Alloy - Matte transition","Alloy - Matte transition","Alloy - Matte transition","Alloy - Matte transition","Alloy - Matte transition","Alloy - Matte transition","Alloy - Matte transition","Alloy - Matte transition","Alloy - Matte transition","Alloy - Matte transition","Alloy - Matte transition","Alloy - Matte transition","Alloy - Matte transition","Alloy - Matte transition","Alloy - Matte transition","Alloy - Matte transition","Alloy - Matte transition","Alloy - Matte transition","Alloy - Matte transition","Alloy - Matte transition","Alloy - Matte transition","Alloy - Matte transition","Alloy - Matte transition","Alloy - Matte transition","Alloy - Matte transition","Alloy - Matte transition","Alloy - Matte transition","Alloy - Matte transition","Alloy - Matte transition","Alloy - Matte transition","Alloy - Matte transition","Alloy - Matte transition","Alloy - Matte transition","Alloy - Matte transition","Alloy - Matte transition","Alloy - Matte transition","Alloy - Matte transition","Alloy - Matte transition","Alloy - Matte transition","Alloy - Matte transition","Alloy - Matte transition","Alloy - Matte transition","Alloy - Matte transition","Alloy - Matte transition","Alloy - Matte transition","Alloy - Matte transition","Alloy - Matte transition","Alloy - Matte transition","Alloy - Matte transition","Alloy - Matte transition","Alloy - Matte transition","Alloy - Matte transition","Alloy - Matte transition","Alloy - Matte transition","Alloy - Matte transition","Alloy - Matte transition","Alloy - Matte transition","Alloy - Matte transition","Alloy - Matte transition","Alloy - Matte transition","Alloy - Matte transition","Alloy - Matte transition","Alloy - Matte transition","Alloy - Matte transition","Alloy - Matte transition","Alloy - Matte transition","Alloy - Matte transition","Alloy - Matte transition","Alloy - Matte transition","Alloy - Matte transition","Alloy - Matte transition","Alloy - Matte transition","Alloy - Matte transition","Alloy - Matte transition","Alloy - Matte transition","Alloy - Matte transition","Alloy - Matte transition","Alloy - Matte transition","Alloy - Matte transition","Alloy - Matte transition","Alloy - Matte transition","Alloy - Matte transition","Alloy - Matte transition","Alloy - Matte transition","Alloy - Matte transition","Alloy - Matte transition","Alloy - Matte transition","Alloy - Matte transition","Alloy - Matte transition","Alloy - Matte transition","Alloy - Matte transition","Alloy - Matte transition","Alloy - Matte transition","Alloy - Matte transition","Alloy - Matte transition","Alloy - Matte transition","Alloy - Matte transition","Alloy - Matte transition","Alloy - Matte transition","Alloy - Matte transition","Alloy - Matte transition","Alloy - Matte transition","Alloy - Matte transition","Alloy - Matte transition","Alloy - Matte transition","Alloy - Matte transition","Alloy - Matte transition","Alloy - Matte transition","Alloy - Matte transition","Alloy - Matte transition","Alloy - Matte transition","Alloy - Matte transition","Alloy - Matte transition","Alloy - Matte transition","Alloy - Matte transition","Alloy - Matte transition","Alloy - Matte transition","Alloy - Matte transition","Alloy - Matte transition","Alloy - Matte transition","Alloy - Matte transition","Alloy - Matte transition","Alloy - Matte transition","Alloy - Matte transition","Alloy - Matte transition","Alloy - Matte transition","Alloy - Matte transition","Alloy - Matte transition","Alloy - Matte transition","Alloy - Matte transition","Alloy - Matte transition","Alloy - Matte transition","Alloy - Matte transition","Alloy - Matte transition","Alloy - Matte transition","Alloy - Matte transition","Alloy - Matte transition","Alloy - Matte transition","Alloy - Matte transition","Alloy - Matte transition","Alloy - Matte transition","Alloy - Matte transition","Alloy - Matte transition","Alloy - Matte transition","Alloy - Matte transition","Alloy - Matte transition","Alloy - Matte transition","Alloy - Matte transition","Alloy - Matte transition","Alloy - Matte transition","Alloy - Matte transition","Alloy - Matte transition","Alloy - Matte transition","Alloy - Matte transition","Alloy - Matte transition","Alloy - Matte transition","Alloy - Matte transition","Alloy - Matte transition","Alloy - Matte transition","Alloy - Matte transition","Alloy - Matte transition","Alloy - Matte transition","Alloy - Matte transition","Alloy - Matte transition","Alloy - Matte transition","Alloy - Matte transition","Alloy - Matte transition","Alloy - Matte transition","Alloy - Matte transition","Alloy - Matte transition","Alloy - Matte transition","Alloy - Matte transition","Alloy - Matte transition","Alloy - Matte transition","Alloy - Matte transition","Alloy - Matte transition","Alloy - Matte transition","Alloy - Matte transition","Alloy - Matte transition","Alloy - Matte transition","Alloy - Matte transition","Alloy - Matte transition","Alloy - Matte transition","Alloy - Matte transition","Alloy - Matte transition","Alloy - Matte transition","Alloy - Matte transition","Alloy - Matte transition","Alloy - Matte transition","Alloy - Matte transition","Alloy - Matte transition","Alloy - Matte transition","Alloy - Matte transition","Alloy - Matte transition","Alloy - Matte transition","Alloy - Matte transition","Alloy - Matte transition","Alloy - Matte transition","Alloy - Matte transition","Alloy - Matte transition","Alloy - Matte transition","Alloy - Matte transition","Alloy - Matte transition","Alloy - Matte transition","Alloy - Matte transition","Alloy - Matte transition","Alloy - Matte transition","Alloy - Matte transition","Alloy - Matte transition","Alloy - Matte transition","Alloy - Matte transition","Alloy - Matte transition","Alloy - Matte transition","Alloy - Matte transition","Alloy - Matte transition","Alloy - Matte transition","Alloy - Matte transition","Alloy - Matte transition","Alloy - Matte transition","Alloy - Matte transition","Alloy - Matte transition","Alloy - Matte transition","Alloy - Matte transition","Alloy - Matte transition","Alloy - Matte transition","Alloy - Matte transition","Alloy - Matte transition","Alloy - Matte transition","Alloy - Matte transition","Alloy - Matte transition","Alloy - Matte transition","Alloy - Matte transition","Alloy - Matte transition","Alloy - Matte transition","Alloy - Matte transition","Alloy - Matte transition","Alloy - Matte transition","Alloy - Matte transition","Alloy - Matte transition","Alloy - Matte transition","Alloy - Matte transition","Alloy - Matte transition","Alloy - Matte transition","Alloy - Matte transition","Alloy - Matte transition","Alloy - Matte transition","Alloy - Matte transition","Alloy - Matte transition","Alloy - Matte transition","Alloy - Matte transition","Alloy - Matte transition","Alloy - Matte transition","Alloy - Matte transition","Alloy - Matte transition","Alloy - Matte transition","Alloy - Matte transition","Alloy - Matte transition","Alloy - Matte transition","Alloy - Matte transition","Alloy - Matte transition","Alloy - Matte transition","Alloy - Matte transition","Alloy - Matte transition","Alloy - Matte transition","Alloy - Matte transition","Alloy - Matte transition","Alloy - Matte transition","Alloy - Matte transition","Alloy - Matte transition","Alloy - Matte transition","Alloy - Matte transition","Alloy - Matte transition","Alloy - Matte transition","Alloy - Matte transition","Alloy - Matte transition","Alloy - Matte transition","Alloy - Matte transition","Alloy - Matte transition","Alloy - Matte transition","Alloy - Matte transition","Alloy - Matte transition","Alloy - Matte transition","Alloy - Matte transition","Alloy - Matte transition","Alloy - Matte transition","Alloy - Matte transition","Alloy - Matte transition","Alloy - Matte transition","Alloy - Matte transition","Alloy - Matte transition","Alloy - Matte transition","Alloy - Matte transition","Alloy - Matte transition","Alloy - Matte transition","Alloy - Matte transition","Alloy - Matte transition","Alloy - Matte transition","Alloy - Matte transition","Alloy - Matte transition","Alloy - Matte transition","Alloy - Matte transition","Alloy - Matte transition","Alloy - Matte transition","Alloy - Matte transition","Alloy - Matte transition","Alloy - Matte transition","Alloy - Matte transition","Alloy - Matte transition","Alloy - Matte transition","Alloy - Matte transition","Alloy - Matte transition","Alloy - Matte transition","Alloy - Matte transition","Alloy - Matte transition","Alloy - Matte transition","Alloy - Matte transition","Alloy - Matte transition","Alloy - Matte transition","Alloy - Matte transition","Alloy - Matte transition","Alloy - Matte transition","Alloy - Matte transition","Alloy - Matte transition","Alloy - Matte transition","Alloy - Matte transition","Alloy - Matte transition","Alloy - Matte transition","Alloy - Matte transition","Alloy - Matte transition","Alloy - Matte transition","Alloy - Matte transition","Alloy - Matte transition","Alloy - Matte transition","Alloy - Matte transition","Alloy - Matte transition","Alloy - Matte transition","Alloy - Matte transition","Alloy - Matte transition","Alloy - Matte transition","Alloy - Matte transition","Alloy - Matte transition","Alloy - Matte transition","Alloy - Matte transition","Alloy - Matte transition","Alloy - Matte transition","Alloy - Matte transition","Alloy - Matte transition","Alloy - Matte transition","Alloy - Matte transition","Alloy - Matte transition","Alloy - Matte transition","Alloy - Matte transition","Alloy - Matte transition","Alloy - Matte transition","Alloy - Matte transition","Alloy - Matte transition","Alloy - Matte transition","Alloy - Matte transition","Alloy - Matte transition","Alloy - Matte transition","Alloy - Matte transition","Alloy - Matte transition","Alloy - Matte transition","Alloy - Matte transition","Alloy - Matte transition","Alloy - Matte transition","Alloy - Matte transition","Alloy - Matte transition","Alloy - Matte transition","Alloy - Matte transition","Alloy - Matte transition","Alloy - Matte transition","Alloy - Matte transition","Alloy - Matte transition","Alloy - Matte transition","Alloy - Matte transition","Alloy - Matte transition","Alloy - Matte transition","Alloy - Matte transition","Alloy - Matte transition","Alloy - Matte transition","Alloy - Matte transition","Alloy - Matte transition","Alloy - Matte transition","Alloy - Matte transition","Alloy - Matte transition","Alloy - Matte transition","Alloy - Matte transition","Alloy - Matte transition","Alloy - Matte transition","Alloy - Matte transition","Alloy - Matte transition","Alloy - Matte transition","Alloy - Matte transition","Alloy - Matte transition","Alloy - Matte transition","Alloy - Matte transition","Alloy - Matte transition","Alloy - Matte transition","Alloy - Matte transition","Alloy - Matte transition","Alloy - Matte transition","Alloy - Matte transition","Alloy - Matte transition","Alloy - Matte transition","Alloy - Matte transition","Alloy - Matte transition","Alloy - Matte transition","Alloy - Matte transition","Alloy - Matte transition","Alloy - Matte transition","Alloy - Matte transition","Alloy - Matte transition","Alloy - Matte transition","Alloy - Matte transition","Alloy - Matte transition","Alloy - Matte transition","Alloy - Matte transition","Alloy - Matte transition","Alloy - Matte transition","Alloy - Matte transition","Alloy - Matte transition","Alloy - Matte transition","Alloy - Matte transition","Alloy - Matte transition","Alloy - Matte transition","Alloy - Matte transition","Alloy - Matte transition","Alloy - Matte transition","Alloy - Matte transition","Alloy - Matte transition","Alloy - Matte transition","Alloy - Matte transition","Alloy - Matte transition","Alloy - Matte transition","Alloy - Matte transition","Alloy - Matte transition","Alloy - Matte transition","Alloy - Matte transition","Alloy - Matte transition","Alloy - Matte transition","Alloy - Matte transition","Alloy - Matte transition","Alloy - Matte transition","Alloy - Matte transition","Alloy - Matte transition","Alloy - Matte transition","Alloy - Matte transition","Alloy - Matte transition","Alloy - Matte transition","Alloy - Matte transition","Alloy - Matte transition","Alloy - Matte transition","Alloy - Matte transition","Alloy - Matte transition","Alloy - Matte transition","Alloy - Matte transition","Alloy - Matte transition","Alloy - Matte transition","Alloy - Matte transition","Alloy - Matte transition","Alloy - Matte transition","Alloy - Matte transition","Alloy - Matte transition","Alloy - Matte transition","Alloy - Matte transition","Alloy - Matte transition","Alloy - Matte transition","Alloy - Matte transition","Alloy - Matte transition","Alloy - Matte transition","Alloy - Matte transition","Alloy - Matte transition","Alloy - Matte transition","Alloy - Matte transition","Alloy - Matte transition","Alloy - Matte transition","Alloy - Matte transition","Alloy - Matte transition","Alloy - Matte transition","Alloy - Matte transition","Alloy - Matte transition","Alloy - Matte transition","Alloy - Matte transition","Alloy - Matte transition","Alloy - Matte transition","Alloy - Matte transition","Alloy - Matte transition","Alloy - Matte transition","Alloy - Matte transition","Alloy - Matte transition","Alloy - Matte transition","Alloy - Matte transition","Alloy - Matte transition","Alloy - Matte transition","Alloy - Matte transition","Alloy - Matte transition","Alloy - Matte transition","Alloy - Matte transition","Alloy - Matte transition","Alloy - Matte transition","Alloy - Matte transition","Alloy - Matte transition","Alloy - Matte transition","Alloy - Matte transition","Alloy - Matte transition","Alloy - Matte transition","Alloy - Matte transition","Alloy - Matte transition","Alloy - Matte transition","Alloy - Matte transition","Alloy - Matte transition","Alloy - Matte transition","Alloy - Matte transition","Alloy - Matte transition","Alloy - Matte transition","Alloy - Matte transition","Alloy - Matte transition","Alloy - Matte transition","Alloy - Matte transition","Alloy - Matte transition","Alloy - Matte transition","Alloy - Matte transition","Alloy - Matte transition","Alloy - Matte transition","Alloy - Matte transition","Alloy - Matte transition","Alloy - Matte transition","Alloy - Matte transition","Alloy - Matte transition","Alloy - Matte transition","Alloy - Matte transition","Alloy - Matte transition","Alloy - Matte transition","Alloy - Matte transition","Alloy - Matte transition","Alloy - Matte transition","Alloy - Matte transition","Alloy - Matte transition","Alloy - Matte transition","Alloy - Matte transition","Alloy - Matte transition","Alloy - Matte transition","Alloy - Matte transition","Alloy - Matte transition","Alloy - Matte transition","Alloy - Matte transition","Alloy - Matte transition","Alloy - Matte transition","Alloy - Matte transition","Alloy - Matte transition","Alloy - Matte transition","Alloy - Matte transition","Alloy - Matte transition","Alloy - Matte transition","Alloy - Matte transition","Alloy - Matte transition","Alloy - Matte transition","Alloy - Matte transition","Alloy - Matte transition","Alloy - Matte transition","Alloy - Matte transition","Alloy - Matte transition","Alloy - Matte transition","Alloy - Matte transition","Alloy - Matte transition","Alloy - Matte transition","Alloy - Matte transition","Alloy - Matte transition","Alloy - Matte transition","Alloy - Matte transition","Alloy - Matte transition","Alloy - Matte transition","Alloy - Matte transition","Alloy - Matte transition","Alloy - Matte transition","Alloy - Matte transition","Alloy - Matte transition","Alloy - Matte transition","Alloy - Matte transition","Alloy - Matte transition","Alloy - Matte transition","Alloy - Matte transition","Alloy - Matte transition","Alloy - Matte transition","Alloy - Matte transition","Alloy - Matte transition","Alloy - Matte transition","Alloy - Matte transition","Alloy - Matte transition","Alloy - Matte transition","Alloy - Matte transition","Alloy - Matte transition","Alloy - Matte transition","Alloy - Matte transition","Alloy - Matte transition","Alloy - Matte transition","Alloy - Matte transition","Alloy - Matte transition","Alloy - Matte transition","Alloy - Matte transition","Alloy - Matte transition","Alloy - Matte transition","Alloy - Matte transition","Alloy - Matte transition","Alloy - Matte transition","Alloy - Matte transition","Alloy - Matte transition","Alloy - Matte transition","Alloy - Matte transition","Alloy - Matte transition","Alloy - Matte transition","Alloy - Matte transition","Alloy - Matte transition","Alloy - Matte transition","Alloy - Matte transition","Alloy - Matte transition","Alloy - Matte transition","Alloy - Matte transition","Alloy - Matte transition","Alloy - Matte transition","Alloy - Matte transition","Alloy - Matte transition","Alloy - Matte transition","Alloy - Matte transition","Alloy - Matte transition","Alloy - Matte transition","Alloy - Matte transition","Alloy - Matte transition","Alloy - Matte transition","Alloy - Matte transition","Alloy - Matte transition","Alloy - Matte transition","Alloy - Matte transition","Alloy - Matte transition","Alloy - Matte transition","Alloy - Matte transition","Alloy - Matte transition","Alloy - Matte transition","Alloy - Matte transition","Alloy - Matte transition","Alloy - Matte transition","Alloy - Matte transition","Alloy - Matte transition","Alloy - Matte transition","Alloy - Matte transition","Alloy - Matte transition","Alloy - Matte transition","Alloy - Matte transition","Alloy - Matte transition","Alloy - Matte transition","Alloy - Matte transition","Alloy - Matte transition","Alloy - Matte transition","Alloy - Matte transition","Alloy - Matte transition","Alloy - Matte transition","Alloy - Matte transition","Alloy - Matte transition","Alloy - Matte transition","Alloy - Matte transition","Alloy - Matte transition","Alloy - Matte transition","Alloy - Matte transition","Alloy - Matte transition","Alloy - Matte transition","Alloy - Matte transition","Alloy - Matte transition","Alloy - Matte transition","Alloy - Matte transition","Alloy - Matte transition","Alloy - Matte transition","Alloy - Matte transition","Alloy - Matte transition","Alloy - Matte transition","Alloy - Matte transition","Alloy - Matte transition","Alloy - Matte transition","Alloy - Matte transition","Alloy - Matte transition","Alloy - Matte transition","Alloy - Matte transition","Alloy - Matte transition","Alloy - Matte transition","Alloy - Matte transition","Alloy - Matte transition","Alloy - Matte transition","Alloy - Matte transition","Alloy - Matte transition","Alloy - Matte transition","Alloy - Matte transition","Alloy - Matte transition","Alloy - Matte transition","Alloy - Matte transition","Alloy - Matte transition","Alloy - Matte transition","Alloy - Matte transition","Alloy - Matte transition","Alloy - Matte transition","Alloy - Matte transition","Alloy - Matte transition","Alloy - Matte transition","Alloy - Matte transition","Alloy - Matte transition","Alloy - Matte transition","Alloy - Matte transition","Alloy - Matte transition","Alloy - Matte transition","Alloy - Matte transition","Alloy - Matte transition","Alloy - Matte transition","Alloy - Matte transition","Alloy - Matte transition","Alloy - Matte transition","Alloy - Matte transition","Alloy - Matte transition","Alloy - Matte transition","Alloy - Matte transition","Alloy - Matte transition","Alloy - Matte transition","Alloy - Matte transition","Alloy - Matte transition","Alloy - Matte transition","Alloy - Matte transition","Alloy - Matte transition","Alloy - Matte transition","Alloy - Matte transition","Alloy - Matte transition","Alloy - Matte transition","Alloy - Matte transition","Alloy - Matte transition","Alloy - Matte transition","Alloy - Matte transition","Alloy - Matte transition","Alloy - Matte transition","Alloy - Matte transition","Alloy - Matte transition","Alloy - Matte transition","Alloy - Matte transition","Alloy - Matte transition","Alloy - Matte transition","Alloy - Matte transition","Alloy - Matte transition","Alloy - Matte transition","Alloy - Matte transition","Alloy - Matte transition","Alloy - Matte transition","Alloy - Matte transition","Alloy - Matte transition","Alloy - Matte transition","Alloy - Matte transition","Alloy - Matte transition","Alloy - Matte transition","Alloy - Matte transition","Alloy - Matte transition","Alloy - Matte transition","Alloy - Matte transition","Alloy - Matte transition","Alloy - Matte transition","Alloy - Matte transition","Alloy - Matte transition","Alloy - Matte transition","Alloy - Matte transition","Alloy - Matte transition","Alloy - Matte transition","Alloy - Matte transition","Alloy - Matte transition","Alloy - Matte transition","Alloy - Matte transition","Alloy - Matte transition","Alloy - Matte transition","Alloy - Matte transition","Alloy - Matte transition","Alloy - Matte transition","Alloy - Matte transition","Alloy - Matte transition","Alloy - Matte transition","Alloy - Matte transition","Alloy - Matte transition","Alloy - Matte transition","Alloy - Matte transition","Alloy - Matte transition","Alloy - Matte transition","Alloy - Matte transition","Alloy - Matte transition","Alloy - Matte transition","Alloy - Matte transition","Alloy - Matte transition","Alloy - Matte transition","Alloy - Matte transition","Alloy - Matte transition","Alloy - Matte transition","Alloy - Matte transition","Alloy - Matte transition","Alloy - Matte transition","Alloy - Matte transition","Alloy - Matte transition","Alloy - Matte transition","Alloy - Matte transition","Alloy - Matte transition","Alloy - Matte transition","Alloy - Matte transition","Alloy - Matte transition","Alloy - Matte transition","Alloy - Matte transition","Alloy - Matte transition","Alloy - Matte transition","Alloy - Matte transition","Alloy - Matte transition","Alloy - Matte transition","Alloy - Matte transition","Alloy - Matte transition","Alloy - Matte transition","Alloy - Matte transition","Alloy - Matte transition","Alloy - Matte transition","Alloy - Matte transition","Alloy - Matte transition","Alloy - Matte transition","Alloy - Matte transition","Alloy - Matte transition","Alloy - Matte transition","Alloy - Matte transition","Alloy - Matte transition","Alloy - Matte transition","Alloy - Matte transition","Alloy - Matte transition","Alloy - Matte transition","Alloy - Matte transition","Alloy - Matte transition","Alloy - Matte transition","Alloy - Matte transition","Alloy - Matte transition","Alloy - Matte transition","Alloy - Matte transition","Alloy - Matte transition","Alloy - Matte transition","Alloy - Matte transition","Alloy - Matte transition","Alloy - Matte transition","Alloy - Matte transition","Alloy - Matte transition","Alloy - Matte transition","Alloy - Matte transition","Alloy - Matte transition","Alloy - Matte transition","Alloy - Matte transition","Alloy - Matte transition","Alloy - Matte transition","Alloy - Matte transition","Alloy - Matte transition","Alloy - Matte transition","Alloy - Matte transition","Alloy - Matte transition","Alloy - Matte transition","Alloy - Matte transition","Alloy - Matte transition","Alloy - Matte transition","Alloy - Matte transition","Alloy - Matte transition","Alloy - Matte transition","Alloy - Matte transition","Alloy - Matte transition","Alloy - Matte transition","Alloy - Matte transition","Alloy - Matte transition","Alloy - Matte transition","Alloy - Matte transition","Alloy - Matte transition","Alloy - Matte transition","Alloy - Matte transition","Alloy - Matte transition","Alloy - Matte transition","Alloy - Matte transition","Alloy - Matte transition","Alloy - Matte transition","Alloy - Matte transition","Alloy - Matte transition","Alloy - Matte transition","Alloy - Matte transition","Alloy - Matte transition","Alloy - Matte transition","Alloy - Matte transition","Alloy - Matte transition","Alloy - Matte transition","Alloy - Matte transition","Alloy - Matte transition","Alloy - Matte transition","Alloy - Matte transition","Alloy - Matte transition","Alloy - Matte transition","Alloy - Matte transition","Alloy - Matte transition","Alloy - Matte transition","Alloy - Matte transition","Alloy - Matte transition","Alloy - Matte transition","Alloy - Matte transition","Alloy - Matte transition","Alloy - Matte transition","Alloy - Matte transition","Alloy - Matte transition","Alloy - Matte transition","Alloy - Matte transition","Alloy - Matte transition","Alloy - Matte transition","Alloy - Matte transition","Alloy - Matte transition","Alloy - Matte transition","Alloy - Matte transition","Alloy - Matte transition","Alloy - Matte transition","Alloy - Matte transition","Alloy - Matte transition","Alloy - Matte transition","Alloy - Matte transition","Alloy - Matte transition","Alloy - Matte transition","Alloy - Matte transition","Alloy - Matte transition","Alloy - Matte transition","Alloy - Matte transition","Alloy - Matte transition","Alloy - Matte transition","Alloy - Matte transition","Alloy - Matte transition","Alloy - Matte transition","Alloy - Matte transition","Alloy - Matte transition","Alloy - Matte transition","Alloy - Matte transition","Alloy - Matte transition","Alloy - Matte transition","Alloy - Matte transition","Alloy - Matte transition","Alloy - Matte transition","Alloy - Matte transition","Alloy - Matte transition","Alloy - Matte transition","Alloy - Matte transition","Alloy - Matte transition","Alloy - Matte transition","Alloy - Matte transition","Alloy - Matte transition","Alloy - Matte transition","Alloy - Matte transition","Alloy - Matte transition","Alloy - Matte transition","Alloy - Matte transition","Alloy - Matte transition","Alloy - Matte transition","Alloy - Matte transition","Alloy - Matte transition","Alloy - Matte transition","Alloy - Matte transition","Alloy - Matte transition","Alloy - Matte transition","Alloy - Matte transition","Alloy - Matte transition","Alloy - Matte transition","Alloy - Matte transition","Alloy - Matte transition","Alloy - Matte transition","Alloy - Matte transition","Alloy - Matte transition","Alloy - Matte transition","Alloy - Matte transition","Alloy - Matte transition","Alloy - Matte transition","Alloy - Matte transition","Alloy - Matte transition","Alloy - Matte transition","Alloy - Matte transition","Alloy - Matte transition","Alloy - Matte transition","Alloy - Matte transition","Alloy - Matte transition","Alloy - Matte transition","Alloy - Matte transition","Alloy - Matte transition","Alloy - Matte transition","Alloy - Matte transition","Alloy - Matte transition","Alloy - Matte transition","Alloy - Matte transition","Alloy - Matte transition","Alloy - Matte transition","Alloy - Matte transition","Alloy - Matte transition","Alloy - Matte transition","Alloy - Matte transition","Alloy - Matte transition","Alloy - Matte transition","Alloy - Matte transition","Alloy - Matte transition","Alloy - Matte transition","Alloy - Matte transition","Alloy - Matte transition","Alloy - Matte transition","Alloy - Matte transition","Alloy - Matte transition","Alloy - Matte transition","Alloy - Matte transition","Alloy - Matte transition","Alloy - Matte transition","Alloy - Matte transition","Alloy - Matte transition","Alloy - Matte transition","Alloy - Matte transition","Alloy - Matte transition","Alloy - Matte transition","Alloy - Matte transition","Alloy - Matte transition","Alloy - Matte transition","Alloy - Matte transition","Alloy - Matte transition","Alloy - Matte transition","Alloy - Matte transition","Alloy - Matte transition","Alloy - Matte transition","Alloy - Matte transition","Alloy - Matte transition","Alloy - Matte transition","Alloy - Matte transition","Alloy - Matte transition","Alloy - Matte transition","Alloy - Matte transition","Alloy - Matte transition","Alloy - Matte transition","Alloy - Matte transition","Alloy - Matte transition","Alloy - Matte transition","Alloy - Matte transition","Alloy - Matte transition","Alloy - Matte transition","Alloy - Matte transition","Alloy - Matte transition","Alloy - Matte transition","Alloy - Matte transition","Alloy - Matte transition","Alloy - Matte transition","Alloy - Matte transition","Alloy - Matte transition","Alloy - Matte transition","Alloy - Matte transition","Alloy - Matte transition","Alloy - Matte transition","Alloy - Matte transition","Alloy - Matte transition","Alloy - Matte transition","Alloy - Matte transition","Alloy - Matte transition","Alloy - Matte transition","Alloy - Matte transition","Alloy - Matte transition","Alloy - Matte transition","Alloy - Matte transition","Alloy - Matte transition","Alloy - Matte transition","Alloy - Matte transition","Alloy - Matte transition","Alloy - Matte transition","Alloy - Matte transition","Alloy - Matte transition","Alloy - Matte transition","Alloy - Matte transition","Alloy - Matte transition","Alloy - Matte transition","Alloy - Matte transition","Alloy - Matte transition","Alloy - Matte transition","Alloy - Matte transition","Alloy - Matte transition","Alloy - Matte transition","Alloy - Matte transition","Alloy - Matte transition","Alloy - Matte transition","Alloy - Matte transition","Alloy - Matte transition","Alloy - Matte transition","Alloy - Matte transition","Alloy - Matte transition","Alloy - Matte transition","Alloy - Matte transition","Alloy - Matte transition","Alloy - Matte transition","Alloy - Matte transition","Alloy - Matte transition","Alloy - Matte transition","Alloy - Matte transition","Alloy - Matte transition","Alloy - Matte transition","Alloy - Matte transition","Alloy - Matte transition","Alloy - Matte transition","Alloy - Matte transition","Alloy - Matte transition","Alloy - Matte transition","Alloy - Matte transition","Alloy - Matte transition","Alloy - Matte transition","Alloy - Matte transition","Alloy - Matte transition","Alloy - Matte transition","Alloy - Matte transition","Alloy - Matte transition","Alloy - Matte transition","Alloy - Matte transition","Alloy - Matte transition","Alloy - Matte transition","Alloy - Matte transition","Alloy - Matte transition","Alloy - Matte transition","Alloy - Matte transition","Alloy - Matte transition","Alloy - Matte transition","Alloy - Matte transition","Alloy - Matte transition","Alloy - Matte transition","Alloy - Matte transition","Alloy - Matte transition","Alloy - Matte transition","Alloy - Matte transition","Alloy - Matte transition","Alloy - Matte transition","Alloy - Matte transition","Alloy - Matte transition","Alloy - Matte transition","Alloy - Matte transition","Alloy - Matte transition","Alloy - Matte transition","Alloy - Matte transition","Alloy - Matte transition","Alloy - Matte transition","Alloy - Matte transition","Alloy - Matte transition","Alloy - Matte transition","Alloy - Matte transition","Alloy - Matte transition","Alloy - Matte transition","Alloy - Matte transition","Alloy - Matte transition","Alloy - Matte transition","Alloy - Matte transition","Alloy - Matte transition","Alloy - Matte transition","Alloy - Matte transition","Alloy - Matte transition","Alloy - Matte transition","Alloy - Matte transition","Alloy - Matte transition","Alloy - Matte transition","Alloy - Matte transition","Alloy - Matte transition","Alloy - Matte transition","Alloy - Matte transition","Alloy - Matte transition","Alloy - Matte transition","Alloy - Matte transition","Alloy - Matte transition","Alloy - Matte transition","Alloy - Matte transition","Alloy - Matte transition","Alloy - Matte transition","Alloy - Matte transition","Alloy - Matte transition","Alloy - Matte transition","Alloy - Matte transition","Alloy - Matte transition","Alloy - Matte transition","Alloy - Matte transition","Alloy - Matte transition","Alloy - Matte transition","Alloy - Matte transition","Alloy - Matte transition","Alloy - Matte transition","Alloy - Matte transition","Alloy - Matte transition","Alloy - Matte transition","Alloy - Matte transition","Alloy - Matte transition","Alloy - Matte transition","Alloy - Matte transition","Alloy - Matte transition","Alloy - Matte transition","Alloy - Matte transition","Alloy - Matte transition","Alloy - Matte transition","Alloy - Matte transition","Alloy - Matte transition","Alloy - Matte transition","Alloy - Matte transition","Alloy - Matte transition","Alloy - Matte transition","Alloy - Matte transition","Alloy - Matte transition","Alloy - Matte transition","Alloy - Matte transition","Alloy - Matte transition","Alloy - Matte transition","Alloy - Matte transition","Alloy - Matte transition","Alloy - Matte transition","Alloy - Matte transition","Alloy - Matte transition","Alloy - Matte transition","Alloy - Matte transition","Alloy - Matte transition","Alloy - Matte transition","Alloy - Matte transition","Alloy - Matte transition","Alloy - Matte transition","Alloy - Matte transition","Alloy - Matte transition","Alloy - Matte transition","Alloy - Matte transition","Alloy - Matte transition","Alloy - Matte transition","Alloy - Matte transition","Alloy - Matte transition","Alloy - Matte transition","Alloy - Matte transition","Alloy - Matte transition","Alloy - Matte transition","Alloy - Matte transition","Alloy - Matte transition","Alloy - Matte transition","Alloy - Matte transition","Alloy - Matte transition","Alloy - Matte transition","Alloy - Matte transition","Alloy - Matte transition","Alloy - Matte transition","Alloy - Matte transition","Alloy - Matte transition","Alloy - Matte transition","Alloy - Matte transition","Alloy - Matte transition","Alloy - Matte transition","Alloy - Matte transition","Alloy - Matte transition","Alloy - Matte transition","Alloy - Matte transition","Alloy - Matte transition","Alloy - Matte transition","Alloy - Matte transition","Alloy - Matte transition","Alloy - Matte transition","Alloy - Matte transition","Alloy - Matte transition","Alloy - Matte transition","Alloy - Matte transition","Alloy - Matte transition","Alloy - Matte transition","Alloy - Matte transition","Alloy - Matte transition","Alloy - Matte transition","Alloy - Matte transition","Alloy - Matte transition","Alloy - Matte transition","Alloy - Matte transition","Alloy - Matte transition","Alloy - Matte transition","Alloy - Matte transition","Alloy - Matte transition","Alloy - Matte transition","Alloy - Matte transition","Alloy - Matte transition","Alloy - Matte transition","Alloy - Matte transition","Alloy - Matte transition","Alloy - Matte transition","Alloy - Matte transition","Alloy - Matte transition","Alloy - Matte transition","Alloy - Matte transition","Alloy - Matte transition","Alloy - Matte transition","Alloy - Matte transition","Alloy - Matte transition","Alloy - Matte transition","Alloy - Matte transition","Alloy - Matte transition","Alloy - Matte transition","Alloy - Matte transition","Alloy - Matte transition","Alloy - Matte transition","Alloy - Matte transition","Alloy - Matte transition","Alloy - Matte transition","Alloy - Matte transition","Alloy - Matte transition","Alloy - Matte transition","Alloy - Matte transition","Alloy - Matte transition","Alloy - Matte transition","Alloy - Matte transition","Alloy - Matte transition","Alloy - Matte transition","Alloy - Matte transition","Alloy - Matte transition","Alloy - Matte transition","Alloy - Matte transition","Alloy - Matte transition","Alloy - Matte transition","Alloy - Matte transition","Alloy - Matte transition","Alloy - Matte transition","Alloy - Matte transition","Alloy - Matte transition","Alloy - Matte transition","Alloy - Matte transition","Alloy - Matte transition","Alloy - Matte transition","Alloy - Matte transition","Alloy - Matte transition","Alloy - Matte transition","Alloy - Matte transition","Alloy - Matte transition","Alloy - Matte transition","Alloy - Matte transition","Alloy - Matte transition","Alloy - Matte transition","Alloy - Matte transition","Alloy - Matte transition","Alloy - Matte transition","Alloy - Matte transition","Alloy - Matte transition","Alloy - Matte transition","Alloy - Matte transition","Alloy - Matte transition","Alloy - Matte transition","Alloy - Matte transition","Alloy - Matte transition","Alloy - Matte transition","Alloy - Matte transition","Alloy - Matte transition","Alloy - Matte transition","Alloy - Matte transition","Alloy - Matte transition","Alloy - Matte transition","Alloy - Matte transition","Alloy - Matte transition","Alloy - Matte transition","Alloy - Matte transition","Alloy - Matte transition","Alloy - Matte transition","Alloy - Matte transition","Alloy - Matte transition","Alloy - Matte transition","Alloy - Matte transition","Alloy - Matte transition","Alloy - Matte transition","Alloy - Matte transition","Alloy - Matte transition","Alloy - Matte transition","Alloy - Matte transition","Alloy - Matte transition","Alloy - Matte transition","Alloy - Matte transition","Alloy - Matte transition","Alloy - Matte transition","Alloy - Matte transition","Alloy - Matte transition","Alloy - Matte transition","Alloy - Matte transition","Alloy - Matte transition","Alloy - Matte transition","Alloy - Matte transition","Alloy - Matte transition","Alloy - Matte transition","Alloy - Matte transition","Alloy - Matte transition","Alloy - Matte transition","Alloy - Matte transition","Alloy - Matte transition","Alloy - Matte transition","Alloy - Matte transition","Alloy - Matte transition","Alloy - Matte transition","Alloy - Matte transition","Alloy - Matte transition","Alloy - Matte transition","Alloy - Matte transition","Alloy - Matte transition","Alloy - Matte transition","Alloy - Matte transition","Alloy - Matte transition","Alloy - Matte transition","Alloy - Matte transition","Alloy - Matte transition","Alloy - Matte transition","Alloy - Matte transition","Alloy - Matte transition","Alloy - Matte transition","Alloy - Matte transition","Alloy - Matte transition","Alloy - Matte transition","Alloy - Matte transition","Alloy - Matte transition","Alloy - Matte transition","Alloy - Matte transition","Alloy - Matte transition","Alloy - Matte transition","Alloy - Matte transition","Alloy - Matte transition","Alloy - Matte transition","Alloy - Matte transition","Alloy - Matte transition","Alloy - Matte transition","Alloy - Matte transition","Alloy - Matte transition","Alloy - Matte transition","Alloy - Matte transition","Alloy - Matte transition","Alloy - Matte transition","Alloy - Matte transition","Alloy - Matte transition","Alloy - Matte transition","Alloy - Matte transition","Alloy - Matte transition","Alloy - Matte transition","Alloy - Matte transition","Alloy - Matte transition","Alloy - Matte transition","Alloy - Matte transition","Alloy - Matte transition","Alloy - Matte transition","Alloy - Matte transition","Alloy - Matte transition","Alloy - Matte transition","Alloy - Matte transition","Alloy - Matte transition","Alloy - Matte transition","Alloy - Matte transition","Alloy - Matte transition","Alloy - Matte transition","Alloy - Matte transition","Alloy - Matte transition","Alloy - Matte transition","Alloy - Matte transition","Alloy - Matte transition","Alloy - Matte transition","Alloy - Matte transition","Alloy - Matte transition","Alloy - Matte transition","Alloy - Matte transition","Alloy - Matte transition","Alloy - Matte transition","Alloy - Matte transition","Alloy - Matte transition","Alloy - Matte transition","Alloy - Matte transition","Alloy - Matte transition","Alloy - Matte transition","Alloy - Matte transition","Alloy - Matte transition","Alloy - Matte transition","Alloy - Matte transition","Alloy - Matte transition","Alloy - Matte transition","Alloy - Matte transition","Alloy - Matte transition","Alloy - Matte transition","Alloy - Matte transition","Alloy - Matte transition","Alloy - Matte transition","Alloy - Matte transition","Alloy - Matte transition","Alloy - Matte transition","Alloy - Matte transition","Alloy - Matte transition","Alloy - Matte transition","Alloy - Matte transition","Alloy - Matte transition","Alloy - Matte transition","Alloy - Matte transition","Alloy - Matte transition","Alloy - Matte transition","Alloy - Matte transition","Alloy - Matte transition","Alloy - Matte transition","Alloy - Matte transition","Alloy - Matte transition","Alloy - Matte transition","Alloy - Matte transition","Alloy - Matte transition","Alloy - Matte transition","Alloy - Matte transition","Alloy - Matte transition","Alloy - Matte transition","Alloy - Matte transition","Alloy - Matte transition","Alloy - Matte transition","Alloy - Matte transition","Alloy - Matte transition","Alloy - Matte transition","Alloy - Matte transition","Alloy - Matte transition","Alloy - Matte transition","Alloy - Matte transition","Alloy - Matte transition","Alloy - Matte transition","Alloy - Matte transition","Alloy - Matte transition","Alloy - Matte transition","Alloy - Matte transition","Alloy - Matte transition","Alloy - Matte transition","Alloy - Matte transition","Alloy - Matte transition","Alloy - Matte transition","Alloy - Matte transition","Alloy - Matte transition","Alloy - Matte transition","Alloy - Matte transition","Alloy - Matte transition","Alloy - Matte transition","Alloy - Matte transition","Alloy - Matte transition","Alloy - Matte transition","Alloy - Matte transition","Alloy - Matte transition","Alloy - Matte transition","Alloy - Matte transition","Alloy - Matte transition","Alloy - Matte transition","Alloy - Matte transition","Alloy - Matte transition","Alloy - Matte transition","Alloy - Matte transition","Alloy - Matte transition","Alloy - Matte transition","Alloy - Matte transition","Alloy - Matte transition","Alloy - Matte transition","Alloy - Matte transition","Alloy - Matte transition","Alloy - Matte transition","Alloy - Matte transition","Alloy - Matte transition","Alloy - Matte transition","Alloy - Matte transition","Alloy - Matte transition","Alloy - Matte transition","Alloy - Matte transition","Alloy - Matte transition","Alloy - Matte transition","Alloy - Matte transition","Alloy - Matte transition","Alloy - Matte transition","Alloy - Matte transition","Alloy - Matte transition","Alloy - Matte transition","Alloy - Matte transition","Alloy - Matte transition","Alloy - Matte transition","Alloy - Matte transition","Alloy - Matte transition","Alloy - Matte transition","Alloy - Matte transition","Alloy - Matte transition","Alloy - Matte transition","Alloy - Matte transition","Alloy - Matte transition","Alloy - Matte transition","Alloy - Matte transition","Alloy - Matte transition","Alloy - Matte transition","Alloy - Matte transition","Alloy - Matte transition","Alloy - Matte transition","Alloy - Matte transition","Alloy - Matte transition","Alloy - Matte transition","Alloy - Matte transition","Alloy - Matte transition","Alloy - Matte transition","Alloy - Matte transition","Alloy - Matte transition","Alloy - Matte transition","Alloy - Matte transition","Alloy - Matte transition","Alloy - Matte transition","Alloy - Matte transition","Alloy - Matte transition","Alloy - Matte transition","Alloy - Matte transition","Alloy - Matte transition","Alloy - Matte transition","Alloy - Matte transition","Alloy - Matte transition","Alloy - Matte transition","Alloy - Matte transition","Alloy - Matte transition","Alloy - Matte transition","Alloy - Matte transition","Alloy - Matte transition","Alloy - Matte transition","Alloy - Matte transition","Alloy - Matte transition","Alloy - Matte transition","Alloy - Matte transition","Alloy - Matte transition","Alloy - Matte transition","Alloy - Matte transition","Alloy - Matte transition","Alloy - Matte transition","Alloy - Matte transition","Alloy - Matte transition","Alloy - Matte transition","Alloy - Matte transition","Alloy - Matte transition","Alloy - Matte transition","Alloy - Matte transition","Alloy - Matte transition","Alloy - Matte transition","Alloy - Matte transition","Alloy - Matte transition","Alloy - Matte transition","Alloy - Matte transition","Alloy - Matte transition","Alloy - Matte transition","Alloy - Matte transition","Alloy - Matte transition","Alloy - Matte transition","Alloy - Matte transition","Alloy - Matte transition","Alloy - Matte transition","Alloy - Matte transition","Alloy - Matte transition","Alloy - Matte transition","Alloy - Matte transition","Alloy - Matte transition","Alloy - Matte transition","Alloy - Matte transition","Alloy - Matte transition","Alloy - Matte transition","Alloy - Matte transition","Alloy - Matte transition","Alloy - Matte transition","Alloy - Matte transition","Alloy - Matte transition","Alloy - Matte transition","Alloy - Matte transition","Alloy - Matte transition","Alloy - Matte transition","Alloy - Matte transition","Alloy - Matte transition","Alloy - Matte transition","Alloy - Matte transition","Alloy - Matte transition","Alloy - Matte transition","Alloy - Matte transition","Alloy - Matte transition","Alloy - Matte transition","Alloy - Matte transition","Alloy - Matte transition","Alloy - Matte transition","Alloy - Matte transition","Alloy - Matte transition","Alloy - Matte transition","Alloy - Matte transition","Alloy - Matte transition","Alloy - Matte transition","Alloy - Matte transition","Alloy - Matte transition","Alloy - Matte transition","Alloy - Matte transition","Alloy - Matte transition","Alloy - Matte transition","Alloy - Matte transition","Alloy - Matte transition","Alloy - Matte transition","Alloy - Matte transition","Alloy - Matte transition","Alloy - Matte transition","Alloy - Matte transition","Alloy - Matte transition","Alloy - Matte transition","Alloy - Matte transition","Alloy - Matte transition","Alloy - Matte transition","Alloy - Matte transition","Alloy - Matte transition","Alloy - Matte transition","Alloy - Matte transition","Alloy - Matte transition","Alloy - Matte transition","Alloy - Matte transition","Alloy - Matte transition","Alloy - Matte transition","Alloy - Matte transition","Alloy - Matte transition","Alloy - Matte transition","Alloy - Matte transition","Alloy - Matte transition","Alloy - Matte transition","Alloy - Matte transition","Alloy - Matte transition","Alloy - Matte transition","Alloy - Matte transition","Alloy - Matte transition","Alloy - Matte transition","Alloy - Matte transition","Alloy - Matte transition","Alloy - Matte transition","Alloy - Matte transition","Alloy - Matte transition","Alloy - Matte transition","Alloy - Matte transition","Alloy - Matte transition","Alloy - Matte transition","Alloy - Matte transition","Alloy - Matte transition","Alloy - Matte transition","Alloy - Matte transition","Alloy - Matte transition","Alloy - Matte transition","Alloy - Matte transition","Alloy - Matte transition","Alloy - Matte transition","Alloy - Matte transition","Alloy - Matte transition","Alloy - Matte transition","Alloy - Matte transition","Alloy - Matte transition","Alloy - Matte transition","Alloy - Matte transition","Alloy - Matte transition","Alloy - Matte transition","Alloy - Matte transition","Alloy - Matte transition","Alloy - Matte transition","Alloy - Matte transition","Alloy - Matte transition","Alloy - Matte transition","Alloy - Matte transition","Alloy - Matte transition","Alloy - Matte transition","Alloy - Matte transition","Alloy - Matte transition","Alloy - Matte transition","Alloy - Matte transition","Alloy - Matte transition","Alloy - Matte transition","Alloy - Matte transition","Alloy - Matte transition","Alloy - Matte transition","Alloy - Matte transition","Alloy - Matte transition","Alloy - Matte transition","Alloy - Matte transition","Alloy - Matte transition","Alloy - Matte transition","Alloy - Matte transition","Alloy - Matte transition","Alloy - Matte transition","Alloy - Matte transition","Alloy - Matte transition","Alloy - Matte transition","Alloy - Matte transition","Alloy - Matte transition","Alloy - Matte transition","Alloy - Matte transition","Alloy - Matte transition","Alloy - Matte transition","Alloy - Matte transition","Alloy - Matte transition","Alloy - Matte transition","Alloy - Matte transition","Alloy - Matte transition","Alloy - Matte transition","Alloy - Matte transition","Alloy - Matte transition","Alloy - Matte transition","Alloy - Matte transition","Alloy - Matte transition","Alloy - Matte transition","Alloy - Matte transition","Alloy - Matte transition","Alloy - Matte transition","Alloy - Matte transition","Alloy - Matte transition","Alloy - Matte transition","Alloy - Matte transition","Alloy - Matte transition","Alloy - Matte transition","Alloy - Matte transition","Alloy - Matte transition","Alloy - Matte transition","Alloy - Matte transition","Alloy - Matte transition","Alloy - Matte transition","Alloy - Matte transition","Alloy - Matte transition","Alloy - Matte transition","Alloy - Matte transition","Alloy - Matte transition","Alloy - Matte transition","Alloy - Matte transition","Alloy - Matte transition","Alloy - Matte transition","Alloy - Matte transition","Alloy - Matte transition","Alloy - Matte transition","Alloy - Matte transition","Alloy - Matte transition","Alloy - Matte transition","Alloy - Matte transition","Alloy - Matte transition","Alloy - Matte transition","Alloy - Matte transition","Alloy - Matte transition","Alloy - Matte transition","Alloy - Matte transition","Alloy - Matte transition","Alloy - Matte transition","Alloy - Matte transition","Alloy - Matte transition","Alloy - Matte transition","Alloy - Matte transition","Alloy - Matte transition","Alloy - Matte transition","Alloy - Matte transition","Alloy - Matte transition","Alloy - Matte transition","Alloy - Matte transition","Alloy - Matte transition","Alloy - Matte transition","Alloy - Matte transition","Alloy - Matte transition","Alloy - Matte transition","Alloy - Matte transition","Alloy - Matte transition","Alloy - Matte transition","Alloy - Matte transition","Alloy - Matte transition","Alloy - Matte transition","Alloy - Matte transition","Alloy - Matte transition","Alloy - Matte transition","Alloy - Matte transition","Alloy - Matte transition","Alloy - Matte transition","Alloy - Matte transition","Alloy - Matte transition","Alloy - Matte transition","Alloy - Matte transition","Alloy - Matte transition","Alloy - Matte transition","Alloy - Matte transition","Alloy - Matte transition","Alloy - Matte transition","Alloy - Matte transition","Alloy - Matte transition","Alloy - Matte transition","Alloy - Matte transition","Alloy - Matte transition","Alloy - Matte transition","Alloy - Matte transition","Alloy - Matte transition","Alloy - Matte transition","Alloy - Matte transition","Alloy - Matte transition","Alloy - Matte transition","Alloy - Matte transition","Alloy - Matte transition","Alloy - Matte transition","Alloy - Matte transition","Alloy - Matte transition","Alloy - Matte transition","Alloy - Matte transition","Alloy - Matte transition","Alloy - Matte transition","Alloy - Matte transition","Alloy - Matte transition","Alloy - Matte transition","Alloy - Matte transition","Alloy - Matte transition","Alloy - Matte transition","Alloy - Matte transition","Alloy - Matte transition","Alloy - Matte transition","Alloy - Matte transition","Alloy - Matte transition","Alloy - Matte transition","Alloy - Matte transition","Alloy - Matte transition","Alloy - Matte transition","Alloy - Matte transition","Alloy - Matte transition","Alloy - Matte transition","Alloy - Matte transition","Alloy - Matte transition","Alloy - Matte transition","Alloy - Matte transition","Alloy - Matte transition","Alloy - Matte transition","Alloy - Matte transition","Alloy - Matte transition","Alloy - Matte transition","Alloy - Matte transition","Alloy - Matte transition","Alloy - Matte transition","Alloy - Matte transition","Alloy - Matte transition","Alloy - Matte transition","Alloy - Matte transition","Alloy - Matte transition","Alloy - Matte transition","Alloy - Matte transition","Alloy - Matte transition","Alloy - Matte transition","Alloy - Matte transition","Alloy - Matte transition","Alloy - Matte transition","Alloy - Matte transition","Alloy - Matte transition","Alloy - Matte transition","Alloy - Matte transition","Alloy - Matte transition","Alloy - Matte transition","Alloy - Matte transition","Alloy - Matte transition","Alloy - Matte transition","Alloy - Matte transition","Alloy - Matte transition","Alloy - Matte transition","Alloy - Matte transition","Alloy - Matte transition","Alloy - Matte transition","Alloy - Matte transition","Alloy - Matte transition","Alloy - Matte transition","Alloy - Matte transition","Alloy - Matte transition","Alloy - Matte transition","Alloy - Matte transition","Alloy - Matte transition","Alloy - Matte transition","Alloy - Matte transition","Alloy - Matte transition","Alloy - Matte transition","Alloy - Matte transition","Alloy - Matte transition","Alloy - Matte transition","Alloy - Matte transition","Alloy - Matte transition","Alloy - Matte transition","Alloy - Matte transition","Alloy - Matte transition","Alloy - Matte transition","Alloy - Matte transition","Alloy - Matte transition","Alloy - Matte transition","Alloy - Matte transition","Alloy - Matte transition","Alloy - Matte transition","Alloy - Matte transition","Alloy - Matte transition","Alloy - Matte transition","Alloy - Matte transition","Alloy - Matte transition","Alloy - Matte transition","Alloy - Matte transition","Alloy - Matte transition","Alloy - Matte transition","Alloy - Matte transition","Alloy - Matte transition","Alloy - Matte transition","Alloy - Matte transition","Alloy - Matte transition","Alloy - Matte transition","Alloy - Matte transition","Alloy - Matte transition","Alloy - Matte transition","Alloy - Matte transition","Alloy - Matte transition","Alloy - Matte transition","Alloy - Matte transition","Alloy - Matte transition","Alloy - Matte transition","Alloy - Matte transition","Alloy - Matte transition","Alloy - Matte transition","Alloy - Matte transition","Alloy - Matte transition","Alloy - Matte transition","Alloy - Matte transition","Alloy - Matte transition","Alloy - Matte transition","Alloy - Matte transition","Alloy - Matte transition","Alloy - Matte transition","Alloy - Matte transition","Alloy - Matte transition","Alloy - Matte transition","Alloy - Matte transition","Alloy - Matte transition","Alloy - Matte transition","Alloy - Matte transition","Alloy - Matte transition","Alloy - Matte transition","Alloy - Matte transition","Alloy - Matte transition","Alloy - Matte transition","Alloy - Matte transition","Alloy - Matte transition","Alloy - Matte transition","Alloy - Matte transition","Alloy - Matte transition","Alloy - Matte transition","Alloy - Matte transition","Alloy - Matte transition","Alloy - Matte transition","Alloy - Matte transition","Alloy - Matte transition","Alloy - Matte transition","Alloy - Matte transition","Alloy - Matte transition","Alloy - Matte transition","Alloy - Matte transition","Alloy - Matte transition","Alloy - Matte transition","Alloy - Matte transition","Alloy - Matte transition","Alloy - Matte transition","Alloy - Matte transition","Alloy - Matte transition","Alloy - Matte transition","Alloy - Matte transition","Alloy - Matte transition","Alloy - Matte transition","Alloy - Matte transition","Alloy - Matte transition","Alloy - Matte transition","Alloy - Matte transition","Alloy - Matte transition","Alloy - Matte transition","Alloy - Matte transition","Alloy - Matte transition","Alloy - Matte transition","Alloy - Matte transition","Alloy - Matte transition","Alloy - Matte transition","Alloy - Matte transition","Alloy - Matte transition","Alloy - Matte transition","Alloy - Matte transition","Alloy - Matte transition","Alloy - Matte transition","Alloy - Matte transition","Alloy - Matte transition","Alloy - Matte transition","Alloy - Matte transition","Alloy - Matte transition","Alloy - Matte transition","Alloy - Matte transition","Alloy - Matte transition","Alloy - Matte transition","Alloy - Matte transition","Alloy - Matte transition","Alloy - Matte transition","Alloy - Matte transition","Alloy - Matte transition","Alloy - Matte transition","Alloy - Matte transition","Alloy - Matte transition","Alloy - Matte transition","Alloy - Matte transition","Alloy - Matte transition","Alloy - Matte transition","Alloy - Matte transition","Alloy - Matte transition","Alloy - Matte transition","Alloy - Matte transition","Alloy - Matte transition","Alloy - Matte transition","Alloy - Matte transition","Alloy - Matte transition","Alloy - Matte transition","Alloy - Matte transition","Alloy - Matte transition","Alloy - Matte transition","Alloy - Matte transition","Alloy - Matte transition","Alloy - Matte transition","Alloy - Matte transition","Alloy - Matte transition","Alloy - Matte transition","Alloy - Matte transition","Alloy - Matte transition","Alloy - Matte transition","Alloy - Matte transition","Alloy - Matte transition","Alloy - Matte transition","Alloy - Matte transition","Alloy - Matte transition","Alloy - Matte transition","Alloy - Matte transition","Alloy - Matte transition","Alloy - Matte transition","Alloy - Matte transition","Alloy - Matte transition","Alloy - Matte transition","Alloy - Matte transition","Alloy - Matte transition","Alloy - Matte transition","Alloy - Matte transition","Alloy - Matte transition","Alloy - Matte transition","Alloy - Matte transition","Alloy - Matte transition","Alloy - Matte transition","Alloy - Matte transition","Alloy - Matte transition","Alloy - Matte transition","Alloy - Matte transition","Alloy - Matte transition","Alloy - Matte transition","Alloy - Matte transition","Alloy - Matte transition","Alloy - Matte transition","Alloy - Matte transition","Alloy - Matte transition","Alloy - Matte transition","Alloy - Matte transition","Alloy - Matte transition","Alloy - Matte transition","Alloy - Matte transition","Alloy - Matte transition","Alloy - Matte transition","Alloy - Matte transition","Alloy - Matte transition","Alloy - Matte transition","Alloy - Matte transition","Alloy - Matte transition","Alloy - Matte transition","Alloy - Matte transition","Alloy - Matte transition","Alloy - Matte transition","Alloy - Matte transition","Alloy - Matte transition","Alloy - Matte transition","Alloy - Matte transition","Alloy - Matte transition","Alloy - Matte transition","Alloy - Matte transition","Alloy - Matte transition","Alloy - Matte transition","Alloy - Matte transition","Alloy - Matte transition","Alloy - Matte transition","Alloy - Matte transition","Alloy - Matte transition","Alloy - Matte transition","Alloy - Matte transition","Alloy - Matte transition","Alloy - Matte transition","Alloy - Matte transition","Alloy - Matte transition","Alloy - Matte transition","Alloy - Matte transition","Alloy - Matte transition","Alloy - Matte transition","Alloy - Matte transition","Alloy - Matte transition","Alloy - Matte transition","Alloy - Matte transition","Alloy - Matte transition","Alloy - Matte transition","Alloy - Matte transition","Alloy - Matte transition","Alloy - Matte transition","Alloy - Matte transition","Alloy - Matte transition","Alloy - Matte transition","Alloy - Matte transition","Alloy - Matte transition","Alloy - Matte transition","Alloy - Matte transition","Alloy - Matte transition","Alloy - Matte transition","Alloy - Matte transition","Alloy - Matte transition","Alloy - Matte transition","Alloy - Matte transition","Alloy - Matte transition","Alloy - Matte transition","Alloy - Matte transition","Alloy - Matte transition","Alloy - Matte transition","Alloy - Matte transition","Alloy - Matte transition","Alloy - Matte transition","Alloy - Matte transition","Alloy - Matte transition","Alloy - Matte transition","Alloy - Matte transition","Alloy - Matte transition","Alloy - Matte transition","Alloy - Matte transition","Alloy - Matte transition","Alloy - Matte transition","Alloy - Matte transition","Alloy - Matte transition","Alloy - Matte transition","Alloy - Matte transition","Alloy - Matte transition","Alloy - Matte transition","Alloy - Matte transition","Alloy - Matte transition","Alloy - Matte transition","Alloy - Matte transition","Alloy - Matte transition","Alloy - Matte transition","Alloy - Matte transition","Alloy - Matte transition","Alloy - Matte transition","Alloy - Matte transition","Alloy - Matte transition","Alloy - Matte transition","Alloy - Matte transition","Alloy - Matte transition","Alloy - Matte transition","Alloy - Matte transition","Alloy - Matte transition","Alloy - Matte transition","Alloy - Matte transition","Alloy - Matte transition","Alloy - Matte transition","Alloy - Matte transition","Alloy - Matte transition","Alloy - Matte transition","Alloy - Matte transition","Alloy - Matte transition","Alloy - Matte transition","Alloy - Matte transition","Alloy - Matte transition","Alloy - Matte transition","Alloy - Matte transition","Alloy - Matte transition","Alloy - Matte transition","Alloy - Matte transition","Alloy - Matte transition","Alloy - Matte transition","Alloy - Matte transition","Alloy - Matte transition","Alloy - Matte transition","Alloy - Matte transition","Alloy - Matte transition","Alloy - Matte transition","Alloy - Matte transition","Alloy - Matte transition","Alloy - Matte transition","Alloy - Matte transition","Alloy - Matte transition","Alloy - Matte transition","Alloy - Matte transition","Alloy - Matte transition","Alloy - Matte transition","Alloy - Matte transition","Alloy - Matte transition","Alloy - Matte transition","Alloy - Matte transition","Alloy - Matte transition","Alloy - Matte transition","Alloy - Matte transition","Alloy - Matte transition","Alloy - Matte transition","Alloy - Matte transition","Alloy - Matte transition","Alloy - Matte transition","Alloy - Matte transition","Alloy - Matte transition","Alloy - Matte transition","Alloy - Matte transition","Alloy - Matte transition","Alloy - Matte transition","Alloy - Matte transition","Alloy - Matte transition","Alloy - Matte transition","Alloy - Matte transition","Alloy - Matte transition","Alloy - Matte transition","Alloy - Matte transition","Alloy - Matte transition","Alloy - Matte transition","Alloy - Matte transition","Alloy - Matte transition","Alloy - Matte transition","Alloy - Matte transition","Alloy - Matte transition","Alloy - Matte transition","Alloy - Matte transition","Alloy - Matte transition","Alloy - Matte transition","Alloy - Matte transition","Alloy - Matte transition","Alloy - Matte transition","Alloy - Matte transition","Alloy - Matte transition","Alloy - Matte transition","Alloy - Matte transition","Alloy - Matte transition","Alloy - Matte transition","Alloy - Matte transition","Alloy - Matte transition","Alloy - Matte transition","Alloy - Matte transition","Alloy - Matte transition","Alloy - Matte transition","Alloy - Matte transition","Alloy - Matte transition","Alloy - Matte transition","Alloy - Matte transition","Alloy - Matte transition","Alloy - Matte transition","Alloy - Matte transition","Alloy - Matte transition","Alloy - Matte transition","Alloy - Matte transition","Alloy - Matte transition","Alloy - Matte transition","Alloy - Matte transition","Alloy - Matte transition","Alloy - Matte transition","Alloy - Matte transition","Alloy - Matte transition","Alloy - Matte transition","Alloy - Matte transition","Alloy - Matte transition","Alloy - Matte transition","Alloy - Matte transition","Alloy - Matte transition","Alloy - Matte transition","Alloy - Matte transition","Alloy - Matte transition","Alloy - Matte transition","Alloy - Matte transition","Alloy - Matte transition","Alloy - Matte transition","Alloy - Matte transition","Alloy - Matte transition","Alloy - Matte transition","Alloy - Matte transition","Alloy - Matte transition","Alloy - Matte transition","Alloy - Matte transition","Alloy - Matte transition","Alloy - Matte transition","Alloy - Matte transition","Alloy - Matte transition","Alloy - Matte transition","Alloy - Matte transition","Alloy - Matte transition","Alloy - Matte transition","Alloy - Matte transition","Alloy - Matte transition","Alloy - Matte transition","Alloy - Matte transition","Alloy - Matte transition","Alloy - Matte transition","Alloy - Matte transition","Alloy - Matte transition","Alloy - Matte transition","Alloy - Matte transition","Alloy - Matte transition","Alloy - Matte transition","Alloy - Matte transition","Alloy - Matte transition","Alloy - Matte transition","Alloy - Matte transition","Alloy - Matte transition","Alloy - Matte transition","Alloy - Matte transition","Alloy - Matte transition","Alloy - Matte transition","Alloy - Matte transition","Alloy - Matte transition","Alloy - Matte transition","Alloy - Matte transition","Alloy - Matte transition","Alloy - Matte transition","Alloy - Matte transition","Alloy - Matte transition","Alloy - Matte transition","Alloy - Matte transition","Alloy - Matte transition","Alloy - Matte transition","Alloy - Matte transition","Alloy - Matte transition","Alloy - Matte transition","Alloy - Matte transition","Alloy - Matte transition","Alloy - Matte transition","Alloy - Matte transition","Alloy - Matte transition","Alloy - Matte transition","Alloy - Matte transition","Alloy - Matte transition","Alloy - Matte transition","Alloy - Matte transition","Alloy - Matte transition","Alloy - Matte transition","Alloy - Matte transition","Alloy - Matte transition","Alloy - Matte transition","Alloy - Matte transition","Alloy - Matte transition","Alloy - Matte transition","Alloy - Matte transition","Alloy - Matte transition","Alloy - Matte transition","Alloy - Matte transition","Alloy - Matte transition","Alloy - Matte transition","Alloy - Matte transition","Alloy - Matte transition","Alloy - Matte transition","Alloy - Matte transition","Alloy - Matte transition","Alloy - Matte transition","Alloy - Matte transition","Alloy - Matte transition","Alloy - Matte transition","Alloy - Matte transition","Alloy - Matte transition","Alloy - Matte transition","Alloy - Matte transition","Alloy - Matte transition","Alloy - Matte transition","Alloy - Matte transition","Alloy - Matte transition","Alloy - Matte transition","Alloy - Matte transition","Alloy - Matte transition","Alloy - Matte transition","Alloy - Matte transition","Alloy - Matte transition","Alloy - Matte transition","Alloy - Matte transition","Alloy - Matte transition","Alloy - Matte transition","Alloy - Matte transition","Alloy - Matte transition","Alloy - Matte transition","Alloy - Matte transition","Alloy - Matte transition","Alloy - Matte transition","Alloy - Matte transition","Alloy - Matte transition","Alloy - Matte transition","Alloy - Matte transition","Alloy - Matte transition","Alloy - Matte transition","Alloy - Matte transition","Alloy - Matte transition","Alloy - Matte transition","Alloy - Matte transition","Alloy - Matte transition","Alloy - Matte transition","Alloy - Matte transition","Alloy - Matte transition","Alloy - Matte transition","Alloy - Matte transition","Alloy - Matte transition","Alloy - Matte transition","Alloy - Matte transition","Alloy - Matte transition","Alloy - Matte transition","Alloy - Matte transition","Alloy - Matte transition","Alloy - Matte transition","Alloy - Matte transition","Alloy - Matte transition","Alloy - Matte transition","Alloy - Matte transition","Alloy - Matte transition","Alloy - Matte transition","Alloy - Matte transition","Alloy - Matte transition","Alloy - Matte transition","Alloy - Matte transition","Alloy - Matte transition","Alloy - Matte transition","Alloy - Matte transition","Alloy - Matte transition","Alloy - Matte transition","Alloy - Matte transition","Alloy - Matte transition","Alloy - Matte transition","Alloy - Matte transition","Alloy - Matte transition","Alloy - Matte transition","Alloy - Matte transition","Alloy - Matte transition","Alloy - Matte transition","Alloy - Matte transition","Alloy - Matte transition","Alloy - Matte transition","Alloy - Matte transition","Alloy - Matte transition","Alloy - Matte transition","Alloy - Matte transition","Alloy - Matte transition","Alloy - Matte transition","Alloy - Matte transition","Alloy - Matte transition","Alloy - Matte transition","Alloy - Matte transition","Alloy - Matte transition","Alloy - Matte transition","Alloy - Matte transition","Alloy - Matte transition","Alloy - Matte transition","Alloy - Matte transition","Alloy - Matte transition","Alloy - Matte transition","Alloy - Matte transition","Alloy - Matte transition","Alloy - Matte transition","Alloy - Matte transition","Alloy - Matte transition","Alloy - Matte transition","Alloy - Matte transition","Alloy - Matte transition","Alloy - Matte transition","Alloy - Matte transition","Alloy - Matte transition","Alloy - Matte transition","Alloy - Matte transition","Alloy - Matte transition","Alloy - Matte transition","Alloy - Matte transition","Alloy - Matte transition","Alloy - Matte transition","Alloy - Matte transition","Alloy - Matte transition","Alloy - Matte transition","Alloy - Matte transition","Alloy - Matte transition","Alloy - Matte transition","Alloy - Matte transition","Alloy - Matte transition","Alloy - Matte transition","Alloy - Matte transition","Alloy - Matte transition","Alloy - Matte transition","Alloy - Matte transition","Alloy - Matte transition","Alloy - Matte transition","Alloy - Matte transition","Alloy - Matte transition","Alloy - Matte transition","Alloy - Matte transition","Alloy - Matte transition","Alloy - Matte transition","Alloy - Matte transition","Alloy - Matte transition","Alloy - Matte transition","Alloy - Matte transition","Alloy - Matte transition","Alloy - Matte transition","Alloy - Matte transition","Alloy - Matte transition","Alloy - Matte transition","Alloy - Matte transition","Alloy - Matte transition","Alloy - Matte transition","Alloy - Matte transition","Alloy - Matte transition","Alloy - Matte transition","Alloy - Matte transition","Alloy - Matte transition","Alloy - Matte transition","Alloy - Matte transition","Alloy - Matte transition","Alloy - Matte transition","Alloy - Matte transition","Alloy - Matte transition","Alloy - Matte transition","Alloy - Matte transition","Alloy - Matte transition","Alloy - Matte transition","Alloy - Matte transition","Alloy - Matte transition","Alloy - Matte transition","Alloy - Matte transition","Alloy - Matte transition","Alloy - Matte transition","Alloy - Matte transition","Alloy - Matte transition","Alloy - Matte transition","Alloy - Matte transition","Alloy - Matte transition","Alloy - Matte transition","Alloy - Matte transition","Alloy - Matte transition","Alloy - Matte transition","Alloy - Matte transition","Alloy - Matte transition","Alloy - Matte transition","Alloy - Matte transition","Alloy - Matte transition","Alloy - Matte transition","Alloy - Matte transition","Alloy - Matte transition","Alloy - Matte transition","Alloy - Matte transition","Alloy - Matte transition","Alloy - Matte transition","Alloy - Matte transition","Alloy - Matte transition","Alloy - Matte transition","Alloy - Matte transition","Alloy - Matte transition","Alloy - Matte transition","Alloy - Matte transition","Alloy - Matte transition","Alloy - Matte transition","Alloy - Matte transition","Alloy - Matte transition","Alloy - Matte transition","Alloy - Matte transition","Alloy - Matte transition","Alloy - Matte transition","Alloy - Matte transition","Alloy - Matte transition","Alloy - Matte transition","Alloy - Matte transition","Alloy - Matte transition","Alloy - Matte transition","Alloy - Matte transition","Alloy - Matte transition","Alloy - Matte transition","Alloy - Matte transition","Alloy - Matte transition","Alloy - Matte transition","Alloy - Matte transition","Alloy - Matte transition","Alloy - Matte transition","Alloy - Matte transition","Alloy - Matte transition","Alloy - Matte transition","Alloy - Matte transition","Alloy - Matte transition","Alloy - Matte transition","Alloy - Matte transition","Alloy - Matte transition","Alloy - Matte transition","Alloy - Matte transition","Alloy - Matte transition","Alloy - Matte transition","Alloy - Matte transition","Alloy - Matte transition","Alloy - Matte transition","Alloy - Matte transition","Alloy - Matte transition","Alloy - Matte transition","Alloy - Matte transition","Alloy - Matte transition","Alloy - Matte transition","Alloy - Matte transition","Alloy - Matte transition","Alloy - Matte transition","Alloy - Matte transition","Alloy - Matte transition","Alloy - Matte transition","Alloy - Matte transition","Alloy - Matte transition","Alloy - Matte transition","Alloy - Matte transition","Alloy - Matte transition","Alloy - Matte transition","Alloy - Matte transition","Alloy - Matte transition","Alloy - Matte transition","Alloy - Matte transition","Alloy - Matte transition","Alloy - Matte transition","Alloy - Matte transition","Alloy - Matte transition","Alloy - Matte transition","Alloy - Matte transition","Alloy - Matte transition","Alloy - Matte transition","Alloy - Matte transition","Alloy - Matte transition","Alloy - Matte transition","Alloy - Matte transition","Alloy - Matte transition","Alloy - Matte transition","Alloy - Matte transition","Alloy - Matte transition","Alloy - Matte transition","Alloy - Matte transition","Alloy - Matte transition","Alloy - Matte transition","Alloy - Matte transition","Alloy - Matte transition","Alloy - Matte transition","Alloy - Matte transition","Alloy - Matte transition","Alloy - Matte transition","Alloy - Matte transition","Alloy - Matte transition","Alloy - Matte transition","Alloy - Matte transition","Alloy - Matte transition","Alloy - Matte transition","Alloy - Matte transition","Alloy - Matte transition","Alloy - Matte transition","Alloy - Matte transition","Alloy - Matte transition","Alloy - Matte transition","Alloy - Matte transition","Alloy - Matte transition","Alloy - Matte transition","Alloy - Matte transition","Alloy - Matte transition","Alloy - Matte transition","Alloy - Matte transition","Alloy - Matte transition","Alloy - Matte transition","Alloy - Matte transition","Alloy - Matte transition","Alloy - Matte transition","Alloy - Matte transition","Alloy - Matte transition","Alloy - Matte transition","Alloy - Matte transition","Alloy - Matte transition","Alloy - Matte transition","Alloy - Matte transition","Alloy - Matte transition","Alloy - Matte transition","Alloy - Matte transition","Alloy - Matte transition","Alloy - Matte transition","Alloy - Matte transition","Alloy - Matte transition","Alloy - Matte transition","Alloy - Matte transition","Alloy - Matte transition","Alloy - Matte transition","Alloy - Matte transition","Alloy - Matte transition","Alloy - Matte transition","Alloy - Matte transition","Alloy - Matte transition","Alloy - Matte transition","Alloy - Matte transition","Alloy - Matte transition","Alloy - Matte transition","Alloy - Matte transition","Alloy - Matte transition","Alloy - Matte transition","Alloy - Matte transition","Alloy - Matte transition","Alloy - Matte transition","Alloy - Matte transition","Alloy - Matte transition","Alloy - Matte transition","Alloy - Matte transition","Alloy - Matte transition","Alloy - Matte transition","Alloy - Matte transition","Alloy - Matte transition","Alloy - Matte transition","Alloy - Matte transition","Alloy - Matte transition","Alloy - Matte transition","Alloy - Matte transition","Alloy - Matte transition","Alloy - Matte transition","Alloy - Matte transition","Alloy - Matte transition","Alloy - Matte transition","Alloy - Matte transition","Alloy - Matte transition","Alloy - Matte transition","Alloy - Matte transition","Alloy - Matte transition","Alloy - Matte transition","Alloy - Matte transition","Alloy - Matte transition","Alloy - Matte transition","Alloy - Matte transition","Alloy - Matte transition","Alloy - Matte transition","Alloy - Matte transition","Alloy - Matte transition","Alloy - Matte transition","Alloy - Matte transition","Alloy - Matte transition","Alloy - Matte transition","Alloy - Matte transition","Alloy - Matte transition","Alloy - Matte transition","Alloy - Matte transition","Alloy - Matte transition","Alloy - Matte transition","Alloy - Matte transition","Alloy - Matte transition","Alloy - Matte transition","Alloy - Matte transition","Alloy - Matte transition","Alloy - Matte transition","Alloy - Matte transition","Alloy - Matte transition","Alloy - Matte transition","Alloy - Matte transition","Alloy - Matte transition","Alloy - Matte transition","Alloy - Matte transition","Alloy - Matte transition","Alloy - Matte transition","Alloy - Matte transition","Alloy - Matte transition","Alloy - Matte transition","Alloy - Matte transition","Alloy - Matte transition","Alloy - Matte transition","Alloy - Matte transition","Alloy - Matte transition","Alloy - Matte transition","Alloy - Matte transition","Alloy - Matte transition","Alloy - Matte transition","Alloy - Matte transition","Alloy - Matte transition","Alloy - Matte transition","Alloy - Matte transition","Alloy - Matte transition","Alloy - Matte transition","Alloy - Matte transition","Alloy - Matte transition","Alloy - Matte transition","Alloy - Matte transition","Alloy - Matte transition","Alloy - Matte transition","Alloy - Matte transition","Alloy - Matte transition","Alloy - Matte transition","Alloy - Matte transition","Alloy - Matte transition","Alloy - Matte transition","Alloy - Matte transition","Alloy - Matte transition","Alloy - Matte transition","Alloy - Matte transition","Alloy - Matte transition","Alloy - Matte transition","Alloy - Matte transition","Alloy - Matte transition","Alloy - Matte transition","Alloy - Matte transition","Alloy - Matte transition","Alloy - Matte transition","Alloy - Matte transition","Alloy - Matte transition","Alloy - Matte transition","Alloy - Matte transition","Alloy - Matte transition","Alloy - Matte transition","Alloy - Matte transition","Alloy - Matte transition","Alloy - Matte transition","Alloy - Matte transition","Alloy - Matte transition","Alloy - Matte transition","Alloy - Matte transition","Alloy - Matte transition","Alloy - Matte transition","Alloy - Matte transition","Alloy - Matte transition","Alloy - Matte transition","Alloy - Matte transition","Alloy - Matte transition","Alloy - Matte transition","Alloy - Matte transition","Alloy - Matte transition","Alloy - Matte transition","Alloy - Matte transition","Alloy - Matte transition","Alloy - Matte transition","Alloy - Matte transition","Alloy - Matte transition","Alloy - Matte transition","Alloy - Matte transition","Alloy - Matte transition","Alloy - Matte transition","Alloy - Matte transition","Alloy - Matte transition","Alloy - Matte transition","Alloy - Matte transition","Alloy - Matte transition","Alloy - Matte transition","Alloy - Matte transition","Alloy - Matte transition","Alloy - Matte transition","Alloy - Matte transition","Alloy - Matte transition","Alloy - Matte transition","Alloy - Matte transition","Alloy - Matte transition","Alloy - Matte transition","Alloy - Matte transition","Alloy - Matte transition","Alloy - Matte transition","Alloy - Matte transition","Alloy - Matte transition","Alloy - Matte transition","Alloy - Matte transition","Alloy - Matte transition","Alloy - Matte transition","Alloy - Matte transition","Alloy - Matte transition","Alloy - Matte transition","Alloy - Matte transition","Alloy - Matte transition","Alloy - Matte transition","Alloy - Matte transition","Alloy - Matte transition","Alloy - Matte transition","Alloy - Matte transition","Alloy - Matte transition","Alloy - Matte transition","Alloy - Matte transition","Alloy - Matte transition","Alloy - Matte transition","Alloy - Matte transition","Alloy - Matte transition","Alloy - Matte transition","Alloy - Matte transition","Alloy - Matte transition","Alloy - Matte transition","Alloy - Matte transition","Alloy - Matte transition","Alloy - Matte transition","Alloy - Matte transition","Alloy - Matte transition","Alloy - Matte transition","Alloy - Matte transition","Alloy - Matte transition","Alloy - Matte transition","Alloy - Matte transition","Alloy - Matte transition","Alloy - Matte transition","Alloy - Matte transition","Alloy - Matte transition","Alloy - Matte transition","Alloy - Matte transition","Alloy - Matte transition","Alloy - Matte transition","Alloy - Matte transition","Alloy - Matte transition","Alloy - Matte transition","Alloy - Matte transition","Alloy - Matte transition","Alloy - Matte transition","Alloy - Matte transition","Alloy - Matte transition","Alloy - Matte transition","Alloy - Matte transition","Alloy - Matte transition","Alloy - Matte transition","Alloy - Matte transition","Alloy - Matte transition","Alloy - Matte transition","Alloy - Matte transition","Alloy - Matte transition","Alloy - Matte transition","Alloy - Matte transition","Alloy - Matte transition","Alloy - Matte transition","Alloy - Matte transition","Alloy - Matte transition","Alloy - Matte transition","Alloy - Matte transition","Alloy - Matte transition","Alloy - Matte transition","Alloy - Matte transition","Alloy - Matte transition","Alloy - Matte transition","Alloy - Matte transition","Alloy - Matte transition","Alloy - Matte transition","Alloy - Matte transition","Alloy - Matte transition","Alloy - Matte transition","Alloy - Matte transition","Alloy - Matte transition","Alloy - Matte transition","Alloy - Matte transition","Alloy - Matte transition","Alloy - Matte transition","Alloy - Matte transition","Alloy - Matte transition","Alloy - Matte transition","Alloy - Matte transition","Alloy - Matte transition","Alloy - Matte transition","Alloy - Matte transition","Alloy - Matte transition","Alloy - Matte transition","Alloy - Matte transition","Alloy - Matte transition","Alloy - Matte transition","Alloy - Matte transition","Alloy - Matte transition","Alloy - Matte transition","Alloy - Matte transition","Alloy - Matte transition","Alloy - Matte transition","Alloy - Matte transition","Alloy - Matte transition","Alloy - Matte transition","Alloy - Matte transition","Alloy - Matte transition","Alloy - Matte transition","Alloy - Matte transition","Alloy - Matte transition","Alloy - Matte transition","Alloy - Matte transition","Alloy - Matte transition","Alloy - Matte transition","Alloy - Matte transition","Alloy - Matte transition","Alloy - Matte transition","Alloy - Matte transition","Alloy - Matte transition","Alloy - Matte transition","Alloy - Matte transition","Alloy - Matte transition","Alloy - Matte transition","Alloy - Matte transition","Alloy - Matte transition","Alloy - Matte transition","Alloy - Matte transition","Alloy - Matte transition","Alloy - Matte transition","Alloy - Matte transition","Alloy - Matte transition","Alloy - Matte transition","Alloy - Matte transition","Alloy - Matte transition","Alloy - Matte transition","Alloy - Matte transition","Alloy - Matte transition","Alloy - Matte transition","Alloy - Matte transition","Alloy - Matte transition","Alloy - Matte transition","Alloy - Matte transition","Alloy - Matte transition","Alloy - Matte transition","Alloy - Matte transition","Alloy - Matte transition","Alloy - Matte transition","Alloy - Matte transition","Alloy - Matte transition","Alloy - Matte transition","Alloy - Matte transition","Alloy - Matte transition","Alloy - Matte transition","Alloy - Matte transition","Alloy - Matte transition","Alloy - Matte transition","Alloy - Matte transition","Alloy - Matte transition","Alloy - Matte transition","Alloy - Matte transition","Alloy - Matte transition","Alloy - Matte transition","Alloy - Matte transition","Alloy - Matte transition","Alloy - Matte transition","Alloy - Matte transition","Alloy - Matte transition","Alloy - Matte transition","Alloy - Matte transition","Alloy - Matte transition","Alloy - Matte transition","Alloy - Matte transition","Alloy - Matte transition","Alloy - Matte transition","Alloy - Matte transition","Alloy - Matte transition","Alloy - Matte transition","Alloy - Matte transition","Alloy - Matte transition","Alloy - Matte transition","Alloy - Matte transition","Alloy - Matte transition","Alloy - Matte transition","Alloy - Matte transition","Alloy - Matte transition","Alloy - Matte transition","Alloy - Matte transition","Alloy - Matte transition","Alloy - Matte transition","Alloy - Matte transition","Alloy - Matte transition","Alloy - Matte transition","Alloy - Matte transition","Alloy - Matte transition","Alloy - Matte transition","Alloy - Matte transition","Alloy - Matte transition","Alloy - Matte transition","Alloy - Matte transition","Alloy - Matte transition","Alloy - Matte transition","Alloy - Matte transition","Alloy - Matte transition","Alloy - Matte transition","Alloy - Matte transition","Alloy - Matte transition","Alloy - Matte transition","Alloy - Matte transition","Alloy - Matte transition","Alloy - Matte transition","Alloy - Matte transition","Alloy - Matte transition","Alloy - Matte transition","Alloy - Matte transition","Alloy - Matte transition","Alloy - Matte transition","Alloy - Matte transition","Alloy - Matte transition","Alloy - Matte transition","Alloy - Matte transition","Alloy - Matte transition","Alloy - Matte transition","Alloy - Matte transition","Alloy - Matte transition","Alloy - Matte transition","Alloy - Matte transition","Alloy - Matte transition","Alloy - Matte transition","Alloy - Matte transition","Alloy - Matte transition","Alloy - Matte transition","Alloy - Matte transition","Alloy - Matte transition","Alloy - Matte transition","Alloy - Matte transition","Alloy - Matte transition","Alloy - Matte transition","Alloy - Matte transition","Alloy - Matte transition","Alloy - Matte transition","Alloy - Matte transition","Alloy - Matte transition","Alloy - Matte transition","Alloy - Matte transition","Alloy - Matte transition","Alloy - Matte transition","Alloy - Matte transition","Alloy - Matte transition","Alloy - Matte transition","Alloy - Matte transition","Alloy - Matte transition","Alloy - Matte transition","Alloy - Matte transition","Alloy - Matte transition","Alloy - Matte transition","Alloy - Matte transition","Alloy - Matte transition","Alloy - Matte transition","Alloy - Matte transition","Alloy - Matte transition","Alloy - Matte transition","Alloy - Matte transition","Alloy - Matte transition","Alloy - Matte transition","Alloy - Matte transition","Alloy - Matte transition","Alloy - Matte transition","Alloy - Matte transition","Alloy - Matte transition","Alloy - Matte transition","Alloy - Matte transition","Alloy - Matte transition","Alloy - Matte transition","Alloy - Matte transition","Alloy - Matte transition","Alloy - Matte transition","Alloy - Matte transition","Alloy - Matte transition","Alloy - Matte transition","Alloy - Matte transition","Alloy - Matte transition","Alloy - Matte transition","Alloy - Matte transition","Alloy - Matte transition","Alloy - Matte transition","Alloy - Matte transition","Alloy - Matte transition","Alloy - Matte transition","Alloy - Matte transition","Alloy - Matte transition","Alloy - Matte transition","Alloy - Matte transition","Alloy - Matte transition","Alloy - Matte transition","Alloy - Matte transition","Alloy - Matte transition","Alloy - Matte transition","Alloy - Matte transition","Alloy - Matte transition","Alloy - Matte transition","Alloy - Matte transition","Alloy - Matte transition","Alloy - Matte transition","Alloy - Matte transition","Alloy - Matte transition","Alloy - Matte transition","Alloy - Matte transition","Alloy - Matte transition","Alloy - Matte transition","Alloy - Matte transition","Alloy - Matte transition","Alloy - Matte transition","Alloy - Matte transition","Alloy - Matte transition","Alloy - Matte transition","Alloy - Matte transition","Alloy - Matte transition","Alloy - Matte transition","Alloy - Matte transition","Alloy - Matte transition","Alloy - Matte transition","Alloy - Matte transition","Alloy - Matte transition","Alloy - Matte transition","Alloy - Matte transition","Alloy - Matte transition","Alloy - Matte transition","Alloy - Matte transition","Alloy - Matte transition","Alloy - Matte transition","Alloy - Matte transition","Alloy - Matte transition","Alloy - Matte transition","Alloy - Matte transition","Alloy - Matte transition","Alloy - Matte transition","Alloy - Matte transition","Alloy - Matte transition","Alloy - Matte transition","Alloy - Matte transition","Alloy - Matte transition","Alloy - Matte transition","Alloy - Matte transition","Alloy - Matte transition","Alloy - Matte transition","Alloy - Matte transition","Alloy - Matte transition","Alloy - Matte transition","Alloy - Matte transition","Alloy - Matte transition","Alloy - Matte transition","Alloy - Matte transition","Alloy - Matte transition","Alloy - Matte transition","Alloy - Matte transition","Alloy - Matte transition","Alloy - Matte transition","Alloy - Matte transition","Alloy - Matte transition","Alloy - Matte transition","Alloy - Matte transition","Alloy - Matte transition","Alloy - Matte transition","Alloy - Matte transition","Alloy - Matte transition","Alloy - Matte transition","Alloy - Matte transition","Alloy - Matte transition","Alloy - Matte transition","Alloy - Matte transition","Alloy - Matte transition","Alloy - Matte transition","Alloy - Matte transition","Alloy - Matte transition","Alloy - Matte transition","Alloy - Matte transition","Alloy - Matte transition","Alloy - Matte transition","Alloy - Matte transition","Alloy - Matte transition","Alloy - Matte transition","Alloy - Matte transition","Alloy - Matte transition","Alloy - Matte transition","Alloy - Matte transition","Alloy - Matte transition","Alloy - Matte transition","Alloy - Matte transition","Alloy - Matte transition","Alloy - Matte transition","Alloy - Matte transition","Alloy - Matte transition","Alloy - Matte transition","Alloy - Matte transition","Alloy - Matte transition","Alloy - Matte transition","Alloy - Matte transition","Alloy - Matte transition","Alloy - Matte transition","Alloy - Matte transition","Alloy - Matte transition","Alloy - Matte transition","Alloy - Matte transition","Alloy - Matte transition","Alloy - Matte transition","Alloy - Matte transition","Alloy - Matte transition","Alloy - Matte transition","Alloy - Matte transition","Alloy - Matte transition","Alloy - Matte transition","Alloy - Matte transition","Alloy - Matte transition","Alloy - Matte transition","Alloy - Matte transition","Alloy - Matte transition","Alloy - Matte transition","Alloy - Matte transition","Alloy - Matte transition","Alloy - Matte transition","Alloy - Matte transition","Alloy - Matte transition","Alloy - Matte transition","Alloy - Matte transition","Alloy - Matte transition","Alloy - Matte transition","Alloy - Matte transition","Alloy - Matte transition","Alloy - Matte transition","Alloy - Matte transition","Alloy - Matte transition","Alloy - Matte transition","Alloy - Matte transition","Alloy - Matte transition","Alloy - Matte transition","Alloy - Matte transition","Alloy - Matte transition","Alloy - Matte transition","Alloy - Matte transition","Alloy - Matte transition","Alloy - Matte transition","Alloy - Matte transition","Alloy - Matte transition","Alloy - Matte transition","Alloy - Matte transition","Alloy - Matte transition","Alloy - Matte transition","Alloy - Matte transition","Alloy - Matte transition","Alloy - Matte transition","Alloy - Matte transition","Alloy - Matte transition","Alloy - Matte transition","Alloy - Matte transition","Alloy - Matte transition","Alloy - Matte transition","Alloy - Matte transition","Alloy - Matte transition","Alloy - Matte transition","Alloy - Matte transition","Alloy - Matte transition","Alloy - Matte transition","Alloy - Matte transition","Alloy - Matte transition","Alloy - Matte transition","Alloy - Matte transition","Alloy - Matte transition","Alloy - Matte transition","Alloy - Matte transition","Alloy - Matte transition","Alloy - Matte transition","Alloy - Matte transition","Alloy - Matte transition","Alloy - Matte transition","Alloy - Matte transition","Alloy - Matte transition","Alloy - Matte transition","Alloy - Matte transition","Alloy - Matte transition","Alloy - Matte transition","Alloy - Matte transition","Alloy - Matte transition","Alloy - Matte transition","Alloy - Matte transition","Alloy - Matte transition","Alloy - Matte transition","Alloy - Matte transition","Alloy - Matte transition","Alloy - Matte transition","Alloy - Matte transition","Alloy - Matte transition","Alloy - Matte transition","Alloy - Matte transition","Alloy - Matte transition","Alloy - Matte transition","Alloy - Matte transition","Alloy - Matte transition","Alloy - Matte transition","Alloy - Matte transition","Alloy - Matte transition","Alloy - Matte transition","Alloy - Matte transition","Alloy - Matte transition","Alloy - Matte transition","Alloy - Matte transition","Alloy - Matte transition","Alloy - Matte transition","Alloy - Matte transition","Alloy - Matte transition","Alloy - Matte transition","Alloy - Matte transition","Alloy - Matte transition","Alloy - Matte transition","Alloy - Matte transition","Alloy - Matte transition","Alloy - Matte transition","Alloy - Matte transition","Alloy - Matte transition","Alloy - Matte transition","Alloy - Matte transition","Alloy - Matte transition","Alloy - Matte transition","Alloy - Matte transition","Alloy - Matte transition","Alloy - Matte transition","Alloy - Matte transition","Alloy - Matte transition","Alloy - Matte transition","Alloy - Matte transition","Alloy - Matte transition","Alloy - Matte transition","Alloy - Matte transition","Alloy - Matte transition","Alloy - Matte transition","Alloy - Matte transition","Alloy - Matte transition","Alloy - Matte transition","Alloy - Matte transition","Alloy - Matte transition","Alloy - Matte transition","Alloy - Matte transition","Alloy - Matte transition","Alloy - Matte transition","Alloy - Matte transition","Alloy - Matte transition","Alloy - Matte transition","Alloy - Matte transition","Alloy - Matte transition","Alloy - Matte transition","Alloy - Matte transition","Alloy - Matte transition","Alloy - Matte transition","Alloy - Matte transition","Alloy - Matte transition","Alloy - Matte transition","Alloy - Matte transition","Alloy - Matte transition","Alloy - Matte transition","Alloy - Matte transition","Alloy - Matte transition","Alloy - Matte transition","Alloy - Matte transition","Alloy - Matte transition","Alloy - Matte transition","Alloy - Matte transition","Alloy - Matte transition","Alloy - Matte transition","Alloy - Matte transition","Alloy - Matte transition","Alloy - Matte transition","Alloy - Matte transition","Alloy - Matte transition","Alloy - Matte transition","Alloy - Matte transition","Alloy - Matte transition","Alloy - Matte transition","Alloy - Matte transition","Alloy - Matte transition","Alloy - Matte transition","Alloy - Matte transition","Alloy - Matte transition","Alloy - Matte transition","Alloy - Matte transition","Alloy - Matte transition","Alloy - Matte transition","Alloy - Matte transition","Alloy - Matte transition","Alloy - Matte transition","Alloy - Matte transition","Alloy - Matte transition","Alloy - Matte transition","Alloy - Matte transition","Alloy - Matte transition","Alloy - Matte transition","Alloy - Matte transition","Alloy - Matte transition","Alloy - Matte transition","Alloy - Matte transition","Alloy - Matte transition","Alloy - Matte transition","Alloy - Matte transition","Alloy - Matte transition","Alloy - Matte transition","Alloy - Matte transition","Alloy - Matte transition","Alloy - Matte transition","Alloy - Matte transition","Alloy - Matte transition","Alloy - Matte transition","Alloy - Matte transition","Alloy - Matte transition","Alloy - Matte transition","Alloy - Matte transition","Alloy - Matte transition","Alloy - Matte transition","Alloy - Matte transition","Alloy - Matte transition","Alloy - Matte transition","Alloy - Matte transition","Alloy - Matte transition","Alloy - Matte transition","Alloy - Matte transition","Alloy - Matte transition","Alloy - Matte transition","Alloy - Matte transition","Alloy - Matte transition","Alloy - Matte transition","Alloy - Matte transition","Alloy - Matte transition","Alloy - Matte transition","Alloy - Matte transition","Alloy - Matte transition","Alloy - Matte transition","Alloy - Matte transition","Alloy - Matte transition","Alloy - Matte transition","Alloy - Matte transition","Alloy - Matte transition","Alloy - Matte transition","Alloy - Matte transition","Alloy - Matte transition","Alloy - Matte transition","Alloy - Matte transition","Alloy - Matte transition","Alloy - Matte transition","Alloy - Matte transition","Alloy - Matte transition","Alloy - Matte transition","Alloy - Matte transition","Alloy - Matte transition","Alloy - Matte transition","Alloy - Matte transition","Alloy - Matte transition","Alloy - Matte transition","Alloy - Matte transition","Alloy - Matte transition","Alloy - Matte transition","Alloy - Matte transition","Alloy - Matte transition","Alloy - Matte transition","Alloy - Matte transition","Alloy - Matte transition","Alloy - Matte transition","Alloy - Matte transition","Alloy - Matte transition","Alloy - Matte transition","Alloy - Matte transition","Alloy - Matte transition","Alloy - Matte transition","Alloy - Matte transition","Alloy - Matte transition","Alloy - Matte transition","Alloy - Matte transition","Alloy - Matte transition","Alloy - Matte transition","Alloy - Matte transition","Alloy - Matte transition","Alloy - Matte transition","Alloy - Matte transition","Alloy - Matte transition","Alloy - Matte transition","Alloy - Matte transition","Alloy - Matte transition","Alloy - Matte transition","Alloy - Matte transition","Alloy - Matte transition","Alloy - Matte transition","Alloy - Matte transition","Alloy - Matte transition","Alloy - Matte transition","Alloy - Matte transition","Alloy - Matte transition","Alloy - Matte transition","Alloy - Matte transition","Alloy - Matte transition","Alloy - Matte transition","Alloy - Matte transition","Alloy - Matte transition","Alloy - Matte transition","Alloy - Matte transition","Alloy - Matte transition","Alloy - Matte transition","Alloy - Matte transition","Alloy - Matte transition","Alloy - Matte transition","Alloy - Matte transition","Alloy - Matte transition","Alloy - Matte transition","Alloy - Matte transition","Alloy - Matte transition","Alloy - Matte transition","Alloy - Matte transition","Alloy - Matte transition","Alloy - Matte transition","Alloy - Matte transition","Alloy - Matte transition","Alloy - Matte transition","Alloy - Matte transition","Alloy - Matte transition","Alloy - Matte transition","Alloy - Matte transition","Alloy - Matte transition","Alloy - Matte transition","Alloy - Matte transition","Alloy - Matte transition","Alloy - Matte transition","Alloy - Matte transition","Alloy - Matte transition","Alloy - Matte transition","Alloy - Matte transition","Alloy - Matte transition","Alloy - Matte transition","Alloy - Matte transition","Alloy - Matte transition","Alloy - Matte transition","Alloy - Matte transition","Alloy - Matte transition","Alloy - Matte transition","Alloy - Matte transition","Alloy - Matte transition","Alloy - Matte transition","Alloy - Matte transition","Alloy - Matte transition","Alloy - Matte transition","Alloy - Matte transition","Alloy - Matte transition","Alloy - Matte transition","Alloy - Matte transition","Alloy - Matte transition","Alloy - Matte transition","Alloy - Matte transition","Alloy - Matte transition","Alloy - Matte transition","Alloy - Matte transition","Alloy - Matte transition","Alloy - Matte transition","Alloy - Matte transition","Alloy - Matte transition","Alloy - Matte transition","Alloy - Matte transition","Alloy - Matte transition","Alloy - Matte transition","Alloy - Matte transition","Alloy - Matte transition","Alloy - Matte transition","Alloy - Matte transition","Alloy - Matte transition","Alloy - Matte transition","Alloy - Matte transition","Alloy - Matte transition","Alloy - Matte transition","Alloy - Matte transition","Alloy - Matte transition","Alloy - Matte transition","Alloy - Matte transition","Alloy - Matte transition","Alloy - Matte transition","Alloy - Matte transition","Alloy - Matte transition","Alloy - Matte transition","Alloy - Matte transition","Alloy - Matte transition","Alloy - Matte transition","Alloy - Matte transition","Alloy - Matte transition","Alloy - Matte transition","Alloy - Matte transition","Alloy - Matte transition","Alloy - Matte transition","Alloy - Matte transition","Alloy - Matte transition","Alloy - Matte transition","Alloy - Matte transition","Alloy - Matte transition","Alloy - Matte transition","Alloy - Matte transition","Alloy - Matte transition","Alloy - Matte transition","Alloy - Matte transition","Alloy - Matte transition","Alloy - Matte transition","Alloy - Matte transition","Alloy - Matte transition","Alloy - Matte transition","Alloy - Matte transition","Alloy - Matte transition","Alloy - Matte transition","Alloy - Matte transition","Alloy - Matte transition","Alloy - Matte transition","Alloy - Matte transition","Alloy - Matte transition","Alloy - Matte transition","Alloy - Matte transition","Alloy - Matte transition","Alloy - Matte transition","Alloy - Matte transition","Alloy - Matte transition","Alloy - Matte transition","Alloy - Matte transition","Alloy - Matte transition","Alloy - Matte transition","Alloy - Matte transition","Alloy - Matte transition","Alloy - Matte transition","Alloy - Matte transition","Alloy - Matte transition","Alloy - Matte transition","Alloy - Matte transition","Alloy - Matte transition","Alloy - Matte transition","Alloy - Matte transition","Alloy - Matte transition","Alloy - Matte transition","Alloy - Matte transition","Alloy - Matte transition","Alloy - Matte transition","Alloy - Matte transition","Alloy - Matte transition","Alloy - Matte transition","Alloy - Matte transition","Alloy - Matte transition","Alloy - Matte transition","Alloy - Matte transition","Alloy - Matte transition","Alloy - Matte transition","Alloy - Matte transition","Alloy - Matte transition","Alloy - Matte transition","Alloy - Matte transition","Alloy - Matte transition","Alloy - Matte transition","Alloy - Matte transition","Alloy - Matte transition","Alloy - Matte transition","Alloy - Matte transition","Alloy - Matte transition","Alloy - Matte transition","Alloy - Matte transition","Alloy - Matte transition","Alloy - Matte transition","Alloy - Matte transition","Alloy - Matte transition","Alloy - Matte transition","Alloy - Matte transition","Alloy - Matte transition","Alloy - Matte transition","Alloy - Matte transition","Alloy - Matte transition","Alloy - Matte transition","Alloy - Matte transition","Alloy - Matte transition","Alloy - Matte transition","Alloy - Matte transition","Alloy - Matte transition","Alloy - Matte transition","Alloy - Matte transition","Alloy - Matte transition","Alloy - Matte transition","Alloy - Matte transition","Alloy - Matte transition","Alloy - Matte transition","Alloy - Matte transition","Alloy - Matte transition","Alloy - Matte transition","Alloy - Matte transition","Alloy - Matte transition","Alloy - Matte transition","Alloy - Matte transition","Alloy - Matte transition","Alloy - Matte transition","Alloy - Matte transition","Alloy - Matte transition","Alloy - Matte transition","Alloy - Matte transition","Alloy - Matte transition","Alloy - Matte transition","Alloy - Matte transition","Alloy - Matte transition","Alloy - Matte transition","Alloy - Matte transition","Alloy - Matte transition","Alloy - Matte transition","Alloy - Matte transition","Alloy - Matte transition","Alloy - Matte transition","Alloy - Matte transition","Alloy - Matte transition","Alloy - Matte transition","Alloy - Matte transition","Alloy - Matte transition","Alloy - Matte transition","Alloy - Matte transition","Alloy - Matte transition","Alloy - Matte transition","Alloy - Matte transition","Alloy - Matte transition","Alloy - Matte transition","Alloy - Matte transition","Alloy - Matte transition","Alloy - Matte transition","Alloy - Matte transition","Alloy - Matte transition","Alloy - Matte transition","Alloy - Matte transition","Alloy - Matte transition","Alloy - Matte transition","Alloy - Matte transition","Alloy - Matte transition","Alloy - Matte transition","Alloy - Matte transition","Alloy - Matte transition","Alloy - Matte transition","Alloy - Matte transition","Alloy - Matte transition","Alloy - Matte transition","Alloy - Matte transition","Alloy - Matte transition","Alloy - Matte transition","Alloy - Matte transition","Alloy - Matte transition","Alloy - Matte transition","Alloy - Matte transition","Alloy - Matte transition","Alloy - Matte transition","Alloy - Matte transition","Alloy - Matte transition","Alloy - Matte transition","Alloy - Matte transition","Alloy - Matte transition","Alloy - Matte transition","Alloy - Matte transition","Alloy - Matte transition","Alloy - Matte transition","Alloy - Matte transition","Alloy - Matte transition","Alloy - Matte transition","Alloy - Matte transition","Alloy - Matte transition","Alloy - Matte transition","Alloy - Matte transition","Alloy - Matte transition","Alloy - Matte transition","Alloy - Matte transition","Alloy - Matte transition","Alloy - Matte transition","Alloy - Matte transition","Alloy - Matte transition","Alloy - Matte transition","Alloy - Matte transition","Alloy - Matte transition","Alloy - Matte transition","Alloy - Matte transition","Alloy - Matte transition","Alloy - Matte transition","Alloy - Matte transition","Alloy - Matte transition","Alloy - Matte transition","Alloy - Matte transition","Alloy - Matte transition","Alloy - Matte transition","Alloy - Matte transition","Alloy - Matte transition","Alloy - Matte transition","Alloy - Matte transition","Alloy - Matte transition","Alloy - Matte transition","Alloy - Matte transition","Alloy - Matte transition","Alloy - Matte transition","Alloy - Matte transition","Alloy - Matte transition","Alloy - Matte transition","Alloy - Matte transition","Alloy - Matte transition","Alloy - Matte transition","Alloy - Matte transition","Alloy - Matte transition","Alloy - Matte transition","Alloy - Matte transition","Alloy - Matte transition","Alloy - Matte transition","Alloy - Matte transition","Alloy - Matte transition","Alloy - Matte transition","Alloy - Matte transition","Alloy - Matte transition","Alloy - Matte transition","Alloy - Matte transition","Alloy - Matte transition","Alloy - Matte transition","Alloy - Matte transition","Alloy - Matte transition","Alloy - Matte transition","Alloy - Matte transition","Alloy - Matte transition","Alloy - Matte transition","Alloy - Matte transition","Alloy - Matte transition","Alloy - Matte transition","Alloy - Matte transition","Alloy - Matte transition","Alloy - Matte transition","Alloy - Matte transition","Alloy - Matte transition","Alloy - Matte transition","Alloy - Matte transition","Alloy - Matte transition","Alloy - Matte transition","Alloy - Matte transition","Alloy - Matte transition","Alloy - Matte transition","Alloy - Matte transition","Alloy - Matte transition","Alloy - Matte transition","Alloy - Matte transition","Alloy - Matte transition","Alloy - Matte transition","Alloy - Matte transition","Alloy - Matte transition","Alloy - Matte transition","Alloy - Matte transition","Alloy - Matte transition","Alloy - Matte transition","Alloy - Matte transition","Alloy - Matte transition","Alloy - Matte transition","Alloy - Matte transition","Alloy - Matte transition","Alloy - Matte transition","Alloy - Matte transition","Alloy - Matte transition","Alloy - Matte transition","Alloy - Matte transition","Alloy - Matte transition","Alloy - Matte transition","Alloy - Matte transition","Alloy - Matte transition","Alloy - Matte transition","Alloy - Matte transition","Alloy - Matte transition","Alloy - Matte transition","Alloy - Matte transition","Alloy - Matte transition","Alloy - Matte transition","Alloy - Matte transition","Alloy - Matte transition","Alloy - Matte transition","Alloy - Matte transition","Alloy - Matte transition","Alloy - Matte transition","Alloy - Matte transition","Alloy - Matte transition","Alloy - Matte transition","Alloy - Matte transition","Alloy - Matte transition","Alloy - Matte transition","Alloy - Matte transition","Alloy - Matte transition","Alloy - Matte transition","Alloy - Matte transition","Alloy - Matte transition","Alloy - Matte transition","Alloy - Matte transition","Alloy - Matte transition","Alloy - Matte transition","Alloy - Matte transition","Alloy - Matte transition","Alloy - Matte transition","Alloy - Matte transition","Alloy - Matte transition","Alloy - Matte transition","Alloy - Matte transition","Alloy - Matte transition","Alloy - Matte transition","Alloy - Matte transition","Alloy - Matte transition","Alloy - Matte transition","Alloy - Matte transition","Alloy - Matte transition","Alloy - Matte transition","Alloy - Matte transition","Alloy - Matte transition","Alloy - Matte transition","Alloy - Matte transition","Alloy - Matte transition","Alloy - Matte transition","Alloy - Matte transition","Alloy - Matte transition","Alloy - Matte transition","Alloy - Matte transition","Alloy - Matte transition","Alloy - Matte transition","Alloy - Matte transition","Alloy - Matte transition","Alloy - Matte transition","Alloy - Matte transition","Alloy - Matte transition","Alloy - Matte transition","Alloy - Matte transition","Alloy - Matte transition","Alloy - Matte transition","Alloy - Matte transition","Alloy - Matte transition","Alloy - Matte transition","Alloy - Matte transition","Alloy - Matte transition","Alloy - Matte transition","Alloy - Matte transition","Alloy - Matte transition","Alloy - Matte transition","Alloy - Matte transition","Alloy - Matte transition","Alloy - Matte transition","Alloy - Matte transition","Alloy - Matte transition","Alloy - Matte transition","Alloy - Matte transition","Alloy - Matte transition","Alloy - Matte transition","Alloy - Matte transition","Alloy - Matte transition","Alloy - Matte transition","Alloy - Matte transition","Alloy - Matte transition","Alloy - Matte transition","Alloy - Matte transition","Alloy - Matte transition","Alloy - Matte transition","Alloy - Matte transition","Alloy - Matte transition","Alloy - Matte transition","Alloy - Matte transition","Alloy - Matte transition","Alloy - Matte transition","Alloy - Matte transition","Alloy - Matte transition","Alloy - Matte transition","Alloy - Matte transition","Alloy - Matte transition","Alloy - Matte transition","Alloy - Matte transition","Alloy - Matte transition","Alloy - Matte transition","Alloy - Matte transition","Alloy - Matte transition","Alloy - Matte transition","Alloy - Matte transition","Alloy - Matte transition","Alloy - Matte transition","Alloy - Matte transition","Alloy - Matte transition","Alloy - Matte transition","Alloy - Matte transition","Alloy - Matte transition","Alloy - Matte transition","Alloy - Matte transition","Alloy - Matte transition","Alloy - Matte transition","Alloy - Matte transition","Alloy - Matte transition","Alloy - Matte transition","Alloy - Matte transition","Alloy - Matte transition","Alloy - Matte transition","Alloy - Matte transition","Alloy - Matte transition","Alloy - Matte transition","Alloy - Matte transition","Alloy - Matte transition","Alloy - Matte transition","Alloy - Matte transition","Alloy - Matte transition","Alloy - Matte transition","Alloy - Matte transition","Alloy - Matte transition","Alloy - Matte transition","Alloy - Matte transition","Alloy - Matte transition","Alloy - Matte transition","Alloy - Matte transition","Alloy - Matte transition","Alloy - Matte transition","Alloy - Matte transition","Alloy - Matte transition","Alloy - Matte transition","Alloy - Matte transition","Alloy - Matte transition","Alloy - Matte transition","Alloy - Matte transition","Alloy - Matte transition","Alloy - Matte transition","Alloy - Matte transition","Alloy - Matte transition","Alloy - Matte transition","Alloy - Matte transition","Alloy - Matte transition","Alloy - Matte transition","Alloy - Matte transition","Alloy - Matte transition","Alloy - Matte transition","Alloy - Matte transition","Alloy - Matte transition","Alloy - Matte transition","Alloy - Matte transition","Alloy - Matte transition","Alloy - Matte transition","Alloy - Matte transition","Alloy - Matte transition","Alloy - Matte transition","Alloy - Matte transition","Alloy - Matte transition","Alloy - Matte transition","Alloy - Matte transition","Alloy - Matte transition","Alloy - Matte transition","Alloy - Matte transition","Alloy - Matte transition","Alloy - Matte transition","Alloy - Matte transition","Alloy - Matte transition","Alloy - Matte transition","Alloy - Matte transition","Alloy - Matte transition","Alloy - Matte transition","Alloy - Matte transition","Alloy - Matte transition","Alloy - Matte transition","Alloy - Matte transition","Alloy - Matte transition","Alloy - Matte transition","Alloy - Matte transition","Alloy - Matte transition","Alloy - Matte transition","Alloy - Matte transition","Alloy - Matte transition","Alloy - Matte transition","Alloy - Matte transition","Alloy - Matte transition","Alloy - Matte transition","Alloy - Matte transition","Alloy - Matte transition","Alloy - Matte transition","Alloy - Matte transition","Alloy - Matte transition","Alloy - Matte transition","Alloy - Matte transition","Alloy - Matte transition","Alloy - Matte transition","Alloy - Matte transition","Alloy - Matte transition","Alloy - Matte transition","Alloy - Matte transition","Alloy - Matte transition","Alloy - Matte transition","Alloy - Matte transition","Alloy - Matte transition","Alloy - Matte transition","Alloy - Matte transition","Alloy - Matte transition","Alloy - Matte transition","Alloy - Matte transition","Alloy - Matte transition","Alloy - Matte transition","Alloy - Matte transition","Alloy - Matte transition","Alloy - Matte transition","Alloy - Matte transition","Alloy - Matte transition","Alloy - Matte transition","Alloy - Matte transition","Alloy - Matte transition","Alloy - Matte transition","Alloy - Matte transition","Alloy - Matte transition","Alloy - Matte transition","Alloy - Matte transition","Alloy - Matte transition","Alloy - Matte transition","Alloy - Matte transition","Alloy - Matte transition","Alloy - Matte transition","Alloy - Matte transition","Alloy - Matte transition","Alloy - Matte transition","Alloy - Matte transition","Alloy - Matte transition","Alloy - Matte transition","Alloy - Matte transition","Alloy - Matte transition","Alloy - Matte transition","Alloy - Matte transition","Alloy - Matte transition","Alloy - Matte transition","Alloy - Matte transition","Alloy - Matte transition","Alloy - Matte transition","Alloy - Matte transition","Alloy - Matte transition","Alloy - Matte transition","Alloy - Matte transition","Alloy - Matte transition","Alloy - Matte transition","Alloy - Matte transition","Alloy - Matte transition","Alloy - Matte transition","Alloy - Matte transition","Alloy - Matte transition","Alloy - Matte transition","Alloy - Matte transition","Alloy - Matte transition","Alloy - Matte transition","Alloy - Matte transition","Alloy - Matte transition","Alloy - Matte transition","Alloy - Matte transition","Alloy - Matte transition","Alloy - Matte transition","Alloy - Matte transition","Alloy - Matte transition","Alloy - Matte transition","Alloy - Matte transition","Alloy - Matte transition","Alloy - Matte transition","Alloy - Matte transition","Alloy - Matte transition","Alloy - Matte transition","Alloy - Matte transition","Alloy - Matte transition","Alloy - Matte transition","Alloy - Matte transition","Alloy - Matte transition","Alloy - Matte transition","Alloy - Matte transition","Alloy - Matte transition","Alloy - Matte transition","Alloy - Matte transition","Alloy - Matte transition","Alloy - Matte transition","Alloy - Matte transition","Alloy - Matte transition","Alloy - Matte transition","Alloy - Matte transition","Alloy - Matte transition","Alloy - Matte transition","Alloy - Matte transition","Alloy - Matte transition","Alloy - Matte transition","Alloy - Matte transition","Alloy - Matte transition","Alloy - Matte transition","Alloy - Matte transition","Alloy - Matte transition","Alloy - Matte transition","Alloy - Matte transition","Alloy - Matte transition","Alloy - Matte transition","Alloy - Matte transition","Alloy - Matte transition","Alloy - Matte transition","Alloy - Matte transition","Alloy - Matte transition","Alloy - Matte transition","Alloy - Matte transition","Alloy - Matte transition","Alloy - Matte transition","Alloy - Matte transition","Alloy - Matte transition","Alloy - Matte transition","Alloy - Matte transition","Alloy - Matte transition","Alloy - Matte transition","Alloy - Matte transition","Alloy - Matte transition","Alloy - Matte transition","Alloy - Matte transition","Alloy - Matte transition","Alloy - Matte transition","Alloy - Matte transition","Alloy - Matte transition","Alloy - Matte transition","Alloy - Matte transition","Alloy - Matte transition","Alloy - Matte transition","Alloy - Matte transition","Alloy - Matte transition","Alloy - Matte transition","Alloy - Matte transition","Alloy - Matte transition","Alloy - Matte transition","Alloy - Matte transition","Alloy - Matte transition","Alloy - Matte transition","Alloy - Matte transition","Alloy - Matte transition","Alloy - Matte transition","Alloy - Matte transition","Alloy - Matte transition","Alloy - Matte transition","Alloy - Matte transition","Alloy - Matte transition","Alloy - Matte transition","Alloy - Matte transition","Alloy - Matte transition","Alloy - Matte transition","Alloy - Matte transition","Alloy - Matte transition","Alloy - Matte transition","Alloy - Matte transition","Alloy - Matte transition","Alloy - Matte transition","Alloy - Matte transition","Alloy - Matte transition","Alloy - Matte transition","Alloy - Matte transition","Alloy - Matte transition","Alloy - Matte transition","Alloy - Matte transition","Alloy - Matte transition","Alloy - Matte transition","Alloy - Matte transition","Alloy - Matte transition","Alloy - Matte transition","Alloy - Matte transition","Alloy - Matte transition","Alloy - Matte transition","Alloy - Matte transition","Alloy - Matte transition","Alloy - Matte transition","Alloy - Matte transition","Alloy - Matte transition","Alloy - Matte transition","Alloy - Matte transition","Alloy - Matte transition","Alloy - Matte transition","Alloy - Matte transition","Alloy - Matte transition","Alloy - Matte transition","Alloy - Matte transition","Alloy - Matte transition","Alloy - Matte transition","Alloy - Matte transition","Alloy - Matte transition","Alloy - Matte transition","Alloy - Matte transition","Alloy - Matte transition","Alloy - Matte transition","Alloy - Matte transition","Alloy - Matte transition","Alloy - Matte transition","Alloy - Matte transition","Alloy - Matte transition","Alloy - Matte transition","Alloy - Matte transition","Alloy - Matte transition","Alloy - Matte transition","Alloy - Matte transition","Alloy - Matte transition","Alloy - Matte transition","Alloy - Matte transition","Alloy - Matte transition","Alloy - Matte transition","Alloy - Matte transition","Alloy - Matte transition","Alloy - Matte transition","Alloy - Matte transition","Alloy - Matte transition","Alloy - Matte transition","Alloy - Matte transition","Alloy - Matte transition","Alloy - Matte transition","Alloy - Matte transition","Alloy - Matte transition","Alloy - Matte transition","Alloy - Matte transition","Alloy - Matte transition","Alloy - Matte transition","Alloy - Matte transition","Alloy - Matte transition","Alloy - Matte transition","Alloy - Matte transition","Alloy - Matte transition","Alloy - Matte transition","Alloy - Matte transition","Alloy - Matte transition","Alloy - Matte transition","Alloy - Matte transition","Alloy - Matte transition","Alloy - Matte transition","Alloy - Matte transition","Alloy - Matte transition","Alloy - Matte transition","Alloy - Matte transition","Alloy - Matte transition","Alloy - Matte transition","Alloy - Matte transition","Alloy - Matte transition","Alloy - Matte transition","Alloy - Matte transition","Alloy - Matte transition","Alloy - Matte transition","Alloy - Matte transition","Alloy - Matte transition","Alloy - Matte transition","Alloy - Matte transition","Alloy - Matte transition","Alloy - Matte transition","Alloy - Matte transition","Alloy - Matte transition","Alloy - Matte transition","Alloy - Matte transition","Alloy - Matte transition","Alloy - Matte transition","Alloy - Matte transition","Alloy - Matte transition","Alloy - Matte transition","Alloy - Matte transition","Alloy - Matte transition","Alloy - Matte transition","Alloy - Matte transition","Alloy - Matte transition","Alloy - Matte transition","Alloy - Matte transition","Alloy - Matte transition","Alloy - Matte transition","Alloy - Matte transition","Alloy - Matte transition","Alloy - Matte transition","Alloy - Matte transition","Alloy - Matte transition","Alloy - Matte transition","Alloy - Matte transition","Alloy - Matte transition","Alloy - Matte transition","Alloy - Matte transition","Alloy - Matte transition","Alloy - Matte transition","Alloy - Matte transition","Alloy - Matte transition","Alloy - Matte transition","Alloy - Matte transition","Alloy - Matte transition","Alloy - Matte transition","Alloy - Matte transition","Alloy - Matte transition","Alloy - Matte transition","Alloy - Matte transition","Alloy - Matte transition","Alloy - Matte transition","Alloy - Matte transition","Alloy - Matte transition","Alloy - Matte transition","Alloy - Matte transition","Alloy - Matte transition","Alloy - Matte transition","Alloy - Matte transition","Alloy - Matte transition","Alloy - Matte transition","Alloy - Matte transition","Alloy - Matte transition","Alloy - Matte transition","Alloy - Matte transition","Alloy - Matte transition","Alloy - Matte transition","Alloy - Matte transition","Alloy - Matte transition","Alloy - Matte transition","Alloy - Matte transition","Alloy - Matte transition","Alloy - Matte transition","Alloy - Matte transition","Alloy - Matte transition","Alloy - Matte transition","Alloy - Matte transition","Alloy - Matte transition","Alloy - Matte transition","Alloy - Matte transition","Alloy - Matte transition","Alloy - Matte transition","Alloy - Matte transition","Alloy - Matte transition","Alloy - Matte transition","Alloy - Matte transition","Alloy - Matte transition","Alloy - Matte transition","Alloy - Matte transition","Alloy - Matte transition","Alloy - Matte transition","Alloy - Matte transition","Alloy - Matte transition","Alloy - Matte transition","Alloy - Matte transition","Alloy - Matte transition","Alloy - Matte transition","Alloy - Matte transition","Alloy - Matte transition","Alloy - Matte transition","Alloy - Matte transition","Alloy - Matte transition","Alloy - Matte transition","Alloy - Matte transition","Alloy - Matte transition","Alloy - Matte transition","Alloy - Matte transition","Alloy - Matte transition","Alloy - Matte transition","Alloy - Matte transition","Alloy - Matte transition","Alloy - Matte transition","Alloy - Matte transition","Alloy - Matte transition","Alloy - Matte transition","Alloy - Matte transition","Alloy - Matte transition","Alloy - Matte transition","Alloy - Matte transition","Alloy - Matte transition","Alloy - Matte transition","Alloy - Matte transition","Alloy - Matte transition","Alloy - Matte transition","Alloy - Matte transition","Alloy - Matte transition","Alloy - Matte transition","Alloy - Matte transition","Alloy - Matte transition","Alloy - Matte transition","Alloy - Matte transition","Alloy - Matte transition","Alloy - Matte transition","Alloy - Matte transition","Alloy - Matte transition","Alloy - Matte transition","Alloy - Matte transition","Alloy - Matte transition","Alloy - Matte transition","Alloy - Matte transition","Alloy - Matte transition","Alloy - Matte transition","Alloy - Matte transition","Alloy - Matte transition","Alloy - Matte transition","Alloy - Matte transition","Alloy - Matte transition","Alloy - Matte transition","Alloy - Matte transition","Alloy - Matte transition","Alloy - Matte transition","Alloy - Matte transition","Alloy - Matte transition","Alloy - Matte transition","Alloy - Matte transition","Alloy - Matte transition","Alloy - Matte transition","Alloy - Matte transition","Alloy - Matte transition","Alloy - Matte transition","Alloy - Matte transition","Alloy - Matte transition","Alloy - Matte transition","Alloy - Matte transition","Alloy - Matte transition","Alloy - Matte transition","Alloy - Matte transition","Alloy - Matte transition","Alloy - Matte transition","Alloy - Matte transition","Alloy - Matte transition","Alloy - Matte transition","Alloy - Matte transition","Alloy - Matte transition","Alloy - Matte transition","Alloy - Matte transition","Alloy - Matte transition","Alloy - Matte transition","Alloy - Matte transition","Alloy - Matte transition","Alloy - Matte transition","Alloy - Matte transition","Alloy - Matte transition","Alloy - Matte transition","Alloy - Matte transition","Alloy - Matte transition","Alloy - Matte transition","Alloy - Matte transition","Alloy - Matte transition","Alloy - Matte transition","Alloy - Matte transition","Alloy - Matte transition","Alloy - Matte transition","Alloy - Matte transition","Alloy - Matte transition","Alloy - Matte transition","Alloy - Matte transition","Alloy - Matte transition","Alloy - Matte transition","Alloy - Matte transition","Alloy - Matte transition","Alloy - Matte transition","Alloy - Matte transition","Alloy - Matte transition","Alloy - Matte transition","Alloy - Matte transition","Alloy - Matte transition","Alloy - Matte transition","Alloy - Matte transition","Alloy - Matte transition","Alloy - Matte transition","Alloy - Matte transition","Alloy - Matte transition","Alloy - Matte transition","Alloy - Matte transition","Alloy - Matte transition","Alloy - Matte transition","Alloy - Matte transition","Alloy - Matte transition","Alloy - Matte transition","Alloy - Matte transition","Alloy - Matte transition","Alloy - Matte transition","Alloy - Matte transition","Alloy - Matte transition","Alloy - Matte transition","Alloy - Matte transition","Alloy - Matte transition","Alloy - Matte transition","Alloy - Matte transition","Alloy - Matte transition","Alloy - Matte transition","Alloy - Matte transition","Alloy - Matte transition","Alloy - Matte transition","Alloy - Matte transition","Alloy - Matte transition","Alloy - Matte transition","Alloy - Matte transition","Alloy - Matte transition","Alloy - Matte transition","Alloy - Matte transition","Alloy - Matte transition","Alloy - Matte transition","Alloy - Matte transition","Alloy - Matte transition","Alloy - Matte transition","Alloy - Matte transition","Alloy - Matte transition","Alloy - Matte transition","Alloy - Matte transition","Alloy - Matte transition","Alloy - Matte transition","Alloy - Matte transition","Alloy - Matte transition","Alloy - Matte transition","Alloy - Matte transition","Alloy - Matte transition","Alloy - Matte transition","Alloy - Matte transition","Alloy - Matte transition","Alloy - Matte transition","Alloy - Matte transition","Alloy - Matte transition","Alloy - Matte transition","Alloy - Matte transition","Alloy - Matte transition","Alloy - Matte transition","Alloy - Matte transition","Alloy - Matte transition","Alloy - Matte transition","Alloy - Matte transition","Alloy - Matte transition","Alloy - Matte transition","Alloy - Matte transition","Alloy - Matte transition","Alloy - Matte transition","Alloy - Matte transition","Alloy - Matte transition","Alloy - Matte transition","Alloy - Matte transition","Alloy - Matte transition","Alloy - Matte transition","Alloy - Matte transition","Alloy - Matte transition","Alloy - Matte transition","Alloy - Matte transition","Alloy - Matte transition","Alloy - Matte transition","Alloy - Matte transition","Alloy - Matte transition","Alloy - Matte transition","Alloy - Matte transition","Alloy - Matte transition","Alloy - Matte transition","Alloy - Matte transition","Alloy - Matte transition","Alloy - Matte transition","Alloy - Matte transition","Alloy - Matte transition","Alloy - Matte transition","Alloy - Matte transition","Alloy - Matte transition","Alloy - Matte transition","Alloy - Matte transition","Alloy - Matte transition","Alloy - Matte transition","Alloy - Matte transition","Alloy - Matte transition","Alloy - Matte transition","Alloy - Matte transition","Alloy - Matte transition","Alloy - Matte transition","Alloy - Matte transition","Alloy - Matte transition","Alloy - Matte transition","Alloy - Matte transition","Alloy - Matte transition","Alloy - Matte transition","Alloy - Matte transition","Alloy - Matte transition","Alloy - Matte transition","Alloy - Matte transition","Alloy - Matte transition","Alloy - Matte transition","Alloy - Matte transition","Alloy - Matte transition","Alloy - Matte transition","Alloy - Matte transition","Alloy - Matte transition","Alloy - Matte transition","Alloy - Matte transition","Alloy - Matte transition","Alloy - Matte transition","Alloy - Matte transition","Alloy - Matte transition","Alloy - Matte transition","Alloy - Matte transition","Alloy - Matte transition","Alloy - Matte transition","Alloy - Matte transition","Alloy - Matte transition","Alloy - Matte transition","Alloy - Matte transition","Alloy - Matte transition","Alloy - Matte transition","Alloy - Matte transition","Alloy - Matte transition","Alloy - Matte transition","Alloy - Matte transition","Alloy - Matte transition","Alloy - Matte transition","Alloy - Matte transition","Alloy - Matte transition","Alloy - Matte transition","Alloy - Matte transition","Alloy - Matte transition","Alloy - Matte transition","Alloy - Matte transition","Alloy - Matte transition","Alloy - Matte transition","Alloy - Matte transition","Alloy - Matte transition","Alloy - Matte transition","Alloy - Matte transition","Alloy - Matte transition","Alloy - Matte transition","Alloy - Matte transition","Alloy - Matte transition","Alloy - Matte transition","Alloy - Matte transition","Alloy - Matte transition","Alloy - Matte transition","Alloy - Matte transition","Alloy - Matte transition","Alloy - Matte transition","Alloy - Matte transition","Alloy - Matte transition","Alloy - Matte transition","Alloy - Matte transition","Alloy - Matte transition","Alloy - Matte transition","Alloy - Matte transition","Alloy - Matte transition","Alloy - Matte transition","Alloy - Matte transition","Alloy - Matte transition","Alloy - Matte transition","Alloy - Matte transition","Alloy - Matte transition","Alloy - Matte transition","Alloy - Matte transition","Alloy - Matte transition","Alloy - Matte transition","Alloy - Matte transition","Alloy - Matte transition","Alloy - Matte transition","Alloy - Matte transition","Alloy - Matte transition","Alloy - Matte transition","Alloy - Matte transition","Alloy - Matte transition","Alloy - Matte transition","Alloy - Matte transition","Alloy - Matte transition","Alloy - Matte transition","Alloy - Matte transition","Alloy - Matte transition","Alloy - Matte transition","Alloy - Matte transition","Alloy - Matte transition","Alloy - Matte transition","Alloy - Matte transition","Alloy - Matte transition","Alloy - Matte transition","Alloy - Matte transition","Alloy - Matte transition","Alloy - Matte transition","Alloy - Matte transition","Alloy - Matte transition","Alloy - Matte transition","Alloy - Matte transition","Alloy - Matte transition","Alloy - Matte transition","Alloy - Matte transition","Alloy - Matte transition","Alloy - Matte transition","Alloy - Matte transition","Alloy - Matte transition","Alloy - Matte transition","Alloy - Matte transition","Alloy - Matte transition","Alloy - Matte transition","Alloy - Matte transition","Alloy - Matte transition","Alloy - Matte transition","Alloy - Matte transition","Alloy - Matte transition","Alloy - Matte transition","Alloy - Matte transition","Alloy - Matte transition","Alloy - Matte transition","Alloy - Matte transition","Alloy - Matte transition","Alloy - Matte transition","Alloy - Matte transition","Alloy - Matte transition","Alloy - Matte transition","Alloy - Matte transition","Alloy - Matte transition","Alloy - Matte transition","Alloy - Matte transition","Alloy - Matte transition","Alloy - Matte transition","Alloy - Matte transition","Alloy - Matte transition","Alloy - Matte transition","Alloy - Matte transition","Alloy - Matte transition","Alloy - Matte transition","Alloy - Matte transition","Alloy - Matte transition","Alloy - Matte transition","Alloy - Matte transition","Alloy - Matte transition","Alloy - Matte transition","Alloy - Matte transition","Alloy - Matte transition","Alloy - Matte transition","Alloy - Matte transition","Alloy - Matte transition","Alloy - Matte transition","Alloy - Matte transition","Alloy - Matte transition","Alloy - Matte transition","Alloy - Matte transition","Alloy - Matte transition","Alloy - Matte transition","Alloy - Matte transition","Alloy - Matte transition","Alloy - Matte transition","Alloy - Matte transition","Alloy - Matte transition","Alloy - Matte transition","Alloy - Matte transition","Alloy - Matte transition","Alloy - Matte transition","Alloy - Matte transition","Alloy - Matte transition","Alloy - Matte transition","Alloy - Matte transition","Alloy - Matte transition","Alloy - Matte transition","Alloy - Matte transition","Alloy - Matte transition","Alloy - Matte transition","Alloy - Matte transition","Alloy - Matte transition","Alloy - Matte transition","Alloy - Matte transition","Alloy - Matte transition","Alloy - Matte transition","Alloy - Matte transition","Alloy - Matte transition","Alloy - Matte transition","Alloy - Matte transition","Alloy - Matte transition","Alloy - Matte transition","Alloy - Matte transition","Alloy - Matte transition","Alloy - Matte transition","Alloy - Matte transition","Alloy - Matte transition","Alloy - Matte transition","Alloy - Matte transition","Alloy - Matte transition","Alloy - Matte transition","Alloy - Matte transition","Alloy - Matte transition","Alloy - Matte transition","Alloy - Matte transition","Alloy - Matte transition","Alloy - Matte transition","Alloy - Matte transition","Alloy - Matte transition","Alloy - Matte transition","Alloy - Matte transition","Alloy - Matte transition","Alloy - Matte transition","Alloy - Matte transition","Alloy - Matte transition","Alloy - Matte transition","Alloy - Matte transition","Alloy - Matte transition","Alloy - Matte transition","Alloy - Matte transition","Alloy - Matte transition","Alloy - Matte transition","Alloy - Matte transition","Alloy - Matte transition","Alloy - Matte transition","Alloy - Matte transition","Alloy - Matte transition","Alloy - Matte transition","Alloy - Matte transition","Alloy - Matte transition","Alloy - Matte transition","Alloy - Matte transition","Alloy - Matte transition","Alloy - Matte transition","Alloy - Matte transition","Alloy - Matte transition","Alloy - Matte transition","Alloy - Matte transition","Alloy - Matte transition","Alloy - Matte transition","Alloy - Matte transition","Alloy - Matte transition","Alloy - Matte transition","Alloy - Matte transition","Alloy - Matte transition","Alloy - Matte transition","Alloy - Matte transition","Alloy - Matte transition","Alloy - Matte transition","Alloy - Matte transition","Alloy - Matte transition","Alloy - Matte transition","Alloy - Matte transition","Alloy - Matte transition","Alloy - Matte transition","Alloy - Matte transition","Alloy - Matte transition","Alloy - Matte transition","Alloy - Matte transition","Alloy - Matte transition","Alloy - Matte transition","Alloy - Matte transition","Alloy - Matte transition","Alloy - Matte transition","Alloy - Matte transition","Alloy - Matte transition","Alloy - Matte transition","Alloy - Matte transition","Alloy - Matte transition","Alloy - Matte transition","Alloy - Matte transition","Alloy - Matte transition","Alloy - Matte transition","Alloy - Matte transition","Alloy - Matte transition","Alloy - Matte transition","Alloy - Matte transition","Alloy - Matte transition","Alloy - Matte transition","Alloy - Matte transition","Alloy - Matte transition","Alloy - Matte transition","Alloy - Matte transition","Alloy - Matte transition","Alloy - Matte transition","Alloy - Matte transition","Alloy - Matte transition","Alloy - Matte transition","Alloy - Matte transition","Alloy - Matte transition","Alloy - Matte transition","Alloy - Matte transition","Alloy - Matte transition","Alloy - Matte transition","Alloy - Matte transition","Alloy - Matte transition","Alloy - Matte transition","Alloy - Matte transition","Alloy - Matte transition","Alloy - Matte transition","Alloy - Matte transition","Alloy - Matte transition","Alloy - Matte transition","Alloy - Matte transition","Alloy - Matte transition","Alloy - Matte transition","Alloy - Matte transition","Alloy - Matte transition","Alloy - Matte transition","Alloy - Matte transition","Alloy - Matte transition","Alloy - Matte transition","Alloy - Matte transition","Alloy - Matte transition","Alloy - Matte transition","Alloy - Matte transition","Alloy - Matte transition","Alloy - Matte transition","Alloy - Matte transition","Alloy - Matte transition","Alloy - Matte transition","Alloy - Matte transition","Alloy - Matte transition","Alloy - Matte transition","Alloy - Matte transition","Alloy - Matte transition","Alloy - Matte transition","Alloy - Matte transition","Alloy - Matte transition","Alloy - Matte transition","Alloy - Matte transition","Alloy - Matte transition","Alloy - Matte transition","Alloy - Matte transition","Alloy - Matte transition","Alloy - Matte transition","Alloy - Matte transition","Alloy - Matte transition","Alloy - Matte transition","Alloy - Matte transition","Alloy - Matte transition","Alloy - Matte transition","Alloy - Matte transition","Alloy - Matte transition","Alloy - Matte transition","Alloy - Matte transition","Alloy - Matte transition","Alloy - Matte transition","Alloy - Matte transition","Alloy - Matte transition","Alloy - Matte transition","Alloy - Matte transition","Alloy - Matte transition","Alloy - Matte transition","Alloy - Matte transition","Alloy - Matte transition","Alloy - Matte transition","Alloy - Matte transition","Alloy - Matte transition","Alloy - Matte transition","Alloy - Matte transition","Alloy - Matte transition","Alloy - Matte transition","Alloy - Matte transition","Alloy - Matte transition","Alloy - Matte transition","Alloy - Matte transition","Alloy - Matte transition","Alloy - Matte transition","Alloy - Matte transition","Alloy - Matte transition","Alloy - Matte transition","Alloy - Matte transition","Alloy - Matte transition","Alloy - Matte transition","Alloy - Matte transition","Alloy - Matte transition","Alloy - Matte transition","Alloy - Matte transition","Alloy - Matte transition","Alloy - Matte transition","Alloy - Matte transition","Alloy - Matte transition","Alloy - Matte transition","Alloy - Matte transition","Alloy - Matte transition","Alloy - Matte transition","Alloy - Matte transition","Alloy - Matte transition","Alloy - Matte transition","Alloy - Matte transition","Alloy - Matte transition","Alloy - Matte transition","Alloy - Matte transition","Alloy - Matte transition","Alloy - Matte transition","Alloy - Matte transition","Alloy - Matte transition","Alloy - Matte transition","Alloy - Matte transition","Alloy - Matte transition","Alloy - Matte transition","Alloy - Matte transition","Alloy - Matte transition","Alloy - Matte transition","Alloy - Matte transition","Alloy - Matte transition","Alloy - Matte transition","Alloy - Matte transition","Alloy - Matte transition","Alloy - Matte transition","Alloy - Matte transition","Alloy - Matte transition","Alloy - Matte transition","Alloy - Matte transition","Alloy - Matte transition","Alloy - Matte transition","Alloy - Matte transition","Alloy - Matte transition","Alloy - Matte transition","Alloy - Matte transition","Alloy - Matte transition","Alloy - Matte transition","Alloy - Matte transition","Alloy - Matte transition","Alloy - Matte transition","Alloy - Matte transition","Alloy - Matte transition","Alloy - Matte transition","Alloy - Matte transition","Alloy - Matte transition","Alloy - Matte transition","Alloy - Matte transition","Alloy - Matte transition","Alloy - Matte transition","Alloy - Matte transition","Alloy - Matte transition","Alloy - Matte transition","Alloy - Matte transition","Alloy - Matte transition","Alloy - Matte transition","Alloy - Matte transition","Alloy - Matte transition","Alloy - Matte transition","Alloy - Matte transition","Alloy - Matte transition","Alloy - Matte transition","Alloy - Matte transition","Alloy - Matte transition","Alloy - Matte transition","Alloy - Matte transition","Alloy - Matte transition","Alloy - Matte transition","Alloy - Matte transition","Alloy - Matte transition","Alloy - Matte transition","Alloy - Matte transition","Alloy - Matte transition","Alloy - Matte transition","Alloy - Matte transition","Alloy - Matte transition","Alloy - Matte transition","Alloy - Matte transition","Alloy - Matte transition","Alloy - Matte transition","Alloy - Matte transition","Alloy - Matte transition","Alloy - Matte transition","Alloy - Matte transition","Alloy - Matte transition","Alloy - Matte transition","Alloy - Matte transition","Alloy - Matte transition","Alloy - Matte transition","Alloy - Matte transition","Alloy - Matte transition","Alloy - Matte transition","Alloy - Matte transition","Alloy - Matte transition","Alloy - Matte transition","Alloy - Matte transition","Alloy - Matte transition","Alloy - Matte transition","Alloy - Matte transition","Alloy - Matte transition","Alloy - Matte transition","Alloy - Matte transition","Alloy - Matte transition","Alloy - Matte transition","Alloy - Matte transition","Alloy - Matte transition","Alloy - Matte transition","Alloy - Matte transition","Alloy - Matte transition","Alloy - Matte transition","Alloy - Matte transition","Alloy - Matte transition","Alloy - Matte transition","Alloy - Matte transition","Alloy - Matte transition","Alloy - Matte transition","Alloy - Matte transition","Alloy - Matte transition","Alloy - Matte transition","Alloy - Matte transition","Alloy - Matte transition","Alloy - Matte transition","Alloy - Matte transition","Alloy - Matte transition","Alloy - Matte transition","Alloy - Matte transition","Alloy - Matte transition","Alloy - Matte transition","Alloy - Matte transition","Alloy - Matte transition","Alloy - Matte transition","Alloy - Matte transition","Alloy - Matte transition","Alloy - Matte transition","Alloy - Matte transition","Alloy - Matte transition","Alloy - Matte transition","Alloy - Matte transition","Alloy - Matte transition","Alloy - Matte transition","Alloy - Matte transition","Alloy - Matte transition","Alloy - Matte transition","Alloy - Matte transition","Alloy - Matte transition","Alloy - Matte transition","Alloy - Matte transition","Alloy - Matte transition","Alloy - Matte transition","Alloy - Matte transition","Alloy - Matte transition","Alloy - Matte transition","Alloy - Matte transition","Alloy - Matte transition","Alloy - Matte transition","Alloy - Matte transition","Alloy - Matte transition","Alloy - Matte transition","Alloy - Matte transition","Alloy - Matte transition","Alloy - Matte transition","Alloy - Matte transition","Alloy - Matte transition","Alloy - Matte transition","Alloy - Matte transition","Alloy - Matte transition","Alloy - Matte transition","Alloy - Matte transition","Alloy - Matte transition","Alloy - Matte transition","Alloy - Matte transition","Alloy - Matte transition","Alloy - Matte transition","Alloy - Matte transition","Alloy - Matte transition","Alloy - Matte transition","Alloy - Matte transition","Alloy - Matte transition","Alloy - Matte transition","Alloy - Matte transition","Alloy - Matte transition","Alloy - Matte transition","Alloy - Matte transition","Alloy - Matte transition","Alloy - Matte transition","Alloy - Matte transition","Alloy - Matte transition","Alloy - Matte transition","Alloy - Matte transition","Alloy - Matte transition","Alloy - Matte transition","Alloy - Matte transition","Alloy - Matte transition","Alloy - Matte transition","Alloy - Matte transition","Alloy - Matte transition","Alloy - Matte transition","Alloy - Matte transition","Alloy - Matte transition","Alloy - Matte transition","Alloy - Matte transition","Alloy - Matte transition","Alloy - Matte transition","Alloy - Matte transition","Alloy - Matte transition","Alloy - Matte transition","Alloy - Matte transition","Alloy - Matte transition","Alloy - Matte transition","Alloy - Matte transition","Alloy - Matte transition","Alloy - Matte transition","Alloy - Matte transition","Alloy - Matte transition","Alloy - Matte transition","Alloy - Matte transition","Alloy - Matte transition","Alloy - Matte transition","Alloy - Matte transition","Alloy - Matte transition","Alloy - Matte transition","Alloy - Matte transition","Alloy - Matte transition","Alloy - Matte transition","Alloy - Matte transition","Alloy - Matte transition","Alloy - Matte transition","Alloy - Matte transition","Alloy - Matte transition","Alloy - Matte transition","Alloy - Matte transition","Alloy - Matte transition","Alloy - Matte transition","Alloy - Matte transition","Alloy - Matte transition","Alloy - Matte transition","Alloy - Matte transition","Alloy - Matte transition","Alloy - Matte transition","Alloy - Matte transition","Alloy - Matte transition","Alloy - Matte transition","Alloy - Matte transition","Alloy - Matte transition","Alloy - Matte transition","Alloy - Matte transition","Alloy - Matte transition","Alloy - Matte transition","Alloy - Matte transition","Alloy - Matte transition","Alloy - Matte transition","Alloy - Matte transition","Alloy - Matte transition","Alloy - Matte transition","Alloy - Matte transition","Alloy - Matte transition","Alloy - Matte transition","Alloy - Matte transition","Alloy - Matte transition","Alloy - Matte transition","Alloy - Matte transition","Alloy - Matte transition","Alloy - Matte transition","Alloy - Matte transition","Alloy - Matte transition","Alloy - Matte transition","Alloy - Matte transition","Alloy - Matte transition","Alloy - Matte transition","Alloy - Matte transition","Alloy - Matte transition","Alloy - Matte transition","Alloy - Matte transition","Alloy - Matte transition","Alloy - Matte transition","Alloy - Matte transition","Alloy - Matte transition","Alloy - Matte transition","Alloy - Matte transition","Alloy - Matte transition","Alloy - Matte transition","Alloy - Matte transition","Alloy - Matte transition","Alloy - Matte transition","Alloy - Matte transition","Alloy - Matte transition","Alloy - Matte transition","Alloy - Matte transition","Alloy - Matte transition","Alloy - Matte transition","Alloy - Matte transition","Alloy - Matte transition","Alloy - Matte transition","Alloy - Matte transition","Alloy - Matte transition","Alloy - Matte transition","Alloy - Matte transition","Alloy - Matte transition","Alloy - Matte transition","Alloy - Matte transition","Alloy - Matte transition","Alloy - Matte transition","Alloy - Matte transition","Alloy - Matte transition","Alloy - Matte transition","Alloy - Matte transition","Alloy - Matte transition","Alloy - Matte transition","Alloy - Matte transition","Alloy - Matte transition","Alloy - Matte transition","Alloy - Matte transition","Alloy - Matte transition","Alloy - Matte transition","Alloy - Matte transition","Alloy - Matte transition","Alloy - Matte transition","Alloy - Matte transition","Alloy - Matte transition","Alloy - Matte transition","Alloy - Matte transition","Alloy - Matte transition","Alloy - Matte transition","Alloy - Matte transition","Alloy - Matte transition","Alloy - Matte transition","Alloy - Matte transition","Alloy - Matte transition","Alloy - Matte transition","Alloy - Matte transition","Alloy - Matte transition","Alloy - Matte transition","Alloy - Matte transition","Alloy - Matte transition","Alloy - Matte transition","Alloy - Matte transition","Alloy - Matte transition","Alloy - Matte transition","Alloy - Matte transition","Alloy - Matte transition","Alloy - Matte transition","Alloy - Matte transition","Alloy - Matte transition","Alloy - Matte transition","Alloy - Matte transition","Alloy - Matte transition","Alloy - Matte transition","Alloy - Matte transition","Alloy - Matte transition","Alloy - Matte transition","Alloy - Matte transition","Alloy - Matte transition","Alloy - Matte transition","Alloy - Matte transition","Alloy - Matte transition","Alloy - Matte transition","Alloy - Matte transition","Alloy - Matte transition","Alloy - Matte transition","Alloy - Matte transition","Alloy - Matte transition","Alloy - Matte transition","Alloy - Matte transition","Alloy - Matte transition","Alloy - Matte transition","Alloy - Matte transition","Alloy - Matte transition","Alloy - Matte transition","Alloy - Matte transition","Alloy - Matte transition","Alloy - Matte transition","Alloy - Matte transition","Alloy - Matte transition","Alloy - Matte transition","Alloy - Matte transition","Alloy - Matte transition","Alloy - Matte transition","Alloy - Matte transition","Alloy - Matte transition","Alloy - Matte transition","Alloy - Matte transition","Alloy - Matte transition","Alloy - Matte transition","Alloy - Matte transition","Alloy - Matte transition","Alloy - Matte transition","Alloy - Matte transition","Alloy - Matte transition","Alloy - Matte transition","Alloy - Matte transition","Alloy - Matte transition","Alloy - Matte transition","Alloy - Matte transition","Alloy - Matte transition","Alloy - Matte transition","Alloy - Matte transition","Alloy - Matte transition","Alloy - Matte transition","Alloy - Matte transition","Alloy - Matte transition","Alloy - Matte transition","Alloy - Matte transition","Alloy - Matte transition","Alloy - Matte transition","Alloy - Matte transition","Alloy - Matte transition","Alloy - Matte transition","Alloy - Matte transition","Alloy - Matte transition","Alloy - Matte transition","Alloy - Matte transition","Alloy - Matte transition","Alloy - Matte transition","Alloy - Matte transition","Alloy - Matte transition","Alloy - Matte transition","Alloy - Matte transition","Alloy - Matte transition","Alloy - Matte transition","Alloy - Matte transition","Alloy - Matte transition","Alloy - Matte transition","Alloy - Matte transition","Alloy - Matte transition","Alloy - Matte transition","Alloy - Matte transition","Alloy - Matte transition","Alloy - Matte transition","Alloy - Matte transition","Alloy - Matte transition","Alloy - Matte transition","Alloy - Matte transition","Alloy - Matte transition","Alloy - Matte transition","Alloy - Matte transition","Alloy - Matte transition","Alloy - Matte transition","Alloy - Matte transition","Alloy - Matte transition","Alloy - Matte transition","Alloy - Matte transition","Alloy - Matte transition","Alloy - Matte transition","Alloy - Matte transition","Alloy - Matte transition","Alloy - Matte transition","Alloy - Matte transition","Alloy - Matte transition","Alloy - Matte transition","Alloy - Matte transition","Alloy - Matte transition","Alloy - Matte transition","Alloy - Matte transition","Alloy - Matte transition","Alloy - Matte transition","Alloy - Matte transition","Alloy - Matte transition","Alloy - Matte transition","Alloy - Matte transition","Alloy - Matte transition","Alloy - Matte transition","Alloy - Matte transition","Alloy - Matte transition","Alloy - Matte transition","Alloy - Matte transition","Alloy - Matte transition","Alloy - Matte transition","Alloy - Matte transition","Alloy - Matte transition","Alloy - Matte transition","Alloy - Matte transition","Alloy - Matte transition","Alloy - Matte transition","Alloy - Matte transition","Alloy - Matte transition","Alloy - Matte transition","Alloy - Matte transition","Alloy - Matte transition","Alloy - Matte transition","Alloy - Matte transition","Alloy - Matte transition","Alloy - Matte transition","Alloy - Matte transition","Alloy - Matte transition","Alloy - Matte transition","Alloy - Matte transition","Alloy - Matte transition","Alloy - Matte transition","Alloy - Matte transition","Alloy - Matte transition","Alloy - Matte transition","Alloy - Matte transition","Alloy - Matte transition","Alloy - Matte transition","Alloy - Matte transition","Alloy - Matte transition","Alloy - Matte transition","Alloy - Matte transition","Alloy - Matte transition","Alloy - Matte transition","Alloy - Matte transition","Alloy - Matte transition","Alloy - Matte transition","Alloy - Matte transition","Alloy - Matte transition","Alloy - Matte transition","Alloy - Matte transition","Alloy - Matte transition","Alloy - Matte transition","Alloy - Matte transition","Alloy - Matte transition","Alloy - Matte transition","Alloy - Matte transition","Alloy - Matte transition","Alloy - Matte transition","Alloy - Matte transition","Alloy - Matte transition","Alloy - Matte transition","Alloy - Matte transition","Alloy - Matte transition","Alloy - Matte transition","Alloy - Matte transition","Alloy - Matte transition","Alloy - Matte transition","Alloy - Matte transition","Alloy - Matte transition","Alloy - Matte transition","Alloy - Matte transition","Alloy - Matte transition","Alloy - Matte transition","Alloy - Matte transition","Alloy - Matte transition","Alloy - Matte transition","Alloy - Matte transition","Alloy - Matte transition","Alloy - Matte transition","Alloy - Matte transition","Alloy - Matte transition","Alloy - Matte transition","Alloy - Matte transition","Alloy - Matte transition","Alloy - Matte transition","Alloy - Matte transition","Alloy - Matte transition","Alloy - Matte transition","Alloy - Matte transition","Alloy - Matte transition","Alloy - Matte transition","Alloy - Matte transition","Alloy - Matte transition","Alloy - Matte transition","Alloy - Matte transition","Alloy - Matte transition","Alloy - Matte transition","Alloy - Matte transition","Alloy - Matte transition","Alloy - Matte transition","Alloy - Matte transition","Alloy - Matte transition","Alloy - Matte transition","Alloy - Matte transition","Alloy - Matte transition","Alloy - Matte transition","Alloy - Matte transition","Alloy - Matte transition","Alloy - Matte transition","Alloy - Matte transition","Alloy - Matte transition","Alloy - Matte transition","Alloy - Matte transition","Alloy - Matte transition","Alloy - Matte transition","Alloy - Matte transition","Alloy - Matte transition","Alloy - Matte transition","Alloy - Matte transition","Alloy - Matte transition","Alloy - Matte transition","Alloy - Matte transition","Alloy - Matte transition","Alloy - Matte transition","Alloy - Matte transition","Alloy - Matte transition","Alloy - Matte transition","Alloy - Matte transition","Alloy - Matte transition","Alloy - Matte transition","Alloy - Matte transition","Alloy - Matte transition","Alloy - Matte transition","Alloy - Matte transition","Alloy - Matte transition","Alloy - Matte transition","Alloy - Matte transition","Alloy - Matte transition","Alloy - Matte transition","Alloy - Matte transition","Alloy - Matte transition","Alloy - Matte transition","Alloy - Matte transition","Alloy - Matte transition","Alloy - Matte transition","Alloy - Matte transition","Alloy - Matte transition","Alloy - Matte transition","Alloy - Matte transition","Alloy - Matte transition","Alloy - Matte transition","Alloy - Matte transition","Alloy - Matte transition","Alloy - Matte transition","Alloy - Matte transition","Alloy - Matte transition","Alloy - Matte transition","Alloy - Matte transition","Alloy - Matte transition","Alloy - Matte transition","Alloy - Matte transition","Alloy - Matte transition","Alloy - Matte transition","Alloy - Matte transition","Alloy - Matte transition","Alloy - Matte transition","Alloy - Matte transition","Alloy - Matte transition","Alloy - Matte transition","Alloy - Matte transition","Alloy - Matte transition","Alloy - Matte transition","Alloy - Matte transition","Alloy - Matte transition","Alloy - Matte transition","Alloy - Matte transition","Alloy - Matte transition","Alloy - Matte transition","Alloy - Matte transition","Alloy - Matte transition","Alloy - Matte transition","Alloy - Matte transition","Alloy - Matte transition","Alloy - Matte transition","Alloy - Matte transition","Alloy - Matte transition","Alloy - Matte transition","Alloy - Matte transition","Alloy - Matte transition","Alloy - Matte transition","Alloy - Matte transition","Alloy - Matte transition","Alloy - Matte transition","Alloy - Matte transition","Alloy - Matte transition","Alloy - Matte transition","Alloy - Matte transition","Alloy - Matte transition","Alloy - Matte transition","Alloy - Matte transition","Alloy - Matte transition","Alloy - Matte transition","Alloy - Matte transition","Alloy - Matte transition","Alloy - Matte transition","Alloy - Matte transition","Alloy - Matte transition","Alloy - Matte transition","Alloy - Matte transition","Alloy - Matte transition","Alloy - Matte transition","Alloy - Matte transition","Alloy - Matte transition","Alloy - Matte transition","Alloy - Matte transition","Alloy - Matte transition","Alloy - Matte transition","Alloy - Matte transition","Alloy - Matte transition","Alloy - Matte transition","Alloy - Matte transition","Alloy - Matte transition","Alloy - Matte transition","Alloy - Matte transition","Alloy - Matte transition","Alloy - Matte transition","Alloy - Matte transition","Alloy - Matte transition","Alloy - Matte transition","Alloy - Matte transition","Alloy - Matte transition","Alloy - Matte transition","Alloy - Matte transition","Alloy - Matte transition","Alloy - Matte transition","Alloy - Matte transition","Alloy - Matte transition","Alloy - Matte transition","Alloy - Matte transition","Alloy - Matte transition","Alloy - Matte transition","Alloy - Matte transition","Alloy - Matte transition","Alloy - Matte transition","Alloy - Matte transition","Alloy - Matte transition","Alloy - Matte transition","Alloy - Matte transition","Alloy - Matte transition","Alloy - Matte transition","Alloy - Matte transition","Alloy - Matte transition","Alloy - Matte transition","Alloy - Matte transition","Alloy - Matte transition","Alloy - Matte transition","Alloy - Matte transition","Alloy - Matte transition","Alloy - Matte transition","Alloy - Matte transition","Alloy - Matte transition","Alloy - Matte transition","Alloy - Matte transition","Alloy - Matte transition","Alloy - Matte transition","Alloy - Matte transition","Alloy - Matte transition","Alloy - Matte transition","Alloy - Matte transition","Alloy - Matte transition","Alloy - Matte transition","Alloy - Matte transition","Alloy - Matte transition","Alloy - Matte transition","Alloy - Matte transition","Alloy - Matte transition","Alloy - Matte transition","Alloy - Matte transition","Alloy - Matte transition","Alloy - Matte transition","Alloy - Matte transition","Alloy - Matte transition","Alloy - Matte transition","Alloy - Matte transition","Alloy - Matte transition","Alloy - Matte transition","Alloy - Matte transition","Alloy - Matte transition","Alloy - Matte transition","Alloy - Matte transition","Alloy - Matte transition","Alloy - Matte transition","Alloy - Matte transition","Alloy - Matte transition","Alloy - Matte transition","Alloy - Matte transition","Alloy - Matte transition","Alloy - Matte transition","Alloy - Matte transition","Alloy - Matte transition","Alloy - Matte transition","Alloy - Matte transition","Alloy - Matte transition","Alloy - Matte transition","Alloy - Matte transition","Alloy - Matte transition","Alloy - Matte transition","Alloy - Matte transition","Alloy - Matte transition","Alloy - Matte transition","Alloy - Matte transition","Alloy - Matte transition","Alloy - Matte transition","Alloy - Matte transition","Alloy - Matte transition","Alloy - Matte transition","Alloy - Matte transition","Alloy - Matte transition","Alloy - Matte transition","Alloy - Matte transition","Alloy - Matte transition","Alloy - Matte transition","Alloy - Matte transition","Alloy - Matte transition","Alloy - Matte transition","Alloy - Matte transition","Alloy - Matte transition","Alloy - Matte transition","Alloy - Matte transition","Alloy - Matte transition","Alloy - Matte transition","Alloy - Matte transition","Alloy - Matte transition","Alloy - Matte transition","Alloy - Matte transition","Alloy - Matte transition","Alloy - Matte transition","Alloy - Matte transition","Alloy - Matte transition","Alloy - Matte transition","Alloy - Matte transition","Alloy - Matte transition","Alloy - Matte transition","Alloy - Matte transition","Alloy - Matte transition","Alloy - Matte transition","Alloy - Matte transition","Alloy - Matte transition","Alloy - Matte transition","Alloy - Matte transition","Alloy - Matte transition","Alloy - Matte transition","Alloy - Matte transition","Alloy - Matte transition","Alloy - Matte transition","Alloy - Matte transition","Alloy - Matte transition","Alloy - Matte transition","Alloy - Matte transition","Alloy - Matte transition","Alloy - Matte transition","Alloy - Matte transition","Alloy - Matte transition","Alloy - Matte transition","Alloy - Matte transition","Alloy - Matte transition","Alloy - Matte transition","Alloy - Matte transition","Alloy - Matte transition","Alloy - Matte transition","Alloy - Matte transition","Alloy - Matte transition","Alloy - Matte transition","Alloy - Matte transition","Alloy - Matte transition","Alloy - Matte transition","Alloy - Matte transition","Alloy - Matte transition","Alloy - Matte transition","Alloy - Matte transition","Alloy - Matte transition","Alloy - Matte transition","Alloy - Matte transition","Alloy - Matte transition","Alloy - Matte transition","Alloy - Matte transition","Alloy - Matte transition","Alloy - Matte transition","Alloy - Matte transition","Alloy - Matte transition","Alloy - Matte transition","Alloy - Matte transition","Alloy - Matte transition","Alloy - Matte transition","Alloy - Matte transition","Alloy - Matte transition","Alloy - Matte transition","Alloy - Matte transition","Alloy - Matte transition","Alloy - Matte transition","Alloy - Matte transition","Alloy - Matte transition","Alloy - Matte transition","Alloy - Matte transition","Alloy - Matte transition","Alloy - Matte transition","Alloy - Matte transition","Alloy - Matte transition","Alloy - Matte transition","Alloy - Matte transition","Alloy - Matte transition","Alloy - Matte transition","Alloy - Matte transition","Alloy - Matte transition","Alloy - Matte transition","Alloy - Matte transition","Alloy - Matte transition","Alloy - Matte transition","Alloy - Matte transition","Alloy - Matte transition","Alloy - Matte transition","Alloy - Matte transition","Alloy - Matte transition","Alloy - Matte transition","Alloy - Matte transition","Alloy - Matte transition","Alloy - Matte transition","Alloy - Matte transition","Alloy - Matte transition","Alloy - Matte transition","Alloy - Matte transition","Alloy - Matte transition","Alloy - Matte transition","Alloy - Matte transition","Alloy - Matte transition","Alloy - Matte transition","Alloy - Matte transition","Alloy - Matte transition","Alloy - Matte transition","Alloy - Matte transition","Alloy - Matte transition","Alloy - Matte transition","Alloy - Matte transition","Alloy - Matte transition","Alloy - Matte transition","Alloy - Matte transition","Alloy - Matte transition","Alloy - Matte transition","Alloy - Matte transition","Alloy - Matte transition","Alloy - Matte transition","Alloy - Matte transition","Alloy - Matte transition","Alloy - Matte transition","Alloy - Matte transition","Alloy - Matte transition","Alloy - Matte transition","Alloy - Matte transition","Alloy - Matte transition","Alloy - Matte transition","Alloy - Matte transition","Alloy - Matte transition","Alloy - Matte transition","Alloy - Matte transition","Alloy - Matte transition","Alloy - Matte transition","Alloy - Matte transition","Alloy - Matte transition","Alloy - Matte transition","Alloy - Matte transition","Alloy - Matte transition","Alloy - Matte transition","Alloy - Matte transition","Alloy - Matte transition","Alloy - Matte transition","Alloy - Matte transition","Alloy - Matte transition","Alloy - Matte transition","Alloy - Matte transition","Alloy - Matte transition","Alloy - Matte transition","Alloy - Matte transition","Alloy - Matte transition","Alloy - Matte transition","Alloy - Matte transition","Alloy - Matte transition","Alloy - Matte transition","Alloy - Matte transition","Alloy - Matte transition","Alloy - Matte transition","Alloy - Matte transition","Alloy - Matte transition","Alloy - Matte transition","Alloy - Matte transition","Alloy - Matte transition","Alloy - Matte transition","Alloy - Matte transition","Alloy - Matte transition","Alloy - Matte transition","Alloy - Matte transition","Alloy - Matte transition","Alloy - Matte transition","Alloy - Matte transition","Alloy - Matte transition","Alloy - Matte transition","Alloy - Matte transition","Alloy - Matte transition","Alloy - Matte transition","Alloy - Matte transition","Alloy - Matte transition","Alloy - Matte transition","Alloy - Matte transition","Alloy - Matte transition","Alloy - Matte transition","Alloy - Matte transition","Alloy - Matte transition","Alloy - Matte transition","Alloy - Matte transition","Alloy - Matte transition","Alloy - Matte transition","Alloy - Matte transition","Alloy - Matte transition","Alloy - Matte transition","Alloy - Matte transition","Alloy - Matte transition","Alloy - Matte transition","Alloy - Matte transition","Alloy - Matte transition","Alloy - Matte transition","Alloy - Matte transition","Alloy - Matte transition","Alloy - Matte transition","Alloy - Matte transition","Alloy - Matte transition","Alloy - Matte transition","Alloy - Matte transition","Alloy - Matte transition","Alloy - Matte transition","Alloy - Matte transition","Alloy - Matte transition","Alloy - Matte transition","Alloy - Matte transition","Alloy - Matte transition","Alloy - Matte transition","Alloy - Matte transition","Alloy - Matte transition","Alloy - Matte transition","Alloy - Matte transition","Alloy - Matte transition","Alloy - Matte transition","Alloy - Matte transition","Alloy - Matte transition","Alloy - Matte transition","Alloy - Matte transition","Alloy - Matte transition","Alloy - Matte transition","Alloy - Matte transition","Alloy - Matte transition","Alloy - Matte transition","Alloy - Matte transition","Alloy - Matte transition","Alloy - Matte transition","Alloy - Matte transition","Alloy - Matte transition","Alloy - Matte transition","Alloy - Matte transition","Alloy - Matte transition","Alloy - Matte transition","Alloy - Matte transition","Alloy - Matte transition","Alloy - Matte transition","Alloy - Matte transition","Alloy - Matte transition","Alloy - Matte transition","Alloy - Matte transition","Alloy - Matte transition","Alloy - Matte transition","Alloy - Matte transition","Alloy - Matte transition","Alloy - Matte transition","Alloy - Matte transition","Alloy - Matte transition","Alloy - Matte transition","Alloy - Matte transition","Alloy - Matte transition","Alloy - Matte transition","Alloy - Matte transition","Alloy - Matte transition","Alloy - Matte transition","Alloy - Matte transition","Alloy - Matte transition","Alloy - Matte transition","Alloy - Matte transition","Alloy - Matte transition","Alloy - Matte transition","Alloy - Matte transition","Alloy - Matte transition","Alloy - Matte transition","Alloy - Matte transition","Alloy - Matte transition","Alloy - Matte transition","Alloy - Matte transition","Alloy - Matte transition","Alloy - Matte transition","Alloy - Matte transition","Alloy - Matte transition","Alloy - Matte transition","Alloy - Matte transition","Alloy - Matte transition","Alloy - Matte transition","Alloy - Matte transition","Alloy - Matte transition","Alloy - Matte transition","Alloy - Matte transition","Alloy - Matte transition","Alloy - Matte transition","Alloy - Matte transition","Alloy - Matte transition","Alloy - Matte transition","Alloy - Matte transition","Alloy - Matte transition","Alloy - Matte transition","Alloy - Matte transition","Alloy - Matte transition","Alloy - Matte transition","Alloy - Matte transition","Alloy - Matte transition","Alloy - Matte transition","Alloy - Matte transition","Alloy - Matte transition","Alloy - Matte transition","Alloy - Matte transition","Alloy - Matte transition","Alloy - Matte transition","Alloy - Matte transition","Alloy - Matte transition","Alloy - Matte transition","Alloy - Matte transition","Alloy - Matte transition","Alloy - Matte transition","Alloy - Matte transition","Alloy - Matte transition","Alloy - Matte transition","Alloy - Matte transition","Alloy - Matte transition","Alloy - Matte transition","Alloy - Matte transition","Alloy - Matte transition","Alloy - Matte transition","Alloy - Matte transition","Alloy - Matte transition","Alloy - Matte transition","Alloy - Matte transition","Alloy - Matte transition","Alloy - Matte transition","Alloy - Matte transition","Alloy - Matte transition","Alloy - Matte transition","Alloy - Matte transition","Alloy - Matte transition","Alloy - Matte transition","Alloy - Matte transition","Alloy - Matte transition","Alloy - Matte transition","Alloy - Matte transition","Alloy - Matte transition","Alloy - Matte transition","Alloy - Matte transition","Alloy - Matte transition","Alloy - Matte transition","Alloy - Matte transition","Alloy - Matte transition","Alloy - Matte transition","Alloy - Matte transition","Alloy - Matte transition","Alloy - Matte transition","Alloy - Matte transition","Alloy - Matte transition","Alloy - Matte transition","Alloy - Matte transition","Alloy - Matte transition","Alloy - Matte transition","Alloy - Matte transition","Alloy - Matte transition","Alloy - Matte transition","Alloy - Matte transition","Alloy - Matte transition","Alloy - Matte transition","Alloy - Matte transition","Alloy - Matte transition","Alloy - Matte transition","Alloy - Matte transition","Alloy - Matte transition","Alloy - Matte transition","Alloy - Matte transition","Alloy - Matte transition","Alloy - Matte transition","Alloy - Matte transition","Alloy - Matte transition","Alloy - Matte transition","Alloy - Matte transition","Alloy - Matte transition","Alloy - Matte transition","Alloy - Matte transition","Alloy - Matte transition","Alloy - Matte transition","Alloy - Matte transition","Alloy - Matte transition","Alloy - Matte transition","Alloy - Matte transition","Alloy - Matte transition","Alloy - Matte transition","Alloy - Matte transition","Alloy - Matte transition","Alloy - Matte transition","Alloy - Matte transition","Alloy - Matte transition","Alloy - Matte transition","Alloy - Matte transition","Alloy - Matte transition","Alloy - Matte transition","Alloy - Matte transition","Alloy - Matte transition","Alloy - Matte transition","Alloy - Matte transition","Alloy - Matte transition","Alloy - Matte transition","Alloy - Matte transition","Alloy - Matte transition","Alloy - Matte transition","Alloy - Matte transition","Alloy - Matte transition","Alloy - Matte transition","Alloy - Matte transition","Alloy - Matte transition","Alloy - Matte transition","Alloy - Matte transition","Alloy - Matte transition","Alloy - Matte transition","Alloy - Matte transition","Alloy - Matte transition","Alloy - Matte transition","Alloy - Matte transition","Alloy - Matte transition","Alloy - Matte transition","Alloy - Matte transition","Alloy - Matte transition","Alloy - Matte transition","Alloy - Matte transition","Alloy - Matte transition","Alloy - Matte transition","Alloy - Matte transition","Alloy - Matte transition","Alloy - Matte transition","Alloy - Matte transition","Alloy - Matte transition","Alloy - Matte transition","Alloy - Matte transition","Alloy - Matte transition","Alloy - Matte transition","Alloy - Matte transition","Alloy - Matte transition","Alloy - Matte transition","Alloy - Matte transition","Alloy - Matte transition","Alloy - Matte transition","Alloy - Matte transition","Alloy - Matte transition","Alloy - Matte transition","Alloy - Matte transition","Alloy - Matte transition","Alloy - Matte transition","Alloy - Matte transition","Alloy - Matte transition","Alloy - Matte transition","Alloy - Matte transition","Alloy - Matte transition","Alloy - Matte transition","Alloy - Matte transition","Alloy - Matte transition","Alloy - Matte transition","Alloy - Matte transition","Alloy - Matte transition","Alloy - Matte transition","Alloy - Matte transition","Alloy - Matte transition","Alloy - Matte transition","Alloy - Matte transition","Alloy - Matte transition","Alloy - Matte transition","Alloy - Matte transition","Alloy - Matte transition","Alloy - Matte transition","Alloy - Matte transition","Alloy - Matte transition","Alloy - Matte transition","Alloy - Matte transition","Alloy - Matte transition","Alloy - Matte transition","Alloy - Matte transition","Alloy - Matte transition","Alloy - Matte transition","Alloy - Matte transition","Alloy - Matte transition","Alloy - Matte transition","Alloy - Matte transition","Alloy - Matte transition","Alloy - Matte transition","Alloy - Matte transition","Alloy - Matte transition","Alloy - Matte transition","Alloy - Matte transition","Alloy - Matte transition","Alloy - Matte transition","Alloy - Matte transition","Alloy - Matte transition","Alloy - Matte transition","Alloy - Matte transition","Alloy - Matte transition","Alloy - Matte transition","Alloy - Matte transition","Alloy - Matte transition","Alloy - Matte transition","Alloy - Matte transition","Alloy - Matte transition","Alloy - Matte transition","Alloy - Matte transition","Alloy - Matte transition","Alloy - Matte transition","Alloy - Matte transition","Alloy - Matte transition","Alloy - Matte transition","Alloy - Matte transition","Alloy - Matte transition","Alloy - Matte transition","Alloy - Matte transition","Alloy - Matte transition","Alloy - Matte transition","Alloy - Matte transition","Alloy - Matte transition","Alloy - Matte transition","Alloy - Matte transition","Alloy - Matte transition","Alloy - Matte transition","Alloy - Matte transition","Alloy - Matte transition","Alloy - Matte transition","Alloy - Matte transition","Alloy - Matte transition","Alloy - Matte transition","Alloy - Matte transition","Alloy - Matte transition","Alloy - Matte transition","Alloy - Matte transition","Alloy - Matte transition","Alloy - Matte transition","Alloy - Matte transition","Alloy - Matte transition","Alloy - Matte transition","Alloy - Matte transition","Alloy - Matte transition","Alloy - Matte transition","Alloy - Matte transition","Alloy - Matte transition","Alloy - Matte transition","Alloy - Matte transition","Alloy - Matte transition","Alloy - Matte transition","Alloy - Matte transition","Alloy - Matte transition","Alloy - Matte transition","Alloy - Matte transition","Alloy - Matte transition","Alloy - Matte transition","Alloy - Matte transition","Alloy - Matte transition","Alloy - Matte transition","Alloy - Matte transition","Alloy - Matte transition","Alloy - Matte transition","Alloy - Matte transition","Alloy - Matte transition","Alloy - Matte transition","Alloy - Matte transition","Alloy - Matte transition","Alloy - Matte transition","Alloy - Matte transition","Alloy - Matte transition","Alloy - Matte transition","Alloy - Matte transition","Alloy - Matte transition","Alloy - Matte transition","Alloy - Matte transition","Alloy - Matte transition","Alloy - Matte transition","Alloy - Matte transition","Alloy - Matte transition","Alloy - Matte transition","Alloy - Matte transition","Alloy - Matte transition","Alloy - Matte transition","Alloy - Matte transition","Alloy - Matte transition","Alloy - Matte transition","Alloy - Matte transition","Alloy - Matte transition","Alloy - Matte transition","Alloy - Matte transition","Alloy - Matte transition","Alloy - Matte transition","Alloy - Matte transition","Alloy - Matte transition","Alloy - Matte transition","Alloy - Matte transition","Alloy - Matte transition","Alloy - Matte transition","Alloy - Matte transition","Alloy - Matte transition","Alloy - Matte transition","Alloy - Matte transition","Alloy - Matte transition","Alloy - Matte transition","Alloy - Matte transition","Alloy - Matte transition","Alloy - Matte transition","Alloy - Matte transition","Alloy - Matte transition","Alloy - Matte transition","Alloy - Matte transition","Alloy - Matte transition","Alloy - Matte transition","Alloy - Matte transition","Alloy - Matte transition","Alloy - Matte transition","Alloy - Matte transition","Alloy - Matte transition","Alloy - Matte transition","Alloy - Matte transition","Alloy - Matte transition","Alloy - Matte transition","Alloy - Matte transition","Alloy - Matte transition","Alloy - Matte transition","Alloy - Matte transition","Alloy - Matte transition","Alloy - Matte transition","Alloy - Matte transition","Alloy - Matte transition","Alloy - Matte transition","Alloy - Matte transition","Alloy - Matte transition","Alloy - Matte transition","Alloy - Matte transition","Alloy - Matte transition","Alloy - Matte transition","Alloy - Matte transition","Alloy - Matte transition","Alloy - Matte transition","Alloy - Matte transition","Alloy - Matte transition","Alloy - Matte transition","Alloy - Matte transition","Alloy - Matte transition","Alloy - Matte transition","Alloy - Matte transition","Alloy - Matte transition","Alloy - Matte transition","Alloy - Matte transition","Alloy - Matte transition","Alloy - Matte transition","Alloy - Matte transition","Alloy - Matte transition","Alloy - Matte transition","Alloy - Matte transition","Alloy - Matte transition","Alloy - Matte transition","Alloy - Matte transition","Alloy - Matte transition","Alloy - Matte transition","Alloy - Matte transition","Alloy - Matte transition","Alloy - Matte transition","Alloy - Matte transition","Alloy - Matte transition","Alloy - Matte transition","Alloy - Matte transition","Alloy - Matte transition","Alloy - Matte transition","Alloy - Matte transition","Alloy - Matte transition","Alloy - Matte transition","Alloy - Matte transition","Alloy - Matte transition","Alloy - Matte transition","Alloy - Matte transition","Alloy - Matte transition","Alloy - Matte transition","Alloy - Matte transition","Alloy - Matte transition","Alloy - Matte transition","Alloy - Matte transition","Alloy - Matte transition","Alloy - Matte transition","Alloy - Matte transition","Alloy - Matte transition","Alloy - Matte transition","Alloy - Matte transition","Alloy - Matte transition","Alloy - Matte transition","Alloy - Matte transition","Alloy - Matte transition","Alloy - Matte transition","Alloy - Matte transition","Alloy - Matte transition","Alloy - Matte transition","Alloy - Matte transition","Alloy - Matte transition","Alloy - Matte transition","Alloy - Matte transition","Alloy - Matte transition","Alloy - Matte transition","Alloy - Matte transition","Alloy - Matte transition","Alloy - Matte transition","Alloy - Matte transition","Alloy - Matte transition","Alloy - Matte transition","Alloy - Matte transition","Alloy - Matte transition","Alloy - Matte transition","Alloy - Matte transition","Alloy - Matte transition","Alloy - Matte transition","Alloy - Matte transition","Alloy - Matte transition","Alloy - Matte transition","Alloy - Matte transition","Alloy - Matte transition","Alloy - Matte transition","Alloy - Matte transition","Alloy - Matte transition","Alloy - Matte transition","Alloy - Matte transition","Alloy - Matte transition","Alloy - Matte transition","Alloy - Matte transition","Alloy - Matte transition","Alloy - Matte transition","Alloy - Matte transition","Alloy - Matte transition","Alloy - Matte transition","Alloy - Matte transition","Alloy - Matte transition","Alloy - Matte transition","Alloy - Matte transition","Alloy - Matte transition","Alloy - Matte transition","Alloy - Matte transition","Alloy - Matte transition","Alloy - Matte transition","Alloy - Matte transition","Alloy - Matte transition","Alloy - Matte transition","Alloy - Matte transition","Alloy - Matte transition","Alloy - Matte transition","Alloy - Matte transition","Alloy - Matte transition","Alloy - Matte transition","Alloy - Matte transition","Alloy - Matte transition","Alloy - Matte transition","Alloy - Matte transition","Alloy - Matte transition","Alloy - Matte transition","Alloy - Matte transition","Alloy - Matte transition","Alloy - Matte transition","Alloy - Matte transition","Alloy - Matte transition","Alloy - Matte transition","Alloy - Matte transition","Alloy - Matte transition","Alloy - Matte transition","Alloy - Matte transition","Alloy - Matte transition","Alloy - Matte transition","Alloy - Matte transition","Alloy - Matte transition","Alloy - Matte transition","Alloy - Matte transition","Alloy - Matte transition","Alloy - Matte transition","Alloy - Matte transition","Alloy - Matte transition","Alloy - Matte transition","Alloy - Matte transition","Alloy - Matte transition","Alloy - Matte transition","Alloy - Matte transition","Alloy - Matte transition","Alloy - Matte transition","Alloy - Matte transition","Alloy - Matte transition","Alloy - Matte transition","Alloy - Matte transition","Alloy - Matte transition","Alloy - Matte transition","Alloy - Matte transition","Alloy - Matte transition","Alloy - Matte transition","Alloy - Matte transition","Alloy - Matte transition","Alloy - Matte transition","Alloy - Matte transition","Alloy - Matte transition","Alloy - Matte transition","Alloy - Matte transition","Alloy - Matte transition","Alloy - Matte transition","Alloy - Matte transition","Alloy - Matte transition","Alloy - Matte transition","Alloy - Matte transition","Alloy - Matte transition","Alloy - Matte transition","Alloy - Matte transition","Alloy - Matte transition","Alloy - Matte transition","Alloy - Matte transition","Alloy - Matte transition","Alloy - Matte transition","Alloy - Matte transition","Alloy - Matte transition","Alloy - Matte transition","Alloy - Matte transition","Alloy - Matte transition","Alloy - Matte transition","Alloy - Matte transition","Alloy - Matte transition","Alloy - Matte transition","Alloy - Matte transition","Alloy - Matte transition","Alloy - Matte transition","Alloy - Matte transition","Alloy - Matte transition","Alloy - Matte transition","Alloy - Matte transition","Alloy - Matte transition","Alloy - Matte transition","Alloy - Matte transition","Alloy - Matte transition","Alloy - Matte transition","Alloy - Matte transition","Alloy - Matte transition","Alloy - Matte transition","Alloy - Matte transition","Alloy - Matte transition","Alloy - Matte transition","Alloy - Matte transition","Alloy - Matte transition","Alloy - Matte transition","Alloy - Matte transition","Alloy - Matte transition","Alloy - Matte transition","Alloy - Matte transition","Alloy - Matte transition","Alloy - Matte transition","Alloy - Matte transition","Alloy - Matte transition","Alloy - Matte transition","Alloy - Matte transition","Alloy - Matte transition","Alloy - Matte transition","Alloy - Matte transition","Alloy - Matte transition","Alloy - Matte transition","Alloy - Matte transition","Alloy - Matte transition","Alloy - Matte transition","Alloy - Matte transition","Alloy - Matte transition","Alloy - Matte transition","Alloy - Matte transition","Alloy - Matte transition","Alloy - Matte transition","Alloy - Matte transition","Alloy - Matte transition","Alloy - Matte transition","Alloy - Matte transition","Alloy - Matte transition","Alloy - Matte transition","Alloy - Matte transition","Alloy - Matte transition","Alloy - Matte transition","Alloy - Matte transition","Alloy - Matte transition","Alloy - Matte transition","Alloy - Matte transition","Alloy - Matte transition","Alloy - Matte transition","Alloy - Matte transition","Alloy - Matte transition","Alloy - Matte transition","Alloy - Matte transition","Alloy - Matte transition","Alloy - Matte transition","Alloy - Matte transition","Alloy - Matte transition","Alloy - Matte transition","Alloy - Matte transition","Alloy - Matte transition","Alloy - Matte transition","Alloy - Matte transition","Alloy - Matte transition","Alloy - Matte transition","Alloy - Matte transition","Alloy - Matte transition","Alloy - Matte transition","Alloy - Matte transition","Alloy - Matte transition","Alloy - Matte transition","Alloy - Matte transition","Alloy - Matte transition","Alloy - Matte transition","Alloy - Matte transition","Alloy - Matte transition","Alloy - Matte transition","Alloy - Matte transition","Alloy - Matte transition","Alloy - Matte transition","Alloy - Matte transition","Alloy - Matte transition","Alloy - Matte transition","Alloy - Matte transition","Alloy - Matte transition","Alloy - Matte transition","Alloy - Matte transition","Alloy - Matte transition","Alloy - Matte transition","Alloy - Matte transition","Alloy - Matte transition","Alloy - Matte transition","Alloy - Matte transition","Alloy - Matte transition","Alloy - Matte transition","Alloy - Matte transition","Alloy - Matte transition","Alloy - Matte transition","Alloy - Matte transition","Alloy - Matte transition","Alloy - Matte transition","Alloy - Matte transition","Alloy - Matte transition","Alloy - Matte transition","Alloy - Matte transition","Alloy - Matte transition","Alloy - Matte transition"]
[null,null,null,null,"Matte production - start",{"$f":"IF($F$7='Projects Inputs '!$F$2,'Projects Inputs '!F63,IF($F$7='Projects Inputs '!$G$2,'Projects Inputs '!G63,\"n/a\"))","v":6},"year # "]
[null,null,null,null,"Matte production - end",{"$f":"IF($F$7='Projects Inputs '!$F$2,'Projects Inputs '!F64,IF($F$7='Projects Inputs '!$G$2,'Projects Inputs '!G64,\"n/a\"))","v":21},"year # "]
[]
[null,null,null,null,"Alloy % during transition",{"$f":"IF($F$7='Projects Inputs '!$F$2,'Projects Inputs '!F66,IF($F$7='Projects Inputs '!$G$2,'Projects Inputs '!G66,\"n/a\"))","v":0.32},"%"]
[]
[null,null,"Nodules recovery rate"]
[null,null,null,null,"Manganese - Silicate",{"$f":"IF($F$7='Projects Inputs '!$F$2,'Projects Inputs '!F69,IF($F$7='Projects Inputs '!$G$2,'Projects Inputs '!G69,\"n/a\"))","v":0.98899999999999999}]
[null,null,null,null,"Nickel - Alloy",{"$f":"IF($F$7='Projects Inputs '!$F$2,'Projects Inputs '!F70,IF($F$7='Projects Inputs '!$G$2,'Projects Inputs '!G70,\"n/a\"))","v":0.96909999999999996}]
[null,null,null,null,"Cobalt - Alloy",{"$f":"IF($F$7='Projects Inputs '!$F$2,'Projects Inputs '!F71,IF($F$7='Projects Inputs '!$G$2,'Projects Inputs '!G71,\"n/a\"))","v":0.93059999999999998}]
[null,null,null,null,"Copper - Alloy",{"$f":"IF($F$7='Projects Inputs '!$F$2,'Projects Inputs '!F72,IF($F$7='Projects Inputs '!$G$2,'Projects Inputs '!G72,\"n/a\"))","v":0.9355}]
[null,null,null,null,"Nickel - Matte",{"$f":"IF($F$7='Projects Inputs '!$F$2,'Projects Inputs '!F73,IF($F$7='Projects Inputs '!$G$2,'Projects Inputs '!G73,\"n/a\"))","v":0.9476}]
[null,null,null,null,"Cobalt - Matte",{"$f":"IF($F$7='Projects Inputs '!$F$2,'Projects Inputs '!F74,IF($F$7='Projects Inputs '!$G$2,'Projects Inputs '!G74,\"n/a\"))","v":0.77539999999999998}]
[null,null,null,null,"Copper - Matte",{"$f":"IF($F$7='Projects Inputs '!$F$2,'Projects Inputs '!F75,IF($F$7='Projects Inputs '!$G$2,'Projects Inputs '!G75,\"n/a\"))","v":0.86429999999999996}]
[]
[null,"Metal Price forecasts"]
[null,null,null,null,"Metal price bracket 1 2028 - 2032",{"$f":"IF($F$7='Projects Inputs '!$F$2,'Projects Inputs '!F78,IF($F$7='Projects Inputs '!$G$2,'Projects Inputs '!G78,\"n/a\"))","v":6},"end year # as of production"]
[null,null,null,null,"Metal price bracket 2  2033-2037",{"$f":"IF($F$7='Projects Inputs '!$F$2,'Projects Inputs '!F79,IF($F$7='Projects Inputs '!$G$2,'Projects Inputs '!G79,\"n/a\"))","v":11},"end year # as of production"]
[null,null,null,null,"Metal price bracket 3  2038-2043+",{"$f":"IF($F$7='Projects Inputs '!$F$2,'Projects Inputs '!F80,IF($F$7='Projects Inputs '!$G$2,'Projects Inputs '!G80,\"n/a\"))","v":19},"end year # as of production"]
[]
[null,null,null,null,"Price - Nickel Class 1 LME 2028-2032",{"$f":"IF($F$7='Projects Inputs '!$F$2,'Projects Inputs '!F82,IF($F$7='Projects Inputs '!$G$2,'Projects Inputs '!G82,\"n/a\"))","v":18833},"US$ /t"]
[null,null,null,null,"Price - Nickel Class 1 LME 2033-2037",{"$f":"IF($F$7='Projects Inputs '!$F$2,'Projects Inputs '!F83,IF($F$7='Projects Inputs '!$G$2,'Projects Inputs '!G83,\"n/a\"))","v":20706},"US$ /t"]
[null,null,null,null,"Price - Nickel Class 1 LME 2038-2043+",{"$f":"IF($F$7='Projects Inputs '!$F$2,'Projects Inputs '!F84,IF($F$7='Projects Inputs '!$G$2,'Projects Inputs '!G84,\"n/a\"))","v":20360},"US$ /t"]
[]
[null,null,null,null,"Price - Cobalt LME 2028-2032",{"$f":"IF($F$7='Projects Inputs '!$F$2,'Projects Inputs '!F86,IF($F$7='Projects Inputs '!$G$2,'Projects Inputs '!G86,\"n/a\"))","v":34172},"US$ /t"]
[null,null,null,null,"Price - Cobalt LME 2033-2037",{"$f":"IF($F$7='Projects Inputs '!$F$2,'Projects Inputs '!F87,IF($F$7='Projects Inputs '!$G$2,'Projects Inputs '!G87,\"n/a\"))","v":53124},"US$ /t"]
[null,null,null,null,"Price - Cobalt LME 2038-2043+",{"$f":"IF($F$7='Projects Inputs '!$F$2,'Projects Inputs '!F88,IF($F$7='Projects Inputs '!$G$2,'Projects Inputs '!G88,\"n/a\"))","v":62530},"US$ /t"]
[]
[null,null,null,null,"Price - Copper Class 1 LME 2028-2032",{"$f":"IF($F$7='Projects Inputs '!$F$2,'Projects Inputs '!F90,IF($F$7='Projects Inputs '!$G$2,'Projects Inputs '!G90,\"n/a\"))","v":11317},"US$ /t"]
[null,null,null,null,"Price - Copper Class 1 LME 2033-2037",{"$f":"IF($F$7='Projects Inputs '!$F$2,'Projects Inputs '!F91,IF($F$7='Projects Inputs '!$G$2,'Projects Inputs '!G91,\"n/a\"))","v":11456},"US$ /t"]
[null,null,null,null,"Price - Copper Class 1 LME 2038-2043+",{"$f":"IF($F$7='Projects Inputs '!$F$2,'Projects Inputs '!F92,IF($F$7='Projects Inputs '!$G$2,'Projects Inputs '!G92,\"n/a\"))","v":11456},"US$ /t"]
[]
[null,null,null,null,"Price - Manganese2028-2032",{"$f":"IF($F$7='Projects Inputs '!$F$2,'Projects Inputs '!F94,IF($F$7='Projects Inputs '!$G$2,'Projects Inputs '!G94,\"n/a\"))","v":5.29},"US$ /DMTU"]
[null,null,null,null,"Price - Manganese2033-2037",{"$f":"IF($F$7='Projects Inputs '!$F$2,'Projects Inputs '!F95,IF($F$7='Projects Inputs '!$G$2,'Projects Inputs '!G95,\"n/a\"))","v":5.44},"US$ /DMTU"]
[null,null,null,null,"Price - Manganese2038-2043+",{"$f":"IF($F$7='Projects Inputs '!$F$2,'Projects Inputs '!F96,IF($F$7='Projects Inputs '!$G$2,'Projects Inputs '!G96,\"n/a\"))","v":5.5},"US$ /DMTU"]
[]
[null,"Alloy/Matte Payable terms"]
[null,null,null,null,"Alloy/Matte Payable terms bracket 1 2027 - 2031",{"$f":"IF($F$7='Projects Inputs '!$F$2,'Projects Inputs '!F99,IF($F$7='Projects Inputs '!$G$2,'Projects Inputs '!G99,\"n/a\"))","v":5},"end year # as of production"]
[null,null,null,null,"Alloy/Matte Payable terms bracket 2  2032-2036",{"$f":"IF($F$7='Projects Inputs '!$F$2,'Projects Inputs '!F100,IF($F$7='Projects Inputs '!$G$2,'Projects Inputs '!G100,\"n/a\"))","v":10},"end year # as of production"]
[null,null,null,null,"Alloy/Matte Payable terms bracket 3  2037-2045+",{"$f":"IF($F$7='Projects Inputs '!$F$2,'Projects Inputs '!F101,IF($F$7='Projects Inputs '!$G$2,'Projects Inputs '!G101,\"n/a\"))","v":19},"end year # as of production"]
[]
[null,null,null,null,"Alloy - Payable Terms - Ni 2027-2031",{"$f":"IF($F$7='Projects Inputs '!$F$2,'Projects Inputs '!F103,IF($F$7='Projects Inputs '!$G$2,'Projects Inputs '!G103,\"n/a\"))","v":0.65},"%"]
[null,null,null,null,"Alloy - Payable Terms - Ni 2032-2036",{"$f":"IF($F$7='Projects Inputs '!$F$2,'Projects Inputs '!F104,IF($F$7='Projects Inputs '!$G$2,'Projects Inputs '!G104,\"n/a\"))","v":0.65},"%"]
[null,null,null,null,"Alloy - Payable Terms - Ni 2037-2045+",{"$f":"IF($F$7='Projects Inputs '!$F$2,'Projects Inputs '!F105,IF($F$7='Projects Inputs '!$G$2,'Projects Inputs '!G105,\"n/a\"))","v":0.65},"%"]
[]
[null,null,null,null,"Alloy - Payable Terms - Co 2027-2031",{"$f":"IF($F$7='Projects Inputs '!$F$2,'Projects Inputs '!F107,IF($F$7='Projects Inputs '!$G$2,'Projects Inputs '!G107,\"n/a\"))","v":0.42},"%"]
[null,null,null,null,"Alloy - Payable Terms - Co 2032-2036",{"$f":"IF($F$7='Projects Inputs '!$F$2,'Projects Inputs '!F108,IF($F$7='Projects Inputs '!$G$2,'Projects Inputs '!G108,\"n/a\"))","v":0.43},"%"]
[null,null,null,null,"Alloy - Payable Terms - Co 2037-2045+",{"$f":"IF($F$7='Projects Inputs '!$F$2,'Projects Inputs '!F109,IF($F$7='Projects Inputs '!$G$2,'Projects Inputs '!G109,\"n/a\"))","v":0.45},"%"]
[]
[null,null,null,null,"Alloy - Payable Terms - Cu 2027-2031",{"$f":"IF($F$7='Projects Inputs '!$F$2,'Projects Inputs '!F111,IF($F$7='Projects Inputs '!$G$2,'Projects Inputs '!G111,\"n/a\"))","v":0.5998},"%"]
[null,null,null,null,"Alloy - Payable Terms - Cu 2032-2036",{"$f":"IF($F$7='Projects Inputs '!$F$2,'Projects Inputs '!F112,IF($F$7='Projects Inputs '!$G$2,'Projects Inputs '!G112,\"n/a\"))","v":0.5998},"%"]
[null,null,null,null,"Alloy - Payable Terms - Cu 2037-2045+",{"$f":"IF($F$7='Projects Inputs '!$F$2,'Projects Inputs '!F113,IF($F$7='Projects Inputs '!$G$2,'Projects Inputs '!G113,\"n/a\"))","v":0.5998},"%"]
[]
[null,null,null,null,"Matte - Payable Terms - Ni 2027-2031",{"$f":"IF($F$7='Projects Inputs '!$F$2,'Projects Inputs '!F115,IF($F$7='Projects Inputs '!$G$2,'Projects Inputs '!G115,\"n/a\"))","v":0.8},"%"]
[null,null,null,null,"Matte - Payable Terms - Ni 2032-2036",{"$f":"IF($F$7='Projects Inputs '!$F$2,'Projects Inputs '!F116,IF($F$7='Projects Inputs '!$G$2,'Projects Inputs '!G116,\"n/a\"))","v":0.8},"%"]
[null,null,null,null,"Matte - Payable Terms - Ni 2037-2045+",{"$f":"IF($F$7='Projects Inputs '!$F$2,'Projects Inputs '!F117,IF($F$7='Projects Inputs '!$G$2,'Projects Inputs '!G117,\"n/a\"))","v":0.8},"%"]
[]
[null,null,null,null,"Matte - Payable Terms - Co 2027-2031",{"$f":"IF($F$7='Projects Inputs '!$F$2,'Projects Inputs '!F119,IF($F$7='Projects Inputs '!$G$2,'Projects Inputs '!G119,\"n/a\"))","v":0.6},"%"]
[null,null,null,null,"Matte - Payable Terms - Co 2032-2036",{"$f":"IF($F$7='Projects Inputs '!$F$2,'Projects Inputs '!F120,IF($F$7='Projects Inputs '!$G$2,'Projects Inputs '!G120,\"n/a\"))","v":0.6},"%"]
[null,null,null,null,"Matte - Payable Terms - Co 2037-2045+",{"$f":"IF($F$7='Projects Inputs '!$F$2,'Projects Inputs '!F121,IF($F$7='Projects Inputs '!$G$2,'Projects Inputs '!G121,\"n/a\"))","v":0.6},"%"]
[]
[null,null,null,null,"Matte - Payable Terms - Cu 2027-2031",{"$f":"IF($F$7='Projects Inputs '!$F$2,'Projects Inputs '!F123,IF($F$7='Projects Inputs '!$G$2,'Projects Inputs '!G123,\"n/a\"))","v":0.7},"%"]
[null,null,null,null,"Matte - Payable Terms - Cu 2032-2036",{"$f":"IF($F$7='Projects Inputs '!$F$2,'Projects Inputs '!F124,IF($F$7='Projects Inputs '!$G$2,'Projects Inputs '!G124,\"n/a\"))","v":0.7},"%"]
[null,null,null,null,"Matte - Payable Terms - Cu 2037-2045+",{"$f":"IF($F$7='Projects Inputs '!$F$2,'Projects Inputs '!F125,IF($F$7='Projects Inputs '!$G$2,'Projects Inputs '!G125,\"n/a\"))","v":0.7},"%"]
[]
[null,null,null,null,"Payable Terms - Manganese",{"$f":"IF($F$7='Projects Inputs '!$F$2,'Projects Inputs '!F127,IF($F$7='Projects Inputs '!$G$2,'Projects Inputs '!G127,\"n/a\"))","v":1},"%"]
[]
[null,"Project Cost"]
[]
[null,null,"Project Capital Expenditure"]
[]
[null,null,null,null,"Production Vessel",{"$f":"IF($F$7='Projects Inputs '!$F$2,'Projects Inputs '!F133,IF($F$7='Projects Inputs '!$G$2,'Projects Inputs '!G133,\"n/a\"))","v":468.4},"US$ mn"]
[null,null,null,null,"Transfer Vessel/Bulk Carriers",{"$f":"IF($F$7='Projects Inputs '!$F$2,'Projects Inputs '!F134,IF($F$7='Projects Inputs '!$G$2,'Projects Inputs '!G134,\"n/a\"))","v":89.6},"US$ mn"]
[null,null,null,null,"Support Vessel",{"$f":"IF($F$7='Projects Inputs '!$F$2,'Projects Inputs '!F135,IF($F$7='Projects Inputs '!$G$2,'Projects Inputs '!G135,\"n/a\"))","v":15.2},"US$ mn"]
[null,null,null,null,"Operations facilities initial setup",{"$f":"IF($F$7='Projects Inputs '!$F$2,'Projects Inputs '!F136,IF($F$7='Projects Inputs '!$G$2,'Projects Inputs '!G136,\"n/a\"))","v":2.2999999999999998},"US$ mn"]
[null,null,null,null,"Direct subtotal",{"$f":"IF($F$7='Projects Inputs '!$F$2,'Projects Inputs '!F137,IF($F$7='Projects Inputs '!$G$2,'Projects Inputs '!G137,\"n/a\"))","v":575.5},"US$ mn"]
[null,null,null,null,"Professional Services",{"$f":"IF($F$7='Projects Inputs '!$F$2,'Projects Inputs '!F138,IF($F$7='Projects Inputs '!$G$2,'Projects Inputs '!G138,\"n/a\"))","v":59.4},"US$ mn"]
[null,null,null,null,"Owners cost",{"$f":"IF($F$7='Projects Inputs '!$F$2,'Projects Inputs '!F139,IF($F$7='Projects Inputs '!$G$2,'Projects Inputs '!G139,\"n/a\"))","v":44.6},"US$ mn"]
[null,null,null,null,"Indirect subtotal",{"$f":"IF($F$7='Projects Inputs '!$F$2,'Projects Inputs '!F140,IF($F$7='Projects Inputs '!$G$2,'Projects Inputs '!G140,\"n/a\"))","v":104},"US$ mn"]
[null,null,null,null,"Contingency",{"$f":"IF($F$7='Projects Inputs '!$F$2,'Projects Inputs '!F141,IF($F$7='Projects Inputs '!$G$2,'Projects Inputs '!G141,\"n/a\"))","v":101.4},"US$ mn"]
[null,null,null,null,"Allseas credit",{"$f":"IF($F$7='Projects Inputs '!$F$2,'Projects Inputs '!F142,IF($F$7='Projects Inputs '!$G$2,'Projects Inputs '!G142,\"n/a\"))","v":-289.3},"US$ mn"]
[null,null,null,null,"Total project cost",{"$f":"IF($F$7='Projects Inputs '!$F$2,'Projects Inputs '!F143,IF($F$7='Projects Inputs '!$G$2,'Projects Inputs '!G143,\"n/a\"))","v":491.59999999999997},"US$ mn"]
[]
[null,null,"Sustaining Capital Expenditure"]
[null,null,null,null,"Sustaining capital cost ",{"$f":"IF($F$7='Projects Inputs '!$F$2,'Projects Inputs '!F146,IF($F$7='Projects Inputs '!$G$2,'Projects Inputs '!G146,\"n/a\"))","v":155},"US$ mn/Vessel"]
[null,null,null,null,"Sustaining capital cost interval",{"$f":"IF($F$7='Projects Inputs '!$F$2,'Projects Inputs '!F147,IF($F$7='Projects Inputs '!$G$2,'Projects Inputs '!G147,\"n/a\"))","v":5},"years","No sustaining cost in the last 2 years of production"]
[null,null,null,null,"Sustaining vessels number",{"$f":"IF($F$7='Projects Inputs '!$F$2,'Projects Inputs '!F148,IF($F$7='Projects Inputs '!$G$2,'Projects Inputs '!G148,\"n/a\"))","v":4},"#"]
[null,null,null,null,"Exceptional vessel maintenance cost occuring period start",{"$f":"IF($F$7='Projects Inputs '!$F$2,'Projects Inputs '!F149,IF($F$7='Projects Inputs '!$G$2,'Projects Inputs '!G149,\"n/a\"))","v":0},"year #"]
[null,null,null,null,"Exceptional vessel maintenance cost occuring period end",{"$f":"IF($F$7='Projects Inputs '!$F$2,'Projects Inputs '!F150,IF($F$7='Projects Inputs '!$G$2,'Projects Inputs '!G150,\"n/a\"))","v":0},"year #"]
[null,null,null,null,"Exceptional vessel maintenance number",{"$f":"IF($F$7='Projects Inputs '!$F$2,'Projects Inputs '!F151,IF($F$7='Projects Inputs '!$G$2,'Projects Inputs '!G151,\"n/a\"))","v":0},"#"]
[null,null,null,null,"Adjustement to sustaining period due to Exceptional vessel maintenance ",{"$f":"IF($F$7='Projects Inputs '!$F$2,'Projects Inputs '!F152,IF($F$7='Projects Inputs '!$G$2,'Projects Inputs '!G152,\"n/a\"))","v":0},"year #"]
[null,null,null,null,"Sustaining cost end year",{"$f":"IF($F$7='Projects Inputs '!$F$2,'Projects Inputs '!F153,IF($F$7='Projects Inputs '!$G$2,'Projects Inputs '!G153,\"n/a\"))","v":19},"year #"]
[]
[null,null,"Closure Capital Expenditure"]
[null,null,null,null,"Closure capital cost ",{"$f":"IF($F$7='Projects Inputs '!$F$2,'Projects Inputs '!F156,IF($F$7='Projects Inputs '!$G$2,'Projects Inputs '!G156,\"n/a\"))","v":11.5},"US$ mn/year"]
[null,null,null,null,"Closure capital cost duration",{"$f":"IF($F$7='Projects Inputs '!$F$2,'Projects Inputs '!F157,IF($F$7='Projects Inputs '!$G$2,'Projects Inputs '!G157,\"n/a\"))","v":10},"years","Post mining operations"]
[]
[null,null,"Capex Depreciation"]
[null,null,null,null,"Depreciation start year ",{"$f":"IF($F$7='Projects Inputs '!$F$2,'Projects Inputs '!F160,IF($F$7='Projects Inputs '!$G$2,'Projects Inputs '!G160,\"n/a\"))","v":0}]
[null,null,null,null,"Production Vessel",{"$f":"IF($F$7='Projects Inputs '!$F$2,'Projects Inputs '!F161,IF($F$7='Projects Inputs '!$G$2,'Projects Inputs '!G161,\"n/a\"))","v":4},"year",{"$f":" \"First year of Production = year \"&$F$15","v":"First year of Production = year 3"}]
[null,null,null,null,"Transfer Vessel/Bulk Carriers",{"$f":"IF($F$7='Projects Inputs '!$F$2,'Projects Inputs '!F162,IF($F$7='Projects Inputs '!$G$2,'Projects Inputs '!G162,\"n/a\"))","v":4},"year",{"$f":" \"First year of Production = year \"&$F$15","v":"First year of Production = year 3"}]
[null,null,null,null,"Support Vessel",{"$f":"IF($F$7='Projects Inputs '!$F$2,'Projects Inputs '!F163,IF($F$7='Projects Inputs '!$G$2,'Projects Inputs '!G163,\"n/a\"))","v":4},"year","First year of Production = year 3"]
[null,null,null,null,"Operations facilities initial setup",{"$f":"IF($F$7='Projects Inputs '!$F$2,'Projects Inputs '!F164,IF($F$7='Projects Inputs '!$G$2,'Projects Inputs '!G164,\"n/a\"))","v":4},"year","First year of Production = year 3"]
[null,null,null,null,"Professional Services",{"$f":"IF($F$7='Projects Inputs '!$F$2,'Projects Inputs '!F165,IF($F$7='Projects Inputs '!$G$2,'Projects Inputs '!G165,\"n/a\"))","v":4},"year","First year of Production = year 3"]
[null,null,null,null,"Owners cost",{"$f":"IF($F$7='Projects Inputs '!$F$2,'Projects Inputs '!F166,IF($F$7='Projects Inputs '!$G$2,'Projects Inputs '!G166,\"n/a\"))","v":4},"year","First year of Production = year 3"]
[null,null,null,null,"Contingency",{"$f":"IF($F$7='Projects Inputs '!$F$2,'Projects Inputs '!F167,IF($F$7='Projects Inputs '!$G$2,'Projects Inputs '!G167,\"n/a\"))","v":4},"year","First year of Production = year 3"]
[null,null,null,null,"Allseas credit",{"$f":"IF($F$7='Projects Inputs '!$F$2,'Projects Inputs '!F168,IF($F$7='Projects Inputs '!$G$2,'Projects Inputs '!G168,\"n/a\"))","v":4},"year","First year of Production = year 3"]
[null,null,null,null,"Capitalized interest",{"$f":"IF($F$7='Projects Inputs '!$F$2,'Projects Inputs '!F169,IF($F$7='Projects Inputs '!$G$2,'Projects Inputs '!G169,\"n/a\"))","v":4},"year","First year of Production = year 3"]
[]
[null,null,null,null,"Depreciation period"]
[null,null,null,null,"Production Vessel",{"$f":"IF($F$7='Projects Inputs '!$F$2,'Projects Inputs '!F172,IF($F$7='Projects Inputs '!$G$2,'Projects Inputs '!G172,\"n/a\"))","v":10},"years","Straight-Line depreciation"]
[null,null,null,null,"Transfer Vessel/Bulk Carriers",{"$f":"IF($F$7='Projects Inputs '!$F$2,'Projects Inputs '!F173,IF($F$7='Projects Inputs '!$G$2,'Projects Inputs '!G173,\"n/a\"))","v":10},"years","Straight-Line depreciation"]
[null,null,null,null,"Support Vessel",{"$f":"IF($F$7='Projects Inputs '!$F$2,'Projects Inputs '!F174,IF($F$7='Projects Inputs '!$G$2,'Projects Inputs '!G174,\"n/a\"))","v":10},"years","Straight-Line depreciation"]
[null,null,null,null,"Operations facilities initial setup",{"$f":"IF($F$7='Projects Inputs '!$F$2,'Projects Inputs '!F175,IF($F$7='Projects Inputs '!$G$2,'Projects Inputs '!G175,\"n/a\"))","v":10},"years","Straight-Line depreciation"]
[null,null,null,null,"Professional Services",{"$f":"IF($F$7='Projects Inputs '!$F$2,'Projects Inputs '!F176,IF($F$7='Projects Inputs '!$G$2,'Projects Inputs '!G176,\"n/a\"))","v":10},"years","Straight-Line depreciation"]
[null,null,null,null,"Owners cost",{"$f":"IF($F$7='Projects Inputs '!$F$2,'Projects Inputs '!F177,IF($F$7='Projects Inputs '!$G$2,'Projects Inputs '!G177,\"n/a\"))","v":10},"years","Straight-Line depreciation"]
[null,null,null,null,"Contingency",{"$f":"IF($F$7='Projects Inputs '!$F$2,'Projects Inputs '!F178,IF($F$7='Projects Inputs '!$G$2,'Projects Inputs '!G178,\"n/a\"))","v":10},"years","Straight-Line depreciation"]
[null,null,null,null,"Allseas credit",{"$f":"IF($F$7='Projects Inputs '!$F$2,'Projects Inputs '!F179,IF($F$7='Projects Inputs '!$G$2,'Projects Inputs '!G179,\"n/a\"))","v":10},"years","Straight-Line depreciation"]
[null,null,null,null,"Capitalized interest",{"$f":"IF($F$7='Projects Inputs '!$F$2,'Projects Inputs '!F180,IF($F$7='Projects Inputs '!$G$2,'Projects Inputs '!G180,\"n/a\"))","v":10},"years","Straight-Line depreciation"]
[]
[null,null,"Sustaining Capex Depreciation"]
[null,null,null,null,"Sustaining capex depreciation period",{"$f":"IF($F$7='Projects Inputs '!$F$2,'Projects Inputs '!F183,IF($F$7='Projects Inputs '!$G$2,'Projects Inputs '!G183,\"n/a\"))","v":5},"years","Straight-Line depreciation"]
[]
[]
[null,null,"Project Operational Expenditure"]
[null,null,null,null,"Collection",{"$f":"IF($F$7='Projects Inputs '!$F$2,'Projects Inputs '!F187,IF($F$7='Projects Inputs '!$G$2,'Projects Inputs '!G187,\"n/a\"))","v":75.2},"US$ /wmt of  nodules"]
[null,null,null,null,"Transfer and shipping",{"$f":"IF($F$7='Projects Inputs '!$F$2,'Projects Inputs '!F188,IF($F$7='Projects Inputs '!$G$2,'Projects Inputs '!G188,\"n/a\"))","v":18.700000000000003},"US$ /wmt of  nodules"]
[null,null,null,null,"Transfer vessel CCZ",{"$f":"IF($F$7='Projects Inputs '!$F$2,'Projects Inputs '!F189,IF($F$7='Projects Inputs '!$G$2,'Projects Inputs '!G189,\"n/a\"))","v":6.4},"US$ /wmt of  nodules"]
[null,null,null,null,"Bulk Carrier CCZ to INDO - Capesize",{"$f":"IF($F$7='Projects Inputs '!$F$2,'Projects Inputs '!F190,IF($F$7='Projects Inputs '!$G$2,'Projects Inputs '!G190,\"n/a\"))","v":10.4},"US$ /wmt of  nodules"]
[null,null,null,null,"Bulk Carrier INDO to Texas - Handymax",{"$f":"IF($F$7='Projects Inputs '!$F$2,'Projects Inputs '!F191,IF($F$7='Projects Inputs '!$G$2,'Projects Inputs '!G191,\"n/a\"))","v":1},"US$ /wmt of  nodules"]
[null,null,null,null,"Bulk Carrier INDO to Janpan - Handymax",{"$f":"IF($F$7='Projects Inputs '!$F$2,'Projects Inputs '!F192,IF($F$7='Projects Inputs '!$G$2,'Projects Inputs '!G192,\"n/a\"))","v":0.8},"US$ /wmt of  nodules"]
[null,null,null,null,"INDO inbound handling",{"$f":"IF($F$7='Projects Inputs '!$F$2,'Projects Inputs '!F193,IF($F$7='Projects Inputs '!$G$2,'Projects Inputs '!G193,\"n/a\"))","v":0.1},"US$ /wmt of  nodules"]
[null,null,null,null,"Contractor (Offshore)",{"$f":"IF($F$7='Projects Inputs '!$F$2,'Projects Inputs '!F194,IF($F$7='Projects Inputs '!$G$2,'Projects Inputs '!G194,\"n/a\"))","v":11.3},"US$ /wmt of  nodules"]
[null,null,null,null,"Consumables (Offshore)",{"$f":"IF($F$7='Projects Inputs '!$F$2,'Projects Inputs '!F195,IF($F$7='Projects Inputs '!$G$2,'Projects Inputs '!G195,\"n/a\"))","v":23.4},"US$ /wmt of  nodules"]
[null,null,null,null,"Processing ",{"$f":"IF($F$7='Projects Inputs '!$F$2,'Projects Inputs '!F196,IF($F$7='Projects Inputs '!$G$2,'Projects Inputs '!G196,\"n/a\"))","v":83},"US$ /wmt of  nodules"]
[null,null,null,null,"G&A",{"$f":"IF($F$7='Projects Inputs '!$F$2,'Projects Inputs '!F197,IF($F$7='Projects Inputs '!$G$2,'Projects Inputs '!G197,\"n/a\"))","v":12.1},"US$ /wmt of  nodules"]
[]
["Other Operation Fees Assumptions"]
[]
[null,null,"Fees for ISA "]
[null,null,null,null,"Annual reporting fee",{"$f":"IF($F$7='Projects Inputs '!$F$2,'Projects Inputs '!F202,IF($F$7='Projects Inputs '!$G$2,'Projects Inputs '!G202,\"n/a\"))","v":1},"US$ mn","Assumption"]
[null,null,null,null,"Annual fixed fee",{"$f":"IF($F$7='Projects Inputs '!$F$2,'Projects Inputs '!F203,IF($F$7='Projects Inputs '!$G$2,'Projects Inputs '!G203,\"n/a\"))","v":0.5},"US$ mn","Assumption"]
[null,null,null,null,null,{"$f":"IF($F$7='Projects Inputs '!$F$2,'Projects Inputs '!F204,IF($F$7='Projects Inputs '!$G$2,'Projects Inputs '!G204,\"n/a\"))","v":0}]
[null,null,"Other fees",null,null,{"$f":"IF($F$7='Projects Inputs '!$F$2,'Projects Inputs '!F205,IF($F$7='Projects Inputs '!$G$2,'Projects Inputs '!G205,\"n/a\"))","v":0}]
[null,null,null,null,"Nauru Continuity Benefits Payment",{"$f":"IF($F$7='Projects Inputs '!$F$2,'Projects Inputs '!F206,IF($F$7='Projects Inputs '!$G$2,'Projects Inputs '!G206,\"n/a\"))","v":1.2},"US$/WMT"]
[null,null,null,null,"Tonga Continuity Payment",{"$f":"IF($F$7='Projects Inputs '!$F$2,'Projects Inputs '!F207,IF($F$7='Projects Inputs '!$G$2,'Projects Inputs '!G207,\"n/a\"))","v":0},"US$/WMT"]
[null,null,null,null,"LCR Royalty",{"$f":"IF($F$7='Projects Inputs '!$F$2,'Projects Inputs '!F208,IF($F$7='Projects Inputs '!$G$2,'Projects Inputs '!G208,\"n/a\"))","v":2.8},"US$/WMT"]
[]
["Fiscal Assumptions"]
[]
[null,null,"Royalty "]
[null,null,null,null,{"$f":"Dashboard!B8","v":"Royalty - stage 1"},{"$f":"IF($F$7='Projects Inputs '!$F$2,'Projects Inputs '!F213,IF($F$7='Projects Inputs '!$G$2,'Projects Inputs '!G213,\"n/a\"))","v":2.5000000000000001E-2},"%","Assumption"]
[null,null,null,null,{"$f":"Dashboard!B9","v":"Royalty stage 1 duration"},{"$f":"IF($F$7='Projects Inputs '!$F$2,'Projects Inputs '!F214,IF($F$7='Projects Inputs '!$G$2,'Projects Inputs '!G214,\"n/a\"))","v":5},"years into production","Assumption"]
[null,null,null,null,{"$f":"Dashboard!B10","v":"Royalty - stage 2"},{"$f":"IF($F$7='Projects Inputs '!$F$2,'Projects Inputs '!F215,IF($F$7='Projects Inputs '!$G$2,'Projects Inputs '!G215,\"n/a\"))","v":7.4999999999999997E-2},"%","Assumption"]
[]
[null,null,"Additional profit share"]
[null,null,null,null,{"$f":"Dashboard!B11","v":"Additional profit share"},{"$f":"IF($F$7='Projects Inputs '!$F$2,'Projects Inputs '!F218,IF($F$7='Projects Inputs '!$G$2,'Projects Inputs '!G218,\"n/a\"))","v":0.25},"%"]
[null,null,null,null,"Additional Profits share adjustment factor",{"$f":"IF($F$7='Projects Inputs '!$F$2,'Projects Inputs '!F219,IF($F$7='Projects Inputs '!$G$2,'Projects Inputs '!G219,\"n/a\"))","v":1.1000000000000001},"constant"]
[null,null,null,null,"Covered payments credit applicable to Additional profit share to ISA",{"$f":"IF($F$7='Projects Inputs '!$F$2,'Projects Inputs '!F220,IF($F$7='Projects Inputs '!$G$2,'Projects Inputs '!G220,\"n/a\"))","v":1},"Option","1 = Yes ; 0 = No"]
[null,null,null,null,{"$f":"Dashboard!B14","v":"Additionam profit share reductible for CIT"},{"$f":"IF($F$7='Projects Inputs '!$F$2,'Projects Inputs '!F221,IF($F$7='Projects Inputs '!$G$2,'Projects Inputs '!G221,\"n/a\"))","v":0},"Option","1 = Yes ; 0 = No"]
[]
[null,null,"CIT"]
[null,null,null,null,"CIT Rate - Sponsoring state",{"$f":"IF($F$7='Projects Inputs '!$F$2,'Projects Inputs '!F224,IF($F$7='Projects Inputs '!$G$2,'Projects Inputs '!G224,\"n/a\"))","v":0.25},"%"]
[]
["Financing Assumptions"]
[null,null,null,null,null,{"$f":"IF($F$7='Projects Inputs '!$F$2,'Projects Inputs '!F227,IF($F$7='Projects Inputs '!$G$2,'Projects Inputs '!G227,\"n/a\"))","v":0}]
[null,null,"Royalty "]
[null,null,null,null,"Proportion of Capex financed by debts",{"$f":"IF($F$7='Projects Inputs '!$F$2,'Projects Inputs '!F229,IF($F$7='Projects Inputs '!$G$2,'Projects Inputs '!G229,\"n/a\"))","v":0},"%","Assumption"]
[null,null,null,null,"Repayment start year",{"$f":"IF($F$7='Projects Inputs '!$F$2,'Projects Inputs '!F230,IF($F$7='Projects Inputs '!$G$2,'Projects Inputs '!G230,\"n/a\"))","v":7},"Year","Assumption"]
[null,null,null,null,"Repayment period",{"$f":"IF($F$7='Projects Inputs '!$F$2,'Projects Inputs '!F231,IF($F$7='Projects Inputs '!$G$2,'Projects Inputs '!G231,\"n/a\"))","v":10},"Years","Assumption"]
[null,null,null,null,"Loan real interest rate ",{"$f":"IF($F$7='Projects Inputs '!$F$2,'Projects Inputs '!F232,IF($F$7='Projects Inputs '!$G$2,'Projects Inputs '!G232,\"n/a\"))","v":0.18},"%","Assumption"]
[null,null,null,null,"Interest payment start year",{"$f":"IF($F$7='Projects Inputs '!$F$2,'Projects Inputs '!F233,IF($F$7='Projects Inputs '!$G$2,'Projects Inputs '!G233,\"n/a\"))","v":4},"Year","Assumption"]
[]
["Economic assumptions"]
[]
[null,null,null,null,"ISA Discount Rate",{"$f":"IF($F$7='Projects Inputs '!$F$2,'Projects Inputs '!F237,IF($F$7='Projects Inputs '!$G$2,'Projects Inputs '!G237,\"n/a\"))","v":0.08},"%"]
[null,null,null,null,{"$f":"'Projects Inputs '!E238","v":"Project  Shareholder Discount Rate"},{"$f":"IF($F$7='Projects Inputs '!$F$2,'Projects Inputs '!F238,IF($F$7='Projects Inputs '!$G$2,'Projects Inputs '!G238,\"n/a\"))","v":0.08},"%"]
[null,null,null,null,"Sponsoring State Discount Rate",{"$f":"IF($F$7='Projects Inputs '!$F$2,'Projects Inputs '!F239,IF($F$7='Projects Inputs '!$G$2,'Projects Inputs '!G239,\"n/a\"))","v":0.08},"%"]
[]
["Technical parameters"]
[]
[null,null,null,null,"Model check tolerance level",{"$f":"IF($F$7='Projects Inputs '!$F$2,'Projects Inputs '!F243,IF($F$7='Projects Inputs '!$G$2,'Projects Inputs '!G243,\"n/a\"))","v":0.01},"Tolerance"]
[null,null,null,null,"one hundred",{"$f":"IF($F$7='Projects Inputs '!$F$2,'Projects Inputs '!F244,IF($F$7='Projects Inputs '!$G$2,'Projects Inputs '!G244,\"n/a\"))","v":100},"Constant"]
[null,null,null,null,"one thousand",{"$f":"IF($F$7='Projects Inputs '!$F$2,'Projects Inputs '!F245,IF($F$7='Projects Inputs '!$G$2,'Projects Inputs '!G245,\"n/a\"))","v":1000},"Constant"]
[null,null,null,null,"one million",{"$f":"IF($F$7='Projects Inputs '!$F$2,'Projects Inputs '!F246,IF($F$7='Projects Inputs '!$G$2,'Projects Inputs '!G246,\"n/a\"))","v":1000000},"Constant"]
[null,null,null,null,"one",{"$f":"IF($F$7='Projects Inputs '!$F$2,'Projects Inputs '!F247,IF($F$7='Projects Inputs '!$G$2,'Projects Inputs '!G247,\"n/a\"))","v":1},"Constant"]
[null,null,null,null,"two",{"$f":"IF($F$7='Projects Inputs '!$F$2,'Projects Inputs '!F248,IF($F$7='Projects Inputs '!$G$2,'Projects Inputs '!G248,\"n/a\"))","v":2},"Constant"]
[null,null,null,null,"three",{"$f":"IF($F$7='Projects Inputs '!$F$2,'Projects Inputs '!F249,IF($F$7='Projects Inputs '!$G$2,'Projects Inputs '!G249,\"n/a\"))","v":3},"Constant"]
[]
["Global labels"]
[]
[null,null,null,null,"Label: yes",{"$f":"IF($F$7='Projects Inputs '!$F$2,'Projects Inputs '!F253,IF($F$7='Projects Inputs '!$G$2,'Projects Inputs '!G253,\"n/a\"))","v":"Yes"},"Label"]
[null,null,null,null,"Label: no",{"$f":"IF($F$7='Projects Inputs '!$F$2,'Projects Inputs '!F254,IF($F$7='Projects Inputs '!$G$2,'Projects Inputs '!G254,\"n/a\"))","v":"No"},"Label"]
[]
["END MODEL"]

{"sheet":"T&E","index":5,"n_rows":156,"n_cols":48,"rows_kept":156,"cut":false,"hidden":false,"merged":[]}
[{"$f":" RIGHT( CELL(\"filename\",$A$1), LEN( CELL(\"filename\",$A$1)) - SEARCH(\"]\", CELL(\"filename\",$A$1)))","v":"T&E"},null,null,null,null,null,null,null,"Model counter",null,{"$f":"K10","v":1},{"$f":"L10","v":2},3,4,5,6,7,8,9,10,11,12,13,14,15,16,17,18,19,20,21,22,23,24,25,26,27,28,29,30,31,32,33,34,35,36,37,{"$f":"AV10","v":38}]
[null,null,null,null,{"$f":"'T&E'!E12","v":"Project year"},null,{"$f":"'T&E'!G12","v":"year"},null,null,null,{"$f":"'T&E'!K12","v":2025},{"$f":"'T&E'!L12","v":2026},{"$f":"'T&E'!M12","v":2027},{"$f":"'T&E'!N12","v":2028},{"$f":"'T&E'!O12","v":2029},{"$f":"'T&E'!P12","v":2030},{"$f":"'T&E'!Q12","v":2031},{"$f":"'T&E'!R12","v":2032},{"$f":"'T&E'!S12","v":2033},{"$f":"'T&E'!T12","v":2034},{"$f":"'T&E'!U12","v":2035},{"$f":"'T&E'!V12","v":2036},{"$f":"'T&E'!W12","v":2037},{"$f":"'T&E'!X12","v":2038},{"$f":"'T&E'!Y12","v":2039},{"$f":"'T&E'!Z12","v":2040},{"$f":"'T&E'!AA12","v":2041},{"$f":"'T&E'!AB12","v":2042},{"$f":"'T&E'!AC12","v":2043},{"$f":"'T&E'!AD12","v":2044},{"$f":"'T&E'!AE12","v":2045},{"$f":"'T&E'!AF12","v":2046},{"$f":"'T&E'!AG12","v":2047},{"$f":"'T&E'!AH12","v":2048},{"$f":"'T&E'!AI12","v":2049},{"$f":"'T&E'!AJ12","v":2050},{"$f":"'T&E'!AK12","v":2051},{"$f":"'T&E'!AL12","v":2052},{"$f":"'T&E'!AM12","v":2053},{"$f":"'T&E'!AN12","v":2054},{"$f":"'T&E'!AO12","v":2055},{"$f":"'T&E'!AP12","v":2056},{"$f":"'T&E'!AQ12","v":2057},{"$f":"'T&E'!AR12","v":2058},{"$f":"'T&E'!AS12","v":2059},{"$f":"'T&E'!AT12","v":2060},{"$f":"'T&E'!AU12","v":2061},{"$f":"'T&E'!AV12","v":2062}]
[null,null,null,null,"Row description","Constant","Units","Comments","Total"]
[]
["Flags and Counters"]
[]
[null,"Project flags and counters"]
[]
[null,null,null,"Project model counter"]
[null,null,null,null,"Project model counter",null,"year #",null,null,null,{"$f":"J10+1","v":1},{"$f":"K10+1","v":2},3,4,5,6,7,8,9,10,11,12,13,14,15,16,17,18,19,20,21,22,23,24,25,26,27,28,29,30,31,32,33,34,35,36,37,38]
[null,null,null,null,{"$f":"'Working Inputs'!E12","v":"Project start year"},{"$f":"'Working Inputs'!F12","v":2025},{"$f":"'Working Inputs'!G12","v":"year"}]
[null,null,null,null,"Project year",null,"year",null,null,null,{"$f":"$F$11+K10-1","v":2025},{"$f":"$F$11+L10-1","v":2026},2027,2028,2029,2030,2031,2032,2033,2034,2035,2036,2037,2038,2039,2040,2041,2042,2043,2044,2045,2046,2047,2048,2049,2050,2051,2052,2053,2054,2055,2056,2057,2058,2059,2060,2061,{"$f":"$F$11+AV10-1","v":2062}]
[]
[null,null,"Pre-production phase: "]
[null,null,null,"Pre-production period flag"]
[null,null,null,null,{"$f":"'Working Inputs'!$E$13","v":"Pre-production - start"},{"$f":"'Working Inputs'!$F$13","v":1},{"$f":"'Working Inputs'!$G$13","v":"year # "}]
[null,null,null,null,{"$f":"'Working Inputs'!$E$14","v":"Pre-production - end"},{"$f":"'Working Inputs'!F14","v":2},{"$f":"'Working Inputs'!$G$14","v":"year # "}]
[null,null,null,null,"Pre production period flag",null,"flag",null,{"$f":"SUM(K18:AV18)","v":2},null,{"$f":"IF(K$10<$F16,0,IF(K$10>$F17,0,1))","v":1},1,0,0,0,0,0,0,0,0,0,0,0,0,0,0,0,0,0,0,0,0,0,0,0,0,0,0,0,0,0,0,0,0,0,0,0,{"$f":"IF(AV$10<$F16,0,IF(AV$10>$F17,0,1))","v":0}]
[]
[null,null,"Production phase: "]
[null,null,null,"Ramp up area 1 period flag"]
[null,null,null,null,{"$f":"'Working Inputs'!$E$15","v":"Ramp Up area 1 - start"},{"$f":"'Working Inputs'!$F$15","v":3},{"$f":"'Working Inputs'!$G$15","v":"year # "}]
[null,null,null,null,{"$f":"'Working Inputs'!$E$16","v":"Ramp Up area 1 - end"},{"$f":"'Working Inputs'!$F$16","v":6},{"$f":"'Working Inputs'!$G$16","v":"year # "}]
[null,null,null,null,"Ramp up area 1 period flag",null,"flag",null,{"$f":"SUM(K24:AV24)","v":4},null,{"$f":"IF(K$10<$F22,0,IF(K$10>$F23,0,1))","v":0},0,1,1,1,1,0,0,0,0,0,0,0,0,0,0,0,0,0,0,0,0,0,0,0,0,0,0,0,0,0,0,0,0,0,0,0,{"$f":"IF(AV$10<$F22,0,IF(AV$10>$F23,0,1))","v":0}]
[]
[null,null,null,"Full Operation area 1 period flag"]
[null,null,null,null,{"$f":"'Working Inputs'!$E$17","v":"Full Operation area 1- start"},{"$f":"'Working Inputs'!$F$17","v":7},{"$f":"'Working Inputs'!$G$17","v":"year # "}]
[null,null,null,null,{"$f":"'Working Inputs'!$E$18","v":"Full Operation area 1- end"},{"$f":"'Working Inputs'!$F$18","v":20},{"$f":"'Working Inputs'!$G$18","v":"year # "}]
[null,null,null,null,"Full Operation area 1 period flag",null,"flag",null,{"$f":"SUM(K29:AV29)","v":14},null,{"$f":"IF(K$10<$F27,0,IF(K$10>$F28,0,1))","v":0},0,0,0,0,0,1,1,1,1,1,1,1,1,1,1,1,1,1,1,0,0,0,0,0,0,0,0,0,0,0,0,0,0,0,0,0,0]
[]
[null,null,null,"Operation closing area 1 period flag"]
[null,null,null,null,{"$f":"'Working Inputs'!E$19","v":"Operation closing area 1 - start "},{"$f":"'Working Inputs'!F$19","v":21},{"$f":"'Working Inputs'!G$19","v":"year # "}]
[null,null,null,null,{"$f":"'Working Inputs'!E$20","v":"Operation closing area 1 - end"},{"$f":"'Working Inputs'!F$20","v":21},{"$f":"'Working Inputs'!G$20","v":"year # "}]
[null,null,null,null,"Operation closing area 1 period flag",null,"flag",null,{"$f":"SUM(K34:AV34)","v":1},null,{"$f":"IF(K$10<$F32,0,IF(K$10>$F33,0,1))","v":0},0,0,0,0,0,0,0,0,0,0,0,0,0,0,0,0,0,0,0,1,0,0,0,0,0,0,0,0,0,0,0,0,0,0,0,0,0]
[]
[null,null,null,"Ramp up area 2 period flag"]
[null,null,null,null,{"$f":"'Working Inputs'!E21","v":"Ramp Up area 2 - start"},{"$f":"'Working Inputs'!F21","v":0},{"$f":"'Working Inputs'!G21","v":"year # "}]
[null,null,null,null,{"$f":"'Working Inputs'!E22","v":"Ramp Up area 2- end"},{"$f":"'Working Inputs'!F22","v":0},{"$f":"'Working Inputs'!G22","v":"year # "}]
[null,null,null,null,"Ramp up area 2 period flag",null,"flag",null,{"$f":"SUM(K39:AV39)","v":0},null,{"$f":"IF(K$10<$F37,0,IF(K$10>$F38,0,1))","v":0},0,0,0,0,0,0,0,0,0,0,0,0,0,0,0,0,0,0,0,0,0,0,0,0,0,0,0,0,0,0,0,0,0,0,0,0,{"$f":"IF(AV$10<$F37,0,IF(AV$10>$F38,0,1))","v":0}]
[]
[null,null,null,"Full Operation area 2 period flag"]
[null,null,null,null,{"$f":"'Working Inputs'!E23","v":"Full Operation area 2 - start"},{"$f":"'Working Inputs'!F23","v":0},{"$f":"'Working Inputs'!G23","v":"year # "}]
[null,null,null,null,{"$f":"'Working Inputs'!E24","v":"Full Operation area 2 - end"},{"$f":"'Working Inputs'!F24","v":0},{"$f":"'Working Inputs'!G24","v":"year # "}]
[null,null,null,null,"Full Operation area 2 period flag",null,"flag",null,{"$f":"SUM(K44:AV44)","v":0},null,{"$f":"IF(K$10<$F42,0,IF(K$10>$F43,0,1))","v":0},0,0,0,0,0,0,0,0,0,0,0,0,0,0,0,0,0,0,0,0,0,0,0,0,0,0,0,0,0,0,0,0,0,0,0,0,0]
[]
[null,null,null,"Operation closing area 2 period flag"]
[null,null,null,null,{"$f":"'Working Inputs'!E25","v":"Operation closing area 2 - start "},{"$f":"'Working Inputs'!F25","v":0},{"$f":"'Working Inputs'!G25","v":"year # "}]
[null,null,null,null,{"$f":"'Working Inputs'!E26","v":"Operation closing area 2 - end"},{"$f":"'Working Inputs'!F26","v":0},{"$f":"'Working Inputs'!G26","v":"year # "}]
[null,null,null,null,"Operation closing area 2 period flag",null,"flag",null,{"$f":"SUM(K49:AV49)","v":0},null,{"$f":"IF(K$10<$F47,0,IF(K$10>$F48,0,1))","v":0},0,0,0,0,0,0,0,0,0,0,0,0,0,0,0,0,0,0,0,0,0,0,0,0,0,0,0,0,0,0,0,0,0,0,0,0,0]
[]
[null,null,null,"Overall Operation closing period flag"]
[null,null,null,null,{"$f":"'Working Inputs'!E$20","v":"Operation closing area 1 - end"},{"$f":"'Working Inputs'!F$20","v":21},{"$f":"'Working Inputs'!G$20","v":"year # "}]
[null,null,null,null,{"$f":"'Working Inputs'!E26","v":"Operation closing area 2 - end"},{"$f":"'Working Inputs'!F26","v":0},{"$f":"'Working Inputs'!G26","v":"year # "}]
[null,null,null,null,"Overall Operation closing period flag",null,"flag",null,{"$f":"SUM(K54:AV54)","v":1},null,{"$f":"IF(K$10=MAX($F$52,$F$53),1,0)","v":0},{"$f":"IF(L$10=MAX($F$52,$F$53),1,0)","v":0},0,0,0,0,0,0,0,0,0,0,0,0,0,0,0,0,0,0,1,0,0,0,0,0,0,0,0,0,0,0,0,0,0,0,0,0]
[]
[null,null,null,"Production period flag"]
[null,null,null,null,"Production period flag",null,"flag",null,{"$f":"SUM(K57:AV57)","v":19},null,{"$f":"IF(K24+K29+K34+K39+K44+K49>0,1,0)","v":0},{"$f":"IF(L24+L29+L34+L39+L44+L49>0,1,0)","v":0},1,1,1,1,1,1,1,1,1,1,1,1,1,1,1,1,1,1,1,0,0,0,0,0,0,0,0,0,0,0,0,0,0,0,0,{"$f":"IF(AV24+AV29+AV34+AV39+AV44+AV49>0,1,0)","v":0}]
[]
[null,null,null,"Alloy production period flag"]
[null,null,null,null,{"$f":"'Working Inputs'!E59","v":"Alloy production - start"},{"$f":"'Working Inputs'!F59","v":3},{"$f":"'Working Inputs'!G59","v":"year # "}]
[null,null,null,null,{"$f":"'Working Inputs'!E60","v":"Alloy production - end"},{"$f":"'Working Inputs'!F60","v":4},{"$f":"'Working Inputs'!G60","v":"year # "}]
[null,null,null,null,"Alloy production period flag",null,"flag",null,{"$f":"SUM(K62:AV62)","v":2},null,{"$f":"IF(K$10<$F60,0,IF(K$10>$F61,0,1))","v":0},0,1,1,0,0,0,0,0,0,0,0,0,0,0,0,0,0,0,0,0,0,0,0,0,0,0,0,0,0,0,0,0,0,0,0,0,{"$f":"IF(AV$10<$F60,0,IF(AV$10>$F61,0,1))","v":0}]
[]
[null,null,null,"Alloy - Matte transition period flag"]
[null,null,null,null,{"$f":"'Working Inputs'!E61","v":"Alloy - Matte transition - start"},{"$f":"'Working Inputs'!F61","v":5},{"$f":"'Working Inputs'!G61","v":"year # "}]
[null,null,null,null,{"$f":"'Working Inputs'!E62","v":"Alloy - Matte transition - end"},{"$f":"'Working Inputs'!F62","v":5},{"$f":"'Working Inputs'!G62","v":"year # "}]
[null,null,null,null,"Alloy-Matte transition period flag",null,"flag",null,{"$f":"SUM(K67:AV67)","v":1},null,{"$f":"IF(K$10<$F65,0,IF(K$10>$F66,0,1))","v":0},0,0,0,1,0,0,0,0,0,0,0,0,0,0,0,0,0,0,0,0,0,0,0,0,0,0,0,0,0,0,0,0,0,0,0,0,0]
[]
[null,null,null,"Matte production period flag"]
[null,null,null,null,{"$f":"'Working Inputs'!E63","v":"Matte production - start"},{"$f":"'Working Inputs'!F63","v":6},{"$f":"'Working Inputs'!G63","v":"year # "}]
[null,null,null,null,{"$f":"'Working Inputs'!E64","v":"Matte production - end"},{"$f":"'Working Inputs'!F64","v":21},{"$f":"'Working Inputs'!G64","v":"year # "}]
[null,null,null,null,"Matte production period flag",null,"flag",null,{"$f":"SUM(K72:AV72)","v":16},null,{"$f":"IF(K$10<$F70,0,IF(K$10>$F71,0,1))","v":0},0,0,0,0,1,1,1,1,1,1,1,1,1,1,1,1,1,1,1,1,0,0,0,0,0,0,0,0,0,0,0,0,0,0,0,0,{"$f":"IF(AV$10<$F70,0,IF(AV$10>$F71,0,1))","v":0}]
[]
[null,null,null,"Closure period flag"]
[null,null,null,null,{"$f":"+'Working Inputs'!$E$27","v":"Project Closure - start"},{"$f":"+'Working Inputs'!$F$27","v":22},{"$f":"+'Working Inputs'!$G$27","v":"year # "}]
[null,null,null,null,{"$f":"+'Working Inputs'!$E$28","v":"Project Closure - end"},{"$f":"+'Working Inputs'!$F$28","v":31},{"$f":"+'Working Inputs'!$G$28","v":"year # "}]
[null,null,null,null,"Capital closure period flag",null,"flag",null,{"$f":"SUM(K77:AV77)","v":10},null,{"$f":"IF(K$10<$F75,0,IF(K$10>$F76,0,1))","v":0},0,0,0,0,0,0,0,0,0,0,0,0,0,0,0,0,0,0,0,0,1,1,1,1,1,1,1,1,1,1,0,0,0,0,0,0,{"$f":"IF(AV$10<$F75,0,IF(AV$10>$F76,0,1))","v":0}]
[]
[null,null,null,"Metal Price bracket flag"]
[null,null,null,null,{"$f":"'Working Inputs'!E78","v":"Metal price bracket 1 2028 - 2032"},{"$f":"'Working Inputs'!F78","v":6},{"$f":"'Working Inputs'!G78","v":"end year # as of production"}]
[null,null,null,null,{"$f":"'Working Inputs'!E79","v":"Metal price bracket 2  2033-2037"},{"$f":"'Working Inputs'!F79","v":11},{"$f":"'Working Inputs'!G79","v":"end year # as of production"}]
[null,null,null,null,{"$f":"'Working Inputs'!E80","v":"Metal price bracket 3  2038-2043+"},{"$f":"'Working Inputs'!F80","v":19},{"$f":"'Working Inputs'!G80","v":"end year # as of production"}]
[null,null,null,null,"Metal price bracket flag",null,"flag",null,null,null,{"$f":"IF(SUM($K$57:K57)<=$F$80,1,IF(SUM($K$57:K57)<=$F$81,2,3))","v":1},{"$f":"IF(SUM($K$57:L57)<=$F$80,1,IF(SUM($K$57:L57)<=$F$81,2,3))","v":1},{"$f":"IF(SUM($K$57:M57)<=$F$80,1,IF(SUM($K$57:M57)<=$F$81,2,3))","v":1},{"$f":"IF(SUM($K$57:N57)<=$F$80,1,IF(SUM($K$57:N57)<=$F$81,2,3))","v":1},{"$f":"IF(SUM($K$57:O57)<=$F$80,1,IF(SUM($K$57:O57)<=$F$81,2,3))","v":1},{"$f":"IF(SUM($K$57:P57)<=$F$80,1,IF(SUM($K$57:P57)<=$F$81,2,3))","v":1},{"$f":"IF(SUM($K$57:Q57)<=$F$80,1,IF(SUM($K$57:Q57)<=$F$81,2,3))","v":1},{"$f":"IF(SUM($K$57:R57)<=$F$80,1,IF(SUM($K$57:R57)<=$F$81,2,3))","v":1},{"$f":"IF(SUM($K$57:S57)<=$F$80,1,IF(SUM($K$57:S57)<=$F$81,2,3))","v":2},{"$f":"IF(SUM($K$57:T57)<=$F$80,1,IF(SUM($K$57:T57)<=$F$81,2,3))","v":2},{"$f":"IF(SUM($K$57:U57)<=$F$80,1,IF(SUM($K$57:U57)<=$F$81,2,3))","v":2},{"$f":"IF(SUM($K$57:V57)<=$F$80,1,IF(SUM($K$57:V57)<=$F$81,2,3))","v":2},{"$f":"IF(SUM($K$57:W57)<=$F$80,1,IF(SUM($K$57:W57)<=$F$81,2,3))","v":2},{"$f":"IF(SUM($K$57:X57)<=$F$80,1,IF(SUM($K$57:X57)<=$F$81,2,3))","v":3},{"$f":"IF(SUM($K$57:Y57)<=$F$80,1,IF(SUM($K$57:Y57)<=$F$81,2,3))","v":3},{"$f":"IF(SUM($K$57:Z57)<=$F$80,1,IF(SUM($K$57:Z57)<=$F$81,2,3))","v":3},{"$f":"IF(SUM($K$57:AA57)<=$F$80,1,IF(SUM($K$57:AA57)<=$F$81,2,3))","v":3},{"$f":"IF(SUM($K$57:AB57)<=$F$80,1,IF(SUM($K$57:AB57)<=$F$81,2,3))","v":3},{"$f":"IF(SUM($K$57:AC57)<=$F$80,1,IF(SUM($K$57:AC57)<=$F$81,2,3))","v":3},{"$f":"IF(SUM($K$57:AD57)<=$F$80,1,IF(SUM($K$57:AD57)<=$F$81,2,3))","v":3},{"$f":"IF(SUM($K$57:AE57)<=$F$80,1,IF(SUM($K$57:AE57)<=$F$81,2,3))","v":3},{"$f":"IF(SUM($K$57:AF57)<=$F$80,1,IF(SUM($K$57:AF57)<=$F$81,2,3))","v":3},{"$f":"IF(SUM($K$57:AG57)<=$F$80,1,IF(SUM($K$57:AG57)<=$F$81,2,3))","v":3},{"$f":"IF(SUM($K$57:AH57)<=$F$80,1,IF(SUM($K$57:AH57)<=$F$81,2,3))","v":3},{"$f":"IF(SUM($K$57:AI57)<=$F$80,1,IF(SUM($K$57:AI57)<=$F$81,2,3))","v":3},{"$f":"IF(SUM($K$57:AJ57)<=$F$80,1,IF(SUM($K$57:AJ57)<=$F$81,2,3))","v":3},{"$f":"IF(SUM($K$57:AK57)<=$F$80,1,IF(SUM($K$57:AK57)<=$F$81,2,3))","v":3},{"$f":"IF(SUM($K$57:AL57)<=$F$80,1,IF(SUM($K$57:AL57)<=$F$81,2,3))","v":3},{"$f":"IF(SUM($K$57:AM57)<=$F$80,1,IF(SUM($K$57:AM57)<=$F$81,2,3))","v":3},{"$f":"IF(SUM($K$57:AN57)<=$F$80,1,IF(SUM($K$57:AN57)<=$F$81,2,3))","v":3},{"$f":"IF(SUM($K$57:AO57)<=$F$80,1,IF(SUM($K$57:AO57)<=$F$81,2,3))","v":3},{"$f":"IF(SUM($K$57:AP57)<=$F$80,1,IF(SUM($K$57:AP57)<=$F$81,2,3))","v":3},{"$f":"IF(SUM($K$57:AQ57)<=$F$80,1,IF(SUM($K$57:AQ57)<=$F$81,2,3))","v":3},{"$f":"IF(SUM($K$57:AR57)<=$F$80,1,IF(SUM($K$57:AR57)<=$F$81,2,3))","v":3},{"$f":"IF(SUM($K$57:AS57)<=$F$80,1,IF(SUM($K$57:AS57)<=$F$81,2,3))","v":3},{"$f":"IF(SUM($K$57:AT57)<=$F$80,1,IF(SUM($K$57:AT57)<=$F$81,2,3))","v":3},{"$f":"IF(SUM($K$57:AU57)<=$F$80,1,IF(SUM($K$57:AU57)<=$F$81,2,3))","v":3},{"$f":"IF(SUM($K$57:AV57)<=$F$80,1,IF(SUM($K$57:AV57)<=$F$81,2,3))","v":3}]
[]
[null,null,null,"Alloy/Matte Payable terms flag"]
[null,null,null,null,{"$f":"'Working Inputs'!E99","v":"Alloy/Matte Payable terms bracket 1 2027 - 2031"},{"$f":"'Working Inputs'!F99","v":5},{"$f":"'Working Inputs'!G99","v":"end year # as of production"}]
[null,null,null,null,{"$f":"'Working Inputs'!E100","v":"Alloy/Matte Payable terms bracket 2  2032-2036"},{"$f":"'Working Inputs'!F100","v":10},{"$f":"'Working Inputs'!G100","v":"end year # as of production"}]
[null,null,null,null,{"$f":"'Working Inputs'!E101","v":"Alloy/Matte Payable terms bracket 3  2037-2045+"},{"$f":"'Working Inputs'!F101","v":19},{"$f":"'Working Inputs'!G101","v":"end year # as of production"}]
[null,null,null,null,"Alloy/Matte Payable terms bracket flag",null,"flag",null,null,null,{"$f":"IF(SUM($K$57:K57)<=$F$86,1,IF(SUM($K$57:K57)<=$F$87,2,3))","v":1},{"$f":"IF(SUM($K$57:L57)<=$F$86,1,IF(SUM($K$57:L57)<=$F$87,2,3))","v":1},{"$f":"IF(SUM($K$57:M57)<=$F$86,1,IF(SUM($K$57:M57)<=$F$87,2,3))","v":1},{"$f":"IF(SUM($K$57:N57)<=$F$86,1,IF(SUM($K$57:N57)<=$F$87,2,3))","v":1},{"$f":"IF(SUM($K$57:O57)<=$F$86,1,IF(SUM($K$57:O57)<=$F$87,2,3))","v":1},{"$f":"IF(SUM($K$57:P57)<=$F$86,1,IF(SUM($K$57:P57)<=$F$87,2,3))","v":1},{"$f":"IF(SUM($K$57:Q57)<=$F$86,1,IF(SUM($K$57:Q57)<=$F$87,2,3))","v":1},{"$f":"IF(SUM($K$57:R57)<=$F$86,1,IF(SUM($K$57:R57)<=$F$87,2,3))","v":2},{"$f":"IF(SUM($K$57:S57)<=$F$86,1,IF(SUM($K$57:S57)<=$F$87,2,3))","v":2},{"$f":"IF(SUM($K$57:T57)<=$F$86,1,IF(SUM($K$57:T57)<=$F$87,2,3))","v":2},{"$f":"IF(SUM($K$57:U57)<=$F$86,1,IF(SUM($K$57:U57)<=$F$87,2,3))","v":2},{"$f":"IF(SUM($K$57:V57)<=$F$86,1,IF(SUM($K$57:V57)<=$F$87,2,3))","v":2},{"$f":"IF(SUM($K$57:W57)<=$F$86,1,IF(SUM($K$57:W57)<=$F$87,2,3))","v":3},{"$f":"IF(SUM($K$57:X57)<=$F$86,1,IF(SUM($K$57:X57)<=$F$87,2,3))","v":3},{"$f":"IF(SUM($K$57:Y57)<=$F$86,1,IF(SUM($K$57:Y57)<=$F$87,2,3))","v":3},{"$f":"IF(SUM($K$57:Z57)<=$F$86,1,IF(SUM($K$57:Z57)<=$F$87,2,3))","v":3},{"$f":"IF(SUM($K$57:AA57)<=$F$86,1,IF(SUM($K$57:AA57)<=$F$87,2,3))","v":3},{"$f":"IF(SUM($K$57:AB57)<=$F$86,1,IF(SUM($K$57:AB57)<=$F$87,2,3))","v":3},{"$f":"IF(SUM($K$57:AC57)<=$F$86,1,IF(SUM($K$57:AC57)<=$F$87,2,3))","v":3},{"$f":"IF(SUM($K$57:AD57)<=$F$86,1,IF(SUM($K$57:AD57)<=$F$87,2,3))","v":3},{"$f":"IF(SUM($K$57:AE57)<=$F$86,1,IF(SUM($K$57:AE57)<=$F$87,2,3))","v":3},{"$f":"IF(SUM($K$57:AF57)<=$F$86,1,IF(SUM($K$57:AF57)<=$F$87,2,3))","v":3},{"$f":"IF(SUM($K$57:AG57)<=$F$86,1,IF(SUM($K$57:AG57)<=$F$87,2,3))","v":3},{"$f":"IF(SUM($K$57:AH57)<=$F$86,1,IF(SUM($K$57:AH57)<=$F$87,2,3))","v":3},{"$f":"IF(SUM($K$57:AI57)<=$F$86,1,IF(SUM($K$57:AI57)<=$F$87,2,3))","v":3},{"$f":"IF(SUM($K$57:AJ57)<=$F$86,1,IF(SUM($K$57:AJ57)<=$F$87,2,3))","v":3},{"$f":"IF(SUM($K$57:AK57)<=$F$86,1,IF(SUM($K$57:AK57)<=$F$87,2,3))","v":3},{"$f":"IF(SUM($K$57:AL57)<=$F$86,1,IF(SUM($K$57:AL57)<=$F$87,2,3))","v":3},{"$f":"IF(SUM($K$57:AM57)<=$F$86,1,IF(SUM($K$57:AM57)<=$F$87,2,3))","v":3},{"$f":"IF(SUM($K$57:AN57)<=$F$86,1,IF(SUM($K$57:AN57)<=$F$87,2,3))","v":3},{"$f":"IF(SUM($K$57:AO57)<=$F$86,1,IF(SUM($K$57:AO57)<=$F$87,2,3))","v":3},{"$f":"IF(SUM($K$57:AP57)<=$F$86,1,IF(SUM($K$57:AP57)<=$F$87,2,3))","v":3},{"$f":"IF(SUM($K$57:AQ57)<=$F$86,1,IF(SUM($K$57:AQ57)<=$F$87,2,3))","v":3},{"$f":"IF(SUM($K$57:AR57)<=$F$86,1,IF(SUM($K$57:AR57)<=$F$87,2,3))","v":3},{"$f":"IF(SUM($K$57:AS57)<=$F$86,1,IF(SUM($K$57:AS57)<=$F$87,2,3))","v":3},{"$f":"IF(SUM($K$57:AT57)<=$F$86,1,IF(SUM($K$57:AT57)<=$F$87,2,3))","v":3},{"$f":"IF(SUM($K$57:AU57)<=$F$86,1,IF(SUM($K$57:AU57)<=$F$87,2,3))","v":3},{"$f":"IF(SUM($K$57:AV57)<=$F$86,1,IF(SUM($K$57:AV57)<=$F$87,2,3))","v":3}]
[]
[null,null,null,"Sustaining capital interval flag"]
[null,null,null,null,{"$f":"'Working Inputs'!E147","v":"Sustaining capital cost interval"},{"$f":"'Working Inputs'!F147","v":5},{"$f":"'Working Inputs'!G147","v":"years"}]
[null,null,null,null,{"$f":"'Working Inputs'!E148","v":"Sustaining vessels number"},{"$f":"'Working Inputs'!F148","v":4},{"$f":"'Working Inputs'!G148","v":"#"}]
[null,null,null,null,{"$f":"'Working Inputs'!E153","v":"Sustaining cost end year"},{"$f":"'Working Inputs'!F153","v":19},{"$f":"'Working Inputs'!G153","v":"year #"}]
[null,null,null,null,{"$f":"'Working Inputs'!$E$15","v":"Ramp Up area 1 - start"},{"$f":"'Working Inputs'!$F$15","v":3},{"$f":"'Working Inputs'!$G$15","v":"year # "}]
[null,null,null,null,{"$f":"'Working Inputs'!E152","v":"Adjustement to sustaining period due to Exceptional vessel maintenance "},{"$f":"'Working Inputs'!F152","v":0},{"$f":"'Working Inputs'!G152","v":"year #"}]
[null,null,null,null,"Sustaining capital cost start year",{"$f":"F95+F92+F96","v":8}]
[]
[null,null,null,null,"Sustaining capital flag",null,"years","interval",{"$f":"SUM(K99:AV99)","v":10},null,{"$f":"IF(OR(K1<$F$97,K1>$F$94),0,IF(MOD(K1-$F$97,$F$92)<$F$93,1,0))","v":0},{"$f":"IF(OR(L1<$F$97,L1>$F$94),0,IF(MOD(L1-$F$97,$F$92)<$F$93,1,0))","v":0},0,0,0,0,0,1,1,1,1,0,1,1,1,1,0,1,1,0,0,0,0,0,0,0,0,0,0,0,0,0,0,0,0,0,0,0]
[]
[null,null,null,null,{"$f":"'Working Inputs'!E149","v":"Exceptional vessel maintenance cost occuring period start"},{"$f":"'Working Inputs'!F149","v":0},{"$f":"'Working Inputs'!G149","v":"year #"}]
[null,null,null,null,{"$f":"'Working Inputs'!E150","v":"Exceptional vessel maintenance cost occuring period end"},{"$f":"'Working Inputs'!F150","v":0},{"$f":"'Working Inputs'!G150","v":"year #"}]
[null,null,null,null,"Exceptional Sustaining capital flag",null,null,null,null,null,{"$f":"IF(OR(K1<$F$101,K1>$F$102),0,1)","v":0},{"$f":"IF(OR(L1<$F$101,L1>$F$102),0,1)","v":0},0,0,0,0,0,0,0,0,0,0,0,0,0,0,0,0,0,0,0,0,0,0,0,0,0,0,0,0,0,0,0,0,0,0,0,0]
[]
[null,null,null,"Loan repayment flag"]
[null,null,null,null,{"$f":"'Working Inputs'!E230","v":"Repayment start year"},{"$f":"'Working Inputs'!F230","v":7},{"$f":"'Working Inputs'!G230","v":"Year"}]
[null,null,null,null,{"$f":"'Working Inputs'!E231","v":"Repayment period"},{"$f":"'Working Inputs'!F231","v":10},{"$f":"'Working Inputs'!G231","v":"Years"}]
[null,null,null,null,"Loan repayment flag",null,"flag",null,{"$f":"SUM(K108:AV108)","v":10},null,{"$f":"+IF(OR(K1<$F$106,K1>=$F$106+$F$107),0,1)","v":0},0,0,0,0,0,1,1,1,1,1,1,1,1,1,1,0,0,0,0,0,0,0,0,0,0,0,0,0,0,0,0,0,0,0,0,0,0]
[]
[null,null,null,"Interest payment flag"]
[null,null,null,null,{"$f":"'Working Inputs'!E233","v":"Interest payment start year"},{"$f":"'Working Inputs'!F233","v":4},{"$f":"'Working Inputs'!G233","v":"Year"}]
[null,null,null,null,"Interest payment flag",null,"flag",null,{"$f":"SUM(K112:AV112)","v":35},null,{"$f":"+IF(K1<$F$111,0,1)","v":0},0,0,1,1,1,1,1,1,1,1,1,1,1,1,1,1,1,1,1,1,1,1,1,1,1,1,1,1,1,1,1,1,1,1,1,1,1]
[]
[]
[null,null,null,"Depreciation period flag"]
[null,null,null,null,{"$f":"'Working Inputs'!E160","v":"Depreciation start year "}]
[null,null,null,null,{"$f":"'Working Inputs'!E161","v":"Production Vessel"},{"$f":"'Working Inputs'!F161","v":4},{"$f":"'Working Inputs'!G161","v":"year"}]
[null,null,null,null,{"$f":"'Working Inputs'!E162","v":"Transfer Vessel/Bulk Carriers"},{"$f":"'Working Inputs'!F162","v":4},{"$f":"'Working Inputs'!G162","v":"year"}]
[null,null,null,null,{"$f":"'Working Inputs'!E163","v":"Support Vessel"},{"$f":"'Working Inputs'!F163","v":4},{"$f":"'Working Inputs'!G163","v":"year"}]
[null,null,null,null,{"$f":"'Working Inputs'!E164","v":"Operations facilities initial setup"},{"$f":"'Working Inputs'!F164","v":4},{"$f":"'Working Inputs'!G164","v":"year"}]
[null,null,null,null,{"$f":"'Working Inputs'!E165","v":"Professional Services"},{"$f":"'Working Inputs'!F165","v":4},{"$f":"'Working Inputs'!G165","v":"year"}]
[null,null,null,null,{"$f":"'Working Inputs'!E166","v":"Owners cost"},{"$f":"'Working Inputs'!F166","v":4},{"$f":"'Working Inputs'!G166","v":"year"}]
[null,null,null,null,{"$f":"'Working Inputs'!E167","v":"Contingency"},{"$f":"'Working Inputs'!F167","v":4},{"$f":"'Working Inputs'!G167","v":"year"}]
[null,null,null,null,{"$f":"'Working Inputs'!E168","v":"Allseas credit"},{"$f":"'Working Inputs'!F168","v":4},{"$f":"'Working Inputs'!G168","v":"year"}]
[null,null,null,null,{"$f":"'Working Inputs'!E169","v":"Capitalized interest"},{"$f":"'Working Inputs'!F169","v":4},{"$f":"'Working Inputs'!G169","v":"year"}]
[null,null,null,null,{"$f":"'Working Inputs'!E167","v":"Contingency"},{"$f":"'Working Inputs'!F167","v":4},{"$f":"'Working Inputs'!G167","v":"year"}]
[null,null,null,null,{"$f":"'Working Inputs'!E168","v":"Allseas credit"},{"$f":"'Working Inputs'!F168","v":4},{"$f":"'Working Inputs'!G168","v":"year"}]
[null,null,null,null,{"$f":"'Working Inputs'!E169","v":"Capitalized interest"},{"$f":"'Working Inputs'!F169","v":4},{"$f":"'Working Inputs'!G169","v":"year"}]
[]
[null,null,null,null,{"$f":"'Working Inputs'!E171","v":"Depreciation period"}]
[null,null,null,null,{"$f":"'Working Inputs'!E172","v":"Production Vessel"},{"$f":"'Working Inputs'!F172","v":10},{"$f":"'Working Inputs'!G172","v":"years"}]
[null,null,null,null,{"$f":"'Working Inputs'!E173","v":"Transfer Vessel/Bulk Carriers"},{"$f":"'Working Inputs'!F173","v":10},{"$f":"'Working Inputs'!G173","v":"years"}]
[null,null,null,null,{"$f":"'Working Inputs'!E174","v":"Support Vessel"},{"$f":"'Working Inputs'!F174","v":10},{"$f":"'Working Inputs'!G174","v":"years"}]
[null,null,null,null,{"$f":"'Working Inputs'!E175","v":"Operations facilities initial setup"},{"$f":"'Working Inputs'!F175","v":10},{"$f":"'Working Inputs'!G175","v":"years"}]
[null,null,null,null,{"$f":"'Working Inputs'!E176","v":"Professional Services"},{"$f":"'Working Inputs'!F176","v":10},{"$f":"'Working Inputs'!G176","v":"years"}]
[null,null,null,null,{"$f":"'Working Inputs'!E177","v":"Owners cost"},{"$f":"'Working Inputs'!F177","v":10},{"$f":"'Working Inputs'!G177","v":"years"}]
[null,null,null,null,{"$f":"'Working Inputs'!E178","v":"Contingency"},{"$f":"'Working Inputs'!F178","v":10},{"$f":"'Working Inputs'!G178","v":"years"}]
[null,null,null,null,{"$f":"'Working Inputs'!E179","v":"Allseas credit"},{"$f":"'Working Inputs'!F179","v":10},{"$f":"'Working Inputs'!G179","v":"years"}]
[null,null,null,null,{"$f":"'Working Inputs'!E180","v":"Capitalized interest"},{"$f":"'Working Inputs'!F180","v":10},{"$f":"'Working Inputs'!G180","v":"years"}]
[null,null,null,null,{"$f":"'Working Inputs'!E181","v":0}]
[null,null,null,null,{"$f":"E117&\" Depreciation period flag\"","v":"Production Vessel Depreciation period flag"},null,"flag",null,{"$f":"SUM(K141:AV141)","v":10},null,{"$f":"IF(AND(K$10>=$F117,K$10<$F117+$F131),1,0)","v":0},0,0,1,1,1,1,1,1,1,1,1,1,0,0,0,0,0,0,0,0,0,0,0,0,0,0,0,0,0,0,0,0,0,0,0,0,{"$f":"IF(AND(AV$10>=$F117,AV$10<$F117+$F131),1,0)","v":0}]
[null,null,null,null,"Transfer Vessel/Bulk Carriers Depreciation period flag",null,"flag",null,10,null,{"$f":"IF(AND(K$10>=$F118,K$10<$F118+$F132),1,0)","v":0},0,0,1,1,1,1,1,1,1,1,1,1,0,0,0,0,0,0,0,0,0,0,0,0,0,0,0,0,0,0,0,0,0,0,0,0,{"$f":"IF(AND(AV$10>=$F118,AV$10<$F118+$F132),1,0)","v":0}]
[null,null,null,null,"Support Vessel Depreciation period flag",null,"flag",null,10,null,{"$f":"IF(AND(K$10>=$F119,K$10<$F119+$F133),1,0)","v":0},0,0,1,1,1,1,1,1,1,1,1,1,0,0,0,0,0,0,0,0,0,0,0,0,0,0,0,0,0,0,0,0,0,0,0,0,{"$f":"IF(AND(AV$10>=$F119,AV$10<$F119+$F133),1,0)","v":0}]
[null,null,null,null,"Operations facilities initial setup Depreciation period flag",null,"flag",null,{"$f":"SUM(K144:AV144)","v":10},null,{"$f":"IF(AND(K$10>=$F120,K$10<$F120+$F134),1,0)","v":0},0,0,1,1,1,1,1,1,1,1,1,1,0,0,0,0,0,0,0,0,0,0,0,0,0,0,0,0,0,0,0,0,0,0,0,0,{"$f":"IF(AND(AV$10>=$F120,AV$10<$F120+$F134),1,0)","v":0}]
[null,null,null,null,"Professional Services Depreciation period flag",null,"flag",null,{"$f":"SUM(K145:AV145)","v":10},null,{"$f":"IF(AND(K$10>=$F121,K$10<$F121+$F135),1,0)","v":0},0,0,1,1,1,1,1,1,1,1,1,1,0,0,0,0,0,0,0,0,0,0,0,0,0,0,0,0,0,0,0,0,0,0,0,0,{"$f":"IF(AND(AV$10>=$F121,AV$10<$F121+$F135),1,0)","v":0}]
[null,null,null,null,"Owners cost Depreciation period flag",null,"flag",null,10,null,{"$f":"IF(AND(K$10>=$F122,K$10<$F122+$F136),1,0)","v":0},0,0,1,1,1,1,1,1,1,1,1,1,0,0,0,0,0,0,0,0,0,0,0,0,0,0,0,0,0,0,0,0,0,0,0,0,{"$f":"IF(AND(AV$10>=$F122,AV$10<$F122+$F136),1,0)","v":0}]
[null,null,null,null,"Contingency Depreciation period flag",null,"flag",null,10,null,{"$f":"IF(AND(K$10>=$F123,K$10<$F123+$F137),1,0)","v":0},0,0,1,1,1,1,1,1,1,1,1,1,0,0,0,0,0,0,0,0,0,0,0,0,0,0,0,0,0,0,0,0,0,0,0,0,{"$f":"IF(AND(AV$10>=$F123,AV$10<$F123+$F137),1,0)","v":0}]
[null,null,null,null,"Allseas credit Depreciation period flag",null,"flag",null,{"$f":"SUM(K148:AV148)","v":10},null,{"$f":"IF(AND(K$10>=$F124,K$10<$F124+$F138),1,0)","v":0},0,0,1,1,1,1,1,1,1,1,1,1,0,0,0,0,0,0,0,0,0,0,0,0,0,0,0,0,0,0,0,0,0,0,0,0,{"$f":"IF(AND(AV$10>=$F124,AV$10<$F124+$F138),1,0)","v":0}]
[null,null,null,null,"Capitalized interest Depreciation period flag",null,"flag",null,10,null,{"$f":"IF(AND(K$10>=$F125,K$10<$F125+$F139),1,0)","v":0},0,0,1,1,1,1,1,1,1,1,1,1,0,0,0,0,0,0,0,0,0,0,0,0,0,0,0,0,0,0,0,0,0,0,0,0,{"$f":"IF(AND(AV$10>=$F125,AV$10<$F125+$F139),1,0)","v":0}]
[]
[null,null,null,"Shut down period flag"]
[null,null,null,null,{"$f":"'Working Inputs'!E27","v":"Project Closure - start"},{"$f":"'Working Inputs'!F27","v":22},{"$f":"'Working Inputs'!G27","v":"year # "}]
[null,null,null,null,{"$f":"'Working Inputs'!E28","v":"Project Closure - end"},{"$f":"'Working Inputs'!F28","v":31},{"$f":"'Working Inputs'!G28","v":"year # "}]
[null,null,null,null,"Shut down period flag",null,"flag",null,{"$f":"SUM(K154:AV154)","v":10},null,{"$f":"IF(K$10<$F152,0,IF(K$10>$F153,0,1))","v":0},0,0,0,0,0,0,0,0,0,0,0,0,0,0,0,0,0,0,0,0,1,1,1,1,1,1,1,1,1,1,0,0,0,0,0,0,{"$f":"IF(AV$10<$F152,0,IF(AV$10>$F153,0,1))","v":0}]
[]
["END MODEL"]

{"sheet":"Project Cashflows","index":6,"n_rows":433,"n_cols":16384,"rows_kept":433,"cut":false,"hidden":false,"merged":[]}
[{"$f":" RIGHT( CELL(\"filename\",$A$1), LEN( CELL(\"filename\",$A$1)) - SEARCH(\"]\", CELL(\"filename\",$A$1)))","v":"Project Cashflows"},null,null,null,null,{"$f":"Dashboard!C5","v":"NORI-D"},null,null,null,null,{"$f":"'T&E'!K10","v":1},{"$f":"'T&E'!L10","v":2},{"$f":"'T&E'!M10","v":3},{"$f":"'T&E'!N10","v":4},{"$f":"'T&E'!O10","v":5},{"$f":"'T&E'!P10","v":6},{"$f":"'T&E'!Q10","v":7},{"$f":"'T&E'!R10","v":8},{"$f":"'T&E'!S10","v":9},{"$f":"'T&E'!T10","v":10},{"$f":"'T&E'!U10","v":11},{"$f":"'T&E'!V10","v":12},{"$f":"'T&E'!W10","v":13},{"$f":"'T&E'!X10","v":14},{"$f":"'T&E'!Y10","v":15},{"$f":"'T&E'!Z10","v":16},{"$f":"'T&E'!AA10","v":17},{"$f":"'T&E'!AB10","v":18},{"$f":"'T&E'!AC10","v":19},{"$f":"'T&E'!AD10","v":20},{"$f":"'T&E'!AE10","v":21},{"$f":"'T&E'!AF10","v":22},{"$f":"'T&E'!AG10","v":23},{"$f":"'T&E'!AH10","v":24},{"$f":"'T&E'!AI10","v":25},{"$f":"'T&E'!AJ10","v":26},{"$f":"'T&E'!AK10","v":27},{"$f":"'T&E'!AL10","v":28},{"$f":"'T&E'!AM10","v":29},{"$f":"'T&E'!AN10","v":30},{"$f":"'T&E'!AO10","v":31},{"$f":"'T&E'!AP10","v":32},{"$f":"'T&E'!AQ10","v":33},{"$f":"'T&E'!AR10","v":34},{"$f":"'T&E'!AS10","v":35},{"$f":"'T&E'!AT10","v":36},{"$f":"'T&E'!AU10","v":37},{"$f":"'T&E'!AV10","v":38}]
[null,null,null,null,{"$f":"'T&E'!E12","v":"Project year"},null,{"$f":"'T&E'!G12","v":"year"},null,null,null,{"$f":"'T&E'!K12","v":2025},{"$f":"'T&E'!L12","v":2026},{"$f":"'T&E'!M12","v":2027},{"$f":"'T&E'!N12","v":2028},{"$f":"'T&E'!O12","v":2029},{"$f":"'T&E'!P12","v":2030},{"$f":"'T&E'!Q12","v":2031},{"$f":"'T&E'!R12","v":2032},{"$f":"'T&E'!S12","v":2033},{"$f":"'T&E'!T12","v":2034},{"$f":"'T&E'!U12","v":2035},{"$f":"'T&E'!V12","v":2036},{"$f":"'T&E'!W12","v":2037},{"$f":"'T&E'!X12","v":2038},{"$f":"'T&E'!Y12","v":2039},{"$f":"'T&E'!Z12","v":2040},{"$f":"'T&E'!AA12","v":2041},{"$f":"'T&E'!AB12","v":2042},{"$f":"'T&E'!AC12","v":2043},{"$f":"'T&E'!AD12","v":2044},{"$f":"'T&E'!AE12","v":2045},{"$f":"'T&E'!AF12","v":2046},{"$f":"'T&E'!AG12","v":2047},{"$f":"'T&E'!AH12","v":2048},{"$f":"'T&E'!AI12","v":2049},{"$f":"'T&E'!AJ12","v":2050},{"$f":"'T&E'!AK12","v":2051},{"$f":"'T&E'!AL12","v":2052},{"$f":"'T&E'!AM12","v":2053},{"$f":"'T&E'!AN12","v":2054},{"$f":"'T&E'!AO12","v":2055},{"$f":"'T&E'!AP12","v":2056},{"$f":"'T&E'!AQ12","v":2057},{"$f":"'T&E'!AR12","v":2058},{"$f":"'T&E'!AS12","v":2059},{"$f":"'T&E'!AT12","v":2060},{"$f":"'T&E'!AU12","v":2061},{"$f":"'T&E'!AV12","v":2062}]
[null,null,null,null,"Row description","Constant","Units","Comments","Total"]
[null,null,null,null,"Sheet Check:",{"$f":" IF( ABS( $F$404+$F$430) > CHK_TOL, 1, 0)","v":0},"Checks"]
["Project data with sensitivity factors applied"]
[]
[null,"Sensitivity factors"]
[null,null,null,null,{"$f":"Dashboard!B17","v":"Production sensitivity"},{"$f":"Dashboard!C17","v":1},{"$f":"Dashboard!D17","v":"factor"}]
[null,null,null,null,{"$f":"Dashboard!B16","v":"Price sensitivity"},{"$f":"Dashboard!C16","v":1},{"$f":"Dashboard!D16","v":"factor"}]
[null,null,null,null,{"$f":"Dashboard!B18","v":"Opex sensitivity"},{"$f":"Dashboard!C18","v":1},{"$f":"Dashboard!D18","v":"factor"}]
[null,null,null,null,{"$f":"Dashboard!B19","v":"Capex sensitivity "},{"$f":"Dashboard!C19","v":1},{"$f":"Dashboard!D19","v":"factor"}]
[]
[null,"Project data with sensitivies applied"]
[]
[null,null,"Production"]
[null,null,null,null,{"$f":"'T&E'!E24","v":"Ramp up area 1 period flag"},{"$f":"'T&E'!F24","v":0},{"$f":"'T&E'!G24","v":"flag"},null,{"$f":"'T&E'!I24","v":4},null,{"$f":"'T&E'!K24","v":0},{"$f":"'T&E'!L24","v":0},{"$f":"'T&E'!M24","v":1},{"$f":"'T&E'!N24","v":1},{"$f":"'T&E'!O24","v":1},{"$f":"'T&E'!P24","v":1},{"$f":"'T&E'!Q24","v":0},{"$f":"'T&E'!R24","v":0},{"$f":"'T&E'!S24","v":0},{"$f":"'T&E'!T24","v":0},{"$f":"'T&E'!U24","v":0},{"$f":"'T&E'!V24","v":0},{"$f":"'T&E'!W24","v":0},{"$f":"'T&E'!X24","v":0},{"$f":"'T&E'!Y24","v":0},{"$f":"'T&E'!Z24","v":0},{"$f":"'T&E'!AA24","v":0},{"$f":"'T&E'!AB24","v":0},{"$f":"'T&E'!AC24","v":0},{"$f":"'T&E'!AD24","v":0},{"$f":"'T&E'!AE24","v":0},{"$f":"'T&E'!AF24","v":0},{"$f":"'T&E'!AG24","v":0},{"$f":"'T&E'!AH24","v":0},{"$f":"'T&E'!AI24","v":0},{"$f":"'T&E'!AJ24","v":0},{"$f":"'T&E'!AK24","v":0},{"$f":"'T&E'!AL24","v":0},{"$f":"'T&E'!AM24","v":0},{"$f":"'T&E'!AN24","v":0},{"$f":"'T&E'!AO24","v":0},{"$f":"'T&E'!AP24","v":0},{"$f":"'T&E'!AQ24","v":0},{"$f":"'T&E'!AR24","v":0},{"$f":"'T&E'!AS24","v":0},{"$f":"'T&E'!AT24","v":0},{"$f":"'T&E'!AU24","v":0},{"$f":"'T&E'!AV24","v":0}]
[null,null,null,null,{"$f":"'T&E'!E29","v":"Full Operation area 1 period flag"},{"$f":"'T&E'!F29","v":0},{"$f":"'T&E'!G29","v":"flag"},null,{"$f":"'T&E'!I29","v":14},null,{"$f":"'T&E'!K29","v":0},{"$f":"'T&E'!L29","v":0},{"$f":"'T&E'!M29","v":0},{"$f":"'T&E'!N29","v":0},{"$f":"'T&E'!O29","v":0},{"$f":"'T&E'!P29","v":0},{"$f":"'T&E'!Q29","v":1},{"$f":"'T&E'!R29","v":1},{"$f":"'T&E'!S29","v":1},{"$f":"'T&E'!T29","v":1},{"$f":"'T&E'!U29","v":1},{"$f":"'T&E'!V29","v":1},{"$f":"'T&E'!W29","v":1},{"$f":"'T&E'!X29","v":1},{"$f":"'T&E'!Y29","v":1},{"$f":"'T&E'!Z29","v":1},{"$f":"'T&E'!AA29","v":1},{"$f":"'T&E'!AB29","v":1},{"$f":"'T&E'!AC29","v":1},{"$f":"'T&E'!AD29","v":1},{"$f":"'T&E'!AE29","v":0},{"$f":"'T&E'!AF29","v":0},{"$f":"'T&E'!AG29","v":0},{"$f":"'T&E'!AH29","v":0},{"$f":"'T&E'!AI29","v":0},{"$f":"'T&E'!AJ29","v":0},{"$f":"'T&E'!AK29","v":0},{"$f":"'T&E'!AL29","v":0},{"$f":"'T&E'!AM29","v":0},{"$f":"'T&E'!AN29","v":0},{"$f":"'T&E'!AO29","v":0},{"$f":"'T&E'!AP29","v":0},{"$f":"'T&E'!AQ29","v":0},{"$f":"'T&E'!AR29","v":0},{"$f":"'T&E'!AS29","v":0},{"$f":"'T&E'!AT29","v":0},{"$f":"'T&E'!AU29","v":0},{"$f":"'T&E'!AV29","v":0}]
[null,null,null,null,{"$f":"'T&E'!E34","v":"Operation closing area 1 period flag"},{"$f":"'T&E'!F34","v":0},{"$f":"'T&E'!G34","v":"flag"},{"$f":"'T&E'!H34","v":0},{"$f":"'T&E'!I34","v":1},{"$f":"'T&E'!J34","v":0},{"$f":"'T&E'!K34","v":0},{"$f":"'T&E'!L34","v":0},{"$f":"'T&E'!M34","v":0},{"$f":"'T&E'!N34","v":0},{"$f":"'T&E'!O34","v":0},{"$f":"'T&E'!P34","v":0},{"$f":"'T&E'!Q34","v":0},{"$f":"'T&E'!R34","v":0},{"$f":"'T&E'!S34","v":0},{"$f":"'T&E'!T34","v":0},{"$f":"'T&E'!U34","v":0},{"$f":"'T&E'!V34","v":0},{"$f":"'T&E'!W34","v":0},{"$f":"'T&E'!X34","v":0},{"$f":"'T&E'!Y34","v":0},{"$f":"'T&E'!Z34","v":0},{"$f":"'T&E'!AA34","v":0},{"$f":"'T&E'!AB34","v":0},{"$f":"'T&E'!AC34","v":0},{"$f":"'T&E'!AD34","v":0},{"$f":"'T&E'!AE34","v":1},{"$f":"'T&E'!AF34","v":0},{"$f":"'T&E'!AG34","v":0},{"$f":"'T&E'!AH34","v":0},{"$f":"'T&E'!AI34","v":0},{"$f":"'T&E'!AJ34","v":0},{"$f":"'T&E'!AK34","v":0},{"$f":"'T&E'!AL34","v":0},{"$f":"'T&E'!AM34","v":0},{"$f":"'T&E'!AN34","v":0},{"$f":"'T&E'!AO34","v":0},{"$f":"'T&E'!AP34","v":0},{"$f":"'T&E'!AQ34","v":0},{"$f":"'T&E'!AR34","v":0},{"$f":"'T&E'!AS34","v":0},{"$f":"'T&E'!AT34","v":0},{"$f":"'T&E'!AU34","v":0},{"$f":"'T&E'!AV34","v":0}]
[null,null,null,null,{"$f":"'Working Inputs'!E36","v":"Annual Full operation capacity area 1( Wet Ore)"},{"$f":"'Working Inputs'!F36","v":10.75},{"$f":"'Working Inputs'!G36","v":"Mwmtpa"}]
[]
[null,null,null,null,{"$f":"'Working Inputs'!E32","v":"Ramp up production area 1 (year 1)"},{"$f":"'Working Inputs'!F32","v":0.2},{"$f":"'Working Inputs'!G32","v":"Mwmtpa"}]
[null,null,null,null,{"$f":"'Working Inputs'!E33","v":"Ramp up production area 1 (year 2)"},{"$f":"'Working Inputs'!F33","v":1},{"$f":"'Working Inputs'!G33","v":"Mwmtpa"}]
[null,null,null,null,{"$f":"'Working Inputs'!E34","v":"Ramp up production area 1 (year 3)"},{"$f":"'Working Inputs'!F34","v":2},{"$f":"'Working Inputs'!G34","v":"Mwmtpa"}]
[null,null,null,null,{"$f":"'Working Inputs'!E35","v":"Ramp up production  area 1 (year 4)"},{"$f":"'Working Inputs'!F35","v":5},{"$f":"'Working Inputs'!G35","v":"Mwmtpa"}]
[null,null,null,null,{"$f":"'Working Inputs'!E37","v":"Operation closing production area 1"},{"$f":"'Working Inputs'!F37","v":5.4},{"$f":"'Working Inputs'!G37","v":"Mwmtpa"}]
[]
[null,null,null,null,{"$f":"'T&E'!E39","v":"Ramp up area 2 period flag"},{"$f":"'T&E'!F39","v":0},{"$f":"'T&E'!G39","v":"flag"},null,{"$f":"'T&E'!I39","v":0},{"$f":"'T&E'!J39","v":0},{"$f":"'T&E'!K39","v":0},{"$f":"'T&E'!L39","v":0},{"$f":"'T&E'!M39","v":0},{"$f":"'T&E'!N39","v":0},{"$f":"'T&E'!O39","v":0},{"$f":"'T&E'!P39","v":0},{"$f":"'T&E'!Q39","v":0},{"$f":"'T&E'!R39","v":0},{"$f":"'T&E'!S39","v":0},{"$f":"'T&E'!T39","v":0},{"$f":"'T&E'!U39","v":0},{"$f":"'T&E'!V39","v":0},{"$f":"'T&E'!W39","v":0},{"$f":"'T&E'!X39","v":0},{"$f":"'T&E'!Y39","v":0},{"$f":"'T&E'!Z39","v":0},{"$f":"'T&E'!AA39","v":0},{"$f":"'T&E'!AB39","v":0},{"$f":"'T&E'!AC39","v":0},{"$f":"'T&E'!AD39","v":0},{"$f":"'T&E'!AE39","v":0},{"$f":"'T&E'!AF39","v":0},{"$f":"'T&E'!AG39","v":0},{"$f":"'T&E'!AH39","v":0},{"$f":"'T&E'!AI39","v":0},{"$f":"'T&E'!AJ39","v":0},{"$f":"'T&E'!AK39","v":0},{"$f":"'T&E'!AL39","v":0},{"$f":"'T&E'!AM39","v":0},{"$f":"'T&E'!AN39","v":0},{"$f":"'T&E'!AO39","v":0},{"$f":"'T&E'!AP39","v":0},{"$f":"'T&E'!AQ39","v":0},{"$f":"'T&E'!AR39","v":0},{"$f":"'T&E'!AS39","v":0},{"$f":"'T&E'!AT39","v":0},{"$f":"'T&E'!AU39","v":0},{"$f":"'T&E'!AV39","v":0}]
[null,null,null,null,{"$f":"'T&E'!E44","v":"Full Operation area 2 period flag"},{"$f":"'T&E'!F44","v":0},{"$f":"'T&E'!G44","v":"flag"},null,{"$f":"'T&E'!I44","v":0},{"$f":"'T&E'!J44","v":0},{"$f":"'T&E'!K44","v":0},{"$f":"'T&E'!L44","v":0},{"$f":"'T&E'!M44","v":0},{"$f":"'T&E'!N44","v":0},{"$f":"'T&E'!O44","v":0},{"$f":"'T&E'!P44","v":0},{"$f":"'T&E'!Q44","v":0},{"$f":"'T&E'!R44","v":0},{"$f":"'T&E'!S44","v":0},{"$f":"'T&E'!T44","v":0},{"$f":"'T&E'!U44","v":0},{"$f":"'T&E'!V44","v":0},{"$f":"'T&E'!W44","v":0},{"$f":"'T&E'!X44","v":0},{"$f":"'T&E'!Y44","v":0},{"$f":"'T&E'!Z44","v":0},{"$f":"'T&E'!AA44","v":0},{"$f":"'T&E'!AB44","v":0},{"$f":"'T&E'!AC44","v":0},{"$f":"'T&E'!AD44","v":0},{"$f":"'T&E'!AE44","v":0},{"$f":"'T&E'!AF44","v":0},{"$f":"'T&E'!AG44","v":0},{"$f":"'T&E'!AH44","v":0},{"$f":"'T&E'!AI44","v":0},{"$f":"'T&E'!AJ44","v":0},{"$f":"'T&E'!AK44","v":0},{"$f":"'T&E'!AL44","v":0},{"$f":"'T&E'!AM44","v":0},{"$f":"'T&E'!AN44","v":0},{"$f":"'T&E'!AO44","v":0},{"$f":"'T&E'!AP44","v":0},{"$f":"'T&E'!AQ44","v":0},{"$f":"'T&E'!AR44","v":0},{"$f":"'T&E'!AS44","v":0},{"$f":"'T&E'!AT44","v":0},{"$f":"'T&E'!AU44","v":0},{"$f":"'T&E'!AV44","v":0}]
[null,null,null,null,{"$f":"'T&E'!E49","v":"Operation closing area 2 period flag"},{"$f":"'T&E'!F49","v":0},{"$f":"'T&E'!G49","v":"flag"},{"$f":"'T&E'!H45","v":0},{"$f":"'T&E'!I49","v":0},{"$f":"'T&E'!J49","v":0},{"$f":"'T&E'!K49","v":0},{"$f":"'T&E'!L49","v":0},{"$f":"'T&E'!M49","v":0},{"$f":"'T&E'!N49","v":0},{"$f":"'T&E'!O49","v":0},{"$f":"'T&E'!P49","v":0},{"$f":"'T&E'!Q49","v":0},{"$f":"'T&E'!R49","v":0},{"$f":"'T&E'!S49","v":0},{"$f":"'T&E'!T49","v":0},{"$f":"'T&E'!U49","v":0},{"$f":"'T&E'!V49","v":0},{"$f":"'T&E'!W49","v":0},{"$f":"'T&E'!X49","v":0},{"$f":"'T&E'!Y49","v":0},{"$f":"'T&E'!Z49","v":0},{"$f":"'T&E'!AA49","v":0},{"$f":"'T&E'!AB49","v":0},{"$f":"'T&E'!AC49","v":0},{"$f":"'T&E'!AD49","v":0},{"$f":"'T&E'!AE49","v":0},{"$f":"'T&E'!AF49","v":0},{"$f":"'T&E'!AG49","v":0},{"$f":"'T&E'!AH49","v":0},{"$f":"'T&E'!AI49","v":0},{"$f":"'T&E'!AJ49","v":0},{"$f":"'T&E'!AK49","v":0},{"$f":"'T&E'!AL49","v":0},{"$f":"'T&E'!AM49","v":0},{"$f":"'T&E'!AN49","v":0},{"$f":"'T&E'!AO49","v":0},{"$f":"'T&E'!AP49","v":0},{"$f":"'T&E'!AQ49","v":0},{"$f":"'T&E'!AR49","v":0},{"$f":"'T&E'!AS49","v":0},{"$f":"'T&E'!AT49","v":0},{"$f":"'T&E'!AU49","v":0},{"$f":"'T&E'!AV49","v":0}]
[null,null,null,null,{"$f":"'Working Inputs'!E41","v":"Annual Full operation capacity area 2( Wet Ore)"},{"$f":"'Working Inputs'!F41","v":0},{"$f":"'Working Inputs'!G41","v":"Mwmtpa"}]
[]
[null,null,null,null,{"$f":"'Working Inputs'!E38","v":"Ramp up production area 2 (year 1)"},{"$f":"'Working Inputs'!F38","v":0},{"$f":"'Working Inputs'!G38","v":"Mwmtpa"}]
[null,null,null,null,{"$f":"'Working Inputs'!E39","v":"Ramp up production area 2 (year 2)"},{"$f":"'Working Inputs'!F39","v":0},{"$f":"'Working Inputs'!G39","v":"Mwmtpa"}]
[null,null,null,null,{"$f":"'Working Inputs'!E40","v":"Ramp up production area 2 (year 3)"},{"$f":"'Working Inputs'!F40","v":0},{"$f":"'Working Inputs'!G40","v":"Mwmtpa"}]
[null,null,null,null,{"$f":"'Working Inputs'!E42","v":"Operation closing production area 2"},{"$f":"'Working Inputs'!F42","v":0},{"$f":"'Working Inputs'!G42","v":"Mwmtpa"}]
[]
[]
[null,null,null,null,"Polymetallic nodule Production area 1(wet ore) ",null,"Mt(wet)",null,{"$f":" SUM(K38:AV38)","v":164.1},null,{"$f":"K17*$F$19+IF(K16=1,INDEX($F$21:$F$24,SUM($K$16:K16),0))+IF(K18=1,INDEX($F$25,SUM($K$18:K18),0))","v":0},{"$f":"L17*$F$19+IF(L16=1,INDEX($F$21:$F$24,SUM($K$16:L16),0))+IF(L18=1,INDEX($F$25,SUM($K$18:L18),0))","v":0},{"$f":"M17*$F$19+IF(M16=1,INDEX($F$21:$F$24,SUM($K$16:M16),0))+IF(M18=1,INDEX($F$25,SUM($K$18:M18),0))","v":0.2},{"$f":"N17*$F$19+IF(N16=1,INDEX($F$21:$F$24,SUM($K$16:N16),0))+IF(N18=1,INDEX($F$25,SUM($K$18:N18),0))","v":1},{"$f":"O17*$F$19+IF(O16=1,INDEX($F$21:$F$24,SUM($K$16:O16),0))+IF(O18=1,INDEX($F$25,SUM($K$18:O18),0))","v":2},{"$f":"P17*$F$19+IF(P16=1,INDEX($F$21:$F$24,SUM($K$16:P16),0))+IF(P18=1,INDEX($F$25,SUM($K$18:P18),0))","v":5},{"$f":"Q17*$F$19+IF(Q16=1,INDEX($F$21:$F$24,SUM($K$16:Q16),0))+IF(Q18=1,INDEX($F$25,SUM($K$18:Q18),0))","v":10.75},{"$f":"R17*$F$19+IF(R16=1,INDEX($F$21:$F$24,SUM($K$16:R16),0))+IF(R18=1,INDEX($F$25,SUM($K$18:R18),0))","v":10.75},{"$f":"S17*$F$19+IF(S16=1,INDEX($F$21:$F$24,SUM($K$16:S16),0))+IF(S18=1,INDEX($F$25,SUM($K$18:S18),0))","v":10.75},{"$f":"T17*$F$19+IF(T16=1,INDEX($F$21:$F$24,SUM($K$16:T16),0))+IF(T18=1,INDEX($F$25,SUM($K$18:T18),0))","v":10.75},{"$f":"U17*$F$19+IF(U16=1,INDEX($F$21:$F$24,SUM($K$16:U16),0))+IF(U18=1,INDEX($F$25,SUM($K$18:U18),0))","v":10.75},{"$f":"V17*$F$19+IF(V16=1,INDEX($F$21:$F$24,SUM($K$16:V16),0))+IF(V18=1,INDEX($F$25,SUM($K$18:V18),0))","v":10.75},{"$f":"W17*$F$19+IF(W16=1,INDEX($F$21:$F$24,SUM($K$16:W16),0))+IF(W18=1,INDEX($F$25,SUM($K$18:W18),0))","v":10.75},{"$f":"X17*$F$19+IF(X16=1,INDEX($F$21:$F$24,SUM($K$16:X16),0))+IF(X18=1,INDEX($F$25,SUM($K$18:X18),0))","v":10.75},{"$f":"Y17*$F$19+IF(Y16=1,INDEX($F$21:$F$24,SUM($K$16:Y16),0))+IF(Y18=1,INDEX($F$25,SUM($K$18:Y18),0))","v":10.75},{"$f":"Z17*$F$19+IF(Z16=1,INDEX($F$21:$F$24,SUM($K$16:Z16),0))+IF(Z18=1,INDEX($F$25,SUM($K$18:Z18),0))","v":10.75},{"$f":"AA17*$F$19+IF(AA16=1,INDEX($F$21:$F$24,SUM($K$16:AA16),0))+IF(AA18=1,INDEX($F$25,SUM($K$18:AA18),0))","v":10.75},{"$f":"AB17*$F$19+IF(AB16=1,INDEX($F$21:$F$24,SUM($K$16:AB16),0))+IF(AB18=1,INDEX($F$25,SUM($K$18:AB18),0))","v":10.75},{"$f":"AC17*$F$19+IF(AC16=1,INDEX($F$21:$F$24,SUM($K$16:AC16),0))+IF(AC18=1,INDEX($F$25,SUM($K$18:AC18),0))","v":10.75},{"$f":"AD17*$F$19+IF(AD16=1,INDEX($F$21:$F$24,SUM($K$16:AD16),0))+IF(AD18=1,INDEX($F$25,SUM($K$18:AD18),0))","v":10.75},{"$f":"AE17*$F$19+IF(AE16=1,INDEX($F$21:$F$24,SUM($K$16:AE16),0))+IF(AE18=1,INDEX($F$25,SUM($K$18:AE18),0))","v":5.4},{"$f":"AF17*$F$19+IF(AF16=1,INDEX($F$21:$F$24,SUM($K$16:AF16),0))+IF(AF18=1,INDEX($F$25,SUM($K$18:AF18),0))","v":0},{"$f":"AG17*$F$19+IF(AG16=1,INDEX($F$21:$F$24,SUM($K$16:AG16),0))+IF(AG18=1,INDEX($F$25,SUM($K$18:AG18),0))","v":0},{"$f":"AH17*$F$19+IF(AH16=1,INDEX($F$21:$F$24,SUM($K$16:AH16),0))+IF(AH18=1,INDEX($F$25,SUM($K$18:AH18),0))","v":0},{"$f":"AI17*$F$19+IF(AI16=1,INDEX($F$21:$F$24,SUM($K$16:AI16),0))+IF(AI18=1,INDEX($F$25,SUM($K$18:AI18),0))","v":0},{"$f":"AJ17*$F$19+IF(AJ16=1,INDEX($F$21:$F$24,SUM($K$16:AJ16),0))+IF(AJ18=1,INDEX($F$25,SUM($K$18:AJ18),0))","v":0},{"$f":"AK17*$F$19+IF(AK16=1,INDEX($F$21:$F$24,SUM($K$16:AK16),0))+IF(AK18=1,INDEX($F$25,SUM($K$18:AK18),0))","v":0},{"$f":"AL17*$F$19+IF(AL16=1,INDEX($F$21:$F$24,SUM($K$16:AL16),0))+IF(AL18=1,INDEX($F$25,SUM($K$18:AL18),0))","v":0},{"$f":"AM17*$F$19+IF(AM16=1,INDEX($F$21:$F$24,SUM($K$16:AM16),0))+IF(AM18=1,INDEX($F$25,SUM($K$18:AM18),0))","v":0},{"$f":"AN17*$F$19+IF(AN16=1,INDEX($F$21:$F$24,SUM($K$16:AN16),0))+IF(AN18=1,INDEX($F$25,SUM($K$18:AN18),0))","v":0},{"$f":"AO17*$F$19+IF(AO16=1,INDEX($F$21:$F$24,SUM($K$16:AO16),0))+IF(AO18=1,INDEX($F$25,SUM($K$18:AO18),0))","v":0},{"$f":"AP17*$F$19+IF(AP16=1,INDEX($F$21:$F$24,SUM($K$16:AP16),0))+IF(AP18=1,INDEX($F$25,SUM($K$18:AP18),0))","v":0},{"$f":"AQ17*$F$19+IF(AQ16=1,INDEX($F$21:$F$24,SUM($K$16:AQ16),0))+IF(AQ18=1,INDEX($F$25,SUM($K$18:AQ18),0))","v":0},{"$f":"AR17*$F$19+IF(AR16=1,INDEX($F$21:$F$24,SUM($K$16:AR16),0))+IF(AR18=1,INDEX($F$25,SUM($K$18:AR18),0))","v":0},{"$f":"AS17*$F$19+IF(AS16=1,INDEX($F$21:$F$24,SUM($K$16:AS16),0))+IF(AS18=1,INDEX($F$25,SUM($K$18:AS18),0))","v":0},{"$f":"AT17*$F$19+IF(AT16=1,INDEX($F$21:$F$24,SUM($K$16:AT16),0))+IF(AT18=1,INDEX($F$25,SUM($K$18:AT18),0))","v":0},{"$f":"AU17*$F$19+IF(AU16=1,INDEX($F$21:$F$24,SUM($K$16:AU16),0))+IF(AU18=1,INDEX($F$25,SUM($K$18:AU18),0))","v":0},{"$f":"AV17*$F$19+IF(AV16=1,INDEX($F$21:$F$24,SUM($K$16:AV16),0))+IF(AV18=1,INDEX($F$25,SUM($K$18:AV18),0))","v":0}]
[null,null,null,null,"Polymetallic nodule Production area 2(wet ore) ",null,"Mt(wet)",null,{"$f":" SUM(K39:AV39)","v":0},null,{"$f":"K28*$F$30+IF(K27=1,INDEX($F$32:$F$34,SUM($K$27:K27),0))+IF(K29=1,INDEX($F$35,SUM($K$29:K29),0))","v":0},{"$f":"L28*$F$30+IF(L27=1,INDEX($F$32:$F$34,SUM($K$27:L27),0))+IF(L29=1,INDEX($F$35,SUM($K$29:L29),0))","v":0},{"$f":"M28*$F$30+IF(M27=1,INDEX($F$32:$F$34,SUM($K$27:M27),0))+IF(M29=1,INDEX($F$35,SUM($K$29:M29),0))","v":0},{"$f":"N28*$F$30+IF(N27=1,INDEX($F$32:$F$34,SUM($K$27:N27),0))+IF(N29=1,INDEX($F$35,SUM($K$29:N29),0))","v":0},{"$f":"O28*$F$30+IF(O27=1,INDEX($F$32:$F$34,SUM($K$27:O27),0))+IF(O29=1,INDEX($F$35,SUM($K$29:O29),0))","v":0},{"$f":"P28*$F$30+IF(P27=1,INDEX($F$32:$F$34,SUM($K$27:P27),0))+IF(P29=1,INDEX($F$35,SUM($K$29:P29),0))","v":0},{"$f":"Q28*$F$30+IF(Q27=1,INDEX($F$32:$F$34,SUM($K$27:Q27),0))+IF(Q29=1,INDEX($F$35,SUM($K$29:Q29),0))","v":0},{"$f":"R28*$F$30+IF(R27=1,INDEX($F$32:$F$34,SUM($K$27:R27),0))+IF(R29=1,INDEX($F$35,SUM($K$29:R29),0))","v":0},{"$f":"S28*$F$30+IF(S27=1,INDEX($F$32:$F$34,SUM($K$27:S27),0))+IF(S29=1,INDEX($F$35,SUM($K$29:S29),0))","v":0},{"$f":"T28*$F$30+IF(T27=1,INDEX($F$32:$F$34,SUM($K$27:T27),0))+IF(T29=1,INDEX($F$35,SUM($K$29:T29),0))","v":0},{"$f":"U28*$F$30+IF(U27=1,INDEX($F$32:$F$34,SUM($K$27:U27),0))+IF(U29=1,INDEX($F$35,SUM($K$29:U29),0))","v":0},{"$f":"V28*$F$30+IF(V27=1,INDEX($F$32:$F$34,SUM($K$27:V27),0))+IF(V29=1,INDEX($F$35,SUM($K$29:V29),0))","v":0},{"$f":"W28*$F$30+IF(W27=1,INDEX($F$32:$F$34,SUM($K$27:W27),0))+IF(W29=1,INDEX($F$35,SUM($K$29:W29),0))","v":0},{"$f":"X28*$F$30+IF(X27=1,INDEX($F$32:$F$34,SUM($K$27:X27),0))+IF(X29=1,INDEX($F$35,SUM($K$29:X29),0))","v":0},{"$f":"Y28*$F$30+IF(Y27=1,INDEX($F$32:$F$34,SUM($K$27:Y27),0))+IF(Y29=1,INDEX($F$35,SUM($K$29:Y29),0))","v":0},{"$f":"Z28*$F$30+IF(Z27=1,INDEX($F$32:$F$34,SUM($K$27:Z27),0))+IF(Z29=1,INDEX($F$35,SUM($K$29:Z29),0))","v":0},{"$f":"AA28*$F$30+IF(AA27=1,INDEX($F$32:$F$34,SUM($K$27:AA27),0))+IF(AA29=1,INDEX($F$35,SUM($K$29:AA29),0))","v":0},{"$f":"AB28*$F$30+IF(AB27=1,INDEX($F$32:$F$34,SUM($K$27:AB27),0))+IF(AB29=1,INDEX($F$35,SUM($K$29:AB29),0))","v":0},{"$f":"AC28*$F$30+IF(AC27=1,INDEX($F$32:$F$34,SUM($K$27:AC27),0))+IF(AC29=1,INDEX($F$35,SUM($K$29:AC29),0))","v":0},{"$f":"AD28*$F$30+IF(AD27=1,INDEX($F$32:$F$34,SUM($K$27:AD27),0))+IF(AD29=1,INDEX($F$35,SUM($K$29:AD29),0))","v":0},{"$f":"AE28*$F$30+IF(AE27=1,INDEX($F$32:$F$34,SUM($K$27:AE27),0))+IF(AE29=1,INDEX($F$35,SUM($K$29:AE29),0))","v":0},{"$f":"AF28*$F$30+IF(AF27=1,INDEX($F$32:$F$34,SUM($K$27:AF27),0))+IF(AF29=1,INDEX($F$35,SUM($K$29:AF29),0))","v":0},{"$f":"AG28*$F$30+IF(AG27=1,INDEX($F$32:$F$34,SUM($K$27:AG27),0))+IF(AG29=1,INDEX($F$35,SUM($K$29:AG29),0))","v":0},{"$f":"AH28*$F$30+IF(AH27=1,INDEX($F$32:$F$34,SUM($K$27:AH27),0))+IF(AH29=1,INDEX($F$35,SUM($K$29:AH29),0))","v":0},{"$f":"AI28*$F$30+IF(AI27=1,INDEX($F$32:$F$34,SUM($K$27:AI27),0))+IF(AI29=1,INDEX($F$35,SUM($K$29:AI29),0))","v":0},{"$f":"AJ28*$F$30+IF(AJ27=1,INDEX($F$32:$F$34,SUM($K$27:AJ27),0))+IF(AJ29=1,INDEX($F$35,SUM($K$29:AJ29),0))","v":0},{"$f":"AK28*$F$30+IF(AK27=1,INDEX($F$32:$F$34,SUM($K$27:AK27),0))+IF(AK29=1,INDEX($F$35,SUM($K$29:AK29),0))","v":0},{"$f":"AL28*$F$30+IF(AL27=1,INDEX($F$32:$F$34,SUM($K$27:AL27),0))+IF(AL29=1,INDEX($F$35,SUM($K$29:AL29),0))","v":0},{"$f":"AM28*$F$30+IF(AM27=1,INDEX($F$32:$F$34,SUM($K$27:AM27),0))+IF(AM29=1,INDEX($F$35,SUM($K$29:AM29),0))","v":0},{"$f":"AN28*$F$30+IF(AN27=1,INDEX($F$32:$F$34,SUM($K$27:AN27),0))+IF(AN29=1,INDEX($F$35,SUM($K$29:AN29),0))","v":0},{"$f":"AO28*$F$30+IF(AO27=1,INDEX($F$32:$F$34,SUM($K$27:AO27),0))+IF(AO29=1,INDEX($F$35,SUM($K$29:AO29),0))","v":0},{"$f":"AP28*$F$30+IF(AP27=1,INDEX($F$32:$F$34,SUM($K$27:AP27),0))+IF(AP29=1,INDEX($F$35,SUM($K$29:AP29),0))","v":0},{"$f":"AQ28*$F$30+IF(AQ27=1,INDEX($F$32:$F$34,SUM($K$27:AQ27),0))+IF(AQ29=1,INDEX($F$35,SUM($K$29:AQ29),0))","v":0},{"$f":"AR28*$F$30+IF(AR27=1,INDEX($F$32:$F$34,SUM($K$27:AR27),0))+IF(AR29=1,INDEX($F$35,SUM($K$29:AR29),0))","v":0},{"$f":"AS28*$F$30+IF(AS27=1,INDEX($F$32:$F$34,SUM($K$27:AS27),0))+IF(AS29=1,INDEX($F$35,SUM($K$29:AS29),0))","v":0},{"$f":"AT28*$F$30+IF(AT27=1,INDEX($F$32:$F$34,SUM($K$27:AT27),0))+IF(AT29=1,INDEX($F$35,SUM($K$29:AT29),0))","v":0},{"$f":"AU28*$F$30+IF(AU27=1,INDEX($F$32:$F$34,SUM($K$27:AU27),0))+IF(AU29=1,INDEX($F$35,SUM($K$29:AU29),0))","v":0},{"$f":"AV28*$F$30+IF(AV27=1,INDEX($F$32:$F$34,SUM($K$27:AV27),0))+IF(AV29=1,INDEX($F$35,SUM($K$29:AV29),0))","v":0}]
[]
[null,null,null,null,"Total Polymetallic nodule Production",{"$f":"+F38","v":0},"Mt (wet)",{"$f":"+H38","v":0},{"$f":" SUM(K41:AV41)","v":164.1},0,{"$f":"K38+K39","v":0},{"$f":"L38+L39","v":0},0.2,1,2,5,10.75,10.75,10.75,10.75,10.75,10.75,10.75,10.75,10.75,10.75,10.75,10.75,10.75,10.75,5.4,0,0,0,0,0,0,0,0,0,0,0,0,0,0,0,0,{"$f":"AV38+AV39","v":0}]
[]
[null,null,null,null,"Polymetallic nodule Production area 1 with sensitivity applied",null,"Mt (wet)",null,{"$f":" SUM(K43:AV43)","v":164.1},null,{"$f":"K38*$F8","v":0},{"$f":"L38*$F8","v":0},0.2,1,2,5,10.75,10.75,10.75,10.75,10.75,10.75,10.75,10.75,10.75,10.75,10.75,10.75,10.75,10.75,5.4,0,0,0,0,0,0,0,0,0,0,0,0,0,0,0,0,0]
[null,null,null,null,"Polymetallic nodule Production area 2 with sensitivity applied",null,"Mt (wet)",null,{"$f":" SUM(K44:AV44)","v":0},null,{"$f":"K39*$F8","v":0},{"$f":"L39*$F8","v":0},0,0,0,0,0,0,0,0,0,0,0,0,0,0,0,0,0,0,0,0,0,0,0,0,0,0,0,0,0,0,0,0,0,0,0,0]
[]
[null,null,null,null,"Production with sensitivity applied",null,"Mt (wet)",null,{"$f":" SUM(K46:AV46)","v":164.1},null,{"$f":"K41*$F8","v":0},0,0.2,1,2,5,10.75,10.75,10.75,10.75,10.75,10.75,10.75,10.75,10.75,10.75,10.75,10.75,10.75,10.75,5.4,0,0,0,0,0,0,0,0,0,0,0,0,0,0,0,0,{"$f":"AV41*$F8","v":0}]
[]
[null,"Price "]
[null,null,null,null,{"$f":"'Working Inputs'!E82","v":"Price - Nickel Class 1 LME 2028-2032"},{"$f":"'Working Inputs'!F82","v":18833},{"$f":"'Working Inputs'!G82","v":"US$ /t"},null,null,null,{"$f":"K69","v":18833},18833,18833,18833,18833,18833,18833,18833,20706,20706,20706,20706,20706,20360,20360,20360,20360,20360,20360,20360,20360,20360,20360,20360,20360,20360,20360,20360,20360,20360,20360,20360,20360,20360,20360,20360,20360,{"$f":"AV69","v":20360}]
[null,null,null,null,{"$f":"'Working Inputs'!E83","v":"Price - Nickel Class 1 LME 2033-2037"},{"$f":"'Working Inputs'!F83","v":20706},{"$f":"'Working Inputs'!G83","v":"US$ /t"},null,null,null,{"$f":"K70","v":34172},34172,34172,34172,34172,34172,34172,34172,53124,53124,53124,53124,53124,62530,62530,62530,62530,62530,62530,62530,62530,62530,62530,62530,62530,62530,62530,62530,62530,62530,62530,62530,62530,62530,62530,62530,62530,{"$f":"AV70","v":62530}]
[null,null,null,null,{"$f":"'Working Inputs'!E84","v":"Price - Nickel Class 1 LME 2038-2043+"},{"$f":"'Working Inputs'!F84","v":20360},{"$f":"'Working Inputs'!G84","v":"US$ /t"},null,null,null,{"$f":"K71","v":11317},11317,11317,11317,11317,11317,11317,11317,11456,11456,11456,11456,11456,11456,11456,11456,11456,11456,11456,11456,11456,11456,11456,11456,11456,11456,11456,11456,11456,11456,11456,11456,11456,11456,11456,11456,11456,{"$f":"AV71","v":11456}]
[null,null,null,null,{"$f":"'Working Inputs'!E86","v":"Price - Cobalt LME 2028-2032"},{"$f":"'Working Inputs'!F86","v":34172},{"$f":"'Working Inputs'!G86","v":"US$ /t"}]
[null,null,null,null,{"$f":"'Working Inputs'!E87","v":"Price - Cobalt LME 2033-2037"},{"$f":"'Working Inputs'!F87","v":53124},{"$f":"'Working Inputs'!G87","v":"US$ /t"}]
[null,null,null,null,{"$f":"'Working Inputs'!E88","v":"Price - Cobalt LME 2038-2043+"},{"$f":"'Working Inputs'!F88","v":62530},{"$f":"'Working Inputs'!G88","v":"US$ /t"}]
[null,null,null,null,{"$f":"'Working Inputs'!E90","v":"Price - Copper Class 1 LME 2028-2032"},{"$f":"'Working Inputs'!F90","v":11317},{"$f":"'Working Inputs'!G90","v":"US$ /t"}]
[null,null,null,null,{"$f":"'Working Inputs'!E91","v":"Price - Copper Class 1 LME 2033-2037"},{"$f":"'Working Inputs'!F91","v":11456},{"$f":"'Working Inputs'!G91","v":"US$ /t"}]
[null,null,null,null,{"$f":"'Working Inputs'!E92","v":"Price - Copper Class 1 LME 2038-2043+"},{"$f":"'Working Inputs'!F92","v":11456},{"$f":"'Working Inputs'!G92","v":"US$ /t"}]
[null,null,null,null,{"$f":"'Working Inputs'!E94","v":"Price - Manganese2028-2032"},{"$f":"'Working Inputs'!F94","v":5.29},{"$f":"'Working Inputs'!G94","v":"US$ /DMTU"}]
[null,null,null,null,{"$f":"'Working Inputs'!E95","v":"Price - Manganese2033-2037"},{"$f":"'Working Inputs'!F95","v":5.44},{"$f":"'Working Inputs'!G95","v":"US$ /DMTU"}]
[null,null,null,null,{"$f":"'Working Inputs'!E96","v":"Price - Manganese2038-2043+"},{"$f":"'Working Inputs'!F96","v":5.5},{"$f":"'Working Inputs'!G96","v":"US$ /DMTU"}]
[]
[null,null,null,null,{"$f":"'T&E'!E83","v":"Metal price bracket flag"},{"$f":"'T&E'!F83","v":0},{"$f":"'T&E'!G83","v":"flag"},{"$f":"'T&E'!H83","v":0},{"$f":"'T&E'!I83","v":0},{"$f":"'T&E'!J83","v":0},{"$f":"'T&E'!K83","v":1},{"$f":"'T&E'!L83","v":1},{"$f":"'T&E'!M83","v":1},{"$f":"'T&E'!N83","v":1},{"$f":"'T&E'!O83","v":1},{"$f":"'T&E'!P83","v":1},{"$f":"'T&E'!Q83","v":1},{"$f":"'T&E'!R83","v":1},{"$f":"'T&E'!S83","v":2},{"$f":"'T&E'!T83","v":2},{"$f":"'T&E'!U83","v":2},{"$f":"'T&E'!V83","v":2},{"$f":"'T&E'!W83","v":2},{"$f":"'T&E'!X83","v":3},{"$f":"'T&E'!Y83","v":3},{"$f":"'T&E'!Z83","v":3},{"$f":"'T&E'!AA83","v":3},{"$f":"'T&E'!AB83","v":3},{"$f":"'T&E'!AC83","v":3},{"$f":"'T&E'!AD83","v":3},{"$f":"'T&E'!AE83","v":3},{"$f":"'T&E'!AF83","v":3},{"$f":"'T&E'!AG83","v":3},{"$f":"'T&E'!AH83","v":3},{"$f":"'T&E'!AI83","v":3},{"$f":"'T&E'!AJ83","v":3},{"$f":"'T&E'!AK83","v":3},{"$f":"'T&E'!AL83","v":3},{"$f":"'T&E'!AM83","v":3},{"$f":"'T&E'!AN83","v":3},{"$f":"'T&E'!AO83","v":3},{"$f":"'T&E'!AP83","v":3},{"$f":"'T&E'!AQ83","v":3},{"$f":"'T&E'!AR83","v":3},{"$f":"'T&E'!AS83","v":3},{"$f":"'T&E'!AT83","v":3},{"$f":"'T&E'!AU83","v":3},{"$f":"'T&E'!AV83","v":3}]
[]
[null,null,null,null,"Price - Nickel Class 1 LME ",null,"US$ /t",null,null,null,{"$f":"+INDEX($F$49:$F$51,K$62)","v":18833},{"$f":"+INDEX($F$49:$F$51,L$62)","v":18833},{"$f":"+INDEX($F$49:$F$51,M$62)","v":18833},{"$f":"+INDEX($F$49:$F$51,N$62)","v":18833},{"$f":"+INDEX($F$49:$F$51,O$62)","v":18833},{"$f":"+INDEX($F$49:$F$51,P$62)","v":18833},{"$f":"+INDEX($F$49:$F$51,Q$62)","v":18833},{"$f":"+INDEX($F$49:$F$51,R$62)","v":18833},{"$f":"+INDEX($F$49:$F$51,S$62)","v":20706},{"$f":"+INDEX($F$49:$F$51,T$62)","v":20706},{"$f":"+INDEX($F$49:$F$51,U$62)","v":20706},{"$f":"+INDEX($F$49:$F$51,V$62)","v":20706},{"$f":"+INDEX($F$49:$F$51,W$62)","v":20706},{"$f":"+INDEX($F$49:$F$51,X$62)","v":20360},{"$f":"+INDEX($F$49:$F$51,Y$62)","v":20360},{"$f":"+INDEX($F$49:$F$51,Z$62)","v":20360},{"$f":"+INDEX($F$49:$F$51,AA$62)","v":20360},{"$f":"+INDEX($F$49:$F$51,AB$62)","v":20360},{"$f":"+INDEX($F$49:$F$51,AC$62)","v":20360},{"$f":"+INDEX($F$49:$F$51,AD$62)","v":20360},{"$f":"+INDEX($F$49:$F$51,AE$62)","v":20360},{"$f":"+INDEX($F$49:$F$51,AF$62)","v":20360},{"$f":"+INDEX($F$49:$F$51,AG$62)","v":20360},{"$f":"+INDEX($F$49:$F$51,AH$62)","v":20360},{"$f":"+INDEX($F$49:$F$51,AI$62)","v":20360},{"$f":"+INDEX($F$49:$F$51,AJ$62)","v":20360},{"$f":"+INDEX($F$49:$F$51,AK$62)","v":20360},{"$f":"+INDEX($F$49:$F$51,AL$62)","v":20360},{"$f":"+INDEX($F$49:$F$51,AM$62)","v":20360},{"$f":"+INDEX($F$49:$F$51,AN$62)","v":20360},{"$f":"+INDEX($F$49:$F$51,AO$62)","v":20360},{"$f":"+INDEX($F$49:$F$51,AP$62)","v":20360},{"$f":"+INDEX($F$49:$F$51,AQ$62)","v":20360},{"$f":"+INDEX($F$49:$F$51,AR$62)","v":20360},{"$f":"+INDEX($F$49:$F$51,AS$62)","v":20360},{"$f":"+INDEX($F$49:$F$51,AT$62)","v":20360},{"$f":"+INDEX($F$49:$F$51,AU$62)","v":20360},{"$f":"+INDEX($F$49:$F$51,AV$62)","v":20360}]
[null,null,null,null,"Price - Cobalt LME ",null,"US$ /t",null,null,null,{"$f":"+INDEX($F$52:$F$54,K$62)","v":34172},{"$f":"+INDEX($F$52:$F$54,L$62)","v":34172},{"$f":"+INDEX($F$52:$F$54,M$62)","v":34172},{"$f":"+INDEX($F$52:$F$54,N$62)","v":34172},{"$f":"+INDEX($F$52:$F$54,O$62)","v":34172},{"$f":"+INDEX($F$52:$F$54,P$62)","v":34172},{"$f":"+INDEX($F$52:$F$54,Q$62)","v":34172},{"$f":"+INDEX($F$52:$F$54,R$62)","v":34172},{"$f":"+INDEX($F$52:$F$54,S$62)","v":53124},{"$f":"+INDEX($F$52:$F$54,T$62)","v":53124},{"$f":"+INDEX($F$52:$F$54,U$62)","v":53124},{"$f":"+INDEX($F$52:$F$54,V$62)","v":53124},{"$f":"+INDEX($F$52:$F$54,W$62)","v":53124},{"$f":"+INDEX($F$52:$F$54,X$62)","v":62530},{"$f":"+INDEX($F$52:$F$54,Y$62)","v":62530},{"$f":"+INDEX($F$52:$F$54,Z$62)","v":62530},{"$f":"+INDEX($F$52:$F$54,AA$62)","v":62530},{"$f":"+INDEX($F$52:$F$54,AB$62)","v":62530},{"$f":"+INDEX($F$52:$F$54,AC$62)","v":62530},{"$f":"+INDEX($F$52:$F$54,AD$62)","v":62530},{"$f":"+INDEX($F$52:$F$54,AE$62)","v":62530},{"$f":"+INDEX($F$52:$F$54,AF$62)","v":62530},{"$f":"+INDEX($F$52:$F$54,AG$62)","v":62530},{"$f":"+INDEX($F$52:$F$54,AH$62)","v":62530},{"$f":"+INDEX($F$52:$F$54,AI$62)","v":62530},{"$f":"+INDEX($F$52:$F$54,AJ$62)","v":62530},{"$f":"+INDEX($F$52:$F$54,AK$62)","v":62530},{"$f":"+INDEX($F$52:$F$54,AL$62)","v":62530},{"$f":"+INDEX($F$52:$F$54,AM$62)","v":62530},{"$f":"+INDEX($F$52:$F$54,AN$62)","v":62530},{"$f":"+INDEX($F$52:$F$54,AO$62)","v":62530},{"$f":"+INDEX($F$52:$F$54,AP$62)","v":62530},{"$f":"+INDEX($F$52:$F$54,AQ$62)","v":62530},{"$f":"+INDEX($F$52:$F$54,AR$62)","v":62530},{"$f":"+INDEX($F$52:$F$54,AS$62)","v":62530},{"$f":"+INDEX($F$52:$F$54,AT$62)","v":62530},{"$f":"+INDEX($F$52:$F$54,AU$62)","v":62530},{"$f":"+INDEX($F$52:$F$54,AV$62)","v":62530}]
[null,null,null,null,"Price - Copper Class 1 LME ",null,"US$ /t",null,null,null,{"$f":"+INDEX($F$55:$F$57,K$62)","v":11317},{"$f":"+INDEX($F$55:$F$57,L$62)","v":11317},{"$f":"+INDEX($F$55:$F$57,M$62)","v":11317},{"$f":"+INDEX($F$55:$F$57,N$62)","v":11317},{"$f":"+INDEX($F$55:$F$57,O$62)","v":11317},{"$f":"+INDEX($F$55:$F$57,P$62)","v":11317},{"$f":"+INDEX($F$55:$F$57,Q$62)","v":11317},{"$f":"+INDEX($F$55:$F$57,R$62)","v":11317},{"$f":"+INDEX($F$55:$F$57,S$62)","v":11456},{"$f":"+INDEX($F$55:$F$57,T$62)","v":11456},{"$f":"+INDEX($F$55:$F$57,U$62)","v":11456},{"$f":"+INDEX($F$55:$F$57,V$62)","v":11456},{"$f":"+INDEX($F$55:$F$57,W$62)","v":11456},{"$f":"+INDEX($F$55:$F$57,X$62)","v":11456},{"$f":"+INDEX($F$55:$F$57,Y$62)","v":11456},{"$f":"+INDEX($F$55:$F$57,Z$62)","v":11456},{"$f":"+INDEX($F$55:$F$57,AA$62)","v":11456},{"$f":"+INDEX($F$55:$F$57,AB$62)","v":11456},{"$f":"+INDEX($F$55:$F$57,AC$62)","v":11456},{"$f":"+INDEX($F$55:$F$57,AD$62)","v":11456},{"$f":"+INDEX($F$55:$F$57,AE$62)","v":11456},{"$f":"+INDEX($F$55:$F$57,AF$62)","v":11456},{"$f":"+INDEX($F$55:$F$57,AG$62)","v":11456},{"$f":"+INDEX($F$55:$F$57,AH$62)","v":11456},{"$f":"+INDEX($F$55:$F$57,AI$62)","v":11456},{"$f":"+INDEX($F$55:$F$57,AJ$62)","v":11456},{"$f":"+INDEX($F$55:$F$57,AK$62)","v":11456},{"$f":"+INDEX($F$55:$F$57,AL$62)","v":11456},{"$f":"+INDEX($F$55:$F$57,AM$62)","v":11456},{"$f":"+INDEX($F$55:$F$57,AN$62)","v":11456},{"$f":"+INDEX($F$55:$F$57,AO$62)","v":11456},{"$f":"+INDEX($F$55:$F$57,AP$62)","v":11456},{"$f":"+INDEX($F$55:$F$57,AQ$62)","v":11456},{"$f":"+INDEX($F$55:$F$57,AR$62)","v":11456},{"$f":"+INDEX($F$55:$F$57,AS$62)","v":11456},{"$f":"+INDEX($F$55:$F$57,AT$62)","v":11456},{"$f":"+INDEX($F$55:$F$57,AU$62)","v":11456},{"$f":"+INDEX($F$55:$F$57,AV$62)","v":11456}]
[null,null,null,null,"Price - Manganese",null,"US$ /DMTU",null,null,null,{"$f":"+INDEX($F$58:$F$60,K$62)","v":5.29},{"$f":"+INDEX($F$58:$F$60,L$62)","v":5.29},{"$f":"+INDEX($F$58:$F$60,M$62)","v":5.29},{"$f":"+INDEX($F$58:$F$60,N$62)","v":5.29},{"$f":"+INDEX($F$58:$F$60,O$62)","v":5.29},{"$f":"+INDEX($F$58:$F$60,P$62)","v":5.29},{"$f":"+INDEX($F$58:$F$60,Q$62)","v":5.29},{"$f":"+INDEX($F$58:$F$60,R$62)","v":5.29},{"$f":"+INDEX($F$58:$F$60,S$62)","v":5.44},{"$f":"+INDEX($F$58:$F$60,T$62)","v":5.44},{"$f":"+INDEX($F$58:$F$60,U$62)","v":5.44},{"$f":"+INDEX($F$58:$F$60,V$62)","v":5.44},{"$f":"+INDEX($F$58:$F$60,W$62)","v":5.44},{"$f":"+INDEX($F$58:$F$60,X$62)","v":5.5},{"$f":"+INDEX($F$58:$F$60,Y$62)","v":5.5},{"$f":"+INDEX($F$58:$F$60,Z$62)","v":5.5},{"$f":"+INDEX($F$58:$F$60,AA$62)","v":5.5},{"$f":"+INDEX($F$58:$F$60,AB$62)","v":5.5},{"$f":"+INDEX($F$58:$F$60,AC$62)","v":5.5},{"$f":"+INDEX($F$58:$F$60,AD$62)","v":5.5},{"$f":"+INDEX($F$58:$F$60,AE$62)","v":5.5},{"$f":"+INDEX($F$58:$F$60,AF$62)","v":5.5},{"$f":"+INDEX($F$58:$F$60,AG$62)","v":5.5},{"$f":"+INDEX($F$58:$F$60,AH$62)","v":5.5},{"$f":"+INDEX($F$58:$F$60,AI$62)","v":5.5},{"$f":"+INDEX($F$58:$F$60,AJ$62)","v":5.5},{"$f":"+INDEX($F$58:$F$60,AK$62)","v":5.5},{"$f":"+INDEX($F$58:$F$60,AL$62)","v":5.5},{"$f":"+INDEX($F$58:$F$60,AM$62)","v":5.5},{"$f":"+INDEX($F$58:$F$60,AN$62)","v":5.5},{"$f":"+INDEX($F$58:$F$60,AO$62)","v":5.5},{"$f":"+INDEX($F$58:$F$60,AP$62)","v":5.5},{"$f":"+INDEX($F$58:$F$60,AQ$62)","v":5.5},{"$f":"+INDEX($F$58:$F$60,AR$62)","v":5.5},{"$f":"+INDEX($F$58:$F$60,AS$62)","v":5.5},{"$f":"+INDEX($F$58:$F$60,AT$62)","v":5.5},{"$f":"+INDEX($F$58:$F$60,AU$62)","v":5.5},{"$f":"+INDEX($F$58:$F$60,AV$62)","v":5.5}]
[]
[null,null,null,null,{"$f":"+E64&\" with sensitivity applied\"","v":"Price - Nickel Class 1 LME  with sensitivity applied"},null,{"$f":"G64","v":"US$ /t"},null,null,null,{"$f":"K64*$F$9","v":18833},{"$f":"L64*$F$9","v":18833},18833,18833,18833,18833,18833,18833,20706,20706,20706,20706,20706,20360,20360,20360,20360,20360,20360,20360,20360,20360,20360,20360,20360,20360,20360,20360,20360,20360,20360,20360,20360,20360,20360,20360,20360,{"$f":"AV64*$F$9","v":20360}]
[null,null,null,null,{"$f":"+E65&\" with sensitivity applied\"","v":"Price - Cobalt LME  with sensitivity applied"},null,{"$f":"G65","v":"US$ /t"},null,null,null,{"$f":"K65*$F$9","v":34172},{"$f":"L65*$F$9","v":34172},34172,34172,34172,34172,34172,34172,53124,53124,53124,53124,53124,62530,62530,62530,62530,62530,62530,62530,62530,62530,62530,62530,62530,62530,62530,62530,62530,62530,62530,62530,62530,62530,62530,62530,62530,{"$f":"AV65*$F$9","v":62530}]
[null,null,null,null,{"$f":"+E66&\" with sensitivity applied\"","v":"Price - Copper Class 1 LME  with sensitivity applied"},null,"US$ /t",null,null,null,{"$f":"K66*$F$9","v":11317},{"$f":"L66*$F$9","v":11317},11317,11317,11317,11317,11317,11317,11456,11456,11456,11456,11456,11456,11456,11456,11456,11456,11456,11456,11456,11456,11456,11456,11456,11456,11456,11456,11456,11456,11456,11456,11456,11456,11456,11456,11456,{"$f":"AV66*$F$9","v":11456}]
[null,null,null,null,{"$f":"+E67&\" with sensitivity applied\"","v":"Price - Manganese with sensitivity applied"},null,"US$ /DMTU",null,null,null,{"$f":"K67*$F$9","v":5.29},{"$f":"L67*$F$9","v":5.29},5.29,5.29,5.29,5.29,5.29,5.29,5.44,5.44,5.44,5.44,5.44,5.5,5.5,5.5,5.5,5.5,5.5,5.5,5.5,5.5,5.5,5.5,5.5,5.5,5.5,5.5,5.5,5.5,5.5,5.5,5.5,5.5,5.5,5.5,5.5,{"$f":"AV67*$F$9","v":5.5}]
[]
[null,null,"Capex"]
[null,null,null,null,{"$f":"'T&E'!E18","v":"Pre production period flag"},null,{"$f":"'T&E'!G18","v":"flag"},null,{"$f":"'T&E'!I18","v":2},null,{"$f":"'T&E'!K18","v":1},{"$f":"'T&E'!L18","v":1},{"$f":"'T&E'!M18","v":0},{"$f":"'T&E'!N18","v":0},{"$f":"'T&E'!O18","v":0},{"$f":"'T&E'!P18","v":0},{"$f":"'T&E'!Q18","v":0},{"$f":"'T&E'!R18","v":0},{"$f":"'T&E'!S18","v":0},{"$f":"'T&E'!T18","v":0},{"$f":"'T&E'!U18","v":0},{"$f":"'T&E'!V18","v":0},{"$f":"'T&E'!W18","v":0},{"$f":"'T&E'!X18","v":0},{"$f":"'T&E'!Y18","v":0},{"$f":"'T&E'!Z18","v":0},{"$f":"'T&E'!AA18","v":0},{"$f":"'T&E'!AB18","v":0},{"$f":"'T&E'!AC18","v":0},{"$f":"'T&E'!AD18","v":0},{"$f":"'T&E'!AE18","v":0},{"$f":"'T&E'!AF18","v":0},{"$f":"'T&E'!AG18","v":0},{"$f":"'T&E'!AH18","v":0},{"$f":"'T&E'!AI18","v":0},{"$f":"'T&E'!AJ18","v":0},{"$f":"'T&E'!AK18","v":0},{"$f":"'T&E'!AL18","v":0},{"$f":"'T&E'!AM18","v":0},{"$f":"'T&E'!AN18","v":0},{"$f":"'T&E'!AO18","v":0},{"$f":"'T&E'!AP18","v":0},{"$f":"'T&E'!AQ18","v":0},{"$f":"'T&E'!AR18","v":0},{"$f":"'T&E'!AS18","v":0},{"$f":"'T&E'!AT18","v":0},{"$f":"'T&E'!AU18","v":0},{"$f":"'T&E'!AV18","v":0}]
[]
[null,null,null,null,{"$f":"'Working Inputs'!E133","v":"Production Vessel"},{"$f":"'Working Inputs'!F133","v":468.4},{"$f":"'Working Inputs'!G133","v":"US$ mn"}]
[null,null,null,null,{"$f":"'Working Inputs'!E134","v":"Transfer Vessel/Bulk Carriers"},{"$f":"'Working Inputs'!F134","v":89.6},{"$f":"'Working Inputs'!G134","v":"US$ mn"}]
[null,null,null,null,{"$f":"'Working Inputs'!E135","v":"Support Vessel"},{"$f":"'Working Inputs'!F135","v":15.2},{"$f":"'Working Inputs'!G135","v":"US$ mn"}]
[null,null,null,null,{"$f":"'Working Inputs'!E136","v":"Operations facilities initial setup"},{"$f":"'Working Inputs'!F136","v":2.2999999999999998},{"$f":"'Working Inputs'!G136","v":"US$ mn"}]
[null,null,null,null,{"$f":"'Working Inputs'!E138","v":"Professional Services"},{"$f":"'Working Inputs'!F138","v":59.4},{"$f":"'Working Inputs'!G138","v":"US$ mn"}]
[null,null,null,null,{"$f":"'Working Inputs'!E139","v":"Owners cost"},{"$f":"'Working Inputs'!F139","v":44.6},{"$f":"'Working Inputs'!G139","v":"US$ mn"}]
[null,null,null,null,{"$f":"'Working Inputs'!E141","v":"Contingency"},{"$f":"'Working Inputs'!F141","v":101.4},{"$f":"'Working Inputs'!G141","v":"US$ mn"}]
[null,null,null,null,{"$f":"'Working Inputs'!E142","v":"Allseas credit"},{"$f":"'Working Inputs'!F142","v":-289.3},{"$f":"'Working Inputs'!G142","v":"US$ mn"}]
[]
[null,null,null,null,"Production Vessel",null,{"$f":"+G78","v":"US$ mn"},null,{"$f":" SUM(K86:AV86)","v":468.4},null,{"$f":"$F77/$I$75*K$75","v":234.2},234.2,0,0,0,0,0,0,0,0,0,0,0,0,0,0,0,0,0,0,0,0,0,0,0,0,0,0,0,0,0,0,0,0,0,0,0,{"$f":"$F77/$I$75*AV$75","v":0}]
[null,null,null,null,"Transfer Vessel/Bulk Carriers",null,{"$f":"+G80","v":"US$ mn"},null,89.6,null,{"$f":"$F78/$I$75*K$75","v":44.8},44.8,0,0,0,0,0,0,0,0,0,0,0,0,0,0,0,0,0,0,0,0,0,0,0,0,0,0,0,0,0,0,0,0,0,0,0,{"$f":"$F78/$I$75*AV$75","v":0}]
[null,null,null,null,"Support Vessel",null,{"$f":"+G81","v":"US$ mn"},null,15.2,null,{"$f":"$F79/$I$75*K$75","v":7.6},7.6,0,0,0,0,0,0,0,0,0,0,0,0,0,0,0,0,0,0,0,0,0,0,0,0,0,0,0,0,0,0,0,0,0,0,0,{"$f":"$F79/$I$75*AV$75","v":0}]
[null,null,null,null,"Operations facilities initial setup",null,null,null,2.2999999999999998,null,{"$f":"$F80/$I$75*K$75","v":1.1499999999999999},1.1499999999999999,0,0,0,0,0,0,0,0,0,0,0,0,0,0,0,0,0,0,0,0,0,0,0,0,0,0,0,0,0,0,0,0,0,0,0,{"$f":"$F80/$I$75*AV$75","v":0}]
[null,null,null,null,"Professional Services",null,"US$ mn",null,59.4,null,{"$f":"$F81/$I$75*K$75","v":29.7},29.7,0,0,0,0,0,0,0,0,0,0,0,0,0,0,0,0,0,0,0,0,0,0,0,0,0,0,0,0,0,0,0,0,0,0,0,{"$f":"$F81/$I$75*AV$75","v":0}]
[null,null,null,null,"Owners cost",null,"US$ mn",null,44.6,null,{"$f":"$F82/$I$75*K$75","v":22.3},22.3,0,0,0,0,0,0,0,0,0,0,0,0,0,0,0,0,0,0,0,0,0,0,0,0,0,0,0,0,0,0,0,0,0,0,0,{"$f":"$F82/$I$75*AV$75","v":0}]
[null,null,null,null,"Contingency",null,"US$ mn",null,101.4,null,{"$f":"$F83/$I$75*K$75","v":50.7},50.7,0,0,0,0,0,0,0,0,0,0,0,0,0,0,0,0,0,0,0,0,0,0,0,0,0,0,0,0,0,0,0,0,0,0,0,{"$f":"$F83/$I$75*AV$75","v":0}]
[null,null,null,null,"Allseas credit",null,"US$ mn",null,-289.3,null,{"$f":"$F84/$I$75*K$75","v":-144.65},-144.65,0,0,0,0,0,0,0,0,0,0,0,0,0,0,0,0,0,0,0,0,0,0,0,0,0,0,0,0,0,0,0,0,0,0,0,{"$f":"$F84/$I$75*AV$75","v":0}]
[null,null,null,null,"Total Capex",null,"US$ mn",null,{"$f":" SUM(K94:AV94)","v":491.59999999999997},null,{"$f":"SUM(K86:K93)","v":245.79999999999998},245.79999999999998,0,0,0,0,0,0,0,0,0,0,0,0,0,0,0,0,0,0,0,0,0,0,0,0,0,0,0,0,0,0,0,0,0,0,0,{"$f":"SUM(AV86:AV93)","v":0}]
[]
[null,null,null,null,{"$f":"E86&\" with sensitivity applied\"","v":"Production Vessel with sensitivity applied"},null,"US$ mn",null,{"$f":" SUM(K96:AV96)","v":468.4},null,{"$f":"+K86*$F$11","v":234.2},234.2,0,0,0,0,0,0,0,0,0,0,0,0,0,0,0,0,0,0,0,0,0,0,0,0,0,0,0,0,0,0,0,0,0,0,0,{"$f":"+AV86*$F$11","v":0}]
[null,null,null,null,"Transfer Vessel/Bulk Carriers with sensitivity applied",null,"US$ mn",null,89.6,null,{"$f":"+K87*$F$11","v":44.8},44.8,0,0,0,0,0,0,0,0,0,0,0,0,0,0,0,0,0,0,0,0,0,0,0,0,0,0,0,0,0,0,0,0,0,0,0,{"$f":"+AV87*$F$11","v":0}]
[null,null,null,null,"Support Vessel with sensitivity applied",null,"US$ mn",null,15.2,null,{"$f":"+K88*$F$11","v":7.6},7.6,0,0,0,0,0,0,0,0,0,0,0,0,0,0,0,0,0,0,0,0,0,0,0,0,0,0,0,0,0,0,0,0,0,0,0,{"$f":"+AV88*$F$11","v":0}]
[null,null,null,null,"Operations facilities initial setup with sensitivity applied",null,"US$ mn",null,2.2999999999999998,null,{"$f":"+K89*$F$11","v":1.1499999999999999},1.1499999999999999,0,0,0,0,0,0,0,0,0,0,0,0,0,0,0,0,0,0,0,0,0,0,0,0,0,0,0,0,0,0,0,0,0,0,0,{"$f":"+AV89*$F$11","v":0}]
[null,null,null,null,"Professional Services with sensitivity applied",null,"US$ mn",null,59.4,null,{"$f":"+K90*$F$11","v":29.7},29.7,0,0,0,0,0,0,0,0,0,0,0,0,0,0,0,0,0,0,0,0,0,0,0,0,0,0,0,0,0,0,0,0,0,0,0,{"$f":"+AV90*$F$11","v":0}]
[null,null,null,null,"Owners cost with sensitivity applied",null,"US$ mn",null,44.6,null,{"$f":"+K91*$F$11","v":22.3},22.3,0,0,0,0,0,0,0,0,0,0,0,0,0,0,0,0,0,0,0,0,0,0,0,0,0,0,0,0,0,0,0,0,0,0,0,{"$f":"+AV91*$F$11","v":0}]
[null,null,null,null,"Contingency with sensitivity applied",null,"US$ mn",null,101.4,null,{"$f":"+K92*$F$11","v":50.7},50.7,0,0,0,0,0,0,0,0,0,0,0,0,0,0,0,0,0,0,0,0,0,0,0,0,0,0,0,0,0,0,0,0,0,0,0,{"$f":"+AV92*$F$11","v":0}]
[{"$f":"+A90*$F$11","v":0},{"$f":"+B90*$F$11","v":0},{"$f":"+C90*$F$11","v":0},{"$f":"+D90*$F$11","v":0},"Allseas credit with sensitivity applied",null,"US$ mn",{"$f":"+H90*$F$11","v":0},-289.3,{"$f":"+J90*$F$11","v":0},{"$f":"+K93*$F$11","v":-144.65},-144.65,0,0,0,0,0,0,0,0,0,0,0,0,0,0,0,0,0,0,0,0,0,0,0,0,0,0,0,0,0,0,0,0,0,0,0,{"$f":"+AV93*$F$11","v":0}]
[null,null,null,null,"Total Capex with sensitivity applied",null,"US$ mn",null,491.59999999999997,null,{"$f":"+K94*$F$11","v":245.79999999999998},245.79999999999998,0,0,0,0,0,0,0,0,0,0,0,0,0,0,0,0,0,0,0,0,0,0,0,0,0,0,0,0,0,0,0,0,0,0,0,{"$f":"+AV94*$F$11","v":0}]
[]
[null,null,"Sustaining Capex"]
[null,null,null,null,{"$f":"'Working Inputs'!E146","v":"Sustaining capital cost "},{"$f":"'Working Inputs'!F146","v":155},{"$f":"'Working Inputs'!G146","v":"US$ mn/Vessel"}]
[null,null,null,null,{"$f":"'T&E'!E99","v":"Sustaining capital flag"},{"$f":"'T&E'!F99","v":0},{"$f":"'T&E'!G99","v":"years"},{"$f":"'T&E'!H99","v":"interval"},{"$f":"'T&E'!I99","v":10},{"$f":"'T&E'!J99","v":0},{"$f":"'T&E'!K99","v":0},{"$f":"'T&E'!L99","v":0},{"$f":"'T&E'!M99","v":0},{"$f":"'T&E'!N99","v":0},{"$f":"'T&E'!O99","v":0},{"$f":"'T&E'!P99","v":0},{"$f":"'T&E'!Q99","v":0},{"$f":"'T&E'!R99","v":1},{"$f":"'T&E'!S99","v":1},{"$f":"'T&E'!T99","v":1},{"$f":"'T&E'!U99","v":1},{"$f":"'T&E'!V99","v":0},{"$f":"'T&E'!W99","v":1},{"$f":"'T&E'!X99","v":1},{"$f":"'T&E'!Y99","v":1},{"$f":"'T&E'!Z99","v":1},{"$f":"'T&E'!AA99","v":0},{"$f":"'T&E'!AB99","v":1},{"$f":"'T&E'!AC99","v":1},{"$f":"'T&E'!AD99","v":0},{"$f":"'T&E'!AE99","v":0},{"$f":"'T&E'!AF99","v":0},{"$f":"'T&E'!AG99","v":0},{"$f":"'T&E'!AH99","v":0},{"$f":"'T&E'!AI99","v":0},{"$f":"'T&E'!AJ99","v":0},{"$f":"'T&E'!AK99","v":0},{"$f":"'T&E'!AL99","v":0},{"$f":"'T&E'!AM99","v":0},{"$f":"'T&E'!AN99","v":0},{"$f":"'T&E'!AO99","v":0},{"$f":"'T&E'!AP99","v":0},{"$f":"'T&E'!AQ99","v":0},{"$f":"'T&E'!AR99","v":0},{"$f":"'T&E'!AS99","v":0},{"$f":"'T&E'!AT99","v":0},{"$f":"'T&E'!AU99","v":0},{"$f":"'T&E'!AV99","v":0}]
[]
[null,null,null,null,"Sustaining Capex",null,"US$ mn",null,{"$f":"+SUM(K110:AV110)","v":1550},null,{"$f":"+K108*$F$107","v":0},0,0,0,0,0,0,155,155,155,155,0,155,155,155,155,0,155,155,0,0,0,0,0,0,0,0,0,0,0,0,0,0,0,0,0,0,{"$f":"+AV108*$F$107","v":0}]
[]
[null,null,null,null,{"$f":"'Working Inputs'!E151","v":"Exceptional vessel maintenance number"},{"$f":"'Working Inputs'!F151","v":0},{"$f":"'Working Inputs'!G151","v":"#"}]
[null,null,null,null,{"$f":"'T&E'!E103","v":"Exceptional Sustaining capital flag"},{"$f":"'T&E'!F103","v":0},{"$f":"'T&E'!G103","v":0},{"$f":"'T&E'!H103","v":0},{"$f":"'T&E'!I103","v":0},{"$f":"'T&E'!J103","v":0},{"$f":"'T&E'!K103","v":0},{"$f":"'T&E'!L103","v":0},{"$f":"'T&E'!M103","v":0},{"$f":"'T&E'!N103","v":0},{"$f":"'T&E'!O103","v":0},{"$f":"'T&E'!P103","v":0},{"$f":"'T&E'!Q103","v":0},{"$f":"'T&E'!R103","v":0},{"$f":"'T&E'!S103","v":0},{"$f":"'T&E'!T103","v":0},{"$f":"'T&E'!U103","v":0},{"$f":"'T&E'!V103","v":0},{"$f":"'T&E'!W103","v":0},{"$f":"'T&E'!X103","v":0},{"$f":"'T&E'!Y103","v":0},{"$f":"'T&E'!Z103","v":0},{"$f":"'T&E'!AA103","v":0},{"$f":"'T&E'!AB103","v":0},{"$f":"'T&E'!AC103","v":0},{"$f":"'T&E'!AD103","v":0},{"$f":"'T&E'!AE103","v":0},{"$f":"'T&E'!AF103","v":0},{"$f":"'T&E'!AG103","v":0},{"$f":"'T&E'!AH103","v":0},{"$f":"'T&E'!AI103","v":0},{"$f":"'T&E'!AJ103","v":0},{"$f":"'T&E'!AK103","v":0},{"$f":"'T&E'!AL103","v":0},{"$f":"'T&E'!AM103","v":0},{"$f":"'T&E'!AN103","v":0},{"$f":"'T&E'!AO103","v":0},{"$f":"'T&E'!AP103","v":0},{"$f":"'T&E'!AQ103","v":0},{"$f":"'T&E'!AR103","v":0},{"$f":"'T&E'!AS103","v":0},{"$f":"'T&E'!AT103","v":0},{"$f":"'T&E'!AU103","v":0},{"$f":"'T&E'!AV103","v":0}]
[]
[null,null,null,null,"Exceptional Sustaining capex",null,"US$ mn",null,{"$f":"+SUM(K115:AV115)","v":0},null,{"$f":"K113*$F$112*$F$107","v":0},{"$f":"L113*$F$112*$F$107","v":0},0,0,0,0,0,0,0,0,0,0,0,0,0,0,0,0,0,0,0,0,0,0,0,0,0,0,0,0,0,0,0,0,0,0,0,0]
[]
[null,null,null,null,"Total Sustaining capex",null,"US$ mn",null,{"$f":"+SUM(K117:AV117)","v":1550},null,{"$f":"K115+K110","v":0},{"$f":"L115+L110","v":0},0,0,0,0,0,155,155,155,155,0,155,155,155,155,0,155,155,0,0,0,0,0,0,0,0,0,0,0,0,0,0,0,0,0,0,0]
[]
[null,null,null,null,{"$f":"E110&\" with sensitivity applied\"","v":"Sustaining Capex with sensitivity applied"},null,"US$ mn",null,{"$f":"+SUM(K119:AV119)","v":1550},null,{"$f":"+K117*$F$10","v":0},{"$f":"+L117*$F$10","v":0},0,0,0,0,0,155,155,155,155,0,155,155,155,155,0,155,155,0,0,0,0,0,0,0,0,0,0,0,0,0,0,0,0,0,0,0]
[]
[null,null,"Opex "]
[null,null,null,null,{"$f":"'Working Inputs'!E187","v":"Collection"},{"$f":"'Working Inputs'!F187","v":75.2},{"$f":"'Working Inputs'!G187","v":"US$ /wmt of  nodules"}]
[null,null,null,null,{"$f":"'Working Inputs'!E188","v":"Transfer and shipping"},{"$f":"'Working Inputs'!F188","v":18.700000000000003},{"$f":"'Working Inputs'!G188","v":"US$ /wmt of  nodules"},{"$f":"'Working Inputs'!H188","v":0}]
[null,null,null,null,{"$f":"'Working Inputs'!E189","v":"Transfer vessel CCZ"},{"$f":"'Working Inputs'!F189","v":6.4},{"$f":"'Working Inputs'!G189","v":"US$ /wmt of  nodules"}]
[null,null,null,null,{"$f":"'Working Inputs'!E190","v":"Bulk Carrier CCZ to INDO - Capesize"},{"$f":"'Working Inputs'!F190","v":10.4},{"$f":"'Working Inputs'!G190","v":"US$ /wmt of  nodules"}]
[null,null,null,null,{"$f":"'Working Inputs'!E191","v":"Bulk Carrier INDO to Texas - Handymax"},{"$f":"'Working Inputs'!F191","v":1},{"$f":"'Working Inputs'!G191","v":"US$ /wmt of  nodules"}]
[null,null,null,null,{"$f":"'Working Inputs'!E192","v":"Bulk Carrier INDO to Janpan - Handymax"},{"$f":"'Working Inputs'!F192","v":0.8},{"$f":"'Working Inputs'!G192","v":"US$ /wmt of  nodules"}]
[null,null,null,null,{"$f":"'Working Inputs'!E193","v":"INDO inbound handling"},{"$f":"'Working Inputs'!F193","v":0.1},{"$f":"'Working Inputs'!G193","v":"US$ /wmt of  nodules"}]
[]
[null,null,null,null,{"$f":"'Working Inputs'!E194","v":"Contractor (Offshore)"},{"$f":"'Working Inputs'!F194","v":11.3},{"$f":"'Working Inputs'!G194","v":"US$ /wmt of  nodules"},{"$f":"'Working Inputs'!H194","v":0}]
[null,null,null,null,{"$f":"'Working Inputs'!E195","v":"Consumables (Offshore)"},{"$f":"'Working Inputs'!F195","v":23.4},{"$f":"'Working Inputs'!G195","v":"US$ /wmt of  nodules"}]
[null,null,null,null,{"$f":"'Working Inputs'!E196","v":"Processing "},{"$f":"'Working Inputs'!F196","v":83},{"$f":"'Working Inputs'!G196","v":"US$ /wmt of  nodules"}]
[null,null,null,null,{"$f":"'Working Inputs'!E197","v":"G&A"},{"$f":"'Working Inputs'!F197","v":12.1},{"$f":"'Working Inputs'!G197","v":"US$ /wmt of  nodules"}]
[]
[null,null,null,null,{"$f":"E46","v":"Production with sensitivity applied"},0,"Mt (wet)",0,164.1,0,0,0,0.2,1,2,5,10.75,10.75,10.75,10.75,10.75,10.75,10.75,10.75,10.75,10.75,10.75,10.75,10.75,10.75,5.4,0,0,0,0,0,0,0,0,0,0,0,0,0,0,0,0,{"$f":"AV46","v":0}]
[]
[null,null,null,null,"Collection",null,"US$ mn",null,{"$f":" SUM(K137:AV137)","v":12340.319999999998},null,{"$f":"K$135*$F122","v":0},0,15.040000000000001,75.2,150.4,376,808.4,808.4,808.4,808.4,808.4,808.4,808.4,808.4,808.4,808.4,808.4,808.4,808.4,808.4,406.08000000000004,0,0,0,0,0,0,0,0,0,0,0,0,0,0,0,0,{"$f":"AV$135*$F122","v":0}]
[null,null,null,null,"Transfer and shipping",null,"US$ mn",null,{"$f":" SUM(K138:AV138)","v":3068.670000000001},null,{"$f":"K$135*$F123","v":0},0,3.7400000000000007,18.700000000000003,37.400000000000006,93.500000000000014,201.02500000000003,201.02500000000003,201.02500000000003,201.02500000000003,201.02500000000003,201.02500000000003,201.02500000000003,201.02500000000003,201.02500000000003,201.02500000000003,201.02500000000003,201.02500000000003,201.02500000000003,201.02500000000003,100.98000000000002,0,0,0,0,0,0,0,0,0,0,0,0,0,0,0,0,{"$f":"AV$135*$F123","v":0}]
[null,null,null,null,"of which"]
[null,null,null,null,"Transfer vessel CCZ",null,"US$ mn",null,{"$f":" SUM(K140:AV140)","v":1050.2399999999998},null,{"$f":"K$135*$F124","v":0},0,1.2800000000000002,6.4,12.8,32,68.8,68.8,68.8,68.8,68.8,68.8,68.8,68.8,68.8,68.8,68.8,68.8,68.8,68.8,34.56,0,0,0,0,0,0,0,0,0,0,0,0,0,0,0,0,{"$f":"AV$135*$F124","v":0}]
[null,null,null,null,"Bulk Carrier CCZ to INDO - Capesize",null,"US$ mn",null,1706.6399999999996,null,{"$f":"K$135*$F125","v":0},0,2.08,10.4,20.8,52,111.8,111.8,111.8,111.8,111.8,111.8,111.8,111.8,111.8,111.8,111.8,111.8,111.8,111.8,56.160000000000004,0,0,0,0,0,0,0,0,0,0,0,0,0,0,0,0,{"$f":"AV$135*$F125","v":0}]
[null,null,null,null,"Bulk Carrier INDO to Texas - Handymax",null,"US$ mn",null,164.1,null,{"$f":"K$135*$F126","v":0},0,0.2,1,2,5,10.75,10.75,10.75,10.75,10.75,10.75,10.75,10.75,10.75,10.75,10.75,10.75,10.75,10.75,5.4,0,0,0,0,0,0,0,0,0,0,0,0,0,0,0,0,{"$f":"AV$135*$F126","v":0}]
[null,null,null,null,"Bulk Carrier INDO to Janpan - Handymax",null,"US$ mn",null,131.27999999999997,null,{"$f":"K$135*$F127","v":0},0,0.16000000000000003,0.8,1.6,4,8.6,8.6,8.6,8.6,8.6,8.6,8.6,8.6,8.6,8.6,8.6,8.6,8.6,8.6,4.32,0,0,0,0,0,0,0,0,0,0,0,0,0,0,0,0,{"$f":"AV$135*$F127","v":0}]
[null,null,null,null,"INDO inbound handling",null,"US$ mn",null,16.409999999999997,null,{"$f":"K$135*$F128","v":0},0,2.0000000000000004E-2,0.1,0.2,0.5,1.075,1.075,1.075,1.075,1.075,1.075,1.075,1.075,1.075,1.075,1.075,1.075,1.075,1.075,0.54,0,0,0,0,0,0,0,0,0,0,0,0,0,0,0,0,{"$f":"AV$135*$F128","v":0}]
[null,null,null,null,"Contractor (Offshore)",null,"US$ mn",null,1854.3299999999995,null,{"$f":"K$135*$F130","v":0},0,2.2600000000000002,11.3,22.6,56.5,121.47500000000001,121.47500000000001,121.47500000000001,121.47500000000001,{"$f":"U$135*$F130","v":121.47500000000001},121.47500000000001,121.47500000000001,121.47500000000001,121.47500000000001,121.47500000000001,121.47500000000001,121.47500000000001,121.47500000000001,121.47500000000001,61.02000000000001,0,0,0,0,0,0,0,0,0,0,0,0,0,0,0,0,{"$f":"AV$135*$F130","v":0}]
[null,null,null,null,"Consumables (Offshore)",null,"US$ mn",null,3839.940000000001,null,{"$f":"K$135*$F131","v":0},0,4.68,23.4,46.8,117,251.54999999999998,251.54999999999998,251.54999999999998,251.54999999999998,251.54999999999998,251.54999999999998,251.54999999999998,251.54999999999998,251.54999999999998,251.54999999999998,251.54999999999998,251.54999999999998,251.54999999999998,251.54999999999998,126.36,0,0,0,0,0,0,0,0,0,0,0,0,0,0,0,0,{"$f":"AV$135*$F131","v":0}]
[null,null,null,null,"Processing ",null,"US$ mn",null,13620.300000000001,null,{"$f":"K$135*$F132","v":0},0,16.600000000000001,83,166,415,892.25,892.25,892.25,892.25,892.25,892.25,892.25,892.25,892.25,892.25,892.25,892.25,892.25,892.25,448.20000000000005,0,0,0,0,0,0,0,0,0,0,0,0,0,0,0,0,{"$f":"AV$135*$F132","v":0}]
[null,null,null,null,"G&A",null,"US$ mn",null,1985.6100000000004,null,{"$f":"K$135*$F133","v":0},{"$f":"L$135*$F133","v":0},2.42,12.1,24.2,60.5,130.07499999999999,130.07499999999999,130.07499999999999,130.07499999999999,130.07499999999999,130.07499999999999,130.07499999999999,130.07499999999999,130.07499999999999,130.07499999999999,130.07499999999999,130.07499999999999,130.07499999999999,130.07499999999999,65.34,0,0,0,0,0,0,0,0,0,0,0,0,0,0,0,0,{"$f":"AV$135*$F133","v":0}]
[null,null,null,null,"Total OPEX",null,"US$ mn",null,36709.170000000013,null,{"$f":"SUM(K137:K138)+SUM(K145:K148)","v":0},{"$f":"SUM(L137:L138)+SUM(L145:L148)","v":0},44.74,223.70000000000002,447.40000000000003,1118.5,2404.7750000000001,2404.7750000000001,2404.7750000000001,2404.7750000000001,2404.7750000000001,2404.7750000000001,2404.7750000000001,2404.7750000000001,2404.7750000000001,2404.7750000000001,2404.7750000000001,2404.7750000000001,2404.7750000000001,2404.7750000000001,1207.98,0,0,0,0,0,0,0,0,0,0,0,0,0,0,0,0,{"$f":"SUM(AV137:AV138)+SUM(AV145:AV148)","v":0}]
[]
[null,null,null,null,{"$f":"E137&\" with sensitivity applied\"","v":"Collection with sensitivity applied"},null,"US$ mn",null,{"$f":" SUM(K151:AV151)","v":12340.319999999998},null,{"$f":"K137*$F$10","v":0},0,15.040000000000001,75.2,150.4,376,808.4,808.4,808.4,808.4,808.4,808.4,808.4,808.4,808.4,808.4,808.4,808.4,808.4,808.4,406.08000000000004,0,0,0,0,0,0,0,0,0,0,0,0,0,0,0,0,{"$f":"AV137*$F$10","v":0}]
[null,null,null,null,{"$f":"E138&\" with sensitivity applied\"","v":"Transfer and shipping with sensitivity applied"},null,"US$ mn",null,3068.670000000001,null,{"$f":"K138*$F$10","v":0},0,3.7400000000000007,18.700000000000003,37.400000000000006,93.500000000000014,201.02500000000003,201.02500000000003,201.02500000000003,201.02500000000003,201.02500000000003,201.02500000000003,201.02500000000003,201.02500000000003,201.02500000000003,201.02500000000003,201.02500000000003,201.02500000000003,201.02500000000003,201.02500000000003,100.98000000000002,0,0,0,0,0,0,0,0,0,0,0,0,0,0,0,0,{"$f":"AV138*$F$10","v":0}]
[null,null,null,null,{"$f":"E145&\" with sensitivity applied\"","v":"Contractor (Offshore) with sensitivity applied"},null,"US$ mn",null,1854.3299999999995,null,{"$f":"K145*$F$10","v":0},0,2.2600000000000002,11.3,22.6,56.5,121.47500000000001,121.47500000000001,121.47500000000001,121.47500000000001,{"$f":"U145*$F$10","v":121.47500000000001},121.47500000000001,121.47500000000001,121.47500000000001,121.47500000000001,121.47500000000001,121.47500000000001,121.47500000000001,121.47500000000001,121.47500000000001,61.02000000000001,0,0,0,0,0,0,0,0,0,0,0,0,0,0,0,0,{"$f":"AV145*$F$10","v":0}]
[null,null,null,null,{"$f":"E146&\" with sensitivity applied\"","v":"Consumables (Offshore) with sensitivity applied"},null,"US$ mn",null,3839.940000000001,null,{"$f":"K146*$F$10","v":0},0,4.68,23.4,46.8,117,251.54999999999998,251.54999999999998,251.54999999999998,251.54999999999998,251.54999999999998,251.54999999999998,251.54999999999998,251.54999999999998,251.54999999999998,251.54999999999998,251.54999999999998,251.54999999999998,251.54999999999998,251.54999999999998,126.36,0,0,0,0,0,0,0,0,0,0,0,0,0,0,0,0,{"$f":"AV146*$F$10","v":0}]
[null,null,null,null,{"$f":"E147&\" with sensitivity applied\"","v":"Processing  with sensitivity applied"},null,"US$ mn",null,13620.300000000001,null,{"$f":"K147*$F$10","v":0},0,16.600000000000001,83,166,415,892.25,892.25,892.25,892.25,892.25,892.25,892.25,892.25,892.25,892.25,892.25,892.25,892.25,892.25,448.20000000000005,0,0,0,0,0,0,0,0,0,0,0,0,0,0,0,0,{"$f":"AV147*$F$10","v":0}]
[null,null,null,null,{"$f":"E148&\" with sensitivity applied\"","v":"G&A with sensitivity applied"},null,"US$ mn",null,1985.6100000000004,null,{"$f":"K148*$F$10","v":0},{"$f":"L148*$F$10","v":0},2.42,12.1,24.2,60.5,130.07499999999999,130.07499999999999,130.07499999999999,130.07499999999999,130.07499999999999,130.07499999999999,130.07499999999999,130.07499999999999,130.07499999999999,130.07499999999999,130.07499999999999,130.07499999999999,130.07499999999999,130.07499999999999,65.34,0,0,0,0,0,0,0,0,0,0,0,0,0,0,0,0,{"$f":"AV148*$F$10","v":0}]
[null,null,null,null,{"$f":"E149&\" with sensitivity applied\"","v":"Total OPEX with sensitivity applied"},null,"US$ mn",null,36709.170000000013,null,{"$f":"K149*$F$10","v":0},{"$f":"L149*$F$10","v":0},44.74,223.70000000000002,447.40000000000003,1118.5,2404.7750000000001,2404.7750000000001,2404.7750000000001,2404.7750000000001,2404.7750000000001,2404.7750000000001,2404.7750000000001,2404.7750000000001,2404.7750000000001,2404.7750000000001,2404.7750000000001,2404.7750000000001,2404.7750000000001,2404.7750000000001,1207.98,0,0,0,0,0,0,0,0,0,0,0,0,0,0,0,0,{"$f":"AV149*$F$10","v":0}]
[]
[null,null,"Closure cost"]
[null,null,null,null,{"$f":"'Working Inputs'!E156","v":"Closure capital cost "},{"$f":"'Working Inputs'!F156","v":11.5},{"$f":"'Working Inputs'!G156","v":"US$ mn/year"}]
[null,null,null,null,{"$f":"+'T&E'!E77","v":"Capital closure period flag"},{"$f":"+'T&E'!F77","v":0},{"$f":"+'T&E'!G77","v":"flag"},{"$f":"+'T&E'!H77","v":0},{"$f":"+'T&E'!I77","v":10},{"$f":"+'T&E'!J77","v":0},{"$f":"+'T&E'!K77","v":0},{"$f":"+'T&E'!L77","v":0},{"$f":"+'T&E'!M77","v":0},{"$f":"+'T&E'!N77","v":0},{"$f":"+'T&E'!O77","v":0},{"$f":"+'T&E'!P77","v":0},{"$f":"+'T&E'!Q77","v":0},{"$f":"+'T&E'!R77","v":0},{"$f":"+'T&E'!S77","v":0},{"$f":"+'T&E'!T77","v":0},{"$f":"+'T&E'!U77","v":0},{"$f":"+'T&E'!V77","v":0},{"$f":"+'T&E'!W77","v":0},{"$f":"+'T&E'!X77","v":0},{"$f":"+'T&E'!Y77","v":0},{"$f":"+'T&E'!Z77","v":0},{"$f":"+'T&E'!AA77","v":0},{"$f":"+'T&E'!AB77","v":0},{"$f":"+'T&E'!AC77","v":0},{"$f":"+'T&E'!AD77","v":0},{"$f":"+'T&E'!AE77","v":0},{"$f":"+'T&E'!AF77","v":1},{"$f":"+'T&E'!AG77","v":1},{"$f":"+'T&E'!AH77","v":1},{"$f":"+'T&E'!AI77","v":1},{"$f":"+'T&E'!AJ77","v":1},{"$f":"+'T&E'!AK77","v":1},{"$f":"+'T&E'!AL77","v":1},{"$f":"+'T&E'!AM77","v":1},{"$f":"+'T&E'!AN77","v":1},{"$f":"+'T&E'!AO77","v":1},{"$f":"+'T&E'!AP77","v":0},{"$f":"+'T&E'!AQ77","v":0},{"$f":"+'T&E'!AR77","v":0},{"$f":"+'T&E'!AS77","v":0},{"$f":"+'T&E'!AT77","v":0},{"$f":"+'T&E'!AU77","v":0},{"$f":"+'T&E'!AV77","v":0}]
[]
[null,null,null,null,"Closure cost",null,"US$ mn",null,{"$f":" SUM(K163:AV163)","v":115},null,{"$f":"+K161*$F$160","v":0},{"$f":"+L161*$F$160","v":0},0,0,0,0,0,0,0,0,0,0,0,0,0,0,0,0,0,0,0,11.5,11.5,11.5,11.5,11.5,11.5,11.5,11.5,11.5,11.5,0,0,0,0,0,0,{"$f":"+AV161*$F$160","v":0}]
[]
["Project data"]
[]
[null,"Production"]
[]
[null,null,null,null,{"$f":"+'Working Inputs'!E43","v":"Wet ore to Dry ore rate area 1"},{"$f":"+'Working Inputs'!F43","v":0.72},{"$f":"+'Working Inputs'!G43","v":0}]
[null,null,null,null,{"$f":"+'Working Inputs'!E44","v":"Wet ore to Dry ore rate area 2"},{"$f":"+'Working Inputs'!F44","v":0}]
[null,null,null,null,{"$f":"E43","v":"Polymetallic nodule Production area 1 with sensitivity applied"},{"$f":"F43","v":0},"Mt (wet)",0,164.1,0,0,0,0.2,1,2,5,10.75,10.75,10.75,10.75,10.75,10.75,10.75,10.75,10.75,10.75,10.75,10.75,10.75,10.75,5.4,0,0,0,0,0,0,0,0,0,0,0,0,0,0,0,0,0]
[{"$f":"A44","v":0},0,0,0,"Polymetallic nodule Production area 2 with sensitivity applied",{"$f":"F44","v":0},"Mt (wet)",0,0,0,0,0,0,0,0,0,0,0,0,0,0,0,0,0,0,0,0,0,0,0,0,0,0,0,0,0,0,0,0,0,0,0,0,0,0,0,0,0,0,0,0,0,0,0,0,0,0,0,0,0,0,0,0,0,{"$f":"BM44","v":0},0,0,0,0,0,0,0,0,0,0,0,0,0,0,0,0,0,0,0,0,0,0,0,0,0,0,0,0,0,0,0,0,0,0,0,0,0,0,0,0,0,0,0,0,0,0,0,0,0,0,0,0,0,0,0,0,0,0,0,0,0,0,0,{"$f":"DY44","v":0},0,0,0,0,0,0,0,0,0,0,0,0,0,0,0,0,0,0,0,0,0,0,0,0,0,0,0,0,0,0,0,0,0,0,0,0,0,0,0,0,0,0,0,0,0,0,0,0,0,0,0,0,0,0,0,0,0,0,0,0,0,0,0,{"$f":"GK44","v":0},0,0,0,0,0,0,0,0,0,0,0,0,0,0,0,0,0,0,0,0,0,0,0,0,0,0,0,0,0,0,0,0,0,0,0,0,0,0,0,0,0,0,0,0,0,0,0,0,0,0,0,0,0,0,0,0,0,0,0,0,0,0,0,{"$f":"IW44","v":0},0,0,0,0,0,0,0,0,0,0,0,0,0,0,0,0,0,0,0,0,0,0,0,0,0,0,0,0,0,0,0,0,0,0,0,0,0,0,0,0,0,0,0,0,0,0,0,0,0,0,0,0,0,0,0,0,0,0,0,0,0,0,0,{"$f":"LI44","v":0},0,0,0,0,0,0,0,0,0,0,0,0,0,0,0,0,0,0,0,0,0,0,0,0,0,0,0,0,0,0,0,0,0,0,0,0,0,0,0,0,0,0,0,0,0,0,0,0,0,0,0,0,0,0,0,0,0,0,0,0,0,0,0,{"$f":"NU44","v":0},0,0,0,0,0,0,0,0,0,0,0,0,0,0,0,0,0,0,0,0,0,0,0,0,0,0,0,0,0,0,0,0,0,0,0,0,0,0,0,0,0,0,0,0,0,0,0,0,0,0,0,0,0,0,0,0,0,0,0,0,0,0,0,{"$f":"QG44","v":0},0,0,0,0,0,0,0,0,0,0,0,0,0,0,0,0,0,0,0,0,0,0,0,0,0,0,0,0,0,0,0,0,0,0,0,0,0,0,0,0,0,0,0,0,0,0,0,0,0,0,0,0,0,0,0,0,0,0,0,0,0,0,0,{"$f":"SS44","v":0},0,0,0,0,0,0,0,0,0,0,0,0,0,0,0,0,0,0,0,0,0,0,0,0,0,0,0,0,0,0,0,0,0,0,0,0,0,0,0,0,0,0,0,0,0,0,0,0,0,0,0,0,0,0,0,0,0,0,0,0,0,0,0,{"$f":"VE44","v":0},0,0,0,0,0,0,0,0,0,0,0,0,0,0,0,0,0,0,0,0,0,0,0,0,0,0,0,0,0,0,0,0,0,0,0,0,0,0,0,0,0,0,0,0,0,0,0,0,0,0,0,0,0,0,0,0,0,0,0,0,0,0,0,{"$f":"XQ44","v":0},0,0,0,0,0,0,0,0,0,0,0,0,0,0,0,0,0,0,0,0,0,0,0,0,0,0,0,0,0,0,0,0,0,0,0,0,0,0,0,0,0,0,0,0,0,0,0,0,0,0,0,0,0,0,0,0,0,0,0,0,0,0,0,{"$f":"AAC44","v":0},0,0,0,0,0,0,0,0,0,0,0,0,0,0,0,0,0,0,0,0,0,0,0,0,0,0,0,0,0,0,0,0,0,0,0,0,0,0,0,0,0,0,0,0,0,0,0,0,0,0,0,0,0,0,0,0,0,0,0,0,0,0,0,{"$f":"ACO44","v":0},0,0,0,0,0,0,0,0,0,0,0,0,0,0,0,0,0,0,0,0,0,0,0,0,0,0,0,0,0,0,0,0,0,0,0,0,0,0,0,0,0,0,0,0,0,0,0,0,0,0,0,0,0,0,0,0,0,0,0,0,0,0,0,{"$f":"AFA44","v":0},0,0,0,0,0,0,0,0,0,0,0,0,0,0,0,0,0,0,0,0,0,0,0,0,0,0,0,0,0,0,0,0,0,0,0,0,0,0,0,0,0,0,0,0,0,0,0,0,0,0,0,0,0,0,0,0,0,0,0,0,0,0,0,{"$f":"AHM44","v":0},0,0,0,0,0,0,0,0,0,0,0,0,0,0,0,0,0,0,0,0,0,0,0,0,0,0,0,0,0,0,0,0,0,0,0,0,0,0,0,0,0,0,0,0,0,0,0,0,0,0,0,0,0,0,0,0,0,0,0,0,0,0,0,{"$f":"AJY44","v":0},0,0,0,0,0,0,0,0,0,0,0,0,0,0,0,0,0,0,0,0,0,0,0,0,0,0,0,0,0,0,0,0,0,0,0,0,0,0,0,0,0,0,0,0,0,0,0,0,0,0,0,0,0,0,0,0,0,0,0,0,0,0,0,{"$f":"AMK44","v":0},0,0,0,0,0,0,0,0,0,0,0,0,0,0,0,0,0,0,0,0,0,0,0,0,0,0,0,0,0,0,0,0,0,0,0,0,0,0,0,0,0,0,0,0,0,0,0,0,0,0,0,0,0,0,0,0,0,0,0,0,0,0,0,{"$f":"AOW44","v":0},0,0,0,0,0,0,0,0,0,0,0,0,0,0,0,0,0,0,0,0,0,0,0,0,0,0,0,0,0,0,0,0,0,0,0,0,0,0,0,0,0,0,0,0,0,0,0,0,0,0,0,0,0,0,0,0,0,0,0,0,0,0,0,{"$f":"ARI44","v":0},0,0,0,0,0,0,0,0,0,0,0,0,0,0,0,0,0,0,0,0,0,0,0,0,0,0,0,0,0,0,0,0,0,0,0,0,0,0,0,0,0,0,0,0,0,0,0,0,0,0,0,0,0,0,0,0,0,0,0,0,0,0,0,{"$f":"ATU44","v":0},0,0,0,0,0,0,0,0,0,0,0,0,0,0,0,0,0,0,0,0,0,0,0,0,0,0,0,0,0,0,0,0,0,0,0,0,0,0,0,0,0,0,0,0,0,0,0,0,0,0,0,0,0,0,0,0,0,0,0,0,0,0,0,{"$f":"AWG44","v":0},0,0,0,0,0,0,0,0,0,0,0,0,0,0,0,0,0,0,0,0,0,0,0,0,0,0,0,0,0,0,0,0,0,0,0,0,0,0,0,0,0,0,0,0,0,0,0,0,0,0,0,0,0,0,0,0,0,0,0,0,0,0,0,{"$f":"AYS44","v":0},0,0,0,0,0,0,0,0,0,0,0,0,0,0,0,0,0,0,0,0,0,0,0,0,0,0,0,0,0,0,0,0,0,0,0,0,0,0,0,0,0,0,0,0,0,0,0,0,0,0,0,0,0,0,0,0,0,0,0,0,0,0,0,{"$f":"BBE44","v":0},0,0,0,0,0,0,0,0,0,0,0,0,0,0,0,0,0,0,0,0,0,0,0,0,0,0,0,0,0,0,0,0,0,0,0,0,0,0,0,0,0,0,0,0,0,0,0,0,0,0,0,0,0,0,0,0,0,0,0,0,0,0,0,{"$f":"BDQ44","v":0},0,0,0,0,0,0,0,0,0,0,0,0,0,0,0,0,0,0,0,0,0,0,0,0,0,0,0,0,0,0,0,0,0,0,0,0,0,0,0,0,0,0,0,0,0,0,0,0,0,0,0,0,0,0,0,0,0,0,0,0,0,0,0,{"$f":"BGC44","v":0},0,0,0,0,0,0,0,0,0,0,0,0,0,0,0,0,0,0,0,0,0,0,0,0,0,0,0,0,0,0,0,0,0,0,0,0,0,0,0,0,0,0,0,0,0,0,0,0,0,0,0,0,0,0,0,0,0,0,0,0,0,0,0,{"$f":"BIO44","v":0},0,0,0,0,0,0,0,0,0,0,0,0,0,0,0,0,0,0,0,0,0,0,0,0,0,0,0,0,0,0,0,0,0,0,0,0,0,0,0,0,0,0,0,0,0,0,0,0,0,0,0,0,0,0,0,0,0,0,0,0,0,0,0,{"$f":"BLA44","v":0},0,0,0,0,0,0,0,0,0,0,0,0,0,0,0,0,0,0,0,0,0,0,0,0,0,0,0,0,0,0,0,0,0,0,0,0,0,0,0,0,0,0,0,0,0,0,0,0,0,0,0,0,0,0,0,0,0,0,0,0,0,0,0,{"$f":"BNM44","v":0},0,0,0,0,0,0,0,0,0,0,0,0,0,0,0,0,0,0,0,0,0,0,0,0,0,0,0,0,0,0,0,0,0,0,0,0,0,0,0,0,0,0,0,0,0,0,0,0,0,0,0,0,0,0,0,0,0,0,0,0,0,0,0,{"$f":"BPY44","v":0},0,0,0,0,0,0,0,0,0,0,0,0,0,0,0,0,0,0,0,0,0,0,0,0,0,0,0,0,0,0,0,0,0,0,0,0,0,0,0,0,0,0,0,0,0,0,0,0,0,0,0,0,0,0,0,0,0,0,0,0,0,0,0,{"$f":"BSK44","v":0},0,0,0,0,0,0,0,0,0,0,0,0,0,0,0,0,0,0,0,0,0,0,0,0,0,0,0,0,0,0,0,0,0,0,0,0,0,0,0,0,0,0,0,0,0,0,0,0,0,0,0,0,0,0,0,0,0,0,0,0,0,0,0,{"$f":"BUW44","v":0},0,0,0,0,0,0,0,0,0,0,0,0,0,0,0,0,0,0,0,0,0,0,0,0,0,0,0,0,0,0,0,0,0,0,0,0,0,0,0,0,0,0,0,0,0,0,0,0,0,0,0,0,0,0,0,0,0,0,0,0,0,0,0,{"$f":"BXI44","v":0},0,0,0,0,0,0,0,0,0,0,0,0,0,0,0,0,0,0,0,0,0,0,0,0,0,0,0,0,0,0,0,0,0,0,0,0,0,0,0,0,0,0,0,0,0,0,0,0,0,0,0,0,0,0,0,0,0,0,0,0,0,0,0,{"$f":"BZU44","v":0},0,0,0,0,0,0,0,0,0,0,0,0,0,0,0,0,0,0,0,0,0,0,0,0,0,0,0,0,0,0,0,0,0,0,0,0,0,0,0,0,0,0,0,0,0,0,0,0,0,0,0,0,0,0,0,0,0,0,0,0,0,0,0,{"$f":"CCG44","v":0},0,0,0,0,0,0,0,0,0,0,0,0,0,0,0,0,0,0,0,0,0,0,0,0,0,0,0,0,0,0,0,0,0,0,0,0,0,0,0,0,0,0,0,0,0,0,0,0,0,0,0,0,0,0,0,0,0,0,0,0,0,0,0,{"$f":"CES44","v":0},0,0,0,0,0,0,0,0,0,0,0,0,0,0,0,0,0,0,0,0,0,0,0,0,0,0,0,0,0,0,0,0,0,0,0,0,0,0,0,0,0,0,0,0,0,0,0,0,0,0,0,0,0,0,0,0,0,0,0,0,0,0,0,{"$f":"CHE44","v":0},0,0,0,0,0,0,0,0,0,0,0,0,0,0,0,0,0,0,0,0,0,0,0,0,0,0,0,0,0,0,0,0,0,0,0,0,0,0,0,0,0,0,0,0,0,0,0,0,0,0,0,0,0,0,0,0,0,0,0,0,0,0,0,{"$f":"CJQ44","v":0},0,0,0,0,0,0,0,0,0,0,0,0,0,0,0,0,0,0,0,0,0,0,0,0,0,0,0,0,0,0,0,0,0,0,0,0,0,0,0,0,0,0,0,0,0,0,0,0,0,0,0,0,0,0,0,0,0,0,0,0,0,0,0,{"$f":"CMC44","v":0},0,0,0,0,0,0,0,0,0,0,0,0,0,0,0,0,0,0,0,0,0,0,0,0,0,0,0,0,0,0,0,0,0,0,0,0,0,0,0,0,0,0,0,0,0,0,0,0,0,0,0,0,0,0,0,0,0,0,0,0,0,0,0,{"$f":"COO44","v":0},0,0,0,0,0,0,0,0,0,0,0,0,0,0,0,0,0,0,0,0,0,0,0,0,0,0,0,0,0,0,0,0,0,0,0,0,0,0,0,0,0,0,0,0,0,0,0,0,0,0,0,0,0,0,0,0,0,0,0,0,0,0,0,{"$f":"CRA44","v":0},0,0,0,0,0,0,0,0,0,0,0,0,0,0,0,0,0,0,0,0,0,0,0,0,0,0,0,0,0,0,0,0,0,0,0,0,0,0,0,0,0,0,0,0,0,0,0,0,0,0,0,0,0,0,0,0,0,0,0,0,0,0,0,{"$f":"CTM44","v":0},0,0,0,0,0,0,0,0,0,0,0,0,0,0,0,0,0,0,0,0,0,0,0,0,0,0,0,0,0,0,0,0,0,0,0,0,0,0,0,0,0,0,0,0,0,0,0,0,0,0,0,0,0,0,0,0,0,0,0,0,0,0,0,{"$f":"CVY44","v":0},0,0,0,0,0,0,0,0,0,0,0,0,0,0,0,0,0,0,0,0,0,0,0,0,0,0,0,0,0,0,0,0,0,0,0,0,0,0,0,0,0,0,0,0,0,0,0,0,0,0,0,0,0,0,0,0,0,0,0,0,0,0,0,{"$f":"CYK44","v":0},0,0,0,0,0,0,0,0,0,0,0,0,0,0,0,0,0,0,0,0,0,0,0,0,0,0,0,0,0,0,0,0,0,0,0,0,0,0,0,0,0,0,0,0,0,0,0,0,0,0,0,0,0,0,0,0,0,0,0,0,0,0,0,{"$f":"DAW44","v":0},0,0,0,0,0,0,0,0,0,0,0,0,0,0,0,0,0,0,0,0,0,0,0,0,0,0,0,0,0,0,0,0,0,0,0,0,0,0,0,0,0,0,0,0,0,0,0,0,0,0,0,0,0,0,0,0,0,0,0,0,0,0,0,{"$f":"DDI44","v":0},0,0,0,0,0,0,0,0,0,0,0,0,0,0,0,0,0,0,0,0,0,0,0,0,0,0,0,0,0,0,0,0,0,0,0,0,0,0,0,0,0,0,0,0,0,0,0,0,0,0,0,0,0,0,0,0,0,0,0,0,0,0,0,{"$f":"DFU44","v":0},0,0,0,0,0,0,0,0,0,0,0,0,0,0,0,0,0,0,0,0,0,0,0,0,0,0,0,0,0,0,0,0,0,0,0,0,0,0,0,0,0,0,0,0,0,0,0,0,0,0,0,0,0,0,0,0,0,0,0,0,0,0,0,{"$f":"DIG44","v":0},0,0,0,0,0,0,0,0,0,0,0,0,0,0,0,0,0,0,0,0,0,0,0,0,0,0,0,0,0,0,0,0,0,0,0,0,0,0,0,0,0,0,0,0,0,0,0,0,0,0,0,0,0,0,0,0,0,0,0,0,0,0,0,{"$f":"DKS44","v":0},0,0,0,0,0,0,0,0,0,0,0,0,0,0,0,0,0,0,0,0,0,0,0,0,0,0,0,0,0,0,0,0,0,0,0,0,0,0,0,0,0,0,0,0,0,0,0,0,0,0,0,0,0,0,0,0,0,0,0,0,0,0,0,{"$f":"DNE44","v":0},0,0,0,0,0,0,0,0,0,0,0,0,0,0,0,0,0,0,0,0,0,0,0,0,0,0,0,0,0,0,0,0,0,0,0,0,0,0,0,0,0,0,0,0,0,0,0,0,0,0,0,0,0,0,0,0,0,0,0,0,0,0,0,{"$f":"DPQ44","v":0},0,0,0,0,0,0,0,0,0,0,0,0,0,0,0,0,0,0,0,0,0,0,0,0,0,0,0,0,0,0,0,0,0,0,0,0,0,0,0,0,0,0,0,0,0,0,0,0,0,0,0,0,0,0,0,0,0,0,0,0,0,0,0,{"$f":"DSC44","v":0},0,0,0,0,0,0,0,0,0,0,0,0,0,0,0,0,0,0,0,0,0,0,0,0,0,0,0,0,0,0,0,0,0,0,0,0,0,0,0,0,0,0,0,0,0,0,0,0,0,0,0,0,0,0,0,0,0,0,0,0,0,0,0,{"$f":"DUO44","v":0},0,0,0,0,0,0,0,0,0,0,0,0,0,0,0,0,0,0,0,0,0,0,0,0,0,0,0,0,0,0,0,0,0,0,0,0,0,0,0,0,0,0,0,0,0,0,0,0,0,0,0,0,0,0,0,0,0,0,0,0,0,0,0,{"$f":"DXA44","v":0},0,0,0,0,0,0,0,0,0,0,0,0,0,0,0,0,0,0,0,0,0,0,0,0,0,0,0,0,0,0,0,0,0,0,0,0,0,0,0,0,0,0,0,0,0,0,0,0,0,0,0,0,0,0,0,0,0,0,0,0,0,0,0,{"$f":"DZM44","v":0},0,0,0,0,0,0,0,0,0,0,0,0,0,0,0,0,0,0,0,0,0,0,0,0,0,0,0,0,0,0,0,0,0,0,0,0,0,0,0,0,0,0,0,0,0,0,0,0,0,0,0,0,0,0,0,0,0,0,0,0,0,0,0,{"$f":"EBY44","v":0},0,0,0,0,0,0,0,0,0,0,0,0,0,0,0,0,0,0,0,0,0,0,0,0,0,0,0,0,0,0,0,0,0,0,0,0,0,0,0,0,0,0,0,0,0,0,0,0,0,0,0,0,0,0,0,0,0,0,0,0,0,0,0,{"$f":"EEK44","v":0},0,0,0,0,0,0,0,0,0,0,0,0,0,0,0,0,0,0,0,0,0,0,0,0,0,0,0,0,0,0,0,0,0,0,0,0,0,0,0,0,0,0,0,0,0,0,0,0,0,0,0,0,0,0,0,0,0,0,0,0,0,0,0,{"$f":"EGW44","v":0},0,0,0,0,0,0,0,0,0,0,0,0,0,0,0,0,0,0,0,0,0,0,0,0,0,0,0,0,0,0,0,0,0,0,0,0,0,0,0,0,0,0,0,0,0,0,0,0,0,0,0,0,0,0,0,0,0,0,0,0,0,0,0,{"$f":"EJI44","v":0},0,0,0,0,0,0,0,0,0,0,0,0,0,0,0,0,0,0,0,0,0,0,0,0,0,0,0,0,0,0,0,0,0,0,0,0,0,0,0,0,0,0,0,0,0,0,0,0,0,0,0,0,0,0,0,0,0,0,0,0,0,0,0,{"$f":"ELU44","v":0},0,0,0,0,0,0,0,0,0,0,0,0,0,0,0,0,0,0,0,0,0,0,0,0,0,0,0,0,0,0,0,0,0,0,0,0,0,0,0,0,0,0,0,0,0,0,0,0,0,0,0,0,0,0,0,0,0,0,0,0,0,0,0,{"$f":"EOG44","v":0},0,0,0,0,0,0,0,0,0,0,0,0,0,0,0,0,0,0,0,0,0,0,0,0,0,0,0,0,0,0,0,0,0,0,0,0,0,0,0,0,0,0,0,0,0,0,0,0,0,0,0,0,0,0,0,0,0,0,0,0,0,0,0,{"$f":"EQS44","v":0},0,0,0,0,0,0,0,0,0,0,0,0,0,0,0,0,0,0,0,0,0,0,0,0,0,0,0,0,0,0,0,0,0,0,0,0,0,0,0,0,0,0,0,0,0,0,0,0,0,0,0,0,0,0,0,0,0,0,0,0,0,0,0,{"$f":"ETE44","v":0},0,0,0,0,0,0,0,0,0,0,0,0,0,0,0,0,0,0,0,0,0,0,0,0,0,0,0,0,0,0,0,0,0,0,0,0,0,0,0,0,0,0,0,0,0,0,0,0,0,0,0,0,0,0,0,0,0,0,0,0,0,0,0,{"$f":"EVQ44","v":0},0,0,0,0,0,0,0,0,0,0,0,0,0,0,0,0,0,0,0,0,0,0,0,0,0,0,0,0,0,0,0,0,0,0,0,0,0,0,0,0,0,0,0,0,0,0,0,0,0,0,0,0,0,0,0,0,0,0,0,0,0,0,0,{"$f":"EYC44","v":0},0,0,0,0,0,0,0,0,0,0,0,0,0,0,0,0,0,0,0,0,0,0,0,0,0,0,0,0,0,0,0,0,0,0,0,0,0,0,0,0,0,0,0,0,0,0,0,0,0,0,0,0,0,0,0,0,0,0,0,0,0,0,0,{"$f":"FAO44","v":0},0,0,0,0,0,0,0,0,0,0,0,0,0,0,0,0,0,0,0,0,0,0,0,0,0,0,0,0,0,0,0,0,0,0,0,0,0,0,0,0,0,0,0,0,0,0,0,0,0,0,0,0,0,0,0,0,0,0,0,0,0,0,0,{"$f":"FDA44","v":0},0,0,0,0,0,0,0,0,0,0,0,0,0,0,0,0,0,0,0,0,0,0,0,0,0,0,0,0,0,0,0,0,0,0,0,0,0,0,0,0,0,0,0,0,0,0,0,0,0,0,0,0,0,0,0,0,0,0,0,0,0,0,0,{"$f":"FFM44","v":0},0,0,0,0,0,0,0,0,0,0,0,0,0,0,0,0,0,0,0,0,0,0,0,0,0,0,0,0,0,0,0,0,0,0,0,0,0,0,0,0,0,0,0,0,0,0,0,0,0,0,0,0,0,0,0,0,0,0,0,0,0,0,0,{"$f":"FHY44","v":0},0,0,0,0,0,0,0,0,0,0,0,0,0,0,0,0,0,0,0,0,0,0,0,0,0,0,0,0,0,0,0,0,0,0,0,0,0,0,0,0,0,0,0,0,0,0,0,0,0,0,0,0,0,0,0,0,0,0,0,0,0,0,0,{"$f":"FKK44","v":0},0,0,0,0,0,0,0,0,0,0,0,0,0,0,0,0,0,0,0,0,0,0,0,0,0,0,0,0,0,0,0,0,0,0,0,0,0,0,0,0,0,0,0,0,0,0,0,0,0,0,0,0,0,0,0,0,0,0,0,0,0,0,0,{"$f":"FMW44","v":0},0,0,0,0,0,0,0,0,0,0,0,0,0,0,0,0,0,0,0,0,0,0,0,0,0,0,0,0,0,0,0,0,0,0,0,0,0,0,0,0,0,0,0,0,0,0,0,0,0,0,0,0,0,0,0,0,0,0,0,0,0,0,0,{"$f":"FPI44","v":0},0,0,0,0,0,0,0,0,0,0,0,0,0,0,0,0,0,0,0,0,0,0,0,0,0,0,0,0,0,0,0,0,0,0,0,0,0,0,0,0,0,0,0,0,0,0,0,0,0,0,0,0,0,0,0,0,0,0,0,0,0,0,0,{"$f":"FRU44","v":0},0,0,0,0,0,0,0,0,0,0,0,0,0,0,0,0,0,0,0,0,0,0,0,0,0,0,0,0,0,0,0,0,0,0,0,0,0,0,0,0,0,0,0,0,0,0,0,0,0,0,0,0,0,0,0,0,0,0,0,0,0,0,0,{"$f":"FUG44","v":0},0,0,0,0,0,0,0,0,0,0,0,0,0,0,0,0,0,0,0,0,0,0,0,0,0,0,0,0,0,0,0,0,0,0,0,0,0,0,0,0,0,0,0,0,0,0,0,0,0,0,0,0,0,0,0,0,0,0,0,0,0,0,0,{"$f":"FWS44","v":0},0,0,0,0,0,0,0,0,0,0,0,0,0,0,0,0,0,0,0,0,0,0,0,0,0,0,0,0,0,0,0,0,0,0,0,0,0,0,0,0,0,0,0,0,0,0,0,0,0,0,0,0,0,0,0,0,0,0,0,0,0,0,0,{"$f":"FZE44","v":0},0,0,0,0,0,0,0,0,0,0,0,0,0,0,0,0,0,0,0,0,0,0,0,0,0,0,0,0,0,0,0,0,0,0,0,0,0,0,0,0,0,0,0,0,0,0,0,0,0,0,0,0,0,0,0,0,0,0,0,0,0,0,0,{"$f":"GBQ44","v":0},0,0,0,0,0,0,0,0,0,0,0,0,0,0,0,0,0,0,0,0,0,0,0,0,0,0,0,0,0,0,0,0,0,0,0,0,0,0,0,0,0,0,0,0,0,0,0,0,0,0,0,0,0,0,0,0,0,0,0,0,0,0,0,{"$f":"GEC44","v":0},0,0,0,0,0,0,0,0,0,0,0,0,0,0,0,0,0,0,0,0,0,0,0,0,0,0,0,0,0,0,0,0,0,0,0,0,0,0,0,0,0,0,0,0,0,0,0,0,0,0,0,0,0,0,0,0,0,0,0,0,0,0,0,{"$f":"GGO44","v":0},0,0,0,0,0,0,0,0,0,0,0,0,0,0,0,0,0,0,0,0,0,0,0,0,0,0,0,0,0,0,0,0,0,0,0,0,0,0,0,0,0,0,0,0,0,0,0,0,0,0,0,0,0,0,0,0,0,0,0,0,0,0,0,{"$f":"GJA44","v":0},0,0,0,0,0,0,0,0,0,0,0,0,0,0,0,0,0,0,0,0,0,0,0,0,0,0,0,0,0,0,0,0,0,0,0,0,0,0,0,0,0,0,0,0,0,0,0,0,0,0,0,0,0,0,0,0,0,0,0,0,0,0,0,{"$f":"GLM44","v":0},0,0,0,0,0,0,0,0,0,0,0,0,0,0,0,0,0,0,0,0,0,0,0,0,0,0,0,0,0,0,0,0,0,0,0,0,0,0,0,0,0,0,0,0,0,0,0,0,0,0,0,0,0,0,0,0,0,0,0,0,0,0,0,{"$f":"GNY44","v":0},0,0,0,0,0,0,0,0,0,0,0,0,0,0,0,0,0,0,0,0,0,0,0,0,0,0,0,0,0,0,0,0,0,0,0,0,0,0,0,0,0,0,0,0,0,0,0,0,0,0,0,0,0,0,0,0,0,0,0,0,0,0,0,{"$f":"GQK44","v":0},0,0,0,0,0,0,0,0,0,0,0,0,0,0,0,0,0,0,0,0,0,0,0,0,0,0,0,0,0,0,0,0,0,0,0,0,0,0,0,0,0,0,0,0,0,0,0,0,0,0,0,0,0,0,0,0,0,0,0,0,0,0,0,{"$f":"GSW44","v":0},0,0,0,0,0,0,0,0,0,0,0,0,0,0,0,0,0,0,0,0,0,0,0,0,0,0,0,0,0,0,0,0,0,0,0,0,0,0,0,0,0,0,0,0,0,0,0,0,0,0,0,0,0,0,0,0,0,0,0,0,0,0,0,{"$f":"GVI44","v":0},0,0,0,0,0,0,0,0,0,0,0,0,0,0,0,0,0,0,0,0,0,0,0,0,0,0,0,0,0,0,0,0,0,0,0,0,0,0,0,0,0,0,0,0,0,0,0,0,0,0,0,0,0,0,0,0,0,0,0,0,0,0,0,{"$f":"GXU44","v":0},0,0,0,0,0,0,0,0,0,0,0,0,0,0,0,0,0,0,0,0,0,0,0,0,0,0,0,0,0,0,0,0,0,0,0,0,0,0,0,0,0,0,0,0,0,0,0,0,0,0,0,0,0,0,0,0,0,0,0,0,0,0,0,{"$f":"HAG44","v":0},0,0,0,0,0,0,0,0,0,0,0,0,0,0,0,0,0,0,0,0,0,0,0,0,0,0,0,0,0,0,0,0,0,0,0,0,0,0,0,0,0,0,0,0,0,0,0,0,0,0,0,0,0,0,0,0,0,0,0,0,0,0,0,{"$f":"HCS44","v":0},0,0,0,0,0,0,0,0,0,0,0,0,0,0,0,0,0,0,0,0,0,0,0,0,0,0,0,0,0,0,0,0,0,0,0,0,0,0,0,0,0,0,0,0,0,0,0,0,0,0,0,0,0,0,0,0,0,0,0,0,0,0,0,{"$f":"HFE44","v":0},0,0,0,0,0,0,0,0,0,0,0,0,0,0,0,0,0,0,0,0,0,0,0,0,0,0,0,0,0,0,0,0,0,0,0,0,0,0,0,0,0,0,0,0,0,0,0,0,0,0,0,0,0,0,0,0,0,0,0,0,0,0,0,{"$f":"HHQ44","v":0},0,0,0,0,0,0,0,0,0,0,0,0,0,0,0,0,0,0,0,0,0,0,0,0,0,0,0,0,0,0,0,0,0,0,0,0,0,0,0,0,0,0,0,0,0,0,0,0,0,0,0,0,0,0,0,0,0,0,0,0,0,0,0,{"$f":"HKC44","v":0},0,0,0,0,0,0,0,0,0,0,0,0,0,0,0,0,0,0,0,0,0,0,0,0,0,0,0,0,0,0,0,0,0,0,0,0,0,0,0,0,0,0,0,0,0,0,0,0,0,0,0,0,0,0,0,0,0,0,0,0,0,0,0,{"$f":"HMO44","v":0},0,0,0,0,0,0,0,0,0,0,0,0,0,0,0,0,0,0,0,0,0,0,0,0,0,0,0,0,0,0,0,0,0,0,0,0,0,0,0,0,0,0,0,0,0,0,0,0,0,0,0,0,0,0,0,0,0,0,0,0,0,0,0,{"$f":"HPA44","v":0},0,0,0,0,0,0,0,0,0,0,0,0,0,0,0,0,0,0,0,0,0,0,0,0,0,0,0,0,0,0,0,0,0,0,0,0,0,0,0,0,0,0,0,0,0,0,0,0,0,0,0,0,0,0,0,0,0,0,0,0,0,0,0,{"$f":"HRM44","v":0},0,0,0,0,0,0,0,0,0,0,0,0,0,0,0,0,0,0,0,0,0,0,0,0,0,0,0,0,0,0,0,0,0,0,0,0,0,0,0,0,0,0,0,0,0,0,0,0,0,0,0,0,0,0,0,0,0,0,0,0,0,0,0,{"$f":"HTY44","v":0},0,0,0,0,0,0,0,0,0,0,0,0,0,0,0,0,0,0,0,0,0,0,0,0,0,0,0,0,0,0,0,0,0,0,0,0,0,0,0,0,0,0,0,0,0,0,0,0,0,0,0,0,0,0,0,0,0,0,0,0,0,0,0,{"$f":"HWK44","v":0},0,0,0,0,0,0,0,0,0,0,0,0,0,0,0,0,0,0,0,0,0,0,0,0,0,0,0,0,0,0,0,0,0,0,0,0,0,0,0,0,0,0,0,0,0,0,0,0,0,0,0,0,0,0,0,0,0,0,0,0,0,0,0,{"$f":"HYW44","v":0},0,0,0,0,0,0,0,0,0,0,0,0,0,0,0,0,0,0,0,0,0,0,0,0,0,0,0,0,0,0,0,0,0,0,0,0,0,0,0,0,0,0,0,0,0,0,0,0,0,0,0,0,0,0,0,0,0,0,0,0,0,0,0,{"$f":"IBI44","v":0},0,0,0,0,0,0,0,0,0,0,0,0,0,0,0,0,0,0,0,0,0,0,0,0,0,0,0,0,0,0,0,0,0,0,0,0,0,0,0,0,0,0,0,0,0,0,0,0,0,0,0,0,0,0,0,0,0,0,0,0,0,0,0,{"$f":"IDU44","v":0},0,0,0,0,0,0,0,0,0,0,0,0,0,0,0,0,0,0,0,0,0,0,0,0,0,0,0,0,0,0,0,0,0,0,0,0,0,0,0,0,0,0,0,0,0,0,0,0,0,0,0,0,0,0,0,0,0,0,0,0,0,0,0,{"$f":"IGG44","v":0},0,0,0,0,0,0,0,0,0,0,0,0,0,0,0,0,0,0,0,0,0,0,0,0,0,0,0,0,0,0,0,0,0,0,0,0,0,0,0,0,0,0,0,0,0,0,0,0,0,0,0,0,0,0,0,0,0,0,0,0,0,0,0,{"$f":"IIS44","v":0},0,0,0,0,0,0,0,0,0,0,0,0,0,0,0,0,0,0,0,0,0,0,0,0,0,0,0,0,0,0,0,0,0,0,0,0,0,0,0,0,0,0,0,0,0,0,0,0,0,0,0,0,0,0,0,0,0,0,0,0,0,0,0,{"$f":"ILE44","v":0},0,0,0,0,0,0,0,0,0,0,0,0,0,0,0,0,0,0,0,0,0,0,0,0,0,0,0,0,0,0,0,0,0,0,0,0,0,0,0,0,0,0,0,0,0,0,0,0,0,0,0,0,0,0,0,0,0,0,0,0,0,0,0,{"$f":"INQ44","v":0},0,0,0,0,0,0,0,0,0,0,0,0,0,0,0,0,0,0,0,0,0,0,0,0,0,0,0,0,0,0,0,0,0,0,0,0,0,0,0,0,0,0,0,0,0,0,0,0,0,0,0,0,0,0,0,0,0,0,0,0,0,0,0,{"$f":"IQC44","v":0},0,0,0,0,0,0,0,0,0,0,0,0,0,0,0,0,0,0,0,0,0,0,0,0,0,0,0,0,0,0,0,0,0,0,0,0,0,0,0,0,0,0,0,0,0,0,0,0,0,0,0,0,0,0,0,0,0,0,0,0,0,0,0,{"$f":"ISO44","v":0},0,0,0,0,0,0,0,0,0,0,0,0,0,0,0,0,0,0,0,0,0,0,0,0,0,0,0,0,0,0,0,0,0,0,0,0,0,0,0,0,0,0,0,0,0,0,0,0,0,0,0,0,0,0,0,0,0,0,0,0,0,0,0,{"$f":"IVA44","v":0},0,0,0,0,0,0,0,0,0,0,0,0,0,0,0,0,0,0,0,0,0,0,0,0,0,0,0,0,0,0,0,0,0,0,0,0,0,0,0,0,0,0,0,0,0,0,0,0,0,0,0,0,0,0,0,0,0,0,0,0,0,0,0,{"$f":"IXM44","v":0},0,0,0,0,0,0,0,0,0,0,0,0,0,0,0,0,0,0,0,0,0,0,0,0,0,0,0,0,0,0,0,0,0,0,0,0,0,0,0,0,0,0,0,0,0,0,0,0,0,0,0,0,0,0,0,0,0,0,0,0,0,0,0,{"$f":"IZY44","v":0},0,0,0,0,0,0,0,0,0,0,0,0,0,0,0,0,0,0,0,0,0,0,0,0,0,0,0,0,0,0,0,0,0,0,0,0,0,0,0,0,0,0,0,0,0,0,0,0,0,0,0,0,0,0,0,0,0,0,0,0,0,0,0,{"$f":"JCK44","v":0},0,0,0,0,0,0,0,0,0,0,0,0,0,0,0,0,0,0,0,0,0,0,0,0,0,0,0,0,0,0,0,0,0,0,0,0,0,0,0,0,0,0,0,0,0,0,0,0,0,0,0,0,0,0,0,0,0,0,0,0,0,0,0,{"$f":"JEW44","v":0},0,0,0,0,0,0,0,0,0,0,0,0,0,0,0,0,0,0,0,0,0,0,0,0,0,0,0,0,0,0,0,0,0,0,0,0,0,0,0,0,0,0,0,0,0,0,0,0,0,0,0,0,0,0,0,0,0,0,0,0,0,0,0,{"$f":"JHI44","v":0},0,0,0,0,0,0,0,0,0,0,0,0,0,0,0,0,0,0,0,0,0,0,0,0,0,0,0,0,0,0,0,0,0,0,0,0,0,0,0,0,0,0,0,0,0,0,0,0,0,0,0,0,0,0,0,0,0,0,0,0,0,0,0,{"$f":"JJU44","v":0},0,0,0,0,0,0,0,0,0,0,0,0,0,0,0,0,0,0,0,0,0,0,0,0,0,0,0,0,0,0,0,0,0,0,0,0,0,0,0,0,0,0,0,0,0,0,0,0,0,0,0,0,0,0,0,0,0,0,0,0,0,0,0,{"$f":"JMG44","v":0},0,0,0,0,0,0,0,0,0,0,0,0,0,0,0,0,0,0,0,0,0,0,0,0,0,0,0,0,0,0,0,0,0,0,0,0,0,0,0,0,0,0,0,0,0,0,0,0,0,0,0,0,0,0,0,0,0,0,0,0,0,0,0,{"$f":"JOS44","v":0},0,0,0,0,0,0,0,0,0,0,0,0,0,0,0,0,0,0,0,0,0,0,0,0,0,0,0,0,0,0,0,0,0,0,0,0,0,0,0,0,0,0,0,0,0,0,0,0,0,0,0,0,0,0,0,0,0,0,0,0,0,0,0,{"$f":"JRE44","v":0},0,0,0,0,0,0,0,0,0,0,0,0,0,0,0,0,0,0,0,0,0,0,0,0,0,0,0,0,0,0,0,0,0,0,0,0,0,0,0,0,0,0,0,0,0,0,0,0,0,0,0,0,0,0,0,0,0,0,0,0,0,0,0,{"$f":"JTQ44","v":0},0,0,0,0,0,0,0,0,0,0,0,0,0,0,0,0,0,0,0,0,0,0,0,0,0,0,0,0,0,0,0,0,0,0,0,0,0,0,0,0,0,0,0,0,0,0,0,0,0,0,0,0,0,0,0,0,0,0,0,0,0,0,0,{"$f":"JWC44","v":0},0,0,0,0,0,0,0,0,0,0,0,0,0,0,0,0,0,0,0,0,0,0,0,0,0,0,0,0,0,0,0,0,0,0,0,0,0,0,0,0,0,0,0,0,0,0,0,0,0,0,0,0,0,0,0,0,0,0,0,0,0,0,0,{"$f":"JYO44","v":0},0,0,0,0,0,0,0,0,0,0,0,0,0,0,0,0,0,0,0,0,0,0,0,0,0,0,0,0,0,0,0,0,0,0,0,0,0,0,0,0,0,0,0,0,0,0,0,0,0,0,0,0,0,0,0,0,0,0,0,0,0,0,0,{"$f":"KBA44","v":0},0,0,0,0,0,0,0,0,0,0,0,0,0,0,0,0,0,0,0,0,0,0,0,0,0,0,0,0,0,0,0,0,0,0,0,0,0,0,0,0,0,0,0,0,0,0,0,0,0,0,0,0,0,0,0,0,0,0,0,0,0,0,0,{"$f":"KDM44","v":0},0,0,0,0,0,0,0,0,0,0,0,0,0,0,0,0,0,0,0,0,0,0,0,0,0,0,0,0,0,0,0,0,0,0,0,0,0,0,0,0,0,0,0,0,0,0,0,0,0,0,0,0,0,0,0,0,0,0,0,0,0,0,0,{"$f":"KFY44","v":0},0,0,0,0,0,0,0,0,0,0,0,0,0,0,0,0,0,0,0,0,0,0,0,0,0,0,0,0,0,0,0,0,0,0,0,0,0,0,0,0,0,0,0,0,0,0,0,0,0,0,0,0,0,0,0,0,0,0,0,0,0,0,0,{"$f":"KIK44","v":0},0,0,0,0,0,0,0,0,0,0,0,0,0,0,0,0,0,0,0,0,0,0,0,0,0,0,0,0,0,0,0,0,0,0,0,0,0,0,0,0,0,0,0,0,0,0,0,0,0,0,0,0,0,0,0,0,0,0,0,0,0,0,0,{"$f":"KKW44","v":0},0,0,0,0,0,0,0,0,0,0,0,0,0,0,0,0,0,0,0,0,0,0,0,0,0,0,0,0,0,0,0,0,0,0,0,0,0,0,0,0,0,0,0,0,0,0,0,0,0,0,0,0,0,0,0,0,0,0,0,0,0,0,0,{"$f":"KNI44","v":0},0,0,0,0,0,0,0,0,0,0,0,0,0,0,0,0,0,0,0,0,0,0,0,0,0,0,0,0,0,0,0,0,0,0,0,0,0,0,0,0,0,0,0,0,0,0,0,0,0,0,0,0,0,0,0,0,0,0,0,0,0,0,0,{"$f":"KPU44","v":0},0,0,0,0,0,0,0,0,0,0,0,0,0,0,0,0,0,0,0,0,0,0,0,0,0,0,0,0,0,0,0,0,0,0,0,0,0,0,0,0,0,0,0,0,0,0,0,0,0,0,0,0,0,0,0,0,0,0,0,0,0,0,0,{"$f":"KSG44","v":0},0,0,0,0,0,0,0,0,0,0,0,0,0,0,0,0,0,0,0,0,0,0,0,0,0,0,0,0,0,0,0,0,0,0,0,0,0,0,0,0,0,0,0,0,0,0,0,0,0,0,0,0,0,0,0,0,0,0,0,0,0,0,0,{"$f":"KUS44","v":0},0,0,0,0,0,0,0,0,0,0,0,0,0,0,0,0,0,0,0,0,0,0,0,0,0,0,0,0,0,0,0,0,0,0,0,0,0,0,0,0,0,0,0,0,0,0,0,0,0,0,0,0,0,0,0,0,0,0,0,0,0,0,0,{"$f":"KXE44","v":0},0,0,0,0,0,0,0,0,0,0,0,0,0,0,0,0,0,0,0,0,0,0,0,0,0,0,0,0,0,0,0,0,0,0,0,0,0,0,0,0,0,0,0,0,0,0,0,0,0,0,0,0,0,0,0,0,0,0,0,0,0,0,0,{"$f":"KZQ44","v":0},0,0,0,0,0,0,0,0,0,0,0,0,0,0,0,0,0,0,0,0,0,0,0,0,0,0,0,0,0,0,0,0,0,0,0,0,0,0,0,0,0,0,0,0,0,0,0,0,0,0,0,0,0,0,0,0,0,0,0,0,0,0,0,{"$f":"LCC44","v":0},0,0,0,0,0,0,0,0,0,0,0,0,0,0,0,0,0,0,0,0,0,0,0,0,0,0,0,0,0,0,0,0,0,0,0,0,0,0,0,0,0,0,0,0,0,0,0,0,0,0,0,0,0,0,0,0,0,0,0,0,0,0,0,{"$f":"LEO44","v":0},0,0,0,0,0,0,0,0,0,0,0,0,0,0,0,0,0,0,0,0,0,0,0,0,0,0,0,0,0,0,0,0,0,0,0,0,0,0,0,0,0,0,0,0,0,0,0,0,0,0,0,0,0,0,0,0,0,0,0,0,0,0,0,{"$f":"LHA44","v":0},0,0,0,0,0,0,0,0,0,0,0,0,0,0,0,0,0,0,0,0,0,0,0,0,0,0,0,0,0,0,0,0,0,0,0,0,0,0,0,0,0,0,0,0,0,0,0,0,0,0,0,0,0,0,0,0,0,0,0,0,0,0,0,{"$f":"LJM44","v":0},0,0,0,0,0,0,0,0,0,0,0,0,0,0,0,0,0,0,0,0,0,0,0,0,0,0,0,0,0,0,0,0,0,0,0,0,0,0,0,0,0,0,0,0,0,0,0,0,0,0,0,0,0,0,0,0,0,0,0,0,0,0,0,{"$f":"LLY44","v":0},0,0,0,0,0,0,0,0,0,0,0,0,0,0,0,0,0,0,0,0,0,0,0,0,0,0,0,0,0,0,0,0,0,0,0,0,0,0,0,0,0,0,0,0,0,0,0,0,0,0,0,0,0,0,0,0,0,0,0,0,0,0,0,{"$f":"LOK44","v":0},0,0,0,0,0,0,0,0,0,0,0,0,0,0,0,0,0,0,0,0,0,0,0,0,0,0,0,0,0,0,0,0,0,0,0,0,0,0,0,0,0,0,0,0,0,0,0,0,0,0,0,0,0,0,0,0,0,0,0,0,0,0,0,{"$f":"LQW44","v":0},0,0,0,0,0,0,0,0,0,0,0,0,0,0,0,0,0,0,0,0,0,0,0,0,0,0,0,0,0,0,0,0,0,0,0,0,0,0,0,0,0,0,0,0,0,0,0,0,0,0,0,0,0,0,0,0,0,0,0,0,0,0,0,{"$f":"LTI44","v":0},0,0,0,0,0,0,0,0,0,0,0,0,0,0,0,0,0,0,0,0,0,0,0,0,0,0,0,0,0,0,0,0,0,0,0,0,0,0,0,0,0,0,0,0,0,0,0,0,0,0,0,0,0,0,0,0,0,0,0,0,0,0,0,{"$f":"LVU44","v":0},0,0,0,0,0,0,0,0,0,0,0,0,0,0,0,0,0,0,0,0,0,0,0,0,0,0,0,0,0,0,0,0,0,0,0,0,0,0,0,0,0,0,0,0,0,0,0,0,0,0,0,0,0,0,0,0,0,0,0,0,0,0,0,{"$f":"LYG44","v":0},0,0,0,0,0,0,0,0,0,0,0,0,0,0,0,0,0,0,0,0,0,0,0,0,0,0,0,0,0,0,0,0,0,0,0,0,0,0,0,0,0,0,0,0,0,0,0,0,0,0,0,0,0,0,0,0,0,0,0,0,0,0,0,{"$f":"MAS44","v":0},0,0,0,0,0,0,0,0,0,0,0,0,0,0,0,0,0,0,0,0,0,0,0,0,0,0,0,0,0,0,0,0,0,0,0,0,0,0,0,0,0,0,0,0,0,0,0,0,0,0,0,0,0,0,0,0,0,0,0,0,0,0,0,{"$f":"MDE44","v":0},0,0,0,0,0,0,0,0,0,0,0,0,0,0,0,0,0,0,0,0,0,0,0,0,0,0,0,0,0,0,0,0,0,0,0,0,0,0,0,0,0,0,0,0,0,0,0,0,0,0,0,0,0,0,0,0,0,0,0,0,0,0,0,{"$f":"MFQ44","v":0},0,0,0,0,0,0,0,0,0,0,0,0,0,0,0,0,0,0,0,0,0,0,0,0,0,0,0,0,0,0,0,0,0,0,0,0,0,0,0,0,0,0,0,0,0,0,0,0,0,0,0,0,0,0,0,0,0,0,0,0,0,0,0,{"$f":"MIC44","v":0},0,0,0,0,0,0,0,0,0,0,0,0,0,0,0,0,0,0,0,0,0,0,0,0,0,0,0,0,0,0,0,0,0,0,0,0,0,0,0,0,0,0,0,0,0,0,0,0,0,0,0,0,0,0,0,0,0,0,0,0,0,0,0,{"$f":"MKO44","v":0},0,0,0,0,0,0,0,0,0,0,0,0,0,0,0,0,0,0,0,0,0,0,0,0,0,0,0,0,0,0,0,0,0,0,0,0,0,0,0,0,0,0,0,0,0,0,0,0,0,0,0,0,0,0,0,0,0,0,0,0,0,0,0,{"$f":"MNA44","v":0},0,0,0,0,0,0,0,0,0,0,0,0,0,0,0,0,0,0,0,0,0,0,0,0,0,0,0,0,0,0,0,0,0,0,0,0,0,0,0,0,0,0,0,0,0,0,0,0,0,0,0,0,0,0,0,0,0,0,0,0,0,0,0,{"$f":"MPM44","v":0},0,0,0,0,0,0,0,0,0,0,0,0,0,0,0,0,0,0,0,0,0,0,0,0,0,0,0,0,0,0,0,0,0,0,0,0,0,0,0,0,0,0,0,0,0,0,0,0,0,0,0,0,0,0,0,0,0,0,0,0,0,0,0,{"$f":"MRY44","v":0},0,0,0,0,0,0,0,0,0,0,0,0,0,0,0,0,0,0,0,0,0,0,0,0,0,0,0,0,0,0,0,0,0,0,0,0,0,0,0,0,0,0,0,0,0,0,0,0,0,0,0,0,0,0,0,0,0,0,0,0,0,0,0,{"$f":"MUK44","v":0},0,0,0,0,0,0,0,0,0,0,0,0,0,0,0,0,0,0,0,0,0,0,0,0,0,0,0,0,0,0,0,0,0,0,0,0,0,0,0,0,0,0,0,0,0,0,0,0,0,0,0,0,0,0,0,0,0,0,0,0,0,0,0,{"$f":"MWW44","v":0},0,0,0,0,0,0,0,0,0,0,0,0,0,0,0,0,0,0,0,0,0,0,0,0,0,0,0,0,0,0,0,0,0,0,0,0,0,0,0,0,0,0,0,0,0,0,0,0,0,0,0,0,0,0,0,0,0,0,0,0,0,0,0,{"$f":"MZI44","v":0},0,0,0,0,0,0,0,0,0,0,0,0,0,0,0,0,0,0,0,0,0,0,0,0,0,0,0,0,0,0,0,0,0,0,0,0,0,0,0,0,0,0,0,0,0,0,0,0,0,0,0,0,0,0,0,0,0,0,0,0,0,0,0,{"$f":"NBU44","v":0},0,0,0,0,0,0,0,0,0,0,0,0,0,0,0,0,0,0,0,0,0,0,0,0,0,0,0,0,0,0,0,0,0,0,0,0,0,0,0,0,0,0,0,0,0,0,0,0,0,0,0,0,0,0,0,0,0,0,0,0,0,0,0,{"$f":"NEG44","v":0},0,0,0,0,0,0,0,0,0,0,0,0,0,0,0,0,0,0,0,0,0,0,0,0,0,0,0,0,0,0,0,0,0,0,0,0,0,0,0,0,0,0,0,0,0,0,0,0,0,0,0,0,0,0,0,0,0,0,0,0,0,0,0,{"$f":"NGS44","v":0},0,0,0,0,0,0,0,0,0,0,0,0,0,0,0,0,0,0,0,0,0,0,0,0,0,0,0,0,0,0,0,0,0,0,0,0,0,0,0,0,0,0,0,0,0,0,0,0,0,0,0,0,0,0,0,0,0,0,0,0,0,0,0,{"$f":"NJE44","v":0},0,0,0,0,0,0,0,0,0,0,0,0,0,0,0,0,0,0,0,0,0,0,0,0,0,0,0,0,0,0,0,0,0,0,0,0,0,0,0,0,0,0,0,0,0,0,0,0,0,0,0,0,0,0,0,0,0,0,0,0,0,0,0,{"$f":"NLQ44","v":0},0,0,0,0,0,0,0,0,0,0,0,0,0,0,0,0,0,0,0,0,0,0,0,0,0,0,0,0,0,0,0,0,0,0,0,0,0,0,0,0,0,0,0,0,0,0,0,0,0,0,0,0,0,0,0,0,0,0,0,0,0,0,0,{"$f":"NOC44","v":0},0,0,0,0,0,0,0,0,0,0,0,0,0,0,0,0,0,0,0,0,0,0,0,0,0,0,0,0,0,0,0,0,0,0,0,0,0,0,0,0,0,0,0,0,0,0,0,0,0,0,0,0,0,0,0,0,0,0,0,0,0,0,0,{"$f":"NQO44","v":0},0,0,0,0,0,0,0,0,0,0,0,0,0,0,0,0,0,0,0,0,0,0,0,0,0,0,0,0,0,0,0,0,0,0,0,0,0,0,0,0,0,0,0,0,0,0,0,0,0,0,0,0,0,0,0,0,0,0,0,0,0,0,0,{"$f":"NTA44","v":0},0,0,0,0,0,0,0,0,0,0,0,0,0,0,0,0,0,0,0,0,0,0,0,0,0,0,0,0,0,0,0,0,0,0,0,0,0,0,0,0,0,0,0,0,0,0,0,0,0,0,0,0,0,0,0,0,0,0,0,0,0,0,0,{"$f":"NVM44","v":0},0,0,0,0,0,0,0,0,0,0,0,0,0,0,0,0,0,0,0,0,0,0,0,0,0,0,0,0,0,0,0,0,0,0,0,0,0,0,0,0,0,0,0,0,0,0,0,0,0,0,0,0,0,0,0,0,0,0,0,0,0,0,0,{"$f":"NXY44","v":0},0,0,0,0,0,0,0,0,0,0,0,0,0,0,0,0,0,0,0,0,0,0,0,0,0,0,0,0,0,0,0,0,0,0,0,0,0,0,0,0,0,0,0,0,0,0,0,0,0,0,0,0,0,0,0,0,0,0,0,0,0,0,0,{"$f":"OAK44","v":0},0,0,0,0,0,0,0,0,0,0,0,0,0,0,0,0,0,0,0,0,0,0,0,0,0,0,0,0,0,0,0,0,0,0,0,0,0,0,0,0,0,0,0,0,0,0,0,0,0,0,0,0,0,0,0,0,0,0,0,0,0,0,0,{"$f":"OCW44","v":0},0,0,0,0,0,0,0,0,0,0,0,0,0,0,0,0,0,0,0,0,0,0,0,0,0,0,0,0,0,0,0,0,0,0,0,0,0,0,0,0,0,0,0,0,0,0,0,0,0,0,0,0,0,0,0,0,0,0,0,0,0,0,0,{"$f":"OFI44","v":0},0,0,0,0,0,0,0,0,0,0,0,0,0,0,0,0,0,0,0,0,0,0,0,0,0,0,0,0,0,0,0,0,0,0,0,0,0,0,0,0,0,0,0,0,0,0,0,0,0,0,0,0,0,0,0,0,0,0,0,0,0,0,0,{"$f":"OHU44","v":0},0,0,0,0,0,0,0,0,0,0,0,0,0,0,0,0,0,0,0,0,0,0,0,0,0,0,0,0,0,0,0,0,0,0,0,0,0,0,0,0,0,0,0,0,0,0,0,0,0,0,0,0,0,0,0,0,0,0,0,0,0,0,0,{"$f":"OKG44","v":0},0,0,0,0,0,0,0,0,0,0,0,0,0,0,0,0,0,0,0,0,0,0,0,0,0,0,0,0,0,0,0,0,0,0,0,0,0,0,0,0,0,0,0,0,0,0,0,0,0,0,0,0,0,0,0,0,0,0,0,0,0,0,0,{"$f":"OMS44","v":0},0,0,0,0,0,0,0,0,0,0,0,0,0,0,0,0,0,0,0,0,0,0,0,0,0,0,0,0,0,0,0,0,0,0,0,0,0,0,0,0,0,0,0,0,0,0,0,0,0,0,0,0,0,0,0,0,0,0,0,0,0,0,0,{"$f":"OPE44","v":0},0,0,0,0,0,0,0,0,0,0,0,0,0,0,0,0,0,0,0,0,0,0,0,0,0,0,0,0,0,0,0,0,0,0,0,0,0,0,0,0,0,0,0,0,0,0,0,0,0,0,0,0,0,0,0,0,0,0,0,0,0,0,0,{"$f":"ORQ44","v":0},0,0,0,0,0,0,0,0,0,0,0,0,0,0,0,0,0,0,0,0,0,0,0,0,0,0,0,0,0,0,0,0,0,0,0,0,0,0,0,0,0,0,0,0,0,0,0,0,0,0,0,0,0,0,0,0,0,0,0,0,0,0,0,{"$f":"OUC44","v":0},0,0,0,0,0,0,0,0,0,0,0,0,0,0,0,0,0,0,0,0,0,0,0,0,0,0,0,0,0,0,0,0,0,0,0,0,0,0,0,0,0,0,0,0,0,0,0,0,0,0,0,0,0,0,0,0,0,0,0,0,0,0,0,{"$f":"OWO44","v":0},0,0,0,0,0,0,0,0,0,0,0,0,0,0,0,0,0,0,0,0,0,0,0,0,0,0,0,0,0,0,0,0,0,0,0,0,0,0,0,0,0,0,0,0,0,0,0,0,0,0,0,0,0,0,0,0,0,0,0,0,0,0,0,{"$f":"OZA44","v":0},0,0,0,0,0,0,0,0,0,0,0,0,0,0,0,0,0,0,0,0,0,0,0,0,0,0,0,0,0,0,0,0,0,0,0,0,0,0,0,0,0,0,0,0,0,0,0,0,0,0,0,0,0,0,0,0,0,0,0,0,0,0,0,{"$f":"PBM44","v":0},0,0,0,0,0,0,0,0,0,0,0,0,0,0,0,0,0,0,0,0,0,0,0,0,0,0,0,0,0,0,0,0,0,0,0,0,0,0,0,0,0,0,0,0,0,0,0,0,0,0,0,0,0,0,0,0,0,0,0,0,0,0,0,{"$f":"PDY44","v":0},0,0,0,0,0,0,0,0,0,0,0,0,0,0,0,0,0,0,0,0,0,0,0,0,0,0,0,0,0,0,0,0,0,0,0,0,0,0,0,0,0,0,0,0,0,0,0,0,0,0,0,0,0,0,0,0,0,0,0,0,0,0,0,{"$f":"PGK44","v":0},0,0,0,0,0,0,0,0,0,0,0,0,0,0,0,0,0,0,0,0,0,0,0,0,0,0,0,0,0,0,0,0,0,0,0,0,0,0,0,0,0,0,0,0,0,0,0,0,0,0,0,0,0,0,0,0,0,0,0,0,0,0,0,{"$f":"PIW44","v":0},0,0,0,0,0,0,0,0,0,0,0,0,0,0,0,0,0,0,0,0,0,0,0,0,0,0,0,0,0,0,0,0,0,0,0,0,0,0,0,0,0,0,0,0,0,0,0,0,0,0,0,0,0,0,0,0,0,0,0,0,0,0,0,{"$f":"PLI44","v":0},0,0,0,0,0,0,0,0,0,0,0,0,0,0,0,0,0,0,0,0,0,0,0,0,0,0,0,0,0,0,0,0,0,0,0,0,0,0,0,0,0,0,0,0,0,0,0,0,0,0,0,0,0,0,0,0,0,0,0,0,0,0,0,{"$f":"PNU44","v":0},0,0,0,0,0,0,0,0,0,0,0,0,0,0,0,0,0,0,0,0,0,0,0,0,0,0,0,0,0,0,0,0,0,0,0,0,0,0,0,0,0,0,0,0,0,0,0,0,0,0,0,0,0,0,0,0,0,0,0,0,0,0,0,{"$f":"PQG44","v":0},0,0,0,0,0,0,0,0,0,0,0,0,0,0,0,0,0,0,0,0,0,0,0,0,0,0,0,0,0,0,0,0,0,0,0,0,0,0,0,0,0,0,0,0,0,0,0,0,0,0,0,0,0,0,0,0,0,0,0,0,0,0,0,{"$f":"PSS44","v":0},0,0,0,0,0,0,0,0,0,0,0,0,0,0,0,0,0,0,0,0,0,0,0,0,0,0,0,0,0,0,0,0,0,0,0,0,0,0,0,0,0,0,0,0,0,0,0,0,0,0,0,0,0,0,0,0,0,0,0,0,0,0,0,{"$f":"PVE44","v":0},0,0,0,0,0,0,0,0,0,0,0,0,0,0,0,0,0,0,0,0,0,0,0,0,0,0,0,0,0,0,0,0,0,0,0,0,0,0,0,0,0,0,0,0,0,0,0,0,0,0,0,0,0,0,0,0,0,0,0,0,0,0,0,{"$f":"PXQ44","v":0},0,0,0,0,0,0,0,0,0,0,0,0,0,0,0,0,0,0,0,0,0,0,0,0,0,0,0,0,0,0,0,0,0,0,0,0,0,0,0,0,0,0,0,0,0,0,0,0,0,0,0,0,0,0,0,0,0,0,0,0,0,0,0,{"$f":"QAC44","v":0},0,0,0,0,0,0,0,0,0,0,0,0,0,0,0,0,0,0,0,0,0,0,0,0,0,0,0,0,0,0,0,0,0,0,0,0,0,0,0,0,0,0,0,0,0,0,0,0,0,0,0,0,0,0,0,0,0,0,0,0,0,0,0,{"$f":"QCO44","v":0},0,0,0,0,0,0,0,0,0,0,0,0,0,0,0,0,0,0,0,0,0,0,0,0,0,0,0,0,0,0,0,0,0,0,0,0,0,0,0,0,0,0,0,0,0,0,0,0,0,0,0,0,0,0,0,0,0,0,0,0,0,0,0,{"$f":"QFA44","v":0},0,0,0,0,0,0,0,0,0,0,0,0,0,0,0,0,0,0,0,0,0,0,0,0,0,0,0,0,0,0,0,0,0,0,0,0,0,0,0,0,0,0,0,0,0,0,0,0,0,0,0,0,0,0,0,0,0,0,0,0,0,0,0,{"$f":"QHM44","v":0},0,0,0,0,0,0,0,0,0,0,0,0,0,0,0,0,0,0,0,0,0,0,0,0,0,0,0,0,0,0,0,0,0,0,0,0,0,0,0,0,0,0,0,0,0,0,0,0,0,0,0,0,0,0,0,0,0,0,0,0,0,0,0,{"$f":"QJY44","v":0},0,0,0,0,0,0,0,0,0,0,0,0,0,0,0,0,0,0,0,0,0,0,0,0,0,0,0,0,0,0,0,0,0,0,0,0,0,0,0,0,0,0,0,0,0,0,0,0,0,0,0,0,0,0,0,0,0,0,0,0,0,0,0,{"$f":"QMK44","v":0},0,0,0,0,0,0,0,0,0,0,0,0,0,0,0,0,0,0,0,0,0,0,0,0,0,0,0,0,0,0,0,0,0,0,0,0,0,0,0,0,0,0,0,0,0,0,0,0,0,0,0,0,0,0,0,0,0,0,0,0,0,0,0,{"$f":"QOW44","v":0},0,0,0,0,0,0,0,0,0,0,0,0,0,0,0,0,0,0,0,0,0,0,0,0,0,0,0,0,0,0,0,0,0,0,0,0,0,0,0,0,0,0,0,0,0,0,0,0,0,0,0,0,0,0,0,0,0,0,0,0,0,0,0,{"$f":"QRI44","v":0},0,0,0,0,0,0,0,0,0,0,0,0,0,0,0,0,0,0,0,0,0,0,0,0,0,0,0,0,0,0,0,0,0,0,0,0,0,0,0,0,0,0,0,0,0,0,0,0,0,0,0,0,0,0,0,0,0,0,0,0,0,0,0,{"$f":"QTU44","v":0},0,0,0,0,0,0,0,0,0,0,0,0,0,0,0,0,0,0,0,0,0,0,0,0,0,0,0,0,0,0,0,0,0,0,0,0,0,0,0,0,0,0,0,0,0,0,0,0,0,0,0,0,0,0,0,0,0,0,0,0,0,0,0,{"$f":"QWG44","v":0},0,0,0,0,0,0,0,0,0,0,0,0,0,0,0,0,0,0,0,0,0,0,0,0,0,0,0,0,0,0,0,0,0,0,0,0,0,0,0,0,0,0,0,0,0,0,0,0,0,0,0,0,0,0,0,0,0,0,0,0,0,0,0,{"$f":"QYS44","v":0},0,0,0,0,0,0,0,0,0,0,0,0,0,0,0,0,0,0,0,0,0,0,0,0,0,0,0,0,0,0,0,0,0,0,0,0,0,0,0,0,0,0,0,0,0,0,0,0,0,0,0,0,0,0,0,0,0,0,0,0,0,0,0,{"$f":"RBE44","v":0},0,0,0,0,0,0,0,0,0,0,0,0,0,0,0,0,0,0,0,0,0,0,0,0,0,0,0,0,0,0,0,0,0,0,0,0,0,0,0,0,0,0,0,0,0,0,0,0,0,0,0,0,0,0,0,0,0,0,0,0,0,0,0,{"$f":"RDQ44","v":0},0,0,0,0,0,0,0,0,0,0,0,0,0,0,0,0,0,0,0,0,0,0,0,0,0,0,0,0,0,0,0,0,0,0,0,0,0,0,0,0,0,0,0,0,0,0,0,0,0,0,0,0,0,0,0,0,0,0,0,0,0,0,0,{"$f":"RGC44","v":0},0,0,0,0,0,0,0,0,0,0,0,0,0,0,0,0,0,0,0,0,0,0,0,0,0,0,0,0,0,0,0,0,0,0,0,0,0,0,0,0,0,0,0,0,0,0,0,0,0,0,0,0,0,0,0,0,0,0,0,0,0,0,0,{"$f":"RIO44","v":0},0,0,0,0,0,0,0,0,0,0,0,0,0,0,0,0,0,0,0,0,0,0,0,0,0,0,0,0,0,0,0,0,0,0,0,0,0,0,0,0,0,0,0,0,0,0,0,0,0,0,0,0,0,0,0,0,0,0,0,0,0,0,0,{"$f":"RLA44","v":0},0,0,0,0,0,0,0,0,0,0,0,0,0,0,0,0,0,0,0,0,0,0,0,0,0,0,0,0,0,0,0,0,0,0,0,0,0,0,0,0,0,0,0,0,0,0,0,0,0,0,0,0,0,0,0,0,0,0,0,0,0,0,0,{"$f":"RNM44","v":0},0,0,0,0,0,0,0,0,0,0,0,0,0,0,0,0,0,0,0,0,0,0,0,0,0,0,0,0,0,0,0,0,0,0,0,0,0,0,0,0,0,0,0,0,0,0,0,0,0,0,0,0,0,0,0,0,0,0,0,0,0,0,0,{"$f":"RPY44","v":0},0,0,0,0,0,0,0,0,0,0,0,0,0,0,0,0,0,0,0,0,0,0,0,0,0,0,0,0,0,0,0,0,0,0,0,0,0,0,0,0,0,0,0,0,0,0,0,0,0,0,0,0,0,0,0,0,0,0,0,0,0,0,0,{"$f":"RSK44","v":0},0,0,0,0,0,0,0,0,0,0,0,0,0,0,0,0,0,0,0,0,0,0,0,0,0,0,0,0,0,0,0,0,0,0,0,0,0,0,0,0,0,0,0,0,0,0,0,0,0,0,0,0,0,0,0,0,0,0,0,0,0,0,0,{"$f":"RUW44","v":0},0,0,0,0,0,0,0,0,0,0,0,0,0,0,0,0,0,0,0,0,0,0,0,0,0,0,0,0,0,0,0,0,0,0,0,0,0,0,0,0,0,0,0,0,0,0,0,0,0,0,0,0,0,0,0,0,0,0,0,0,0,0,0,{"$f":"RXI44","v":0},0,0,0,0,0,0,0,0,0,0,0,0,0,0,0,0,0,0,0,0,0,0,0,0,0,0,0,0,0,0,0,0,0,0,0,0,0,0,0,0,0,0,0,0,0,0,0,0,0,0,0,0,0,0,0,0,0,0,0,0,0,0,0,{"$f":"RZU44","v":0},0,0,0,0,0,0,0,0,0,0,0,0,0,0,0,0,0,0,0,0,0,0,0,0,0,0,0,0,0,0,0,0,0,0,0,0,0,0,0,0,0,0,0,0,0,0,0,0,0,0,0,0,0,0,0,0,0,0,0,0,0,0,0,{"$f":"SCG44","v":0},0,0,0,0,0,0,0,0,0,0,0,0,0,0,0,0,0,0,0,0,0,0,0,0,0,0,0,0,0,0,0,0,0,0,0,0,0,0,0,0,0,0,0,0,0,0,0,0,0,0,0,0,0,0,0,0,0,0,0,0,0,0,0,{"$f":"SES44","v":0},0,0,0,0,0,0,0,0,0,0,0,0,0,0,0,0,0,0,0,0,0,0,0,0,0,0,0,0,0,0,0,0,0,0,0,0,0,0,0,0,0,0,0,0,0,0,0,0,0,0,0,0,0,0,0,0,0,0,0,0,0,0,0,{"$f":"SHE44","v":0},0,0,0,0,0,0,0,0,0,0,0,0,0,0,0,0,0,0,0,0,0,0,0,0,0,0,0,0,0,0,0,0,0,0,0,0,0,0,0,0,0,0,0,0,0,0,0,0,0,0,0,0,0,0,0,0,0,0,0,0,0,0,0,{"$f":"SJQ44","v":0},0,0,0,0,0,0,0,0,0,0,0,0,0,0,0,0,0,0,0,0,0,0,0,0,0,0,0,0,0,0,0,0,0,0,0,0,0,0,0,0,0,0,0,0,0,0,0,0,0,0,0,0,0,0,0,0,0,0,0,0,0,0,0,{"$f":"SMC44","v":0},0,0,0,0,0,0,0,0,0,0,0,0,0,0,0,0,0,0,0,0,0,0,0,0,0,0,0,0,0,0,0,0,0,0,0,0,0,0,0,0,0,0,0,0,0,0,0,0,0,0,0,0,0,0,0,0,0,0,0,0,0,0,0,{"$f":"SOO44","v":0},0,0,0,0,0,0,0,0,0,0,0,0,0,0,0,0,0,0,0,0,0,0,0,0,0,0,0,0,0,0,0,0,0,0,0,0,0,0,0,0,0,0,0,0,0,0,0,0,0,0,0,0,0,0,0,0,0,0,0,0,0,0,0,{"$f":"SRA44","v":0},0,0,0,0,0,0,0,0,0,0,0,0,0,0,0,0,0,0,0,0,0,0,0,0,0,0,0,0,0,0,0,0,0,0,0,0,0,0,0,0,0,0,0,0,0,0,0,0,0,0,0,0,0,0,0,0,0,0,0,0,0,0,0,{"$f":"STM44","v":0},0,0,0,0,0,0,0,0,0,0,0,0,0,0,0,0,0,0,0,0,0,0,0,0,0,0,0,0,0,0,0,0,0,0,0,0,0,0,0,0,0,0,0,0,0,0,0,0,0,0,0,0,0,0,0,0,0,0,0,0,0,0,0,{"$f":"SVY44","v":0},0,0,0,0,0,0,0,0,0,0,0,0,0,0,0,0,0,0,0,0,0,0,0,0,0,0,0,0,0,0,0,0,0,0,0,0,0,0,0,0,0,0,0,0,0,0,0,0,0,0,0,0,0,0,0,0,0,0,0,0,0,0,0,{"$f":"SYK44","v":0},0,0,0,0,0,0,0,0,0,0,0,0,0,0,0,0,0,0,0,0,0,0,0,0,0,0,0,0,0,0,0,0,0,0,0,0,0,0,0,0,0,0,0,0,0,0,0,0,0,0,0,0,0,0,0,0,0,0,0,0,0,0,0,{"$f":"TAW44","v":0},0,0,0,0,0,0,0,0,0,0,0,0,0,0,0,0,0,0,0,0,0,0,0,0,0,0,0,0,0,0,0,0,0,0,0,0,0,0,0,0,0,0,0,0,0,0,0,0,0,0,0,0,0,0,0,0,0,0,0,0,0,0,0,{"$f":"TDI44","v":0},0,0,0,0,0,0,0,0,0,0,0,0,0,0,0,0,0,0,0,0,0,0,0,0,0,0,0,0,0,0,0,0,0,0,0,0,0,0,0,0,0,0,0,0,0,0,0,0,0,0,0,0,0,0,0,0,0,0,0,0,0,0,0,{"$f":"TFU44","v":0},0,0,0,0,0,0,0,0,0,0,0,0,0,0,0,0,0,0,0,0,0,0,0,0,0,0,0,0,0,0,0,0,0,0,0,0,0,0,0,0,0,0,0,0,0,0,0,0,0,0,0,0,0,0,0,0,0,0,0,0,0,0,0,{"$f":"TIG44","v":0},0,0,0,0,0,0,0,0,0,0,0,0,0,0,0,0,0,0,0,0,0,0,0,0,0,0,0,0,0,0,0,0,0,0,0,0,0,0,0,0,0,0,0,0,0,0,0,0,0,0,0,0,0,0,0,0,0,0,0,0,0,0,0,{"$f":"TKS44","v":0},0,0,0,0,0,0,0,0,0,0,0,0,0,0,0,0,0,0,0,0,0,0,0,0,0,0,0,0,0,0,0,0,0,0,0,0,0,0,0,0,0,0,0,0,0,0,0,0,0,0,0,0,0,0,0,0,0,0,0,0,0,0,0,{"$f":"TNE44","v":0},0,0,0,0,0,0,0,0,0,0,0,0,0,0,0,0,0,0,0,0,0,0,0,0,0,0,0,0,0,0,0,0,0,0,0,0,0,0,0,0,0,0,0,0,0,0,0,0,0,0,0,0,0,0,0,0,0,0,0,0,0,0,0,{"$f":"TPQ44","v":0},0,0,0,0,0,0,0,0,0,0,0,0,0,0,0,0,0,0,0,0,0,0,0,0,0,0,0,0,0,0,0,0,0,0,0,0,0,0,0,0,0,0,0,0,0,0,0,0,0,0,0,0,0,0,0,0,0,0,0,0,0,0,0,{"$f":"TSC44","v":0},0,0,0,0,0,0,0,0,0,0,0,0,0,0,0,0,0,0,0,0,0,0,0,0,0,0,0,0,0,0,0,0,0,0,0,0,0,0,0,0,0,0,0,0,0,0,0,0,0,0,0,0,0,0,0,0,0,0,0,0,0,0,0,{"$f":"TUO44","v":0},0,0,0,0,0,0,0,0,0,0,0,0,0,0,0,0,0,0,0,0,0,0,0,0,0,0,0,0,0,0,0,0,0,0,0,0,0,0,0,0,0,0,0,0,0,0,0,0,0,0,0,0,0,0,0,0,0,0,0,0,0,0,0,{"$f":"TXA44","v":0},0,0,0,0,0,0,0,0,0,0,0,0,0,0,0,0,0,0,0,0,0,0,0,0,0,0,0,0,0,0,0,0,0,0,0,0,0,0,0,0,0,0,0,0,0,0,0,0,0,0,0,0,0,0,0,0,0,0,0,0,0,0,0,{"$f":"TZM44","v":0},0,0,0,0,0,0,0,0,0,0,0,0,0,0,0,0,0,0,0,0,0,0,0,0,0,0,0,0,0,0,0,0,0,0,0,0,0,0,0,0,0,0,0,0,0,0,0,0,0,0,0,0,0,0,0,0,0,0,0,0,0,0,0,{"$f":"UBY44","v":0},0,0,0,0,0,0,0,0,0,0,0,0,0,0,0,0,0,0,0,0,0,0,0,0,0,0,0,0,0,0,0,0,0,0,0,0,0,0,0,0,0,0,0,0,0,0,0,0,0,0,0,0,0,0,0,0,0,0,0,0,0,0,0,{"$f":"UEK44","v":0},0,0,0,0,0,0,0,0,0,0,0,0,0,0,0,0,0,0,0,0,0,0,0,0,0,0,0,0,0,0,0,0,0,0,0,0,0,0,0,0,0,0,0,0,0,0,0,0,0,0,0,0,0,0,0,0,0,0,0,0,0,0,0,{"$f":"UGW44","v":0},0,0,0,0,0,0,0,0,0,0,0,0,0,0,0,0,0,0,0,0,0,0,0,0,0,0,0,0,0,0,0,0,0,0,0,0,0,0,0,0,0,0,0,0,0,0,0,0,0,0,0,0,0,0,0,0,0,0,0,0,0,0,0,{"$f":"UJI44","v":0},0,0,0,0,0,0,0,0,0,0,0,0,0,0,0,0,0,0,0,0,0,0,0,0,0,0,0,0,0,0,0,0,0,0,0,0,0,0,0,0,0,0,0,0,0,0,0,0,0,0,0,0,0,0,0,0,0,0,0,0,0,0,0,{"$f":"ULU44","v":0},0,0,0,0,0,0,0,0,0,0,0,0,0,0,0,0,0,0,0,0,0,0,0,0,0,0,0,0,0,0,0,0,0,0,0,0,0,0,0,0,0,0,0,0,0,0,0,0,0,0,0,0,0,0,0,0,0,0,0,0,0,0,0,{"$f":"UOG44","v":0},0,0,0,0,0,0,0,0,0,0,0,0,0,0,0,0,0,0,0,0,0,0,0,0,0,0,0,0,0,0,0,0,0,0,0,0,0,0,0,0,0,0,0,0,0,0,0,0,0,0,0,0,0,0,0,0,0,0,0,0,0,0,0,{"$f":"UQS44","v":0},0,0,0,0,0,0,0,0,0,0,0,0,0,0,0,0,0,0,0,0,0,0,0,0,0,0,0,0,0,0,0,0,0,0,0,0,0,0,0,0,0,0,0,0,0,0,0,0,0,0,0,0,0,0,0,0,0,0,0,0,0,0,0,{"$f":"UTE44","v":0},0,0,0,0,0,0,0,0,0,0,0,0,0,0,0,0,0,0,0,0,0,0,0,0,0,0,0,0,0,0,0,0,0,0,0,0,0,0,0,0,0,0,0,0,0,0,0,0,0,0,0,0,0,0,0,0,0,0,0,0,0,0,0,{"$f":"UVQ44","v":0},0,0,0,0,0,0,0,0,0,0,0,0,0,0,0,0,0,0,0,0,0,0,0,0,0,0,0,0,0,0,0,0,0,0,0,0,0,0,0,0,0,0,0,0,0,0,0,0,0,0,0,0,0,0,0,0,0,0,0,0,0,0,0,{"$f":"UYC44","v":0},0,0,0,0,0,0,0,0,0,0,0,0,0,0,0,0,0,0,0,0,0,0,0,0,0,0,0,0,0,0,0,0,0,0,0,0,0,0,0,0,0,0,0,0,0,0,0,0,0,0,0,0,0,0,0,0,0,0,0,0,0,0,0,{"$f":"VAO44","v":0},0,0,0,0,0,0,0,0,0,0,0,0,0,0,0,0,0,0,0,0,0,0,0,0,0,0,0,0,0,0,0,0,0,0,0,0,0,0,0,0,0,0,0,0,0,0,0,0,0,0,0,0,0,0,0,0,0,0,0,0,0,0,0,{"$f":"VDA44","v":0},0,0,0,0,0,0,0,0,0,0,0,0,0,0,0,0,0,0,0,0,0,0,0,0,0,0,0,0,0,0,0,0,0,0,0,0,0,0,0,0,0,0,0,0,0,0,0,0,0,0,0,0,0,0,0,0,0,0,0,0,0,0,0,{"$f":"VFM44","v":0},0,0,0,0,0,0,0,0,0,0,0,0,0,0,0,0,0,0,0,0,0,0,0,0,0,0,0,0,0,0,0,0,0,0,0,0,0,0,0,0,0,0,0,0,0,0,0,0,0,0,0,0,0,0,0,0,0,0,0,0,0,0,0,{"$f":"VHY44","v":0},0,0,0,0,0,0,0,0,0,0,0,0,0,0,0,0,0,0,0,0,0,0,0,0,0,0,0,0,0,0,0,0,0,0,0,0,0,0,0,0,0,0,0,0,0,0,0,0,0,0,0,0,0,0,0,0,0,0,0,0,0,0,0,{"$f":"VKK44","v":0},0,0,0,0,0,0,0,0,0,0,0,0,0,0,0,0,0,0,0,0,0,0,0,0,0,0,0,0,0,0,0,0,0,0,0,0,0,0,0,0,0,0,0,0,0,0,0,0,0,0,0,0,0,0,0,0,0,0,0,0,0,0,0,{"$f":"VMW44","v":0},0,0,0,0,0,0,0,0,0,0,0,0,0,0,0,0,0,0,0,0,0,0,0,0,0,0,0,0,0,0,0,0,0,0,0,0,0,0,0,0,0,0,0,0,0,0,0,0,0,0,0,0,0,0,0,0,0,0,0,0,0,0,0,{"$f":"VPI44","v":0},0,0,0,0,0,0,0,0,0,0,0,0,0,0,0,0,0,0,0,0,0,0,0,0,0,0,0,0,0,0,0,0,0,0,0,0,0,0,0,0,0,0,0,0,0,0,0,0,0,0,0,0,0,0,0,0,0,0,0,0,0,0,0,{"$f":"VRU44","v":0},0,0,0,0,0,0,0,0,0,0,0,0,0,0,0,0,0,0,0,0,0,0,0,0,0,0,0,0,0,0,0,0,0,0,0,0,0,0,0,0,0,0,0,0,0,0,0,0,0,0,0,0,0,0,0,0,0,0,0,0,0,0,0,{"$f":"VUG44","v":0},0,0,0,0,0,0,0,0,0,0,0,0,0,0,0,0,0,0,0,0,0,0,0,0,0,0,0,0,0,0,0,0,0,0,0,0,0,0,0,0,0,0,0,0,0,0,0,0,0,0,0,0,0,0,0,0,0,0,0,0,0,0,0,{"$f":"VWS44","v":0},0,0,0,0,0,0,0,0,0,0,0,0,0,0,0,0,0,0,0,0,0,0,0,0,0,0,0,0,0,0,0,0,0,0,0,0,0,0,0,0,0,0,0,0,0,0,0,0,0,0,0,0,0,0,0,0,0,0,0,0,0,0,0,{"$f":"VZE44","v":0},0,0,0,0,0,0,0,0,0,0,0,0,0,0,0,0,0,0,0,0,0,0,0,0,0,0,0,0,0,0,0,0,0,0,0,0,0,0,0,0,0,0,0,0,0,0,0,0,0,0,0,0,0,0,0,0,0,0,0,0,0,0,0,{"$f":"WBQ44","v":0},0,0,0,0,0,0,0,0,0,0,0,0,0,0,0,0,0,0,0,0,0,0,0,0,0,0,0,0,0,0,0,0,0,0,0,0,0,0,0,0,0,0,0,0,0,0,0,0,0,0,0,0,0,0,0,0,0,0,0,0,0,0,0,{"$f":"WEC44","v":0},0,0,0,0,0,0,0,0,0,0,0,0,0,0,0,0,0,0,0,0,0,0,0,0,0,0,0,0,0,0,0,0,0,0,0,0,0,0,0,0,0,0,0,0,0,0,0,0,0,0,0,0,0,0,0,0,0,0,0,0,0,0,0,{"$f":"WGO44","v":0},0,0,0,0,0,0,0,0,0,0,0,0,0,0,0,0,0,0,0,0,0,0,0,0,0,0,0,0,0,0,0,0,0,0,0,0,0,0,0,0,0,0,0,0,0,0,0,0,0,0,0,0,0,0,0,0,0,0,0,0,0,0,0,{"$f":"WJA44","v":0},0,0,0,0,0,0,0,0,0,0,0,0,0,0,0,0,0,0,0,0,0,0,0,0,0,0,0,0,0,0,0,0,0,0,0,0,0,0,0,0,0,0,0,0,0,0,0,0,0,0,0,0,0,0,0,0,0,0,0,0,0,0,0,{"$f":"WLM44","v":0},0,0,0,0,0,0,0,0,0,0,0,0,0,0,0,0,0,0,0,0,0,0,0,0,0,0,0,0,0,0,0,0,0,0,0,0,0,0,0,0,0,0,0,0,0,0,0,0,0,0,0,0,0,0,0,0,0,0,0,0,0,0,0,{"$f":"WNY44","v":0},0,0,0,0,0,0,0,0,0,0,0,0,0,0,0,0,0,0,0,0,0,0,0,0,0,0,0,0,0,0,0,0,0,0,0,0,0,0,0,0,0,0,0,0,0,0,0,0,0,0,0,0,0,0,0,0,0,0,0,0,0,0,0,{"$f":"WQK44","v":0},0,0,0,0,0,0,0,0,0,0,0,0,0,0,0,0,0,0,0,0,0,0,0,0,0,0,0,0,0,0,0,0,0,0,0,0,0,0,0,0,0,0,0,0,0,0,0,0,0,0,0,0,0,0,0,0,0,0,0,0,0,0,0,{"$f":"WSW44","v":0},0,0,0,0,0,0,0,0,0,0,0,0,0,0,0,0,0,0,0,0,0,0,0,0,0,0,0,0,0,0,0,0,0,0,0,0,0,0,0,0,0,0,0,0,0,0,0,0,0,0,0,0,0,0,0,0,0,0,0,0,0,0,0,{"$f":"WVI44","v":0},0,0,0,0,0,0,0,0,0,0,0,0,0,0,0,0,0,0,0,0,0,0,0,0,0,0,0,0,0,0,0,0,0,0,0,0,0,0,0,0,0,0,0,0,0,0,0,0,0,0,0,0,0,0,0,0,0,0,0,0,0,0,0,{"$f":"WXU44","v":0},0,0,0,0,0,0,0,0,0,0,0,0,0,0,0,0,0,0,0,0,0,0,0,0,0,0,0,0,0,0,0,0,0,0,0,0,0,0,0,0,0,0,0,0,0,0,0,0,0,0,0,0,0,0,0,0,0,0,0,0,0,0,0,{"$f":"XAG44","v":0},0,0,0,0,0,0,0,0,0,0,0,0,0,0,0,0,0,0,0,0,0,0,0,0,0,0,0,0,0,0,0,0,0,0,0,0,0,0,0,0,0,0,0,0,0,0,0,0,0,0,0,0,0,0,0,0,0,0,0,0,0,0,0,{"$f":"XCS44","v":0},0,0,0,0,0,0,0,0,0,0,0,0,0,0,0,0,0,0,0,0,0,0,0,0,0,0,0,0,0,0,0,0,0,0,0,0,0,0,0,0,0,0,0,0,0,0,0,0,0,0,0,0,0,0,0,0,0,0,0,0,0,0,0]
[null,null,null,null,"Polymetallic nodule Production area 1 (dry ore)",null,"Mt (dry)",null,{"$f":"SUM(K173:AV173)","v":118.15199999999997},null,{"$f":"K171*$F$169","v":0},{"$f":"L171*$F$169","v":0},0.14399999999999999,0.72,1.44,3.5999999999999996,7.7399999999999993,7.7399999999999993,7.7399999999999993,7.7399999999999993,7.7399999999999993,7.7399999999999993,7.7399999999999993,7.7399999999999993,7.7399999999999993,7.7399999999999993,7.7399999999999993,7.7399999999999993,7.7399999999999993,7.7399999999999993,3.8879999999999999,0,0,0,0,0,0,0,0,0,0,0,0,0,0,0,0,{"$f":"AV171*$F$169","v":0}]
[null,null,null,null,"Polymetallic nodule Production area 2 (dry ore)",null,"Mt (dry)",null,{"$f":"SUM(K174:AV174)","v":0},null,{"$f":"K172*$F$170","v":0},{"$f":"L172*$F$170","v":0},0,0,0,0,0,0,0,0,0,0,0,0,0,0,0,0,0,0,0,0,0,0,0,0,0,0,0,0,0,0,0,0,0,0,0,0]
[]
[null,null,"Nodules Metal grade area 1"]
[null,null,null,null,{"$f":"'Working Inputs'!E47","v":"Manganese"},{"$f":"'Working Inputs'!$F47","v":0.3115}]
[null,null,null,null,{"$f":"'Working Inputs'!E48","v":"Nickel"},{"$f":"'Working Inputs'!$F48","v":1.4E-2}]
[null,null,null,null,{"$f":"'Working Inputs'!E49","v":"Cobalt"},{"$f":"'Working Inputs'!$F49","v":1.4E-3}]
[null,null,null,null,{"$f":"'Working Inputs'!E50","v":"Copper"},{"$f":"'Working Inputs'!$F50","v":1.14E-2}]
[]
[null,null,"Nodules Metal grade area 2"]
[null,null,null,null,{"$f":"'Working Inputs'!E53","v":"Manganese"},{"$f":"'Working Inputs'!$F53","v":0.3115}]
[null,null,null,null,{"$f":"'Working Inputs'!E54","v":"Nickel"},{"$f":"'Working Inputs'!$F54","v":1.4E-2}]
[null,null,null,null,{"$f":"'Working Inputs'!E55","v":"Cobalt"},{"$f":"'Working Inputs'!$F55","v":1.4E-3}]
[null,null,null,null,{"$f":"'Working Inputs'!E56","v":"Copper"},{"$f":"'Working Inputs'!$F56","v":1.14E-2}]
[]
[null,null,"Nodules recovery rate"]
[null,null,null,null,{"$f":"'Working Inputs'!E69","v":"Manganese - Silicate"},{"$f":"'Working Inputs'!F69","v":0.98899999999999999}]
[null,null,null,null,{"$f":"'Working Inputs'!E70","v":"Nickel - Alloy"},{"$f":"'Working Inputs'!F70","v":0.96909999999999996}]
[null,null,null,null,{"$f":"'Working Inputs'!E71","v":"Cobalt - Alloy"},{"$f":"'Working Inputs'!F71","v":0.93059999999999998}]
[null,null,null,null,{"$f":"'Working Inputs'!E72","v":"Copper - Alloy"},{"$f":"'Working Inputs'!F72","v":0.9355}]
[null,null,null,null,{"$f":"'Working Inputs'!E73","v":"Nickel - Matte"},{"$f":"'Working Inputs'!F73","v":0.9476}]
[null,null,null,null,{"$f":"'Working Inputs'!E74","v":"Cobalt - Matte"},{"$f":"'Working Inputs'!F74","v":0.77539999999999998}]
[null,null,null,null,{"$f":"'Working Inputs'!E75","v":"Copper - Matte"},{"$f":"'Working Inputs'!F75","v":0.86429999999999996}]
[]
[null,null,null,null,{"$f":"'Working Inputs'!E66","v":"Alloy % during transition"},{"$f":"'Working Inputs'!F66","v":0.32},{"$f":"'Working Inputs'!G66","v":"%"}]
[null,null,null,null,{"$f":"'Working Inputs'!E245","v":"one thousand"},{"$f":"'Working Inputs'!F245","v":1000},{"$f":"'Working Inputs'!G245","v":"Constant"}]
[null,null,null,null,{"$f":"'Working Inputs'!E247","v":"one"},{"$f":"'Working Inputs'!F247","v":1},{"$f":"'Working Inputs'!G247","v":"Constant"}]
[]
[null,null,null,null,{"$f":"E173","v":"Polymetallic nodule Production area 1 (dry ore)"},0,"Mt (dry)",0,118.15199999999997,0,0,0,0.14399999999999999,0.72,1.44,3.5999999999999996,7.7399999999999993,7.7399999999999993,7.7399999999999993,7.7399999999999993,7.7399999999999993,7.7399999999999993,7.7399999999999993,7.7399999999999993,7.7399999999999993,7.7399999999999993,7.7399999999999993,7.7399999999999993,7.7399999999999993,7.7399999999999993,3.8879999999999999,0,0,0,0,0,0,0,0,0,0,0,0,0,0,0,0,0]
[null,null,null,null,{"$f":"E174","v":"Polymetallic nodule Production area 2 (dry ore)"},0,"Mt (dry)",0,0,0,0,0,0,0,0,0,0,0,0,0,0,0,0,0,0,0,0,0,0,0,0,0,0,0,0,0,0,0,0,0,0,0,0,0,0,0,0,0]
[]
[null,null,null,"Alloy"]
[null,null,null,null,{"$f":"'T&E'!E$62","v":"Alloy production period flag"},{"$f":"'T&E'!F$62","v":0},{"$f":"'T&E'!G$62","v":"flag"},{"$f":"'T&E'!H$62","v":0},{"$f":"'T&E'!I$62","v":2},{"$f":"'T&E'!J$62","v":0},{"$f":"'T&E'!K$62","v":0},{"$f":"'T&E'!L$62","v":0},{"$f":"'T&E'!M$62","v":1},{"$f":"'T&E'!N$62","v":1},{"$f":"'T&E'!O$62","v":0},{"$f":"'T&E'!P$62","v":0},{"$f":"'T&E'!Q$62","v":0},{"$f":"'T&E'!R$62","v":0},{"$f":"'T&E'!S$62","v":0},{"$f":"'T&E'!T$62","v":0},{"$f":"'T&E'!U$62","v":0},{"$f":"'T&E'!V$62","v":0},{"$f":"'T&E'!W$62","v":0},{"$f":"'T&E'!X$62","v":0},{"$f":"'T&E'!Y$62","v":0},{"$f":"'T&E'!Z$62","v":0},{"$f":"'T&E'!AA$62","v":0},{"$f":"'T&E'!AB$62","v":0},{"$f":"'T&E'!AC$62","v":0},{"$f":"'T&E'!AD$62","v":0},{"$f":"'T&E'!AE$62","v":0},{"$f":"'T&E'!AF$62","v":0},{"$f":"'T&E'!AG$62","v":0},{"$f":"'T&E'!AH$62","v":0},{"$f":"'T&E'!AI$62","v":0},{"$f":"'T&E'!AJ$62","v":0},{"$f":"'T&E'!AK$62","v":0},{"$f":"'T&E'!AL$62","v":0},{"$f":"'T&E'!AM$62","v":0},{"$f":"'T&E'!AN$62","v":0},{"$f":"'T&E'!AO$62","v":0},{"$f":"'T&E'!AP$62","v":0},{"$f":"'T&E'!AQ$62","v":0},{"$f":"'T&E'!AR$62","v":0},{"$f":"'T&E'!AS$62","v":0},{"$f":"'T&E'!AT$62","v":0},{"$f":"'T&E'!AU$62","v":0},{"$f":"'T&E'!AV$62","v":0}]
[null,null,null,null,{"$f":"'T&E'!E67","v":"Alloy-Matte transition period flag"},{"$f":"'T&E'!F67","v":0},{"$f":"'T&E'!G67","v":"flag"},{"$f":"'T&E'!H67","v":0},{"$f":"'T&E'!I67","v":1},{"$f":"'T&E'!J67","v":0},{"$f":"'T&E'!K67","v":0},{"$f":"'T&E'!L67","v":0},{"$f":"'T&E'!M67","v":0},{"$f":"'T&E'!N67","v":0},{"$f":"'T&E'!O67","v":1},{"$f":"'T&E'!P67","v":0},{"$f":"'T&E'!Q67","v":0},{"$f":"'T&E'!R67","v":0},{"$f":"'T&E'!S67","v":0},{"$f":"'T&E'!T67","v":0},{"$f":"'T&E'!U67","v":0},{"$f":"'T&E'!V67","v":0},{"$f":"'T&E'!W67","v":0},{"$f":"'T&E'!X67","v":0},{"$f":"'T&E'!Y67","v":0},{"$f":"'T&E'!Z67","v":0},{"$f":"'T&E'!AA67","v":0},{"$f":"'T&E'!AB67","v":0},{"$f":"'T&E'!AC67","v":0},{"$f":"'T&E'!AD67","v":0},{"$f":"'T&E'!AE67","v":0},{"$f":"'T&E'!AF67","v":0},{"$f":"'T&E'!AG67","v":0},{"$f":"'T&E'!AH67","v":0},{"$f":"'T&E'!AI67","v":0},{"$f":"'T&E'!AJ67","v":0},{"$f":"'T&E'!AK67","v":0},{"$f":"'T&E'!AL67","v":0},{"$f":"'T&E'!AM67","v":0},{"$f":"'T&E'!AN67","v":0},{"$f":"'T&E'!AO67","v":0},{"$f":"'T&E'!AP67","v":0},{"$f":"'T&E'!AQ67","v":0},{"$f":"'T&E'!AR67","v":0},{"$f":"'T&E'!AS67","v":0},{"$f":"'T&E'!AT67","v":0},{"$f":"'T&E'!AU67","v":0},{"$f":"'T&E'!AV67","v":0}]
[null,null,null,null,"Nickel (Ni) (Recovered Metal)",null,"kt",null,{"$f":"SUM(K207:AV207)","v":17.974091519999998},null,{"$f":"K$201*$F$178*$F$190*$F$198*K$205+K$201*$F$178*$F$190*$F$198*K$206*$F$197+K$202*$F$184*$F$190*$F$198*K$205+K$202*$F$184*$F$190*$F$198*K$206*$F$197","v":0},0,1.9537055999999997,9.7685279999999999,6.25185792,0,0,0,0,0,0,0,0,0,0,0,0,0,0,0,0,0,0,0,0,0,0,0,0,0,0,0,0,0,0,0,0,0]
[null,null,null,null,"Cobalt (Co) (Recovered Metal)",null,"kt",null,{"$f":"SUM(K208:AV208)","v":1.726002432},null,{"$f":"K$201*$F$179*$F$191*$F$198*K$205+K$201*$F$179*$F$191*$F$198*K$206*$F$197+K$202*$F$185*$F$191*$F$198*K$205+K$202*$F$185*$F$191*$F$198*K$206*$F$197","v":0},0,0.18760895999999999,0.93804480000000001,0.60034867199999997,0,0,0,0,0,0,0,0,0,0,0,0,0,0,0,0,0,0,0,0,0,0,0,0,0,0,0,0,0,0,0,0,0]
[null,null,null,null,"Copper (Cu) (Recovered Metal)",null,"kt",null,{"$f":"SUM(K209:AV209)","v":14.12859456},null,{"$f":"K$201*$F$180*$F$192*$F$198*K$205+K$201*$F$180*$F$192*$F$198*K$206*$F$197+K$202*$F$186*$F$192*$F$198*K$205+K$202*$F$186*$F$192*$F$198*K$206*$F$197","v":0},0,1.5357167999999999,7.6785839999999999,4.9142937599999996,0,0,0,0,0,0,0,0,0,0,0,0,0,0,0,0,0,0,0,0,0,0,0,0,0,0,0,0,0,0,0,0,0]
[]
[null,null,null,"Matte"]
[null,null,null,null,{"$f":"'T&E'!E67","v":"Alloy-Matte transition period flag"},{"$f":"'T&E'!F67","v":0},{"$f":"'T&E'!G67","v":"flag"},{"$f":"'T&E'!H67","v":0},{"$f":"'T&E'!I67","v":1},{"$f":"'T&E'!J67","v":0},{"$f":"'T&E'!K67","v":0},{"$f":"'T&E'!L67","v":0},{"$f":"'T&E'!M67","v":0},{"$f":"'T&E'!N67","v":0},{"$f":"'T&E'!O67","v":1},{"$f":"'T&E'!P67","v":0},{"$f":"'T&E'!Q67","v":0},{"$f":"'T&E'!R67","v":0},{"$f":"'T&E'!S67","v":0},{"$f":"'T&E'!T67","v":0},{"$f":"'T&E'!U67","v":0},{"$f":"'T&E'!V67","v":0},{"$f":"'T&E'!W67","v":0},{"$f":"'T&E'!X67","v":0},{"$f":"'T&E'!Y67","v":0},{"$f":"'T&E'!Z67","v":0},{"$f":"'T&E'!AA67","v":0},{"$f":"'T&E'!AB67","v":0},{"$f":"'T&E'!AC67","v":0},{"$f":"'T&E'!AD67","v":0},{"$f":"'T&E'!AE67","v":0},{"$f":"'T&E'!AF67","v":0},{"$f":"'T&E'!AG67","v":0},{"$f":"'T&E'!AH67","v":0},{"$f":"'T&E'!AI67","v":0},{"$f":"'T&E'!AJ67","v":0},{"$f":"'T&E'!AK67","v":0},{"$f":"'T&E'!AL67","v":0},{"$f":"'T&E'!AM67","v":0},{"$f":"'T&E'!AN67","v":0},{"$f":"'T&E'!AO67","v":0},{"$f":"'T&E'!AP67","v":0},{"$f":"'T&E'!AQ67","v":0},{"$f":"'T&E'!AR67","v":0},{"$f":"'T&E'!AS67","v":0},{"$f":"'T&E'!AT67","v":0},{"$f":"'T&E'!AU67","v":0},{"$f":"'T&E'!AV67","v":0}]
[]
[null,null,null,null,{"$f":"'T&E'!E$72","v":"Matte production period flag"},{"$f":"'T&E'!F$72","v":0},{"$f":"'T&E'!G$72","v":"flag"},{"$f":"'T&E'!H$72","v":0},{"$f":"'T&E'!I$72","v":16},{"$f":"'T&E'!J$72","v":0},{"$f":"'T&E'!K$72","v":0},{"$f":"'T&E'!L$72","v":0},{"$f":"'T&E'!M$72","v":0},{"$f":"'T&E'!N$72","v":0},{"$f":"'T&E'!O$72","v":0},{"$f":"'T&E'!P$72","v":1},{"$f":"'T&E'!Q$72","v":1},{"$f":"'T&E'!R$72","v":1},{"$f":"'T&E'!S$72","v":1},{"$f":"'T&E'!T$72","v":1},{"$f":"'T&E'!U$72","v":1},{"$f":"'T&E'!V$72","v":1},{"$f":"'T&E'!W$72","v":1},{"$f":"'T&E'!X$72","v":1},{"$f":"'T&E'!Y$72","v":1},{"$f":"'T&E'!Z$72","v":1},{"$f":"'T&E'!AA$72","v":1},{"$f":"'T&E'!AB$72","v":1},{"$f":"'T&E'!AC$72","v":1},{"$f":"'T&E'!AD$72","v":1},{"$f":"'T&E'!AE$72","v":1},{"$f":"'T&E'!AF$72","v":0},{"$f":"'T&E'!AG$72","v":0},{"$f":"'T&E'!AH$72","v":0},{"$f":"'T&E'!AI$72","v":0},{"$f":"'T&E'!AJ$72","v":0},{"$f":"'T&E'!AK$72","v":0},{"$f":"'T&E'!AL$72","v":0},{"$f":"'T&E'!AM$72","v":0},{"$f":"'T&E'!AN$72","v":0},{"$f":"'T&E'!AO$72","v":0},{"$f":"'T&E'!AP$72","v":0},{"$f":"'T&E'!AQ$72","v":0},{"$f":"'T&E'!AR$72","v":0},{"$f":"'T&E'!AS$72","v":0},{"$f":"'T&E'!AT$72","v":0},{"$f":"'T&E'!AU$72","v":0},{"$f":"'T&E'!AV$72","v":0}]
[null,null,null,null,"Nickel (Ni) (Recovered Metal)",null,"kt",null,{"$f":"SUM(K215:AV215)","v":1549.8763660799996},null,{"$f":"K$201*$F$178*$F$193*$F$198*K$212*($F$199-$F$197)+K$201*$F$178*$F$193*$F$198*K$214+K$202*$F$184*$F$193*$F$198*K$212*($F$199-$F$197)+K$202*$F$184*$F$193*$F$198*K$214","v":0},0,0,0,12.990458879999998,47.759039999999999,102.68193600000001,102.68193600000001,102.68193600000001,102.68193600000001,102.68193600000001,102.68193600000001,102.68193600000001,102.68193600000001,102.68193600000001,102.68193600000001,102.68193600000001,102.68193600000001,102.68193600000001,102.68193600000001,51.579763200000002,0,0,0,0,0,0,0,0,0,0,0,0,0,0,0,0,0]
[null,null,null,null,"Cobalt (Co) (Recovered Metal)",null,"kt",null,{"$f":"SUM(K216:AV216)","v":126.82293523199996},null,{"$f":"K$201*$F$179*$F$194*$F$198*K$212*($F$199-$F$197)+K$201*$F$179*$F$194*$F$198*K$214+K$202*$F$185*$F$194*$F$198*K$212*($F$199-$F$197)+K$202*$F$185*$F$194*$F$198*K$214","v":0},0,0,0,1.0629803519999999,3.9080159999999995,8.4022343999999975,8.4022343999999975,8.4022343999999975,8.4022343999999975,8.4022343999999975,8.4022343999999975,8.4022343999999975,8.4022343999999975,8.4022343999999975,8.4022343999999975,8.4022343999999975,8.4022343999999975,8.4022343999999975,8.4022343999999975,4.2206572800000002,0,0,0,0,0,0,0,0,0,0,0,0,0,0,0,0,0]
[null,null,null,null,"Copper (Cu) (Recovered Metal)",null,"kt",null,{"$f":"SUM(K217:AV217)","v":1151.1007381439999},null,{"$f":"K$201*$F$180*$F$195*$F$198*K$212*($F$199-$F$197)+K$201*$F$180*$F$195*$F$198*K$214+K$202*$F$186*$F$195*$F$198*K$212*($F$199-$F$197)+K$202*$F$186*$F$195*$F$198*K$214","v":0},0,0,0,9.6480771839999981,35.470872,76.262374799999989,76.262374799999989,76.262374799999989,76.262374799999989,76.262374799999989,76.262374799999989,76.262374799999989,76.262374799999989,76.262374799999989,76.262374799999989,76.262374799999989,76.262374799999989,76.262374799999989,76.262374799999989,38.308541759999997,0,0,0,0,0,0,0,0,0,0,0,0,0,0,0,0,0]
[]
[null,null,null,"Manganese Silicate"]
[null,null,null,null,"Manganese (Mn) (Recovered Metal)",null,"kt",null,{"$f":"SUM(K220:AV220)","v":36399.500172000007},null,{"$f":"K$201*$F$177*$F$189*$F$198+K$202*$F$183*$F$189*$F$198","v":0},0,44.362583999999991,221.81291999999996,443.62583999999993,1109.0645999999999,2384.4888899999996,2384.4888899999996,2384.4888899999996,2384.4888899999996,2384.4888899999996,2384.4888899999996,2384.4888899999996,2384.4888899999996,2384.4888899999996,2384.4888899999996,2384.4888899999996,2384.4888899999996,2384.4888899999996,2384.4888899999996,1197.7897680000001,0,0,0,0,0,0,0,0,0,0,0,0,0,0,0,0,0]
[]
[null,"Price "]
[null,null,null,null,"Price - Nickel Class 1 LME ",null,"US$ /t",null,null,null,{"$f":"K69","v":18833},18833,18833,18833,18833,18833,18833,18833,20706,20706,20706,20706,20706,20360,20360,20360,20360,20360,20360,20360,20360,20360,20360,20360,20360,20360,20360,20360,20360,20360,20360,20360,20360,20360,20360,20360,20360,20360]
[null,null,null,null,"Price - Cobalt LME ",null,"US$ /t",null,null,null,{"$f":"K70","v":34172},34172,34172,34172,34172,34172,34172,34172,53124,53124,53124,53124,53124,62530,62530,62530,62530,62530,62530,62530,62530,62530,62530,62530,62530,62530,62530,62530,62530,62530,62530,62530,62530,62530,62530,62530,62530,62530]
[null,null,null,null,"Price - Copper Class 1 LME ",null,"US$ /t",null,null,null,{"$f":"K71","v":11317},11317,11317,11317,11317,11317,11317,11317,11456,11456,11456,11456,11456,11456,11456,11456,11456,11456,11456,11456,11456,11456,11456,11456,11456,11456,11456,11456,11456,11456,11456,11456,11456,11456,11456,11456,11456,11456]
[null,null,null,null,"Price - Manganese",null,"US$ /DMTU",null,null,null,{"$f":"K72","v":5.29},5.29,5.29,5.29,5.29,5.29,5.29,5.29,5.44,5.44,5.44,5.44,5.44,5.5,5.5,5.5,5.5,5.5,5.5,5.5,5.5,5.5,5.5,5.5,5.5,5.5,5.5,5.5,5.5,5.5,5.5,5.5,5.5,5.5,5.5,5.5,5.5,5.5]
[]
[null,"Capex"]
[null,null,null,null,"Production Vessel",null,"US$ mn",null,{"$f":"SUM(K229:AV229)","v":468.4},null,{"$f":"K96","v":234.2},234.2,0,0,0,0,0,0,0,0,0,0,0,0,0,0,0,0,0,0,0,0,0,0,0,0,0,0,0,0,0,0,0,0,0,0,0,0]
[null,null,null,null,"Transfer Vessel/Bulk Carriers",null,"US$ mn",null,89.6,null,{"$f":"K97","v":44.8},44.8,0,0,0,0,0,0,0,0,0,0,0,0,0,0,0,0,0,0,0,0,0,0,0,0,0,0,0,0,0,0,0,0,0,0,0,0]
[null,null,null,null,"Support Vessel",null,"US$ mn",null,15.2,null,{"$f":"K98","v":7.6},7.6,0,0,0,0,0,0,0,0,0,0,0,0,0,0,0,0,0,0,0,0,0,0,0,0,0,0,0,0,0,0,0,0,0,0,0,0]
[null,null,null,null,"Operations facilities initial setup",null,"US$ mn",null,2.2999999999999998,null,{"$f":"K99","v":1.1499999999999999},1.1499999999999999,0,0,0,0,0,0,0,0,0,0,0,0,0,0,0,0,0,0,0,0,0,0,0,0,0,0,0,0,0,0,0,0,0,0,0,0]
[null,null,null,null,"Professional Services",null,"US$ mn",null,59.4,null,{"$f":"K100","v":29.7},29.7,0,0,0,0,0,0,0,0,0,0,0,0,0,0,0,0,0,0,0,0,0,0,0,0,0,0,0,0,0,0,0,0,0,0,0,0]
[null,null,null,null,"Owners cost",null,"US$ mn",null,44.6,null,{"$f":"K101","v":22.3},22.3,0,0,0,0,0,0,0,0,0,0,0,0,0,0,0,0,0,0,0,0,0,0,0,0,0,0,0,0,0,0,0,0,0,0,0,0]
[null,null,null,null,"Contingency",null,"US$ mn",null,101.4,null,{"$f":"K102","v":50.7},50.7,0,0,0,0,0,0,0,0,0,0,0,0,0,0,0,0,0,0,0,0,0,0,0,0,0,0,0,0,0,0,0,0,0,0,0,0]
[null,null,null,null,"Allseas credit",null,"US$ mn",null,-289.3,null,{"$f":"K103","v":-144.65},-144.65,0,0,0,0,0,0,0,0,0,0,0,0,0,0,0,0,0,0,0,0,0,0,0,0,0,0,0,0,0,0,0,0,0,0,0,0]
[null,null,null,null,"Total capex",null,"US$ mn",null,{"$f":" SUM(K237:AV237)","v":491.59999999999997},null,{"$f":"SUM(K229:K236)","v":245.79999999999998},{"$f":"SUM(L229:L236)","v":245.79999999999998},{"$f":"SUM(M229:M233)","v":0},0,0,0,0,0,0,0,0,0,0,0,0,0,0,0,0,0,0,0,0,0,0,0,0,0,0,0,0,0,0,0,0,0,0,{"$f":"SUM(AV229:AV233)","v":0}]
[]
[null,"Sustaining Capex"]
[]
[null,null,null,null,"Sustaining Capex",{"$f":"F119","v":0},"US$ mn",0,1550,0,0,0,0,0,0,0,0,155,155,155,155,0,155,155,155,155,0,155,155,0,0,0,0,0,0,0,0,0,0,0,0,0,0,0,0,0,0,0]
[]
[null,"Opex"]
[null,null,null,null,"Collection",null,{"$f":"G151","v":"US$ mn"},null,{"$f":" SUM(K244:AV244)","v":12340.319999999998},null,{"$f":"K151","v":0},0,15.040000000000001,75.2,150.4,376,808.4,808.4,808.4,808.4,808.4,808.4,808.4,808.4,808.4,808.4,808.4,808.4,808.4,808.4,406.08000000000004,0,0,0,0,0,0,0,0,0,0,0,0,0,0,0,0,0]
[null,null,null,null,"Transfer and shipping",null,"US$ mn",null,3068.670000000001,null,{"$f":"K152","v":0},0,3.7400000000000007,18.700000000000003,37.400000000000006,93.500000000000014,201.02500000000003,201.02500000000003,201.02500000000003,201.02500000000003,201.02500000000003,201.02500000000003,201.02500000000003,201.02500000000003,201.02500000000003,201.02500000000003,201.02500000000003,201.02500000000003,201.02500000000003,201.02500000000003,100.98000000000002,0,0,0,0,0,0,0,0,0,0,0,0,0,0,0,0,0]
[null,null,null,null,"Contractor (Offshore)",null,"US$ mn",null,1854.3299999999995,null,{"$f":"K153","v":0},0,2.2600000000000002,11.3,22.6,56.5,121.47500000000001,121.47500000000001,121.47500000000001,121.47500000000001,121.47500000000001,121.47500000000001,121.47500000000001,121.47500000000001,121.47500000000001,121.47500000000001,121.47500000000001,121.47500000000001,121.47500000000001,121.47500000000001,61.02000000000001,0,0,0,0,0,0,0,0,0,0,0,0,0,0,0,0,0]
[null,null,null,null,"Consumables (Offshore)",null,"US$ mn",null,3839.940000000001,null,{"$f":"K154","v":0},0,4.68,23.4,46.8,117,251.54999999999998,251.54999999999998,251.54999999999998,251.54999999999998,251.54999999999998,251.54999999999998,251.54999999999998,251.54999999999998,251.54999999999998,251.54999999999998,251.54999999999998,251.54999999999998,251.54999999999998,251.54999999999998,126.36,0,0,0,0,0,0,0,0,0,0,0,0,0,0,0,0,0]
[null,null,null,null,"Processing ",null,"US$ mn",null,13620.300000000001,null,{"$f":"K155","v":0},0,16.600000000000001,83,166,415,892.25,892.25,892.25,892.25,892.25,892.25,892.25,892.25,892.25,892.25,892.25,892.25,892.25,892.25,448.20000000000005,0,0,0,0,0,0,0,0,0,0,0,0,0,0,0,0,0]
[null,null,null,null,"G&A",null,"US$ mn",null,1985.6100000000004,null,{"$f":"K156","v":0},0,2.42,12.1,24.2,60.5,130.07499999999999,130.07499999999999,130.07499999999999,130.07499999999999,130.07499999999999,130.07499999999999,130.07499999999999,130.07499999999999,130.07499999999999,130.07499999999999,130.07499999999999,130.07499999999999,130.07499999999999,130.07499999999999,65.34,0,0,0,0,0,0,0,0,0,0,0,0,0,0,0,0,0]
[null,null,null,null,"Total opex",null,"US$ mn",null,36709.170000000013,null,{"$f":"SUM(K244:K249)","v":0},{"$f":"SUM(L244:L249)","v":0},44.740000000000009,223.7,447.4,1118.5,2404.7749999999996,2404.7749999999996,2404.7749999999996,2404.7749999999996,2404.7749999999996,2404.7749999999996,2404.7749999999996,2404.7749999999996,2404.7749999999996,2404.7749999999996,2404.7749999999996,2404.7749999999996,2404.7749999999996,2404.7749999999996,1207.98,0,0,0,0,0,0,0,0,0,0,0,0,0,0,0,0,{"$f":"SUM(AV244:AV249)","v":0}]
[]
[null,"Closure cost"]
[]
[null,null,null,null,"Closure cost",{"$f":"F138","v":0},{"$f":"G138","v":"US$ mn"},{"$f":"H138","v":0},{"$f":"+I163","v":115},{"$f":"J138","v":0},{"$f":"+K163","v":0},0,0,0,0,0,0,0,0,0,0,0,0,0,0,0,0,0,0,0,0,11.5,11.5,11.5,11.5,11.5,11.5,11.5,11.5,11.5,11.5,0,0,0,0,0,0,0]
[]
[null,null,null,null,"Total cost during production",null,"US$ mn",null,{"$f":" SUM(K256:AV256)","v":38865.770000000011},null,{"$f":"+K237+K241+K250+K254","v":245.79999999999998},245.79999999999998,44.740000000000009,223.7,447.4,1118.5,2404.7749999999996,2559.7749999999996,2559.7749999999996,2559.7749999999996,2559.7749999999996,2404.7749999999996,2559.7749999999996,2559.7749999999996,2559.7749999999996,2559.7749999999996,2404.7749999999996,2559.7749999999996,2559.7749999999996,2404.7749999999996,1207.98,11.5,11.5,11.5,11.5,11.5,11.5,11.5,11.5,11.5,11.5,0,0,0,0,0,0,{"$f":"+AV237+AV241+AV250+AV254","v":0}]
[]
["Project Cashflow "]
[]
[null,"Production"]
[null,null,null,"Alloy"]
[null,null,null,null,{"$f":"+E207","v":"Nickel (Ni) (Recovered Metal)"},0,"kt",0,17.974091519999998,0,0,0,1.9537055999999997,9.7685279999999999,6.25185792,0,0,0,0,0,0,0,0,0,0,0,0,0,0,0,0,0,0,0,0,0,0,0,0,0,0,0,0,0,0,0,0,{"$f":"+AV207","v":0}]
[null,null,null,null,{"$f":"+E208","v":"Cobalt (Co) (Recovered Metal)"},0,"kt",0,1.726002432,0,0,0,0.18760895999999999,0.93804480000000001,0.60034867199999997,0,0,0,0,0,0,0,0,0,0,0,0,0,0,0,0,0,0,0,0,0,0,0,0,0,0,0,0,0,0,0,0,{"$f":"+AV208","v":0}]
[null,null,null,null,{"$f":"+E209","v":"Copper (Cu) (Recovered Metal)"},0,"kt",0,14.12859456,0,0,0,1.5357167999999999,7.6785839999999999,4.9142937599999996,0,0,0,0,0,0,0,0,0,0,0,0,0,0,0,0,0,0,0,0,0,0,0,0,0,0,0,0,0,0,0,0,{"$f":"+AV209","v":0}]
[]
[null,null,null,"Matte"]
[null,null,null,null,{"$f":"+E215","v":"Nickel (Ni) (Recovered Metal)"},0,"kt",0,1549.8763660799996,0,0,0,0,0,12.990458879999998,47.759039999999999,102.68193600000001,102.68193600000001,102.68193600000001,102.68193600000001,102.68193600000001,102.68193600000001,102.68193600000001,102.68193600000001,102.68193600000001,102.68193600000001,102.68193600000001,102.68193600000001,102.68193600000001,102.68193600000001,51.579763200000002,0,0,0,0,0,0,0,0,0,0,0,0,0,0,0,0,{"$f":"+AV215","v":0}]
[null,null,null,null,{"$f":"+E216","v":"Cobalt (Co) (Recovered Metal)"},0,"kt",0,126.82293523199996,0,0,0,0,0,1.0629803519999999,3.9080159999999995,8.4022343999999975,8.4022343999999975,8.4022343999999975,8.4022343999999975,8.4022343999999975,8.4022343999999975,8.4022343999999975,8.4022343999999975,8.4022343999999975,8.4022343999999975,8.4022343999999975,8.4022343999999975,8.4022343999999975,8.4022343999999975,4.2206572800000002,0,0,0,0,0,0,0,0,0,0,0,0,0,0,0,0,{"$f":"+AV216","v":0}]
[null,null,null,null,{"$f":"+E217","v":"Copper (Cu) (Recovered Metal)"},0,"kt",0,1151.1007381439999,0,0,0,0,0,9.6480771839999981,35.470872,76.262374799999989,76.262374799999989,76.262374799999989,76.262374799999989,76.262374799999989,76.262374799999989,76.262374799999989,76.262374799999989,76.262374799999989,76.262374799999989,76.262374799999989,76.262374799999989,76.262374799999989,76.262374799999989,38.308541759999997,0,0,0,0,0,0,0,0,0,0,0,0,0,0,0,0,{"$f":"+AV217","v":0}]
[]
[null,null,null,{"$f":"+D219","v":"Manganese Silicate"}]
[null,null,null,null,{"$f":"+E220","v":"Manganese (Mn) (Recovered Metal)"},0,"kt",0,36399.500172000007,0,0,0,44.362583999999991,221.81291999999996,443.62583999999993,1109.0645999999999,2384.4888899999996,2384.4888899999996,2384.4888899999996,2384.4888899999996,2384.4888899999996,2384.4888899999996,2384.4888899999996,2384.4888899999996,2384.4888899999996,2384.4888899999996,2384.4888899999996,2384.4888899999996,2384.4888899999996,2384.4888899999996,1197.7897680000001,0,0,0,0,0,0,0,0,0,0,0,0,0,0,0,0,{"$f":"+AV220","v":0}]
[]
[]
[null,"Payable Terms"]
[null,null,null,null,{"$f":"'Working Inputs'!E103","v":"Alloy - Payable Terms - Ni 2027-2031"},{"$f":"'Working Inputs'!F103","v":0.65},{"$f":"'Working Inputs'!G103","v":"%"}]
[null,null,null,null,{"$f":"'Working Inputs'!E104","v":"Alloy - Payable Terms - Ni 2032-2036"},{"$f":"'Working Inputs'!F104","v":0.65},{"$f":"'Working Inputs'!G104","v":"%"}]
[null,null,null,null,{"$f":"'Working Inputs'!E105","v":"Alloy - Payable Terms - Ni 2037-2045+"},{"$f":"'Working Inputs'!F105","v":0.65},{"$f":"'Working Inputs'!G105","v":"%"}]
[null,null,null,null,{"$f":"'Working Inputs'!E106","v":0},{"$f":"'Working Inputs'!F106","v":0},{"$f":"'Working Inputs'!G106","v":0}]
[null,null,null,null,{"$f":"'Working Inputs'!E107","v":"Alloy - Payable Terms - Co 2027-2031"},{"$f":"'Working Inputs'!F107","v":0.42},{"$f":"'Working Inputs'!G107","v":"%"}]
[null,null,null,null,{"$f":"'Working Inputs'!E108","v":"Alloy - Payable Terms - Co 2032-2036"},{"$f":"'Working Inputs'!F108","v":0.43},{"$f":"'Working Inputs'!G108","v":"%"}]
[null,null,null,null,{"$f":"'Working Inputs'!E109","v":"Alloy - Payable Terms - Co 2037-2045+"},{"$f":"'Working Inputs'!F109","v":0.45},{"$f":"'Working Inputs'!G109","v":"%"}]
[null,null,null,null,{"$f":"'Working Inputs'!E110","v":0},{"$f":"'Working Inputs'!F110","v":0},{"$f":"'Working Inputs'!G110","v":0}]
[null,null,null,null,{"$f":"'Working Inputs'!E111","v":"Alloy - Payable Terms - Cu 2027-2031"},{"$f":"'Working Inputs'!F111","v":0.5998},{"$f":"'Working Inputs'!G111","v":"%"}]
[null,null,null,null,{"$f":"'Working Inputs'!E112","v":"Alloy - Payable Terms - Cu 2032-2036"},{"$f":"'Working Inputs'!F112","v":0.5998},{"$f":"'Working Inputs'!G112","v":"%"}]
[null,null,null,null,{"$f":"'Working Inputs'!E113","v":"Alloy - Payable Terms - Cu 2037-2045+"},{"$f":"'Working Inputs'!F113","v":0.5998},{"$f":"'Working Inputs'!G113","v":"%"}]
[null,null,null,null,{"$f":"'Working Inputs'!E114","v":0},{"$f":"'Working Inputs'!F114","v":0},{"$f":"'Working Inputs'!G114","v":0}]
[null,null,null,null,{"$f":"'Working Inputs'!E115","v":"Matte - Payable Terms - Ni 2027-2031"},{"$f":"'Working Inputs'!F115","v":0.8},{"$f":"'Working Inputs'!G115","v":"%"}]
[null,null,null,null,{"$f":"'Working Inputs'!E116","v":"Matte - Payable Terms - Ni 2032-2036"},{"$f":"'Working Inputs'!F116","v":0.8},{"$f":"'Working Inputs'!G116","v":"%"}]
[null,null,null,null,{"$f":"'Working Inputs'!E117","v":"Matte - Payable Terms - Ni 2037-2045+"},{"$f":"'Working Inputs'!F117","v":0.8},{"$f":"'Working Inputs'!G117","v":"%"}]
[null,null,null,null,{"$f":"'Working Inputs'!E118","v":0},{"$f":"'Working Inputs'!F118","v":0},{"$f":"'Working Inputs'!G118","v":0}]
[null,null,null,null,{"$f":"'Working Inputs'!E119","v":"Matte - Payable Terms - Co 2027-2031"},{"$f":"'Working Inputs'!F119","v":0.6},{"$f":"'Working Inputs'!G119","v":"%"}]
[null,null,null,null,{"$f":"'Working Inputs'!E120","v":"Matte - Payable Terms - Co 2032-2036"},{"$f":"'Working Inputs'!F120","v":0.6},{"$f":"'Working Inputs'!G120","v":"%"}]
[null,null,null,null,{"$f":"'Working Inputs'!E121","v":"Matte - Payable Terms - Co 2037-2045+"},{"$f":"'Working Inputs'!F121","v":0.6},{"$f":"'Working Inputs'!G121","v":"%"}]
[null,null,null,null,{"$f":"'Working Inputs'!E122","v":0},{"$f":"'Working Inputs'!F122","v":0},{"$f":"'Working Inputs'!G122","v":0}]
[null,null,null,null,{"$f":"'Working Inputs'!E123","v":"Matte - Payable Terms - Cu 2027-2031"},{"$f":"'Working Inputs'!F123","v":0.7},{"$f":"'Working Inputs'!G123","v":"%"}]
[null,null,null,null,{"$f":"'Working Inputs'!E124","v":"Matte - Payable Terms - Cu 2032-2036"},{"$f":"'Working Inputs'!F124","v":0.7},{"$f":"'Working Inputs'!G124","v":"%"}]
[null,null,null,null,{"$f":"'Working Inputs'!E125","v":"Matte - Payable Terms - Cu 2037-2045+"},{"$f":"'Working Inputs'!F125","v":0.7},{"$f":"'Working Inputs'!G125","v":"%"}]
[]
[null,null,null,null,{"$f":"'Working Inputs'!E127","v":"Payable Terms - Manganese"},{"$f":"'Working Inputs'!F127","v":1},{"$f":"'Working Inputs'!G127","v":"%"}]
[]
[null,null,null,null,{"$f":"'T&E'!E89","v":"Alloy/Matte Payable terms bracket flag"},{"$f":"'T&E'!F89","v":0},{"$f":"'T&E'!G89","v":"flag"},{"$f":"'T&E'!H89","v":0},{"$f":"'T&E'!I89","v":0},{"$f":"'T&E'!J89","v":0},{"$f":"'T&E'!K89","v":1},{"$f":"'T&E'!L89","v":1},{"$f":"'T&E'!M89","v":1},{"$f":"'T&E'!N89","v":1},{"$f":"'T&E'!O89","v":1},{"$f":"'T&E'!P89","v":1},{"$f":"'T&E'!Q89","v":1},{"$f":"'T&E'!R89","v":2},{"$f":"'T&E'!S89","v":2},{"$f":"'T&E'!T89","v":2},{"$f":"'T&E'!U89","v":2},{"$f":"'T&E'!V89","v":2},{"$f":"'T&E'!W89","v":3},{"$f":"'T&E'!X89","v":3},{"$f":"'T&E'!Y89","v":3},{"$f":"'T&E'!Z89","v":3},{"$f":"'T&E'!AA89","v":3},{"$f":"'T&E'!AB89","v":3},{"$f":"'T&E'!AC89","v":3},{"$f":"'T&E'!AD89","v":3},{"$f":"'T&E'!AE89","v":3},{"$f":"'T&E'!AF89","v":3},{"$f":"'T&E'!AG89","v":3},{"$f":"'T&E'!AH89","v":3},{"$f":"'T&E'!AI89","v":3},{"$f":"'T&E'!AJ89","v":3},{"$f":"'T&E'!AK89","v":3},{"$f":"'T&E'!AL89","v":3},{"$f":"'T&E'!AM89","v":3},{"$f":"'T&E'!AN89","v":3},{"$f":"'T&E'!AO89","v":3},{"$f":"'T&E'!AP89","v":3},{"$f":"'T&E'!AQ89","v":3},{"$f":"'T&E'!AR89","v":3},{"$f":"'T&E'!AS89","v":3},{"$f":"'T&E'!AT89","v":3},{"$f":"'T&E'!AU89","v":3},{"$f":"'T&E'!AV89","v":3}]
[]
[null,"Revenue"]
[null,null,null,"Nickel products revenue"]
[null,null,null,null,"Payable factor for Alloy",null,"%",null,null,null,{"$f":"+INDEX($F$276:$F$278,K$302)","v":0.65},{"$f":"+INDEX($F$276:$F$278,L$302)","v":0.65},{"$f":"+INDEX($F$276:$F$278,M$302)","v":0.65},{"$f":"+INDEX($F$276:$F$278,N$302)","v":0.65},{"$f":"+INDEX($F$276:$F$278,O$302)","v":0.65},{"$f":"+INDEX($F$276:$F$278,P$302)","v":0.65},{"$f":"+INDEX($F$276:$F$278,Q$302)","v":0.65},{"$f":"+INDEX($F$276:$F$278,R$302)","v":0.65},{"$f":"+INDEX($F$276:$F$278,S$302)","v":0.65},{"$f":"+INDEX($F$276:$F$278,T$302)","v":0.65},{"$f":"+INDEX($F$276:$F$278,U$302)","v":0.65},{"$f":"+INDEX($F$276:$F$278,V$302)","v":0.65},{"$f":"+INDEX($F$276:$F$278,W$302)","v":0.65},{"$f":"+INDEX($F$276:$F$278,X$302)","v":0.65},{"$f":"+INDEX($F$276:$F$278,Y$302)","v":0.65},{"$f":"+INDEX($F$276:$F$278,Z$302)","v":0.65},{"$f":"+INDEX($F$276:$F$278,AA$302)","v":0.65},{"$f":"+INDEX($F$276:$F$278,AB$302)","v":0.65},{"$f":"+INDEX($F$276:$F$278,AC$302)","v":0.65},{"$f":"+INDEX($F$276:$F$278,AD$302)","v":0.65},{"$f":"+INDEX($F$276:$F$278,AE$302)","v":0.65},{"$f":"+INDEX($F$276:$F$278,AF$302)","v":0.65},{"$f":"+INDEX($F$276:$F$278,AG$302)","v":0.65},{"$f":"+INDEX($F$276:$F$278,AH$302)","v":0.65},{"$f":"+INDEX($F$276:$F$278,AI$302)","v":0.65},{"$f":"+INDEX($F$276:$F$278,AJ$302)","v":0.65},{"$f":"+INDEX($F$276:$F$278,AK$302)","v":0.65},{"$f":"+INDEX($F$276:$F$278,AL$302)","v":0.65},{"$f":"+INDEX($F$276:$F$278,AM$302)","v":0.65},{"$f":"+INDEX($F$276:$F$278,AN$302)","v":0.65},{"$f":"+INDEX($F$276:$F$278,AO$302)","v":0.65},{"$f":"+INDEX($F$276:$F$278,AP$302)","v":0.65},{"$f":"+INDEX($F$276:$F$278,AQ$302)","v":0.65},{"$f":"+INDEX($F$276:$F$278,AR$302)","v":0.65},{"$f":"+INDEX($F$276:$F$278,AS$302)","v":0.65},{"$f":"+INDEX($F$276:$F$278,AT$302)","v":0.65},{"$f":"+INDEX($F$276:$F$278,AU$302)","v":0.65},{"$f":"+INDEX($F$276:$F$278,AV$302)","v":0.65}]
[null,null,null,null,"Payable factor for Matte",null,"%",null,null,null,{"$f":"+INDEX($F$288:$F$290,K$302)","v":0.8},{"$f":"+INDEX($F$288:$F$290,L$302)","v":0.8},{"$f":"+INDEX($F$288:$F$290,M$302)","v":0.8},{"$f":"+INDEX($F$288:$F$290,N$302)","v":0.8},{"$f":"+INDEX($F$288:$F$290,O$302)","v":0.8},{"$f":"+INDEX($F$288:$F$290,P$302)","v":0.8},{"$f":"+INDEX($F$288:$F$290,Q$302)","v":0.8},{"$f":"+INDEX($F$288:$F$290,R$302)","v":0.8},{"$f":"+INDEX($F$288:$F$290,S$302)","v":0.8},{"$f":"+INDEX($F$288:$F$290,T$302)","v":0.8},{"$f":"+INDEX($F$288:$F$290,U$302)","v":0.8},{"$f":"+INDEX($F$288:$F$290,V$302)","v":0.8},{"$f":"+INDEX($F$288:$F$290,W$302)","v":0.8},{"$f":"+INDEX($F$288:$F$290,X$302)","v":0.8},{"$f":"+INDEX($F$288:$F$290,Y$302)","v":0.8},{"$f":"+INDEX($F$288:$F$290,Z$302)","v":0.8},{"$f":"+INDEX($F$288:$F$290,AA$302)","v":0.8},{"$f":"+INDEX($F$288:$F$290,AB$302)","v":0.8},{"$f":"+INDEX($F$288:$F$290,AC$302)","v":0.8},{"$f":"+INDEX($F$288:$F$290,AD$302)","v":0.8},{"$f":"+INDEX($F$288:$F$290,AE$302)","v":0.8},{"$f":"+INDEX($F$288:$F$290,AF$302)","v":0.8},{"$f":"+INDEX($F$288:$F$290,AG$302)","v":0.8},{"$f":"+INDEX($F$288:$F$290,AH$302)","v":0.8},{"$f":"+INDEX($F$288:$F$290,AI$302)","v":0.8},{"$f":"+INDEX($F$288:$F$290,AJ$302)","v":0.8},{"$f":"+INDEX($F$288:$F$290,AK$302)","v":0.8},{"$f":"+INDEX($F$288:$F$290,AL$302)","v":0.8},{"$f":"+INDEX($F$288:$F$290,AM$302)","v":0.8},{"$f":"+INDEX($F$288:$F$290,AN$302)","v":0.8},{"$f":"+INDEX($F$288:$F$290,AO$302)","v":0.8},{"$f":"+INDEX($F$288:$F$290,AP$302)","v":0.8},{"$f":"+INDEX($F$288:$F$290,AQ$302)","v":0.8},{"$f":"+INDEX($F$288:$F$290,AR$302)","v":0.8},{"$f":"+INDEX($F$288:$F$290,AS$302)","v":0.8},{"$f":"+INDEX($F$288:$F$290,AT$302)","v":0.8},{"$f":"+INDEX($F$288:$F$290,AU$302)","v":0.8},{"$f":"+INDEX($F$288:$F$290,AV$302)","v":0.8}]
[]
[null,null,null,null,"Payable metal for Alloy",null,"kt",null,{"$f":"SUM(K309:AV309)","v":11.683159488000001},null,{"$f":"K306*K262","v":0},{"$f":"L306*L262","v":0},{"$f":"M306*M262","v":1.2699086399999999},6.3495432000000003,4.0637076480000003,0,0,0,0,0,0,0,0,0,0,0,0,0,0,0,0,0,0,0,0,0,0,0,0,0,0,0,0,0,0,0,0,{"$f":"AV306*AV262","v":0}]
[null,null,null,null,"Payable metal for Matte",null,"kt",null,{"$f":"SUM(K310:AV310)","v":1239.901092864},null,{"$f":"K307*K267","v":0},0,0,0,10.392367104,38.207231999999998,82.145548800000014,82.145548800000014,82.145548800000014,82.145548800000014,82.145548800000014,82.145548800000014,82.145548800000014,82.145548800000014,82.145548800000014,82.145548800000014,82.145548800000014,82.145548800000014,82.145548800000014,82.145548800000014,41.263810560000003,0,0,0,0,0,0,0,0,0,0,0,0,0,0,0,0,{"$f":"AV307*AV267","v":0}]
[]
[null,null,null,null,{"$f":"E223","v":"Price - Nickel Class 1 LME "},{"$f":"F223","v":0},"US$ /t",0,0,0,18833,18833,18833,18833,18833,18833,18833,18833,20706,20706,20706,20706,20706,20360,20360,20360,20360,20360,20360,20360,20360,20360,20360,20360,20360,20360,20360,20360,20360,20360,20360,20360,20360,20360,20360,20360,20360,{"$f":"AV223","v":20360}]
[]
[null,null,null,null,"Total Nickel products revenue",null,"US$ mn",null,{"$f":"SUM(K314:AV314)","v":25281.442898905538},null,{"$f":"(K309+K310)*K223*'Working Inputs'!$F$245/'Working Inputs'!$F$246","v":0},{"$f":"(L309+L310)*L223*'Working Inputs'!$F$245/'Working Inputs'!$F$246","v":0},{"$f":"(M309+M310)*M223*'Working Inputs'!$F$245/'Working Inputs'!$F$246","v":23.916189417119998},{"$f":"(N309+N310)*N223*'Working Inputs'!$F$245/'Working Inputs'!$F$246","v":119.58094708560002},{"$f":"(O309+O310)*O223*'Working Inputs'!$F$245/'Working Inputs'!$F$246","v":272.25125580441596},{"$f":"(P309+P310)*P223*'Working Inputs'!$F$245/'Working Inputs'!$F$246","v":719.55680025599997},{"$f":"(Q309+Q310)*Q223*'Working Inputs'!$F$245/'Working Inputs'!$F$246","v":1547.0471205504002},{"$f":"(R309+R310)*R223*'Working Inputs'!$F$245/'Working Inputs'!$F$246","v":1547.0471205504002},{"$f":"(S309+S310)*S223*'Working Inputs'!$F$245/'Working Inputs'!$F$246","v":1700.9057334528002},{"$f":"(T309+T310)*T223*'Working Inputs'!$F$245/'Working Inputs'!$F$246","v":1700.9057334528002},{"$f":"(U309+U310)*U223*'Working Inputs'!$F$245/'Working Inputs'!$F$246","v":1700.9057334528002},{"$f":"(V309+V310)*V223*'Working Inputs'!$F$245/'Working Inputs'!$F$246","v":1700.9057334528002},{"$f":"(W309+W310)*W223*'Working Inputs'!$F$245/'Working Inputs'!$F$246","v":1700.9057334528002},{"$f":"(X309+X310)*X223*'Working Inputs'!$F$245/'Working Inputs'!$F$246","v":1672.4833735680004},{"$f":"(Y309+Y310)*Y223*'Working Inputs'!$F$245/'Working Inputs'!$F$246","v":1672.4833735680004},{"$f":"(Z309+Z310)*Z223*'Working Inputs'!$F$245/'Working Inputs'!$F$246","v":1672.4833735680004},{"$f":"(AA309+AA310)*AA223*'Working Inputs'!$F$245/'Working Inputs'!$F$246","v":1672.4833735680004},{"$f":"(AB309+AB310)*AB223*'Working Inputs'!$F$245/'Working Inputs'!$F$246","v":1672.4833735680004},{"$f":"(AC309+AC310)*AC223*'Working Inputs'!$F$245/'Working Inputs'!$F$246","v":1672.4833735680004},{"$f":"(AD309+AD310)*AD223*'Working Inputs'!$F$245/'Working Inputs'!$F$246","v":1672.4833735680004},{"$f":"(AE309+AE310)*AE223*'Working Inputs'!$F$245/'Working Inputs'!$F$246","v":840.13118300160011},{"$f":"(AF309+AF310)*AF223*'Working Inputs'!$F$245/'Working Inputs'!$F$246","v":0},{"$f":"(AG309+AG310)*AG223*'Working Inputs'!$F$245/'Working Inputs'!$F$246","v":0},{"$f":"(AH309+AH310)*AH223*'Working Inputs'!$F$245/'Working Inputs'!$F$246","v":0},{"$f":"(AI309+AI310)*AI223*'Working Inputs'!$F$245/'Working Inputs'!$F$246","v":0},{"$f":"(AJ309+AJ310)*AJ223*'Working Inputs'!$F$245/'Working Inputs'!$F$246","v":0},{"$f":"(AK309+AK310)*AK223*'Working Inputs'!$F$245/'Working Inputs'!$F$246","v":0},{"$f":"(AL309+AL310)*AL223*'Working Inputs'!$F$245/'Working Inputs'!$F$246","v":0},{"$f":"(AM309+AM310)*AM223*'Working Inputs'!$F$245/'Working Inputs'!$F$246","v":0},{"$f":"(AN309+AN310)*AN223*'Working Inputs'!$F$245/'Working Inputs'!$F$246","v":0},{"$f":"(AO309+AO310)*AO223*'Working Inputs'!$F$245/'Working Inputs'!$F$246","v":0},{"$f":"(AP309+AP310)*AP223*'Working Inputs'!$F$245/'Working Inputs'!$F$246","v":0},{"$f":"(AQ309+AQ310)*AQ223*'Working Inputs'!$F$245/'Working Inputs'!$F$246","v":0},{"$f":"(AR309+AR310)*AR223*'Working Inputs'!$F$245/'Working Inputs'!$F$246","v":0},{"$f":"(AS309+AS310)*AS223*'Working Inputs'!$F$245/'Working Inputs'!$F$246","v":0},{"$f":"(AT309+AT310)*AT223*'Working Inputs'!$F$245/'Working Inputs'!$F$246","v":0},{"$f":"(AU309+AU310)*AU223*'Working Inputs'!$F$245/'Working Inputs'!$F$246","v":0},{"$f":"(AV309+AV310)*AV223*'Working Inputs'!$F$245/'Working Inputs'!$F$246","v":0}]
[]
[null,null,null,"Cobalt products revenue"]
[null,null,null,null,"Payable factor for Alloy",null,"%",null,null,null,{"$f":"+INDEX($F$280:$F$282,K$302)","v":0.42},{"$f":"+INDEX($F$280:$F$282,L$302)","v":0.42},{"$f":"+INDEX($F$280:$F$282,M$302)","v":0.42},{"$f":"+INDEX($F$280:$F$282,N$302)","v":0.42},{"$f":"+INDEX($F$280:$F$282,O$302)","v":0.42},{"$f":"+INDEX($F$280:$F$282,P$302)","v":0.42},{"$f":"+INDEX($F$280:$F$282,Q$302)","v":0.42},{"$f":"+INDEX($F$280:$F$282,R$302)","v":0.43},{"$f":"+INDEX($F$280:$F$282,S$302)","v":0.43},{"$f":"+INDEX($F$280:$F$282,T$302)","v":0.43},{"$f":"+INDEX($F$280:$F$282,U$302)","v":0.43},{"$f":"+INDEX($F$280:$F$282,V$302)","v":0.43},{"$f":"+INDEX($F$280:$F$282,W$302)","v":0.45},{"$f":"+INDEX($F$280:$F$282,X$302)","v":0.45},{"$f":"+INDEX($F$280:$F$282,Y$302)","v":0.45},{"$f":"+INDEX($F$280:$F$282,Z$302)","v":0.45},{"$f":"+INDEX($F$280:$F$282,AA$302)","v":0.45},{"$f":"+INDEX($F$280:$F$282,AB$302)","v":0.45},{"$f":"+INDEX($F$280:$F$282,AC$302)","v":0.45},{"$f":"+INDEX($F$280:$F$282,AD$302)","v":0.45},{"$f":"+INDEX($F$280:$F$282,AE$302)","v":0.45},{"$f":"+INDEX($F$280:$F$282,AF$302)","v":0.45},{"$f":"+INDEX($F$280:$F$282,AG$302)","v":0.45},{"$f":"+INDEX($F$280:$F$282,AH$302)","v":0.45},{"$f":"+INDEX($F$280:$F$282,AI$302)","v":0.45},{"$f":"+INDEX($F$280:$F$282,AJ$302)","v":0.45},{"$f":"+INDEX($F$280:$F$282,AK$302)","v":0.45},{"$f":"+INDEX($F$280:$F$282,AL$302)","v":0.45},{"$f":"+INDEX($F$280:$F$282,AM$302)","v":0.45},{"$f":"+INDEX($F$280:$F$282,AN$302)","v":0.45},{"$f":"+INDEX($F$280:$F$282,AO$302)","v":0.45},{"$f":"+INDEX($F$280:$F$282,AP$302)","v":0.45},{"$f":"+INDEX($F$280:$F$282,AQ$302)","v":0.45},{"$f":"+INDEX($F$280:$F$282,AR$302)","v":0.45},{"$f":"+INDEX($F$280:$F$282,AS$302)","v":0.45},{"$f":"+INDEX($F$280:$F$282,AT$302)","v":0.45},{"$f":"+INDEX($F$280:$F$282,AU$302)","v":0.45},{"$f":"+INDEX($F$280:$F$282,AV$302)","v":0.45}]
[null,null,null,null,"Payable factor for Matte",null,"%",null,null,null,{"$f":"+INDEX($F$292:$F$294,K$302)","v":0.6},{"$f":"+INDEX($F$292:$F$294,L$302)","v":0.6},{"$f":"+INDEX($F$292:$F$294,M$302)","v":0.6},{"$f":"+INDEX($F$292:$F$294,N$302)","v":0.6},{"$f":"+INDEX($F$292:$F$294,O$302)","v":0.6},{"$f":"+INDEX($F$292:$F$294,P$302)","v":0.6},{"$f":"+INDEX($F$292:$F$294,Q$302)","v":0.6},{"$f":"+INDEX($F$292:$F$294,R$302)","v":0.6},{"$f":"+INDEX($F$292:$F$294,S$302)","v":0.6},{"$f":"+INDEX($F$292:$F$294,T$302)","v":0.6},{"$f":"+INDEX($F$292:$F$294,U$302)","v":0.6},{"$f":"+INDEX($F$292:$F$294,V$302)","v":0.6},{"$f":"+INDEX($F$292:$F$294,W$302)","v":0.6},{"$f":"+INDEX($F$292:$F$294,X$302)","v":0.6},{"$f":"+INDEX($F$292:$F$294,Y$302)","v":0.6},{"$f":"+INDEX($F$292:$F$294,Z$302)","v":0.6},{"$f":"+INDEX($F$292:$F$294,AA$302)","v":0.6},{"$f":"+INDEX($F$292:$F$294,AB$302)","v":0.6},{"$f":"+INDEX($F$292:$F$294,AC$302)","v":0.6},{"$f":"+INDEX($F$292:$F$294,AD$302)","v":0.6},{"$f":"+INDEX($F$292:$F$294,AE$302)","v":0.6},{"$f":"+INDEX($F$292:$F$294,AF$302)","v":0.6},{"$f":"+INDEX($F$292:$F$294,AG$302)","v":0.6},{"$f":"+INDEX($F$292:$F$294,AH$302)","v":0.6},{"$f":"+INDEX($F$292:$F$294,AI$302)","v":0.6},{"$f":"+INDEX($F$292:$F$294,AJ$302)","v":0.6},{"$f":"+INDEX($F$292:$F$294,AK$302)","v":0.6},{"$f":"+INDEX($F$292:$F$294,AL$302)","v":0.6},{"$f":"+INDEX($F$292:$F$294,AM$302)","v":0.6},{"$f":"+INDEX($F$292:$F$294,AN$302)","v":0.6},{"$f":"+INDEX($F$292:$F$294,AO$302)","v":0.6},{"$f":"+INDEX($F$292:$F$294,AP$302)","v":0.6},{"$f":"+INDEX($F$292:$F$294,AQ$302)","v":0.6},{"$f":"+INDEX($F$292:$F$294,AR$302)","v":0.6},{"$f":"+INDEX($F$292:$F$294,AS$302)","v":0.6},{"$f":"+INDEX($F$292:$F$294,AT$302)","v":0.6},{"$f":"+INDEX($F$292:$F$294,AU$302)","v":0.6},{"$f":"+INDEX($F$292:$F$294,AV$302)","v":0.6}]
[]
[null,null,null,null,"Payable metal for Alloy",null,"kt",null,{"$f":"SUM(K320:AV320)","v":0.72492102143999992},null,{"$f":"K317*K263","v":0},0,7.8795763199999994E-2,0.39397881600000001,0.25214644223999999,0,0,0,0,0,0,0,0,0,0,0,0,0,0,0,0,0,0,0,0,0,0,0,0,0,0,0,0,0,0,0,0,{"$f":"AV317*AV263","v":0}]
[null,null,null,null,"Payable metal for Matte",null,"kt",null,{"$f":"SUM(K321:AV321)","v":76.093761139199998},null,{"$f":"K318*K268","v":0},0,0,0,0.63778821119999984,2.3448095999999996,5.0413406399999987,5.0413406399999987,5.0413406399999987,5.0413406399999987,5.0413406399999987,5.0413406399999987,5.0413406399999987,5.0413406399999987,5.0413406399999987,5.0413406399999987,5.0413406399999987,5.0413406399999987,5.0413406399999987,5.0413406399999987,2.5323943679999998,0,0,0,0,0,0,0,0,0,0,0,0,0,0,0,0,{"$f":"AV318*AV268","v":0}]
[]
[null,null,null,null,{"$f":"E224","v":"Price - Cobalt LME "},null,{"$f":"G224","v":"US$ /t"},0,0,0,{"$f":"K224","v":34172},34172,34172,34172,34172,34172,34172,34172,53124,53124,53124,53124,53124,62530,62530,62530,62530,62530,62530,62530,62530,62530,62530,62530,62530,62530,62530,62530,62530,62530,62530,62530,62530,62530,62530,62530,62530,{"$f":"AV224","v":62530}]
[]
[null,null,null,null,"Total Cobalt products revenue",null,"US$ mn",null,{"$f":"SUM(K325:AV325)","v":4175.3154504113727},null,{"$f":"(K320+K321)*K323*'Working Inputs'!$F$245/'Working Inputs'!$F$246","v":0},{"$f":"(L320+L321)*L323*'Working Inputs'!$F$245/'Working Inputs'!$F$246","v":0},{"$f":"(M320+M321)*M323*'Working Inputs'!$F$245/'Working Inputs'!$F$246","v":2.6926088200703999},{"$f":"(N320+N321)*N323*'Working Inputs'!$F$245/'Working Inputs'!$F$246","v":13.463044100352},{"$f":"(O320+O321)*O323*'Working Inputs'!$F$245/'Working Inputs'!$F$246","v":30.410846977351678},{"$f":"(P320+P321)*P323*'Working Inputs'!$F$245/'Working Inputs'!$F$246","v":80.126833651199988},{"$f":"(Q320+Q321)*Q323*'Working Inputs'!$F$245/'Working Inputs'!$F$246","v":172.27269235007995},{"$f":"(R320+R321)*R323*'Working Inputs'!$F$245/'Working Inputs'!$F$246","v":172.27269235007995},{"$f":"(S320+S321)*S323*'Working Inputs'!$F$245/'Working Inputs'!$F$246","v":267.81618015935993},{"$f":"(T320+T321)*T323*'Working Inputs'!$F$245/'Working Inputs'!$F$246","v":267.81618015935993},{"$f":"(U320+U321)*U323*'Working Inputs'!$F$245/'Working Inputs'!$F$246","v":267.81618015935993},{"$f":"(V320+V321)*V323*'Working Inputs'!$F$245/'Working Inputs'!$F$246","v":267.81618015935993},{"$f":"(W320+W321)*W323*'Working Inputs'!$F$245/'Working Inputs'!$F$246","v":267.81618015935993},{"$f":"(X320+X321)*X323*'Working Inputs'!$F$245/'Working Inputs'!$F$246","v":315.23503021919987},{"$f":"(Y320+Y321)*Y323*'Working Inputs'!$F$245/'Working Inputs'!$F$246","v":315.23503021919987},{"$f":"(Z320+Z321)*Z323*'Working Inputs'!$F$245/'Working Inputs'!$F$246","v":315.23503021919987},{"$f":"(AA320+AA321)*AA323*'Working Inputs'!$F$245/'Working Inputs'!$F$246","v":315.23503021919987},{"$f":"(AB320+AB321)*AB323*'Working Inputs'!$F$245/'Working Inputs'!$F$246","v":315.23503021919987},{"$f":"(AC320+AC321)*AC323*'Working Inputs'!$F$245/'Working Inputs'!$F$246","v":315.23503021919987},{"$f":"(AD320+AD321)*AD323*'Working Inputs'!$F$245/'Working Inputs'!$F$246","v":315.23503021919987},{"$f":"(AE320+AE321)*AE323*'Working Inputs'!$F$245/'Working Inputs'!$F$246","v":158.35061983103998},{"$f":"(AF320+AF321)*AF323*'Working Inputs'!$F$245/'Working Inputs'!$F$246","v":0},{"$f":"(AG320+AG321)*AG323*'Working Inputs'!$F$245/'Working Inputs'!$F$246","v":0},{"$f":"(AH320+AH321)*AH323*'Working Inputs'!$F$245/'Working Inputs'!$F$246","v":0},{"$f":"(AI320+AI321)*AI323*'Working Inputs'!$F$245/'Working Inputs'!$F$246","v":0},{"$f":"(AJ320+AJ321)*AJ323*'Working Inputs'!$F$245/'Working Inputs'!$F$246","v":0},{"$f":"(AK320+AK321)*AK323*'Working Inputs'!$F$245/'Working Inputs'!$F$246","v":0},{"$f":"(AL320+AL321)*AL323*'Working Inputs'!$F$245/'Working Inputs'!$F$246","v":0},{"$f":"(AM320+AM321)*AM323*'Working Inputs'!$F$245/'Working Inputs'!$F$246","v":0},{"$f":"(AN320+AN321)*AN323*'Working Inputs'!$F$245/'Working Inputs'!$F$246","v":0},{"$f":"(AO320+AO321)*AO323*'Working Inputs'!$F$245/'Working Inputs'!$F$246","v":0},{"$f":"(AP320+AP321)*AP323*'Working Inputs'!$F$245/'Working Inputs'!$F$246","v":0},{"$f":"(AQ320+AQ321)*AQ323*'Working Inputs'!$F$245/'Working Inputs'!$F$246","v":0},{"$f":"(AR320+AR321)*AR323*'Working Inputs'!$F$245/'Working Inputs'!$F$246","v":0},{"$f":"(AS320+AS321)*AS323*'Working Inputs'!$F$245/'Working Inputs'!$F$246","v":0},{"$f":"(AT320+AT321)*AT323*'Working Inputs'!$F$245/'Working Inputs'!$F$246","v":0},{"$f":"(AU320+AU321)*AU323*'Working Inputs'!$F$245/'Working Inputs'!$F$246","v":0},{"$f":"(AV320+AV321)*AV323*'Working Inputs'!$F$245/'Working Inputs'!$F$246","v":0}]
[]
[null,null,null,"Copper products revenue"]
[null,null,null,null,"Payable factor for Alloy",null,"%",null,null,null,{"$f":"+INDEX($F$284:$F$286,K$302)","v":0.5998},{"$f":"+INDEX($F$284:$F$286,L$302)","v":0.5998},{"$f":"+INDEX($F$284:$F$286,M$302)","v":0.5998},{"$f":"+INDEX($F$284:$F$286,N$302)","v":0.5998},{"$f":"+INDEX($F$284:$F$286,O$302)","v":0.5998},{"$f":"+INDEX($F$284:$F$286,P$302)","v":0.5998},{"$f":"+INDEX($F$284:$F$286,Q$302)","v":0.5998},{"$f":"+INDEX($F$284:$F$286,R$302)","v":0.5998},{"$f":"+INDEX($F$284:$F$286,S$302)","v":0.5998},{"$f":"+INDEX($F$284:$F$286,T$302)","v":0.5998},{"$f":"+INDEX($F$284:$F$286,U$302)","v":0.5998},{"$f":"+INDEX($F$284:$F$286,V$302)","v":0.5998},{"$f":"+INDEX($F$284:$F$286,W$302)","v":0.5998},{"$f":"+INDEX($F$284:$F$286,X$302)","v":0.5998},{"$f":"+INDEX($F$284:$F$286,Y$302)","v":0.5998},{"$f":"+INDEX($F$284:$F$286,Z$302)","v":0.5998},{"$f":"+INDEX($F$284:$F$286,AA$302)","v":0.5998},{"$f":"+INDEX($F$284:$F$286,AB$302)","v":0.5998},{"$f":"+INDEX($F$284:$F$286,AC$302)","v":0.5998},{"$f":"+INDEX($F$284:$F$286,AD$302)","v":0.5998},{"$f":"+INDEX($F$284:$F$286,AE$302)","v":0.5998},{"$f":"+INDEX($F$284:$F$286,AF$302)","v":0.5998},{"$f":"+INDEX($F$284:$F$286,AG$302)","v":0.5998},{"$f":"+INDEX($F$284:$F$286,AH$302)","v":0.5998},{"$f":"+INDEX($F$284:$F$286,AI$302)","v":0.5998},{"$f":"+INDEX($F$284:$F$286,AJ$302)","v":0.5998},{"$f":"+INDEX($F$284:$F$286,AK$302)","v":0.5998},{"$f":"+INDEX($F$284:$F$286,AL$302)","v":0.5998},{"$f":"+INDEX($F$284:$F$286,AM$302)","v":0.5998},{"$f":"+INDEX($F$284:$F$286,AN$302)","v":0.5998},{"$f":"+INDEX($F$284:$F$286,AO$302)","v":0.5998},{"$f":"+INDEX($F$284:$F$286,AP$302)","v":0.5998},{"$f":"+INDEX($F$284:$F$286,AQ$302)","v":0.5998},{"$f":"+INDEX($F$284:$F$286,AR$302)","v":0.5998},{"$f":"+INDEX($F$284:$F$286,AS$302)","v":0.5998},{"$f":"+INDEX($F$284:$F$286,AT$302)","v":0.5998},{"$f":"+INDEX($F$284:$F$286,AU$302)","v":0.5998},{"$f":"+INDEX($F$284:$F$286,AV$302)","v":0.5998}]
[null,null,null,null,"Payable factor for Matte",null,"%",null,null,null,{"$f":"+INDEX($F$296:$F$298,K$302)","v":0.7},{"$f":"+INDEX($F$296:$F$298,L$302)","v":0.7},{"$f":"+INDEX($F$296:$F$298,M$302)","v":0.7},{"$f":"+INDEX($F$296:$F$298,N$302)","v":0.7},{"$f":"+INDEX($F$296:$F$298,O$302)","v":0.7},{"$f":"+INDEX($F$296:$F$298,P$302)","v":0.7},{"$f":"+INDEX($F$296:$F$298,Q$302)","v":0.7},{"$f":"+INDEX($F$296:$F$298,R$302)","v":0.7},{"$f":"+INDEX($F$296:$F$298,S$302)","v":0.7},{"$f":"+INDEX($F$296:$F$298,T$302)","v":0.7},{"$f":"+INDEX($F$296:$F$298,U$302)","v":0.7},{"$f":"+INDEX($F$296:$F$298,V$302)","v":0.7},{"$f":"+INDEX($F$296:$F$298,W$302)","v":0.7},{"$f":"+INDEX($F$296:$F$298,X$302)","v":0.7},{"$f":"+INDEX($F$296:$F$298,Y$302)","v":0.7},{"$f":"+INDEX($F$296:$F$298,Z$302)","v":0.7},{"$f":"+INDEX($F$296:$F$298,AA$302)","v":0.7},{"$f":"+INDEX($F$296:$F$298,AB$302)","v":0.7},{"$f":"+INDEX($F$296:$F$298,AC$302)","v":0.7},{"$f":"+INDEX($F$296:$F$298,AD$302)","v":0.7},{"$f":"+INDEX($F$296:$F$298,AE$302)","v":0.7},{"$f":"+INDEX($F$296:$F$298,AF$302)","v":0.7},{"$f":"+INDEX($F$296:$F$298,AG$302)","v":0.7},{"$f":"+INDEX($F$296:$F$298,AH$302)","v":0.7},{"$f":"+INDEX($F$296:$F$298,AI$302)","v":0.7},{"$f":"+INDEX($F$296:$F$298,AJ$302)","v":0.7},{"$f":"+INDEX($F$296:$F$298,AK$302)","v":0.7},{"$f":"+INDEX($F$296:$F$298,AL$302)","v":0.7},{"$f":"+INDEX($F$296:$F$298,AM$302)","v":0.7},{"$f":"+INDEX($F$296:$F$298,AN$302)","v":0.7},{"$f":"+INDEX($F$296:$F$298,AO$302)","v":0.7},{"$f":"+INDEX($F$296:$F$298,AP$302)","v":0.7},{"$f":"+INDEX($F$296:$F$298,AQ$302)","v":0.7},{"$f":"+INDEX($F$296:$F$298,AR$302)","v":0.7},{"$f":"+INDEX($F$296:$F$298,AS$302)","v":0.7},{"$f":"+INDEX($F$296:$F$298,AT$302)","v":0.7},{"$f":"+INDEX($F$296:$F$298,AU$302)","v":0.7},{"$f":"+INDEX($F$296:$F$298,AV$302)","v":0.7}]
[]
[null,null,null,null,"Payable metal for Alloy",null,"kt",null,{"$f":"SUM(K331:AV331)","v":8.4743310170879997},null,{"$f":"K328*K264","v":0},0,0.92112293663999989,4.6056146831999998,2.9475933972479997,0,0,0,0,0,0,0,0,0,0,0,0,0,0,0,0,0,0,0,0,0,0,0,0,0,0,0,0,0,0,0,0,{"$f":"AV328*AV264","v":0}]
[null,null,null,null,"Payable metal for Matte",null,"kt",null,{"$f":"SUM(K332:AV332)","v":805.77051670080004},null,{"$f":"K329*K269","v":0},0,0,0,6.753654028799998,24.8296104,53.383662359999988,53.383662359999988,53.383662359999988,53.383662359999988,53.383662359999988,53.383662359999988,53.383662359999988,53.383662359999988,53.383662359999988,53.383662359999988,53.383662359999988,53.383662359999988,53.383662359999988,53.383662359999988,26.815979231999997,0,0,0,0,0,0,0,0,0,0,0,0,0,0,0,0,{"$f":"AV329*AV269","v":0}]
[]
[null,null,null,null,{"$f":"E225","v":"Price - Copper Class 1 LME "},null,{"$f":"G225","v":"US$ /t"},0,0,0,11317,11317,11317,11317,11317,11317,11317,11317,11456,11456,11456,11456,11456,11456,11456,11456,11456,11456,11456,11456,11456,11456,11456,11456,11456,11456,11456,11456,11456,11456,11456,11456,11456,11456,11456,11456,11456,{"$f":"AV225","v":11456}]
[]
[null,null,null,null,"Total Copper products revenue",null,"US$ mn",null,{"$f":"SUM(K336:AV336)","v":9307.5803115530653},null,{"$f":"(K331+K332)*K334*'Working Inputs'!$F$245/'Working Inputs'!$F$246","v":0},{"$f":"(L331+L332)*L334*'Working Inputs'!$F$245/'Working Inputs'!$F$246","v":0},{"$f":"(M331+M332)*M334*'Working Inputs'!$F$245/'Working Inputs'!$F$246","v":10.424348273954879},{"$f":"(N331+N332)*N334*'Working Inputs'!$F$245/'Working Inputs'!$F$246","v":52.121741369774398},{"$f":"(O331+O332)*O334*'Working Inputs'!$F$245/'Working Inputs'!$F$246","v":109.78901712058517},{"$f":"(P331+P332)*P334*'Working Inputs'!$F$245/'Working Inputs'!$F$246","v":280.99670089680001},{"$f":"(Q331+Q332)*Q334*'Working Inputs'!$F$245/'Working Inputs'!$F$246","v":604.14290692811983},{"$f":"(R331+R332)*R334*'Working Inputs'!$F$245/'Working Inputs'!$F$246","v":604.14290692811983},{"$f":"(S331+S332)*S334*'Working Inputs'!$F$245/'Working Inputs'!$F$246","v":611.56323599615985},{"$f":"(T331+T332)*T334*'Working Inputs'!$F$245/'Working Inputs'!$F$246","v":611.56323599615985},{"$f":"(U331+U332)*U334*'Working Inputs'!$F$245/'Working Inputs'!$F$246","v":611.56323599615985},{"$f":"(V331+V332)*V334*'Working Inputs'!$F$245/'Working Inputs'!$F$246","v":611.56323599615985},{"$f":"(W331+W332)*W334*'Working Inputs'!$F$245/'Working Inputs'!$F$246","v":611.56323599615985},{"$f":"(X331+X332)*X334*'Working Inputs'!$F$245/'Working Inputs'!$F$246","v":611.56323599615985},{"$f":"(Y331+Y332)*Y334*'Working Inputs'!$F$245/'Working Inputs'!$F$246","v":611.56323599615985},{"$f":"(Z331+Z332)*Z334*'Working Inputs'!$F$245/'Working Inputs'!$F$246","v":611.56323599615985},{"$f":"(AA331+AA332)*AA334*'Working Inputs'!$F$245/'Working Inputs'!$F$246","v":611.56323599615985},{"$f":"(AB331+AB332)*AB334*'Working Inputs'!$F$245/'Working Inputs'!$F$246","v":611.56323599615985},{"$f":"(AC331+AC332)*AC334*'Working Inputs'!$F$245/'Working Inputs'!$F$246","v":611.56323599615985},{"$f":"(AD331+AD332)*AD334*'Working Inputs'!$F$245/'Working Inputs'!$F$246","v":611.56323599615985},{"$f":"(AE331+AE332)*AE334*'Working Inputs'!$F$245/'Working Inputs'!$F$246","v":307.20385808179196},{"$f":"(AF331+AF332)*AF334*'Working Inputs'!$F$245/'Working Inputs'!$F$246","v":0},{"$f":"(AG331+AG332)*AG334*'Working Inputs'!$F$245/'Working Inputs'!$F$246","v":0},{"$f":"(AH331+AH332)*AH334*'Working Inputs'!$F$245/'Working Inputs'!$F$246","v":0},{"$f":"(AI331+AI332)*AI334*'Working Inputs'!$F$245/'Working Inputs'!$F$246","v":0},{"$f":"(AJ331+AJ332)*AJ334*'Working Inputs'!$F$245/'Working Inputs'!$F$246","v":0},{"$f":"(AK331+AK332)*AK334*'Working Inputs'!$F$245/'Working Inputs'!$F$246","v":0},{"$f":"(AL331+AL332)*AL334*'Working Inputs'!$F$245/'Working Inputs'!$F$246","v":0},{"$f":"(AM331+AM332)*AM334*'Working Inputs'!$F$245/'Working Inputs'!$F$246","v":0},{"$f":"(AN331+AN332)*AN334*'Working Inputs'!$F$245/'Working Inputs'!$F$246","v":0},{"$f":"(AO331+AO332)*AO334*'Working Inputs'!$F$245/'Working Inputs'!$F$246","v":0},{"$f":"(AP331+AP332)*AP334*'Working Inputs'!$F$245/'Working Inputs'!$F$246","v":0},{"$f":"(AQ331+AQ332)*AQ334*'Working Inputs'!$F$245/'Working Inputs'!$F$246","v":0},{"$f":"(AR331+AR332)*AR334*'Working Inputs'!$F$245/'Working Inputs'!$F$246","v":0},{"$f":"(AS331+AS332)*AS334*'Working Inputs'!$F$245/'Working Inputs'!$F$246","v":0},{"$f":"(AT331+AT332)*AT334*'Working Inputs'!$F$245/'Working Inputs'!$F$246","v":0},{"$f":"(AU331+AU332)*AU334*'Working Inputs'!$F$245/'Working Inputs'!$F$246","v":0},{"$f":"(AV331+AV332)*AV334*'Working Inputs'!$F$245/'Working Inputs'!$F$246","v":0}]
[]
[null,null,null,"Manganese product revenue"]
[null,null,null,null,{"$f":"E300","v":"Payable Terms - Manganese"},null,"%",null,null,null,{"$f":"$F$300","v":1},{"$f":"$F$300","v":1},1,1,1,1,1,1,1,1,1,1,1,1,1,1,1,1,1,1,1,1,1,1,1,1,1,1,1,1,1,1,1,1,1,1,1,1]
[]
[null,null,null,null,"Payable metal",null,"kt",null,{"$f":"SUM(K341:AV341)","v":36399.500172000007},null,{"$f":"K339*K272","v":0},0,44.362583999999991,221.81291999999996,443.62583999999993,1109.0645999999999,2384.4888899999996,2384.4888899999996,2384.4888899999996,2384.4888899999996,2384.4888899999996,2384.4888899999996,2384.4888899999996,2384.4888899999996,2384.4888899999996,2384.4888899999996,2384.4888899999996,2384.4888899999996,2384.4888899999996,2384.4888899999996,1197.7897680000001,0,0,0,0,0,0,0,0,0,0,0,0,0,0,0,0,{"$f":"AV339*AV272","v":0}]
[null,null,null,null,"Payable metal in DMTU",null,"DMTU",null,{"$f":"SUM(K342:AV342)","v":3639950017.1999998},null,{"$f":"+K341*'Working Inputs'!$F$245*'Working Inputs'!$F$244","v":0},{"$f":"+L341*'Working Inputs'!$F$245*'Working Inputs'!$F$244","v":0},{"$f":"+M341*'Working Inputs'!$F$245*'Working Inputs'!$F$244","v":4436258.3999999985},{"$f":"+N341*'Working Inputs'!$F$245*'Working Inputs'!$F$244","v":22181291.999999996},{"$f":"+O341*'Working Inputs'!$F$245*'Working Inputs'!$F$244","v":44362583.999999993},{"$f":"+P341*'Working Inputs'!$F$245*'Working Inputs'!$F$244","v":110906459.99999999},{"$f":"+Q341*'Working Inputs'!$F$245*'Working Inputs'!$F$244","v":238448888.99999997},{"$f":"+R341*'Working Inputs'!$F$245*'Working Inputs'!$F$244","v":238448888.99999997},{"$f":"+S341*'Working Inputs'!$F$245*'Working Inputs'!$F$244","v":238448888.99999997},{"$f":"+T341*'Working Inputs'!$F$245*'Working Inputs'!$F$244","v":238448888.99999997},{"$f":"+U341*'Working Inputs'!$F$245*'Working Inputs'!$F$244","v":238448888.99999997},{"$f":"+V341*'Working Inputs'!$F$245*'Working Inputs'!$F$244","v":238448888.99999997},{"$f":"+W341*'Working Inputs'!$F$245*'Working Inputs'!$F$244","v":238448888.99999997},{"$f":"+X341*'Working Inputs'!$F$245*'Working Inputs'!$F$244","v":238448888.99999997},{"$f":"+Y341*'Working Inputs'!$F$245*'Working Inputs'!$F$244","v":238448888.99999997},{"$f":"+Z341*'Working Inputs'!$F$245*'Working Inputs'!$F$244","v":238448888.99999997},{"$f":"+AA341*'Working Inputs'!$F$245*'Working Inputs'!$F$244","v":238448888.99999997},{"$f":"+AB341*'Working Inputs'!$F$245*'Working Inputs'!$F$244","v":238448888.99999997},{"$f":"+AC341*'Working Inputs'!$F$245*'Working Inputs'!$F$244","v":238448888.99999997},{"$f":"+AD341*'Working Inputs'!$F$245*'Working Inputs'!$F$244","v":238448888.99999997},{"$f":"+AE341*'Working Inputs'!$F$245*'Working Inputs'!$F$244","v":119778976.80000001},{"$f":"+AF341*'Working Inputs'!$F$245*'Working Inputs'!$F$244","v":0},{"$f":"+AG341*'Working Inputs'!$F$245*'Working Inputs'!$F$244","v":0},{"$f":"+AH341*'Working Inputs'!$F$245*'Working Inputs'!$F$244","v":0},{"$f":"+AI341*'Working Inputs'!$F$245*'Working Inputs'!$F$244","v":0},{"$f":"+AJ341*'Working Inputs'!$F$245*'Working Inputs'!$F$244","v":0},{"$f":"+AK341*'Working Inputs'!$F$245*'Working Inputs'!$F$244","v":0},{"$f":"+AL341*'Working Inputs'!$F$245*'Working Inputs'!$F$244","v":0},{"$f":"+AM341*'Working Inputs'!$F$245*'Working Inputs'!$F$244","v":0},{"$f":"+AN341*'Working Inputs'!$F$245*'Working Inputs'!$F$244","v":0},{"$f":"+AO341*'Working Inputs'!$F$245*'Working Inputs'!$F$244","v":0},{"$f":"+AP341*'Working Inputs'!$F$245*'Working Inputs'!$F$244","v":0},{"$f":"+AQ341*'Working Inputs'!$F$245*'Working Inputs'!$F$244","v":0},{"$f":"+AR341*'Working Inputs'!$F$245*'Working Inputs'!$F$244","v":0},{"$f":"+AS341*'Working Inputs'!$F$245*'Working Inputs'!$F$244","v":0},{"$f":"+AT341*'Working Inputs'!$F$245*'Working Inputs'!$F$244","v":0},{"$f":"+AU341*'Working Inputs'!$F$245*'Working Inputs'!$F$244","v":0},{"$f":"+AV341*'Working Inputs'!$F$245*'Working Inputs'!$F$244","v":0}]
[]
[null,null,null,null,{"$f":"E226","v":"Price - Manganese"},null,{"$f":"G226","v":"US$ /DMTU"},0,0,0,5.29,5.29,5.29,5.29,5.29,5.29,5.29,5.29,5.44,5.44,5.44,5.44,5.44,5.5,5.5,5.5,5.5,5.5,5.5,5.5,5.5,5.5,5.5,5.5,5.5,5.5,5.5,5.5,5.5,5.5,5.5,5.5,5.5,5.5,5.5,5.5,5.5,{"$f":"AV226","v":5.5}]
[]
[null,null,null,null,"Total Manganese product revenue",null,"US$ mn",null,{"$f":"SUM(K346:AV346)","v":19809.845709695997},null,{"$f":"K342*K344/'Working Inputs'!$F$246","v":0},{"$f":"L342*L344/'Working Inputs'!$F$246","v":0},{"$f":"M342*M344/'Working Inputs'!$F$246","v":23.467806935999992},{"$f":"N342*N344/'Working Inputs'!$F$246","v":117.33903467999998},{"$f":"O342*O344/'Working Inputs'!$F$246","v":234.67806935999997},{"$f":"P342*P344/'Working Inputs'!$F$246","v":586.69517339999993},{"$f":"Q342*Q344/'Working Inputs'!$F$246","v":1261.3946228099999},{"$f":"R342*R344/'Working Inputs'!$F$246","v":1261.3946228099999},{"$f":"S342*S344/'Working Inputs'!$F$246","v":1297.1619561599998},{"$f":"T342*T344/'Working Inputs'!$F$246","v":1297.1619561599998},{"$f":"U342*U344/'Working Inputs'!$F$246","v":1297.1619561599998},{"$f":"V342*V344/'Working Inputs'!$F$246","v":1297.1619561599998},{"$f":"W342*W344/'Working Inputs'!$F$246","v":1297.1619561599998},{"$f":"X342*X344/'Working Inputs'!$F$246","v":1311.4688894999997},{"$f":"Y342*Y344/'Working Inputs'!$F$246","v":1311.4688894999997},{"$f":"Z342*Z344/'Working Inputs'!$F$246","v":1311.4688894999997},{"$f":"AA342*AA344/'Working Inputs'!$F$246","v":1311.4688894999997},{"$f":"AB342*AB344/'Working Inputs'!$F$246","v":1311.4688894999997},{"$f":"AC342*AC344/'Working Inputs'!$F$246","v":1311.4688894999997},{"$f":"AD342*AD344/'Working Inputs'!$F$246","v":1311.4688894999997},{"$f":"AE342*AE344/'Working Inputs'!$F$246","v":658.78437240000005},{"$f":"AF342*AF344/'Working Inputs'!$F$246","v":0},{"$f":"AG342*AG344/'Working Inputs'!$F$246","v":0},{"$f":"AH342*AH344/'Working Inputs'!$F$246","v":0},{"$f":"AI342*AI344/'Working Inputs'!$F$246","v":0},{"$f":"AJ342*AJ344/'Working Inputs'!$F$246","v":0},{"$f":"AK342*AK344/'Working Inputs'!$F$246","v":0},{"$f":"AL342*AL344/'Working Inputs'!$F$246","v":0},{"$f":"AM342*AM344/'Working Inputs'!$F$246","v":0},{"$f":"AN342*AN344/'Working Inputs'!$F$246","v":0},{"$f":"AO342*AO344/'Working Inputs'!$F$246","v":0},{"$f":"AP342*AP344/'Working Inputs'!$F$246","v":0},{"$f":"AQ342*AQ344/'Working Inputs'!$F$246","v":0},{"$f":"AR342*AR344/'Working Inputs'!$F$246","v":0},{"$f":"AS342*AS344/'Working Inputs'!$F$246","v":0},{"$f":"AT342*AT344/'Working Inputs'!$F$246","v":0},{"$f":"AU342*AU344/'Working Inputs'!$F$246","v":0},{"$f":"AV342*AV344/'Working Inputs'!$F$246","v":0}]
[]
[null,null,null,null,{"$f":"E314","v":"Total Nickel products revenue"},null,"US$ mn",null,{"$f":"SUM(K348:AV348)","v":25281.442898905538},null,{"$f":"K314","v":0},0,23.916189417119998,119.58094708560002,272.25125580441596,719.55680025599997,1547.0471205504002,1547.0471205504002,1700.9057334528002,1700.9057334528002,1700.9057334528002,1700.9057334528002,1700.9057334528002,1672.4833735680004,1672.4833735680004,1672.4833735680004,1672.4833735680004,1672.4833735680004,1672.4833735680004,1672.4833735680004,840.13118300160011,0,0,0,0,0,0,0,0,0,0,0,0,0,0,0,0,{"$f":"AV314","v":0}]
[null,null,null,null,{"$f":"E325","v":"Total Cobalt products revenue"},null,"US$ mn",null,4175.3154504113727,null,{"$f":"K325","v":0},0,2.6926088200703999,13.463044100352,30.410846977351678,80.126833651199988,172.27269235007995,172.27269235007995,267.81618015935993,267.81618015935993,267.81618015935993,267.81618015935993,267.81618015935993,315.23503021919987,315.23503021919987,315.23503021919987,315.23503021919987,315.23503021919987,315.23503021919987,315.23503021919987,158.35061983103998,0,0,0,0,0,0,0,0,0,0,0,0,0,0,0,0,{"$f":"AV325","v":0}]
[null,null,null,null,{"$f":"E336","v":"Total Copper products revenue"},null,"US$ mn",null,9307.5803115530653,null,{"$f":"K336","v":0},0,10.424348273954879,52.121741369774398,109.78901712058517,280.99670089680001,604.14290692811983,604.14290692811983,611.56323599615985,611.56323599615985,611.56323599615985,611.56323599615985,611.56323599615985,611.56323599615985,611.56323599615985,611.56323599615985,611.56323599615985,611.56323599615985,611.56323599615985,611.56323599615985,307.20385808179196,0,0,0,0,0,0,0,0,0,0,0,0,0,0,0,0,{"$f":"AV336","v":0}]
[null,null,null,null,{"$f":"E346","v":"Total Manganese product revenue"},null,"US$ mn",null,19809.845709695997,null,{"$f":"K346","v":0},0,23.467806935999992,117.33903467999998,234.67806935999997,586.69517339999993,1261.3946228099999,1261.3946228099999,1297.1619561599998,1297.1619561599998,1297.1619561599998,1297.1619561599998,1297.1619561599998,1311.4688894999997,1311.4688894999997,1311.4688894999997,1311.4688894999997,1311.4688894999997,1311.4688894999997,1311.4688894999997,658.78437240000005,0,0,0,0,0,0,0,0,0,0,0,0,0,0,0,0,{"$f":"AV346","v":0}]
[]
[null,null,null,null,"Total Sales Revenue",null,"US$ mn",null,{"$f":"SUM(K353:AV353)","v":58574.18437056597},null,{"$f":"SUM(K348:K351)","v":0},{"$f":"SUM(L348:L351)","v":0},60.500953447145264,302.50476723572643,647.12918926235284,1667.3755082039997,3584.8573426385997,3584.8573426385997,3877.4471057683195,3877.4471057683195,3877.4471057683195,3877.4471057683195,3877.4471057683195,3910.7505292833603,3910.7505292833603,3910.7505292833603,3910.7505292833603,3910.7505292833603,3910.7505292833603,3910.7505292833603,1964.4700333144319,0,0,0,0,0,0,0,0,0,0,0,0,0,0,0,0,{"$f":"SUM(AV348:AV351)","v":0}]
[]
[null,"Project costs"]
[null,null,null,null,"Operating costs",null,"US$ mn",null,{"$f":" SUM(K356:AV356)","v":36709.170000000013},null,{"$f":"K250","v":0},0,44.740000000000009,223.7,447.4,{"$f":"P250","v":1118.5},2404.7749999999996,2404.7749999999996,2404.7749999999996,2404.7749999999996,2404.7749999999996,2404.7749999999996,2404.7749999999996,2404.7749999999996,2404.7749999999996,2404.7749999999996,2404.7749999999996,2404.7749999999996,2404.7749999999996,2404.7749999999996,1207.98,0,0,0,0,0,0,0,0,0,0,0,0,0,0,0,0,{"$f":"AV250","v":0}]
[null,null,null,null,"Capital expenditure",null,"US$ mn",null,{"$f":" SUM(K357:AV357)","v":491.59999999999997},null,{"$f":"K237","v":245.79999999999998},245.79999999999998,0,0,0,0,0,0,0,0,0,0,0,0,0,0,0,0,0,0,0,0,0,0,0,0,0,0,0,0,0,0,0,0,0,0,0,{"$f":"AV237","v":0}]
[null,null,null,null,"Capex Sustaining Capex ",null,"US$ mn",null,{"$f":" SUM(K358:AV358)","v":1550},null,{"$f":"K241","v":0},0,0,0,0,0,0,155,155,155,155,0,155,155,155,155,0,155,155,0,0,0,0,0,0,0,0,0,0,0,0,0,0,0,0,0,0,{"$f":"AV241","v":0}]
[null,null,null,null,"Closure cost",null,"US$ mn",null,{"$f":" SUM(K359:AV359)","v":115},null,{"$f":"K254","v":0},0,0,0,0,0,0,0,0,0,0,0,0,0,0,0,0,0,0,0,0,11.5,11.5,11.5,11.5,11.5,11.5,11.5,11.5,11.5,11.5,0,0,0,0,0,0,{"$f":"AV254","v":0}]
[null,null,null,null,"Project costs",null,"US$ mn",null,{"$f":" SUM(K360:AV360)","v":38865.770000000011},null,{"$f":"SUM(K356:K359)","v":245.79999999999998},{"$f":"SUM(L356:L359)","v":245.79999999999998},44.740000000000009,223.7,447.4,1118.5,2404.7749999999996,2559.7749999999996,2559.7749999999996,2559.7749999999996,2559.7749999999996,2404.7749999999996,2559.7749999999996,2559.7749999999996,2559.7749999999996,2559.7749999999996,2404.7749999999996,2559.7749999999996,2559.7749999999996,2404.7749999999996,1207.98,11.5,11.5,11.5,11.5,11.5,11.5,11.5,11.5,11.5,11.5,0,0,0,0,0,0,{"$f":"SUM(AV356:AV359)","v":0}]
[]
[null,null,null,null,"Project cashflow (excl. Int, Tax, fees & rylty)",null,"US$ mn",null,{"$f":" SUM(K362:AV362)","v":19708.414370565988},null,{"$f":"K353-K360","v":-245.79999999999998},-245.79999999999998,15.760953447145255,78.804767235726445,199.72918926235286,548.87550820399974,1180.0823426386,1025.0823426386,1317.6721057683199,1317.6721057683199,1317.6721057683199,1472.6721057683199,1317.6721057683199,1350.9755292833606,1350.9755292833606,1350.9755292833606,1505.9755292833606,1350.9755292833606,1350.9755292833606,1505.9755292833606,756.49003331443191,-11.5,-11.5,-11.5,-11.5,-11.5,-11.5,-11.5,-11.5,-11.5,-11.5,0,0,0,0,0,0,{"$f":"AV353-AV360","v":0}]
[]
[null,"Other fees"]
[null,null,null,null,{"$f":"E46","v":"Production with sensitivity applied"},0,"Mt (wet)",0,164.1,0,{"$f":"K46","v":0},{"$f":"L46","v":0},0.2,1,2,5,10.75,10.75,10.75,10.75,10.75,10.75,10.75,10.75,10.75,10.75,10.75,10.75,10.75,10.75,5.4,0,0,0,0,0,0,0,0,0,0,0,0,0,0,0,0,0]
[]
[null,null,null,null,{"$f":"'Working Inputs'!E206","v":"Nauru Continuity Benefits Payment"},{"$f":"'Working Inputs'!F206","v":1.2},{"$f":"'Working Inputs'!G206","v":"US$/WMT"}]
[null,null,null,null,"Nauru Continuity Benefits Payment",null,"US$ mn",null,{"$f":"SUM(K368:AV368)","v":196.92000000000004},null,{"$f":"K$365*$F$367","v":0},{"$f":"L$365*$F$367","v":0},0.24,1.2,2.4,6,12.9,12.9,12.9,12.9,12.9,12.9,12.9,12.9,12.9,12.9,12.9,12.9,12.9,12.9,6.48,0,0,0,0,0,0,0,0,0,0,0,0,0,0,0,0,0]
[]
[null,null,null,null,{"$f":"'Working Inputs'!E207","v":"Tonga Continuity Payment"},{"$f":"'Working Inputs'!F207","v":0},{"$f":"'Working Inputs'!G207","v":"US$/WMT"}]
[null,null,null,null,"Tonga Continuity Benefits Payment",null,"US$ mn",null,{"$f":"SUM(K371:AV371)","v":0},null,{"$f":"K$365*$F$370","v":0},{"$f":"L$365*$F$370","v":0},0,0,0,0,0,0,0,0,0,0,0,0,0,0,0,0,0,0,0,0,0,0,0,0,0,0,0,0,0,0,0,0,0,0,0,0]
[]
[null,null,null,null,{"$f":"'Working Inputs'!E208","v":"LCR Royalty"},{"$f":"'Working Inputs'!F208","v":2.8},{"$f":"'Working Inputs'!G208","v":"US$/WMT"}]
[null,null,null,null,"LCR Royalty",null,"US$ mn",null,{"$f":"SUM(K374:AV374)","v":459.48000000000013},null,{"$f":"K$365*$F$373","v":0},0,0.55999999999999994,2.8,5.6,14,30.099999999999998,30.099999999999998,30.099999999999998,30.099999999999998,30.099999999999998,30.099999999999998,30.099999999999998,30.099999999999998,30.099999999999998,30.099999999999998,30.099999999999998,30.099999999999998,30.099999999999998,30.099999999999998,15.12,0,0,0,0,0,0,0,0,0,0,0,0,0,0,0,0,0]
[]
[null,null,null,null,"Total other fees",null,"US$ mn",null,{"$f":"SUM(K376:AV376)","v":656.4},null,{"$f":"+K374+K371+K368","v":0},{"$f":"+L374+L371+L368","v":0},0.79999999999999993,4,8,20,43,43,43,43,43,43,43,43,43,43,43,43,43,43,21.6,0,0,0,0,0,0,0,0,0,0,0,0,0,0,0,0,0]
[]
[null,"Annual fees to ISA"]
[null,null,null,null,{"$f":"'Working Inputs'!E202","v":"Annual reporting fee"},{"$f":"'Working Inputs'!F202","v":1},{"$f":"'Working Inputs'!G202","v":"US$ mn"}]
[null,null,null,null,{"$f":"'Working Inputs'!E203","v":"Annual fixed fee"},{"$f":"'Working Inputs'!F203","v":0.5},{"$f":"'Working Inputs'!G203","v":"US$ mn"}]
[]
[null,null,null,null,{"$f":"'T&E'!E18","v":"Pre production period flag"},null,{"$f":"'T&E'!G18","v":"flag"},null,null,null,{"$f":"'T&E'!K18","v":1},{"$f":"'T&E'!L18","v":1},{"$f":"'T&E'!M18","v":0},{"$f":"'T&E'!N18","v":0},{"$f":"'T&E'!O18","v":0},{"$f":"'T&E'!P18","v":0},{"$f":"'T&E'!Q18","v":0},{"$f":"'T&E'!R18","v":0},{"$f":"'T&E'!S18","v":0},{"$f":"'T&E'!T18","v":0},{"$f":"'T&E'!U18","v":0},{"$f":"'T&E'!V18","v":0},{"$f":"'T&E'!W18","v":0},{"$f":"'T&E'!X18","v":0},{"$f":"'T&E'!Y18","v":0},{"$f":"'T&E'!Z18","v":0},{"$f":"'T&E'!AA18","v":0},{"$f":"'T&E'!AB18","v":0},{"$f":"'T&E'!AC18","v":0},{"$f":"'T&E'!AD18","v":0},{"$f":"'T&E'!AE18","v":0},{"$f":"'T&E'!AF18","v":0},{"$f":"'T&E'!AG18","v":0},{"$f":"'T&E'!AH18","v":0},{"$f":"'T&E'!AI18","v":0},{"$f":"'T&E'!AJ18","v":0},{"$f":"'T&E'!AK18","v":0},{"$f":"'T&E'!AL18","v":0},{"$f":"'T&E'!AM18","v":0},{"$f":"'T&E'!AN18","v":0},{"$f":"'T&E'!AO18","v":0},{"$f":"'T&E'!AP18","v":0},{"$f":"'T&E'!AQ18","v":0},{"$f":"'T&E'!AR18","v":0},{"$f":"'T&E'!AS18","v":0},{"$f":"'T&E'!AT18","v":0},{"$f":"'T&E'!AU18","v":0},{"$f":"'T&E'!AV18","v":0}]
[null,null,null,null,{"$f":"'T&E'!E57","v":"Production period flag"},null,{"$f":"'T&E'!G57","v":"flag"},null,null,null,{"$f":"'T&E'!K57","v":0},{"$f":"'T&E'!L57","v":0},{"$f":"'T&E'!M57","v":1},{"$f":"'T&E'!N57","v":1},{"$f":"'T&E'!O57","v":1},{"$f":"'T&E'!P57","v":1},{"$f":"'T&E'!Q57","v":1},{"$f":"'T&E'!R57","v":1},{"$f":"'T&E'!S57","v":1},{"$f":"'T&E'!T57","v":1},{"$f":"'T&E'!U57","v":1},{"$f":"'T&E'!V57","v":1},{"$f":"'T&E'!W57","v":1},{"$f":"'T&E'!X57","v":1},{"$f":"'T&E'!Y57","v":1},{"$f":"'T&E'!Z57","v":1},{"$f":"'T&E'!AA57","v":1},{"$f":"'T&E'!AB57","v":1},{"$f":"'T&E'!AC57","v":1},{"$f":"'T&E'!AD57","v":1},{"$f":"'T&E'!AE57","v":1},{"$f":"'T&E'!AF57","v":0},{"$f":"'T&E'!AG57","v":0},{"$f":"'T&E'!AH57","v":0},{"$f":"'T&E'!AI57","v":0},{"$f":"'T&E'!AJ57","v":0},{"$f":"'T&E'!AK57","v":0},{"$f":"'T&E'!AL57","v":0},{"$f":"'T&E'!AM57","v":0},{"$f":"'T&E'!AN57","v":0},{"$f":"'T&E'!AO57","v":0},{"$f":"'T&E'!AP57","v":0},{"$f":"'T&E'!AQ57","v":0},{"$f":"'T&E'!AR57","v":0},{"$f":"'T&E'!AS57","v":0},{"$f":"'T&E'!AT57","v":0},{"$f":"'T&E'!AU57","v":0},{"$f":"'T&E'!AV57","v":0}]
[]
[null,null,null,null,"Annual reporting fee",null,"US$ mn",null,{"$f":" SUM(K385:AV385)","v":21},null,{"$f":"(K$382+K$383)*$F379","v":1},{"$f":"(L$382+L$383)*$F379","v":1},1,1,1,1,1,1,1,1,1,1,1,1,1,1,1,1,1,1,1,0,0,0,0,0,0,0,0,0,0,0,0,0,0,0,0,{"$f":"(AV$382+AV$383)*$F379","v":0}]
[null,null,null,null,"Annual fixed fee",null,"US$ mn",null,{"$f":" SUM(K386:AV386)","v":10.5},null,{"$f":"(K$382+K$383)*$F380","v":0.5},0.5,0.5,0.5,0.5,0.5,0.5,0.5,0.5,0.5,0.5,0.5,0.5,0.5,0.5,0.5,0.5,0.5,0.5,0.5,0.5,0,0,0,0,0,0,0,0,0,0,0,0,0,0,0,0,{"$f":"(AV$382+AV$383)*$F380","v":0}]
[null,null,null,null,"Annual fees to ISA",null,"US$ mn",null,{"$f":" SUM(K387:AV387)","v":31.5},null,{"$f":"K385+K386","v":1.5},{"$f":"L385+L386","v":1.5},1.5,1.5,1.5,1.5,1.5,1.5,1.5,1.5,1.5,1.5,1.5,1.5,1.5,1.5,1.5,1.5,1.5,1.5,1.5,0,0,0,0,0,0,0,0,0,0,0,0,0,0,0,0,{"$f":"AV385+AV386","v":0}]
[]
[]
[null,null,null,null,"Project Pre-tax cashflow",null,"US$ mn",null,{"$f":" SUM(K390:AV390)","v":19020.514370565983},null,{"$f":"K362-K387-K376","v":-247.29999999999998},{"$f":"L362-L387-L376","v":-247.29999999999998},13.460953447145254,73.304767235726445,190.22918926235286,527.37550820399974,1135.5823426386,980.58234263860004,1273.1721057683199,1273.1721057683199,1273.1721057683199,1428.1721057683199,1273.1721057683199,1306.4755292833606,1306.4755292833606,1306.4755292833606,1461.4755292833606,1306.4755292833606,1306.4755292833606,1461.4755292833606,733.39003331443189,-11.5,-11.5,-11.5,-11.5,-11.5,-11.5,-11.5,-11.5,-11.5,-11.5,0,0,0,0,0,0,0]
[]
[null,null,null,null,{"$f":"'Fiscal Model'!E45","v":"Royalty Payables"},null,"US$ mn",null,{"$f":"'Fiscal Model'!I45","v":5189.2974809999996},{"$f":"'Fiscal Model'!J45","v":0},{"$f":"'Fiscal Model'!K45","v":0},{"$f":"'Fiscal Model'!L45","v":0},{"$f":"'Fiscal Model'!M45","v":2.1790803599999999},{"$f":"'Fiscal Model'!N45","v":10.895401800000002},{"$f":"'Fiscal Model'!O45","v":21.790803600000004},{"$f":"'Fiscal Model'!P45","v":54.477009000000002},{"$f":"'Fiscal Model'!Q45","v":117.12556935000001},{"$f":"'Fiscal Model'!R45","v":117.12556935000001},{"$f":"'Fiscal Model'!S45","v":385.63311599999992},{"$f":"'Fiscal Model'!T45","v":385.63311599999992},{"$f":"'Fiscal Model'!U45","v":385.63311599999992},{"$f":"'Fiscal Model'!V45","v":385.63311599999992},{"$f":"'Fiscal Model'!W45","v":385.63311599999992},{"$f":"'Fiscal Model'!X45","v":391.55038469999994},{"$f":"'Fiscal Model'!Y45","v":391.55038469999994},{"$f":"'Fiscal Model'!Z45","v":391.55038469999994},{"$f":"'Fiscal Model'!AA45","v":391.55038469999994},{"$f":"'Fiscal Model'!AB45","v":391.55038469999994},{"$f":"'Fiscal Model'!AC45","v":391.55038469999994},{"$f":"'Fiscal Model'!AD45","v":391.55038469999994},{"$f":"'Fiscal Model'!AE45","v":196.68577463999998},{"$f":"'Fiscal Model'!AF45","v":0},{"$f":"'Fiscal Model'!AG45","v":0},{"$f":"'Fiscal Model'!AH45","v":0},{"$f":"'Fiscal Model'!AI45","v":0},{"$f":"'Fiscal Model'!AJ45","v":0},{"$f":"'Fiscal Model'!AK45","v":0},{"$f":"'Fiscal Model'!AL45","v":0},{"$f":"'Fiscal Model'!AM45","v":0},{"$f":"'Fiscal Model'!AN45","v":0},{"$f":"'Fiscal Model'!AO45","v":0},{"$f":"'Fiscal Model'!AP45","v":0},{"$f":"'Fiscal Model'!AQ45","v":0},{"$f":"'Fiscal Model'!AR45","v":0},{"$f":"'Fiscal Model'!AS45","v":0},{"$f":"'Fiscal Model'!AT45","v":0},{"$f":"'Fiscal Model'!AU45","v":0},{"$f":"'Fiscal Model'!AV45","v":0}]
[null,null,null,null,{"$f":"'Fiscal Model'!E236","v":"Additional Profit share payables"},null,"US$ mn",null,{"$f":"'Fiscal Model'!I236","v":0},{"$f":"'Fiscal Model'!J236","v":0},{"$f":"'Fiscal Model'!K236","v":0},{"$f":"'Fiscal Model'!L236","v":0},{"$f":"'Fiscal Model'!M236","v":0},{"$f":"'Fiscal Model'!N236","v":0},{"$f":"'Fiscal Model'!O236","v":0},{"$f":"'Fiscal Model'!P236","v":0},{"$f":"'Fiscal Model'!Q236","v":0},{"$f":"'Fiscal Model'!R236","v":0},{"$f":"'Fiscal Model'!S236","v":0},{"$f":"'Fiscal Model'!T236","v":0},{"$f":"'Fiscal Model'!U236","v":0},{"$f":"'Fiscal Model'!V236","v":0},{"$f":"'Fiscal Model'!W236","v":0},{"$f":"'Fiscal Model'!X236","v":0},{"$f":"'Fiscal Model'!Y236","v":0},{"$f":"'Fiscal Model'!Z236","v":0},{"$f":"'Fiscal Model'!AA236","v":0},{"$f":"'Fiscal Model'!AB236","v":0},{"$f":"'Fiscal Model'!AC236","v":0},{"$f":"'Fiscal Model'!AD236","v":0},{"$f":"'Fiscal Model'!AE236","v":0},{"$f":"'Fiscal Model'!AF236","v":0},{"$f":"'Fiscal Model'!AG236","v":0},{"$f":"'Fiscal Model'!AH236","v":0},{"$f":"'Fiscal Model'!AI236","v":0},{"$f":"'Fiscal Model'!AJ236","v":0},{"$f":"'Fiscal Model'!AK236","v":0},{"$f":"'Fiscal Model'!AL236","v":0},{"$f":"'Fiscal Model'!AM236","v":0},{"$f":"'Fiscal Model'!AN236","v":0},{"$f":"'Fiscal Model'!AO236","v":0},{"$f":"'Fiscal Model'!AP236","v":0},{"$f":"'Fiscal Model'!AQ236","v":0},{"$f":"'Fiscal Model'!AR236","v":0},{"$f":"'Fiscal Model'!AS236","v":0},{"$f":"'Fiscal Model'!AT236","v":0},{"$f":"'Fiscal Model'!AU236","v":0},{"$f":"'Fiscal Model'!AV236","v":0}]
[null,null,null,null,{"$f":"'Fiscal Model'!E180","v":"Corporate Income Taxes - Sponsoring State"},null,"US$ mn",null,{"$f":"'Fiscal Model'!I180","v":3486.5542223914963},{"$f":"'Fiscal Model'!J180","v":0},{"$f":"'Fiscal Model'!K180","v":0},{"$f":"'Fiscal Model'!L180","v":0},{"$f":"'Fiscal Model'!M180","v":2.0704682717863134},{"$f":"'Fiscal Model'!N180","v":3.3123413589316133},{"$f":"'Fiscal Model'!O180","v":29.819596415588215},{"$f":"'Fiscal Model'!P180","v":105.93462480099994},{"$f":"'Fiscal Model'!Q180","v":242.32419332214999},{"$f":"'Fiscal Model'!R180","v":234.57419332214999},{"$f":"'Fiscal Model'!S180","v":232.84474744207995},{"$f":"'Fiscal Model'!T180","v":225.09474744207995},{"$f":"'Fiscal Model'!U180","v":217.34474744207995},{"$f":"'Fiscal Model'!V180","v":217.34474744207995},{"$f":"'Fiscal Model'!W180","v":217.34474744207995},{"$f":"'Fiscal Model'!X180","v":236.48128614584016},{"$f":"'Fiscal Model'!Y180","v":236.48128614584016},{"$f":"'Fiscal Model'!Z180","v":236.48128614584016},{"$f":"'Fiscal Model'!AA180","v":236.48128614584016},{"$f":"'Fiscal Model'!AB180","v":236.48128614584016},{"$f":"'Fiscal Model'!AC180","v":236.48128614584016},{"$f":"'Fiscal Model'!AD180","v":244.23128614584016},{"$f":"'Fiscal Model'!AE180","v":95.426064668607978},{"$f":"'Fiscal Model'!AF180","v":0},{"$f":"'Fiscal Model'!AG180","v":0},{"$f":"'Fiscal Model'!AH180","v":0},{"$f":"'Fiscal Model'!AI180","v":0},{"$f":"'Fiscal Model'!AJ180","v":0},{"$f":"'Fiscal Model'!AK180","v":0},{"$f":"'Fiscal Model'!AL180","v":0},{"$f":"'Fiscal Model'!AM180","v":0},{"$f":"'Fiscal Model'!AN180","v":0},{"$f":"'Fiscal Model'!AO180","v":0},{"$f":"'Fiscal Model'!AP180","v":0},{"$f":"'Fiscal Model'!AQ180","v":0},{"$f":"'Fiscal Model'!AR180","v":0},{"$f":"'Fiscal Model'!AS180","v":0},{"$f":"'Fiscal Model'!AT180","v":0},{"$f":"'Fiscal Model'!AU180","v":0},{"$f":"'Fiscal Model'!AV180","v":0}]
[]
[null,null,null,null,"Project after tax Cashflow",null,"US$ mn",null,{"$f":" SUM(K396:AV396)","v":10344.662667174485},null,{"$f":"+K390-K392-K393-K394","v":-247.29999999999998},{"$f":"+L390-L392-L393-L394","v":-247.29999999999998},9.2114048153589394,59.097024076794831,{"$f":"+O390-O392-O393-O394","v":138.61878924676463},366.96387440299981,776.13257996645007,628.88257996645007,654.69424232623987,662.44424232623987,670.19424232623987,825.19424232623987,670.19424232623987,678.44385843752048,678.44385843752048,678.44385843752048,833.44385843752048,678.44385843752048,678.44385843752048,825.69385843752048,441.27819400582393,-11.5,-11.5,-11.5,-11.5,-11.5,-11.5,-11.5,-11.5,-11.5,-11.5,0,0,0,0,0,0,{"$f":"+AV390-AV392-AV393-AV394","v":0}]
[]
[null,null,null,null,"Financing Cashflow",null,"US$ mn",null,{"$f":" SUM(K398:AV398)","v":0},null,{"$f":"'Fiscal Model'!K77-'Fiscal Model'!K78-'Fiscal Model'!K79","v":0},{"$f":"'Fiscal Model'!L77-'Fiscal Model'!L78-'Fiscal Model'!L79","v":0},{"$f":"'Fiscal Model'!M77-'Fiscal Model'!M78-'Fiscal Model'!M79","v":0},{"$f":"'Fiscal Model'!N77-'Fiscal Model'!N78-'Fiscal Model'!N79","v":0},{"$f":"'Fiscal Model'!O77-'Fiscal Model'!O78-'Fiscal Model'!O79","v":0},{"$f":"'Fiscal Model'!P77-'Fiscal Model'!P78-'Fiscal Model'!P79","v":0},{"$f":"'Fiscal Model'!Q77-'Fiscal Model'!Q78-'Fiscal Model'!Q79","v":0},{"$f":"'Fiscal Model'!R77-'Fiscal Model'!R78-'Fiscal Model'!R79","v":0},{"$f":"'Fiscal Model'!S77-'Fiscal Model'!S78-'Fiscal Model'!S79","v":0},{"$f":"'Fiscal Model'!T77-'Fiscal Model'!T78-'Fiscal Model'!T79","v":0},{"$f":"'Fiscal Model'!U77-'Fiscal Model'!U78-'Fiscal Model'!U79","v":0},{"$f":"'Fiscal Model'!V77-'Fiscal Model'!V78-'Fiscal Model'!V79","v":0},{"$f":"'Fiscal Model'!W77-'Fiscal Model'!W78-'Fiscal Model'!W79","v":0},{"$f":"'Fiscal Model'!X77-'Fiscal Model'!X78-'Fiscal Model'!X79","v":0},{"$f":"'Fiscal Model'!Y77-'Fiscal Model'!Y78-'Fiscal Model'!Y79","v":0},{"$f":"'Fiscal Model'!Z77-'Fiscal Model'!Z78-'Fiscal Model'!Z79","v":0},{"$f":"'Fiscal Model'!AA77-'Fiscal Model'!AA78-'Fiscal Model'!AA79","v":0},{"$f":"'Fiscal Model'!AB77-'Fiscal Model'!AB78-'Fiscal Model'!AB79","v":0},{"$f":"'Fiscal Model'!AC77-'Fiscal Model'!AC78-'Fiscal Model'!AC79","v":0},{"$f":"'Fiscal Model'!AD77-'Fiscal Model'!AD78-'Fiscal Model'!AD79","v":0},{"$f":"'Fiscal Model'!AE77-'Fiscal Model'!AE78-'Fiscal Model'!AE79","v":0},{"$f":"'Fiscal Model'!AF77-'Fiscal Model'!AF78-'Fiscal Model'!AF79","v":0},{"$f":"'Fiscal Model'!AG77-'Fiscal Model'!AG78-'Fiscal Model'!AG79","v":0},{"$f":"'Fiscal Model'!AH77-'Fiscal Model'!AH78-'Fiscal Model'!AH79","v":0},{"$f":"'Fiscal Model'!AI77-'Fiscal Model'!AI78-'Fiscal Model'!AI79","v":0},{"$f":"'Fiscal Model'!AJ77-'Fiscal Model'!AJ78-'Fiscal Model'!AJ79","v":0},{"$f":"'Fiscal Model'!AK77-'Fiscal Model'!AK78-'Fiscal Model'!AK79","v":0},{"$f":"'Fiscal Model'!AL77-'Fiscal Model'!AL78-'Fiscal Model'!AL79","v":0},{"$f":"'Fiscal Model'!AM77-'Fiscal Model'!AM78-'Fiscal Model'!AM79","v":0},{"$f":"'Fiscal Model'!AN77-'Fiscal Model'!AN78-'Fiscal Model'!AN79","v":0},{"$f":"'Fiscal Model'!AO77-'Fiscal Model'!AO78-'Fiscal Model'!AO79","v":0},{"$f":"'Fiscal Model'!AP77-'Fiscal Model'!AP78-'Fiscal Model'!AP79","v":0},{"$f":"'Fiscal Model'!AQ77-'Fiscal Model'!AQ78-'Fiscal Model'!AQ79","v":0},{"$f":"'Fiscal Model'!AR77-'Fiscal Model'!AR78-'Fiscal Model'!AR79","v":0},{"$f":"'Fiscal Model'!AS77-'Fiscal Model'!AS78-'Fiscal Model'!AS79","v":0},{"$f":"'Fiscal Model'!AT77-'Fiscal Model'!AT78-'Fiscal Model'!AT79","v":0},{"$f":"'Fiscal Model'!AU77-'Fiscal Model'!AU78-'Fiscal Model'!AU79","v":0},{"$f":"'Fiscal Model'!AV77-'Fiscal Model'!AV78-'Fiscal Model'!AV79","v":0}]
[]
[null,null,null,null,"Project Net Cashflow",null,"US$ mn",null,{"$f":" SUM(K400:AV400)","v":10344.662667174485},null,{"$f":"+K396+K398","v":-247.29999999999998},{"$f":"+L396+L398","v":-247.29999999999998},9.2114048153589394,59.097024076794831,{"$f":"+O396+O398","v":138.61878924676463},366.96387440299981,776.13257996645007,628.88257996645007,654.69424232623987,662.44424232623987,670.19424232623987,825.19424232623987,670.19424232623987,678.44385843752048,678.44385843752048,678.44385843752048,833.44385843752048,678.44385843752048,678.44385843752048,825.69385843752048,441.27819400582393,-11.5,-11.5,-11.5,-11.5,-11.5,-11.5,-11.5,-11.5,-11.5,-11.5,0,0,0,0,0,0,{"$f":"+AV396+AV398","v":0}]
[]
[null,null,null,null,"Accumulated project net cashflow",null,null,null,null,null,{"$f":"K400+J402","v":-247.29999999999998},{"$f":"L400+K402","v":-494.59999999999997},{"$f":"M400+L402","v":-485.38859518464102},-426.29157110784621,{"$f":"O400+N402","v":-287.6727818610816},79.291092541918204,855.42367250836833,1484.3062524748184,2139.0004948010583,2801.4447371272981,3471.638979453538,4296.8332217797779,4967.0274641060178,5645.471322543538,6323.9151809810583,7002.3590394185785,7835.8028978560988,8514.2467562936199,9192.6906147311402,10018.38447316866,10459.662667174485,10448.162667174485,10436.662667174485,10425.162667174485,10413.662667174485,10402.162667174485,10390.662667174485,10379.162667174485,10367.662667174485,10356.162667174485,10344.662667174485,10344.662667174485,10344.662667174485,10344.662667174485,10344.662667174485,10344.662667174485,10344.662667174485,{"$f":"AV400+AU402","v":10344.662667174485}]
[]
[null,null,null,null,"Check: Project Cashflow check",{"$f":" IF( ABS( I396+I394+I393+I392+I387+I360+I376-I353 ) > CHK_TOL, 1, 0)","v":0},"Check"]
[]
["Project Cashflow Summary"]
[]
[]
[null,null,null,null,{"$f":"E353","v":"Total Sales Revenue"},null,{"$f":"G353","v":"US$ mn"},null,{"$f":"I353","v":58574.18437056597},null,{"$f":"K353","v":0},0,60.500953447145264,302.50476723572643,647.12918926235284,1667.3755082039997,3584.8573426385997,3584.8573426385997,3877.4471057683195,3877.4471057683195,3877.4471057683195,3877.4471057683195,3877.4471057683195,3910.7505292833603,3910.7505292833603,3910.7505292833603,3910.7505292833603,3910.7505292833603,3910.7505292833603,3910.7505292833603,1964.4700333144319,0,0,0,0,0,0,0,0,0,0,0,0,0,0,0,0,{"$f":"AV353","v":0}]
[]
[null,"Project costs"]
[null,null,null,null,{"$f":"E356","v":"Operating costs"},null,{"$f":"G356","v":"US$ mn"},null,{"$f":"I356","v":36709.170000000013},null,{"$f":"K356","v":0},0,44.740000000000009,223.7,447.4,1118.5,2404.7749999999996,2404.7749999999996,2404.7749999999996,2404.7749999999996,2404.7749999999996,2404.7749999999996,2404.7749999999996,2404.7749999999996,2404.7749999999996,2404.7749999999996,2404.7749999999996,2404.7749999999996,2404.7749999999996,2404.7749999999996,{"$f":"AE356","v":1207.98},0,0,0,0,0,0,0,0,0,0,0,0,0,0,0,0,{"$f":"AV356","v":0}]
[null,null,null,null,{"$f":"E357","v":"Capital expenditure"},null,{"$f":"G357","v":"US$ mn"},null,{"$f":"I357","v":491.59999999999997},null,{"$f":"K357","v":245.79999999999998},245.79999999999998,0,0,0,0,0,0,0,0,0,0,0,0,0,0,0,0,0,0,0,0,0,0,0,0,0,0,0,0,0,0,0,0,0,0,0,{"$f":"AV357","v":0}]
[null,null,null,null,{"$f":"E358","v":"Capex Sustaining Capex "},null,{"$f":"G358","v":"US$ mn"},null,{"$f":"I358","v":1550},null,{"$f":"K358","v":0},0,0,0,0,0,0,155,155,155,155,0,155,155,155,155,0,155,155,0,0,0,0,0,0,0,0,0,0,0,0,0,0,0,0,0,0,{"$f":"AV358","v":0}]
[null,null,null,null,{"$f":"E359","v":"Closure cost"},null,{"$f":"G359","v":"US$ mn"},null,{"$f":"I359","v":115},null,{"$f":"K359","v":0},0,0,0,0,0,0,0,0,0,0,0,0,0,0,0,0,0,0,0,0,11.5,11.5,11.5,11.5,11.5,11.5,11.5,11.5,11.5,11.5,0,0,0,0,0,0,{"$f":"AV359","v":0}]
[null,null,null,null,{"$f":"E360","v":"Project costs"},null,{"$f":"G360","v":"US$ mn"},null,{"$f":"I360","v":38865.770000000011},null,{"$f":"K360","v":245.79999999999998},245.79999999999998,44.740000000000009,223.7,447.4,1118.5,2404.7749999999996,2559.7749999999996,2559.7749999999996,2559.7749999999996,2559.7749999999996,2404.7749999999996,2559.7749999999996,2559.7749999999996,2559.7749999999996,2559.7749999999996,2404.7749999999996,2559.7749999999996,2559.7749999999996,2404.7749999999996,1207.98,11.5,11.5,11.5,11.5,11.5,11.5,11.5,11.5,11.5,11.5,0,0,0,0,0,0,{"$f":"AV360","v":0}]
[]
[null,null,null,null,{"$f":"E362","v":"Project cashflow (excl. Int, Tax, fees & rylty)"},null,{"$f":"G362","v":"US$ mn"},null,{"$f":"I362","v":19708.414370565988},null,{"$f":"K362","v":-245.79999999999998},-245.79999999999998,15.760953447145255,78.804767235726445,199.72918926235286,548.87550820399974,1180.0823426386,1025.0823426386,1317.6721057683199,1317.6721057683199,1317.6721057683199,1472.6721057683199,1317.6721057683199,1350.9755292833606,1350.9755292833606,1350.9755292833606,1505.9755292833606,1350.9755292833606,1350.9755292833606,1505.9755292833606,756.49003331443191,-11.5,-11.5,-11.5,-11.5,-11.5,-11.5,-11.5,-11.5,-11.5,-11.5,0,0,0,0,0,0,{"$f":"AV362","v":0}]
[]
[null,null,null,null,{"$f":"E376","v":"Total other fees"},null,{"$f":"G376","v":"US$ mn"},null,{"$f":"I376","v":656.4},null,{"$f":"K376","v":0},{"$f":"L376","v":0},0.79999999999999993,4,8,20,43,43,43,43,43,43,43,43,43,43,43,43,43,43,21.6,0,0,0,0,0,0,0,0,0,0,0,0,0,0,0,0,{"$f":"AV376","v":0}]
[null,null,null,null,{"$f":"E387","v":"Annual fees to ISA"},null,{"$f":"G387","v":"US$ mn"},null,{"$f":"I387","v":31.5},null,{"$f":"K387","v":1.5},1.5,1.5,1.5,1.5,1.5,1.5,1.5,1.5,1.5,1.5,1.5,1.5,1.5,1.5,1.5,1.5,1.5,1.5,1.5,1.5,0,0,0,0,0,0,0,0,0,0,0,0,0,0,0,0,{"$f":"AV387","v":0}]
[null,null,null,null,{"$f":"+E398","v":"Financing Cashflow"},null,{"$f":"+G398","v":"US$ mn"},null,{"$f":"-I398","v":0},null,{"$f":"-K398","v":0},0,0,0,0,0,0,0,0,0,0,0,0,0,0,0,0,0,0,0,0,0,0,0,0,0,0,0,0,0,0,0,0,0,0,0,0,{"$f":"-AV398","v":0}]
[]
[null,null,null,null,{"$f":"E392","v":"Royalty Payables"},null,{"$f":"G392","v":"US$ mn"},null,{"$f":"I392","v":5189.2974809999996},null,{"$f":"K392","v":0},0,2.1790803599999999,10.895401800000002,21.790803600000004,54.477009000000002,117.12556935000001,117.12556935000001,385.63311599999992,385.63311599999992,385.63311599999992,385.63311599999992,385.63311599999992,391.55038469999994,391.55038469999994,391.55038469999994,391.55038469999994,391.55038469999994,391.55038469999994,391.55038469999994,196.68577463999998,0,0,0,0,0,0,0,0,0,0,0,0,0,0,0,0,{"$f":"AV392","v":0}]
[null,null,null,null,{"$f":"E393","v":"Additional Profit share payables"},null,{"$f":"G393","v":"US$ mn"},null,{"$f":"I393","v":0},null,{"$f":"K393","v":0},0,0,0,0,0,0,0,0,0,0,0,0,0,0,0,0,0,0,0,0,0,0,0,0,0,0,0,0,0,0,0,0,0,0,0,0,{"$f":"AV393","v":0}]
[null,null,null,null,{"$f":"E394","v":"Corporate Income Taxes - Sponsoring State"},null,{"$f":"G394","v":"US$ mn"},null,{"$f":"I394","v":3486.5542223914963},null,{"$f":"K394","v":0},0,2.0704682717863134,3.3123413589316133,29.819596415588215,105.93462480099994,242.32419332214999,234.57419332214999,232.84474744207995,225.09474744207995,217.34474744207995,217.34474744207995,217.34474744207995,236.48128614584016,236.48128614584016,236.48128614584016,236.48128614584016,236.48128614584016,236.48128614584016,244.23128614584016,95.426064668607978,0,0,0,0,0,0,0,0,0,0,0,0,0,0,0,0,{"$f":"AV394","v":0}]
[]
[null,null,null,null,{"$f":"+E400","v":"Project Net Cashflow"},null,{"$f":"+G400","v":"US$ mn"},null,{"$f":"+I400","v":10344.662667174485},null,{"$f":"+K400","v":-247.29999999999998},-247.29999999999998,9.2114048153589394,59.097024076794831,138.61878924676463,366.96387440299981,776.13257996645007,628.88257996645007,654.69424232623987,662.44424232623987,670.19424232623987,825.19424232623987,670.19424232623987,678.44385843752048,678.44385843752048,678.44385843752048,833.44385843752048,678.44385843752048,678.44385843752048,825.69385843752048,441.27819400582393,-11.5,-11.5,-11.5,-11.5,-11.5,-11.5,-11.5,-11.5,-11.5,-11.5,0,0,0,0,0,0,{"$f":"+AV400","v":0}]
[]
[null,null,null,null,"Check: Project Cashflow check",{"$f":" IF( ABS( I430 ) > CHK_TOL, 1, 0)","v":0},"Check",null,{"$f":" SUM(K430:AV430)","v":0},null,{"$f":"K409-K416-SUM(K420:K428)","v":0},0,0,0,{"$f":"O409-O416-SUM(O420:O428)","v":0},0,0,0,0,0,0,0,0,0,0,0,0,0,0,0,0,0,0,0,0,0,0,0,0,0,0,0,0,0,0,0,0,{"$f":"AV409-AV416-SUM(AV420:AV428)","v":0}]
[]
[]
["END MODEL"]

{"sheet":"Fiscal Model","index":7,"n_rows":265,"n_cols":16384,"rows_kept":265,"cut":false,"hidden":false,"merged":[]}
[{"$f":" RIGHT( CELL(\"filename\",$A$1), LEN( CELL(\"filename\",$A$1)) - SEARCH(\"]\", CELL(\"filename\",$A$1)))","v":"Fiscal Model"},null,null,null,null,{"$f":"Dashboard!C5","v":"NORI-D"},null,null,null,null,{"$f":"'T&E'!K10","v":1},{"$f":"'T&E'!L10","v":2},{"$f":"'T&E'!M10","v":3},{"$f":"'T&E'!N10","v":4},{"$f":"'T&E'!O10","v":5},{"$f":"'T&E'!P10","v":6},{"$f":"'T&E'!Q10","v":7},{"$f":"'T&E'!R10","v":8},{"$f":"'T&E'!S10","v":9},{"$f":"'T&E'!T10","v":10},{"$f":"'T&E'!U10","v":11},{"$f":"'T&E'!V10","v":12},{"$f":"'T&E'!W10","v":13},{"$f":"'T&E'!X10","v":14},{"$f":"'T&E'!Y10","v":15},{"$f":"'T&E'!Z10","v":16},{"$f":"'T&E'!AA10","v":17},{"$f":"'T&E'!AB10","v":18},{"$f":"'T&E'!AC10","v":19},{"$f":"'T&E'!AD10","v":20},{"$f":"'T&E'!AE10","v":21},{"$f":"'T&E'!AF10","v":22},{"$f":"'T&E'!AG10","v":23},{"$f":"'T&E'!AH10","v":24},{"$f":"'T&E'!AI10","v":25},{"$f":"'T&E'!AJ10","v":26},{"$f":"'T&E'!AK10","v":27},{"$f":"'T&E'!AL10","v":28},{"$f":"'T&E'!AM10","v":29},{"$f":"'T&E'!AN10","v":30},{"$f":"'T&E'!AO10","v":31},{"$f":"'T&E'!AP10","v":32},{"$f":"'T&E'!AQ10","v":33},{"$f":"'T&E'!AR10","v":34},{"$f":"'T&E'!AS10","v":35},{"$f":"'T&E'!AT10","v":36},{"$f":"'T&E'!AU10","v":37},{"$f":"'T&E'!AV10","v":38}]
[null,null,null,null,{"$f":"'T&E'!E12","v":"Project year"},null,{"$f":"'T&E'!G12","v":"year"},null,null,null,{"$f":"'T&E'!K12","v":2025},{"$f":"'T&E'!L12","v":2026},{"$f":"'T&E'!M12","v":2027},{"$f":"'T&E'!N12","v":2028},{"$f":"'T&E'!O12","v":2029},{"$f":"'T&E'!P12","v":2030},{"$f":"'T&E'!Q12","v":2031},{"$f":"'T&E'!R12","v":2032},{"$f":"'T&E'!S12","v":2033},{"$f":"'T&E'!T12","v":2034},{"$f":"'T&E'!U12","v":2035},{"$f":"'T&E'!V12","v":2036},{"$f":"'T&E'!W12","v":2037},{"$f":"'T&E'!X12","v":2038},{"$f":"'T&E'!Y12","v":2039},{"$f":"'T&E'!Z12","v":2040},{"$f":"'T&E'!AA12","v":2041},{"$f":"'T&E'!AB12","v":2042},{"$f":"'T&E'!AC12","v":2043},{"$f":"'T&E'!AD12","v":2044},{"$f":"'T&E'!AE12","v":2045},{"$f":"'T&E'!AF12","v":2046},{"$f":"'T&E'!AG12","v":2047},{"$f":"'T&E'!AH12","v":2048},{"$f":"'T&E'!AI12","v":2049},{"$f":"'T&E'!AJ12","v":2050},{"$f":"'T&E'!AK12","v":2051},{"$f":"'T&E'!AL12","v":2052},{"$f":"'T&E'!AM12","v":2053},{"$f":"'T&E'!AN12","v":2054},{"$f":"'T&E'!AO12","v":2055},{"$f":"'T&E'!AP12","v":2056},{"$f":"'T&E'!AQ12","v":2057},{"$f":"'T&E'!AR12","v":2058},{"$f":"'T&E'!AS12","v":2059},{"$f":"'T&E'!AT12","v":2060},{"$f":"'T&E'!AU12","v":2061},{"$f":"'T&E'!AV12","v":2062}]
[null,null,null,null,"Row description","Constant","Units","Comments","Total"]
[null,null,null,null,"Sheet Check:",{"$f":"IF(ABS(F83+F154+F263)>CHK_TOL,1,0)","v":0},"Checks"]
["Royalty"]
[]
[null,"Base for royalty"]
[null,null,null,null,{"$f":"+'Project Cashflows'!E173","v":"Polymetallic nodule Production area 1 (dry ore)"},{"$f":"+'Project Cashflows'!F173","v":0},{"$f":"+'Project Cashflows'!G173","v":"Mt (dry)"},{"$f":"+'Project Cashflows'!H173","v":0},{"$f":"+'Project Cashflows'!I173","v":118.15199999999997},{"$f":"+'Project Cashflows'!J173","v":0},{"$f":"+'Project Cashflows'!K173","v":0},{"$f":"+'Project Cashflows'!L173","v":0},{"$f":"+'Project Cashflows'!M173","v":0.14399999999999999},{"$f":"+'Project Cashflows'!N173","v":0.72},{"$f":"+'Project Cashflows'!O173","v":1.44},{"$f":"+'Project Cashflows'!P173","v":3.5999999999999996},{"$f":"+'Project Cashflows'!Q173","v":7.7399999999999993},{"$f":"+'Project Cashflows'!R173","v":7.7399999999999993},{"$f":"+'Project Cashflows'!S173","v":7.7399999999999993},{"$f":"+'Project Cashflows'!T173","v":7.7399999999999993},{"$f":"+'Project Cashflows'!U173","v":7.7399999999999993},{"$f":"+'Project Cashflows'!V173","v":7.7399999999999993},{"$f":"+'Project Cashflows'!W173","v":7.7399999999999993},{"$f":"+'Project Cashflows'!X173","v":7.7399999999999993},{"$f":"+'Project Cashflows'!Y173","v":7.7399999999999993},{"$f":"+'Project Cashflows'!Z173","v":7.7399999999999993},{"$f":"+'Project Cashflows'!AA173","v":7.7399999999999993},{"$f":"+'Project Cashflows'!AB173","v":7.7399999999999993},{"$f":"+'Project Cashflows'!AC173","v":7.7399999999999993},{"$f":"+'Project Cashflows'!AD173","v":7.7399999999999993},{"$f":"+'Project Cashflows'!AE173","v":3.8879999999999999},{"$f":"+'Project Cashflows'!AF173","v":0},{"$f":"+'Project Cashflows'!AG173","v":0},{"$f":"+'Project Cashflows'!AH173","v":0},{"$f":"+'Project Cashflows'!AI173","v":0},{"$f":"+'Project Cashflows'!AJ173","v":0},{"$f":"+'Project Cashflows'!AK173","v":0},{"$f":"+'Project Cashflows'!AL173","v":0},{"$f":"+'Project Cashflows'!AM173","v":0},{"$f":"+'Project Cashflows'!AN173","v":0},{"$f":"+'Project Cashflows'!AO173","v":0},{"$f":"+'Project Cashflows'!AP173","v":0},{"$f":"+'Project Cashflows'!AQ173","v":0},{"$f":"+'Project Cashflows'!AR173","v":0},{"$f":"+'Project Cashflows'!AS173","v":0},{"$f":"+'Project Cashflows'!AT173","v":0},{"$f":"+'Project Cashflows'!AU173","v":0},{"$f":"+'Project Cashflows'!AV173","v":0}]
[null,null,null,null,{"$f":"+'Project Cashflows'!E174","v":"Polymetallic nodule Production area 2 (dry ore)"},{"$f":"+'Project Cashflows'!F174","v":0},{"$f":"+'Project Cashflows'!G174","v":"Mt (dry)"},{"$f":"+'Project Cashflows'!H174","v":0},{"$f":"+'Project Cashflows'!I174","v":0},{"$f":"+'Project Cashflows'!J174","v":0},{"$f":"+'Project Cashflows'!K174","v":0},{"$f":"+'Project Cashflows'!L174","v":0},{"$f":"+'Project Cashflows'!M174","v":0},{"$f":"+'Project Cashflows'!N174","v":0},{"$f":"+'Project Cashflows'!O174","v":0},{"$f":"+'Project Cashflows'!P174","v":0},{"$f":"+'Project Cashflows'!Q174","v":0},{"$f":"+'Project Cashflows'!R174","v":0},{"$f":"+'Project Cashflows'!S174","v":0},{"$f":"+'Project Cashflows'!T174","v":0},{"$f":"+'Project Cashflows'!U174","v":0},{"$f":"+'Project Cashflows'!V174","v":0},{"$f":"+'Project Cashflows'!W174","v":0},{"$f":"+'Project Cashflows'!X174","v":0},{"$f":"+'Project Cashflows'!Y174","v":0},{"$f":"+'Project Cashflows'!Z174","v":0},{"$f":"+'Project Cashflows'!AA174","v":0},{"$f":"+'Project Cashflows'!AB174","v":0},{"$f":"+'Project Cashflows'!AC174","v":0},{"$f":"+'Project Cashflows'!AD174","v":0},{"$f":"+'Project Cashflows'!AE174","v":0},{"$f":"+'Project Cashflows'!AF174","v":0},{"$f":"+'Project Cashflows'!AG174","v":0},{"$f":"+'Project Cashflows'!AH174","v":0},{"$f":"+'Project Cashflows'!AI174","v":0},{"$f":"+'Project Cashflows'!AJ174","v":0},{"$f":"+'Project Cashflows'!AK174","v":0},{"$f":"+'Project Cashflows'!AL174","v":0},{"$f":"+'Project Cashflows'!AM174","v":0},{"$f":"+'Project Cashflows'!AN174","v":0},{"$f":"+'Project Cashflows'!AO174","v":0},{"$f":"+'Project Cashflows'!AP174","v":0},{"$f":"+'Project Cashflows'!AQ174","v":0},{"$f":"+'Project Cashflows'!AR174","v":0},{"$f":"+'Project Cashflows'!AS174","v":0},{"$f":"+'Project Cashflows'!AT174","v":0},{"$f":"+'Project Cashflows'!AU174","v":0},{"$f":"+'Project Cashflows'!AV174","v":0}]
[]
[null,null,{"$f":"'Project Cashflows'!C176","v":"Nodules Metal grade area 1"}]
[null,null,null,null,{"$f":"'Working Inputs'!E47","v":"Manganese"},{"$f":"'Working Inputs'!F47","v":0.3115},{"$f":"'Working Inputs'!G47","v":"%"}]
[null,null,null,null,{"$f":"'Working Inputs'!E48","v":"Nickel"},{"$f":"'Working Inputs'!F48","v":1.4E-2},{"$f":"'Working Inputs'!G48","v":"%"}]
[null,null,null,null,{"$f":"'Working Inputs'!E49","v":"Cobalt"},{"$f":"'Working Inputs'!F49","v":1.4E-3},{"$f":"'Working Inputs'!G49","v":"%"}]
[null,null,null,null,{"$f":"'Working Inputs'!E50","v":"Copper"},{"$f":"'Working Inputs'!F50","v":1.14E-2},{"$f":"'Working Inputs'!G50","v":"%"}]
[]
[null,null,{"$f":"'Project Cashflows'!C182","v":"Nodules Metal grade area 2"}]
[null,null,null,null,{"$f":"'Working Inputs'!E53","v":"Manganese"},{"$f":"'Working Inputs'!F53","v":0.3115},{"$f":"'Working Inputs'!G53","v":"%"}]
[null,null,null,null,{"$f":"'Working Inputs'!E54","v":"Nickel"},{"$f":"'Working Inputs'!F54","v":1.4E-2},{"$f":"'Working Inputs'!G54","v":"%"}]
[null,null,null,null,{"$f":"'Working Inputs'!E55","v":"Cobalt"},{"$f":"'Working Inputs'!F55","v":1.4E-3},{"$f":"'Working Inputs'!G55","v":"%"}]
[null,null,null,null,{"$f":"'Working Inputs'!E56","v":"Copper"},{"$f":"'Working Inputs'!F56","v":1.14E-2},{"$f":"'Working Inputs'!G56","v":"%"}]
[]
[null,null,null,null,{"$f":"'Project Cashflows'!E69","v":"Price - Nickel Class 1 LME  with sensitivity applied"},null,{"$f":"'Project Cashflows'!G69","v":"US$ /t"},null,null,null,{"$f":"'Project Cashflows'!K69","v":18833},{"$f":"'Project Cashflows'!L69","v":18833},{"$f":"'Project Cashflows'!M69","v":18833},{"$f":"'Project Cashflows'!N69","v":18833},{"$f":"'Project Cashflows'!O69","v":18833},{"$f":"'Project Cashflows'!P69","v":18833},{"$f":"'Project Cashflows'!Q69","v":18833},{"$f":"'Project Cashflows'!R69","v":18833},{"$f":"'Project Cashflows'!S69","v":20706},{"$f":"'Project Cashflows'!T69","v":20706},{"$f":"'Project Cashflows'!U69","v":20706},{"$f":"'Project Cashflows'!V69","v":20706},{"$f":"'Project Cashflows'!W69","v":20706},{"$f":"'Project Cashflows'!X69","v":20360},{"$f":"'Project Cashflows'!Y69","v":20360},{"$f":"'Project Cashflows'!Z69","v":20360},{"$f":"'Project Cashflows'!AA69","v":20360},{"$f":"'Project Cashflows'!AB69","v":20360},{"$f":"'Project Cashflows'!AC69","v":20360},{"$f":"'Project Cashflows'!AD69","v":20360},{"$f":"'Project Cashflows'!AE69","v":20360},{"$f":"'Project Cashflows'!AF69","v":20360},{"$f":"'Project Cashflows'!AG69","v":20360},{"$f":"'Project Cashflows'!AH69","v":20360},{"$f":"'Project Cashflows'!AI69","v":20360},{"$f":"'Project Cashflows'!AJ69","v":20360},{"$f":"'Project Cashflows'!AK69","v":20360},{"$f":"'Project Cashflows'!AL69","v":20360},{"$f":"'Project Cashflows'!AM69","v":20360},{"$f":"'Project Cashflows'!AN69","v":20360},{"$f":"'Project Cashflows'!AO69","v":20360},{"$f":"'Project Cashflows'!AP69","v":20360},{"$f":"'Project Cashflows'!AQ69","v":20360},{"$f":"'Project Cashflows'!AR69","v":20360},{"$f":"'Project Cashflows'!AS69","v":20360},{"$f":"'Project Cashflows'!AT69","v":20360},{"$f":"'Project Cashflows'!AU69","v":20360},{"$f":"'Project Cashflows'!AV69","v":20360}]
[null,null,null,null,{"$f":"'Project Cashflows'!E70","v":"Price - Cobalt LME  with sensitivity applied"},null,{"$f":"'Project Cashflows'!G70","v":"US$ /t"},null,null,null,{"$f":"'Project Cashflows'!K70","v":34172},{"$f":"'Project Cashflows'!L70","v":34172},{"$f":"'Project Cashflows'!M70","v":34172},{"$f":"'Project Cashflows'!N70","v":34172},{"$f":"'Project Cashflows'!O70","v":34172},{"$f":"'Project Cashflows'!P70","v":34172},{"$f":"'Project Cashflows'!Q70","v":34172},{"$f":"'Project Cashflows'!R70","v":34172},{"$f":"'Project Cashflows'!S70","v":53124},{"$f":"'Project Cashflows'!T70","v":53124},{"$f":"'Project Cashflows'!U70","v":53124},{"$f":"'Project Cashflows'!V70","v":53124},{"$f":"'Project Cashflows'!W70","v":53124},{"$f":"'Project Cashflows'!X70","v":62530},{"$f":"'Project Cashflows'!Y70","v":62530},{"$f":"'Project Cashflows'!Z70","v":62530},{"$f":"'Project Cashflows'!AA70","v":62530},{"$f":"'Project Cashflows'!AB70","v":62530},{"$f":"'Project Cashflows'!AC70","v":62530},{"$f":"'Project Cashflows'!AD70","v":62530},{"$f":"'Project Cashflows'!AE70","v":62530},{"$f":"'Project Cashflows'!AF70","v":62530},{"$f":"'Project Cashflows'!AG70","v":62530},{"$f":"'Project Cashflows'!AH70","v":62530},{"$f":"'Project Cashflows'!AI70","v":62530},{"$f":"'Project Cashflows'!AJ70","v":62530},{"$f":"'Project Cashflows'!AK70","v":62530},{"$f":"'Project Cashflows'!AL70","v":62530},{"$f":"'Project Cashflows'!AM70","v":62530},{"$f":"'Project Cashflows'!AN70","v":62530},{"$f":"'Project Cashflows'!AO70","v":62530},{"$f":"'Project Cashflows'!AP70","v":62530},{"$f":"'Project Cashflows'!AQ70","v":62530},{"$f":"'Project Cashflows'!AR70","v":62530},{"$f":"'Project Cashflows'!AS70","v":62530},{"$f":"'Project Cashflows'!AT70","v":62530},{"$f":"'Project Cashflows'!AU70","v":62530},{"$f":"'Project Cashflows'!AV70","v":62530}]
[null,null,null,null,{"$f":"'Project Cashflows'!E71","v":"Price - Copper Class 1 LME  with sensitivity applied"},null,{"$f":"'Project Cashflows'!G71","v":"US$ /t"},null,null,null,{"$f":"'Project Cashflows'!K71","v":11317},{"$f":"'Project Cashflows'!L71","v":11317},{"$f":"'Project Cashflows'!M71","v":11317},{"$f":"'Project Cashflows'!N71","v":11317},{"$f":"'Project Cashflows'!O71","v":11317},{"$f":"'Project Cashflows'!P71","v":11317},{"$f":"'Project Cashflows'!Q71","v":11317},{"$f":"'Project Cashflows'!R71","v":11317},{"$f":"'Project Cashflows'!S71","v":11456},{"$f":"'Project Cashflows'!T71","v":11456},{"$f":"'Project Cashflows'!U71","v":11456},{"$f":"'Project Cashflows'!V71","v":11456},{"$f":"'Project Cashflows'!W71","v":11456},{"$f":"'Project Cashflows'!X71","v":11456},{"$f":"'Project Cashflows'!Y71","v":11456},{"$f":"'Project Cashflows'!Z71","v":11456},{"$f":"'Project Cashflows'!AA71","v":11456},{"$f":"'Project Cashflows'!AB71","v":11456},{"$f":"'Project Cashflows'!AC71","v":11456},{"$f":"'Project Cashflows'!AD71","v":11456},{"$f":"'Project Cashflows'!AE71","v":11456},{"$f":"'Project Cashflows'!AF71","v":11456},{"$f":"'Project Cashflows'!AG71","v":11456},{"$f":"'Project Cashflows'!AH71","v":11456},{"$f":"'Project Cashflows'!AI71","v":11456},{"$f":"'Project Cashflows'!AJ71","v":11456},{"$f":"'Project Cashflows'!AK71","v":11456},{"$f":"'Project Cashflows'!AL71","v":11456},{"$f":"'Project Cashflows'!AM71","v":11456},{"$f":"'Project Cashflows'!AN71","v":11456},{"$f":"'Project Cashflows'!AO71","v":11456},{"$f":"'Project Cashflows'!AP71","v":11456},{"$f":"'Project Cashflows'!AQ71","v":11456},{"$f":"'Project Cashflows'!AR71","v":11456},{"$f":"'Project Cashflows'!AS71","v":11456},{"$f":"'Project Cashflows'!AT71","v":11456},{"$f":"'Project Cashflows'!AU71","v":11456},{"$f":"'Project Cashflows'!AV71","v":11456}]
[null,null,null,null,{"$f":"'Project Cashflows'!E72","v":"Price - Manganese with sensitivity applied"},null,{"$f":"'Project Cashflows'!G72","v":"US$ /DMTU"},null,null,null,{"$f":"'Project Cashflows'!K72","v":5.29},{"$f":"'Project Cashflows'!L72","v":5.29},{"$f":"'Project Cashflows'!M72","v":5.29},{"$f":"'Project Cashflows'!N72","v":5.29},{"$f":"'Project Cashflows'!O72","v":5.29},{"$f":"'Project Cashflows'!P72","v":5.29},{"$f":"'Project Cashflows'!Q72","v":5.29},{"$f":"'Project Cashflows'!R72","v":5.29},{"$f":"'Project Cashflows'!S72","v":5.44},{"$f":"'Project Cashflows'!T72","v":5.44},{"$f":"'Project Cashflows'!U72","v":5.44},{"$f":"'Project Cashflows'!V72","v":5.44},{"$f":"'Project Cashflows'!W72","v":5.44},{"$f":"'Project Cashflows'!X72","v":5.5},{"$f":"'Project Cashflows'!Y72","v":5.5},{"$f":"'Project Cashflows'!Z72","v":5.5},{"$f":"'Project Cashflows'!AA72","v":5.5},{"$f":"'Project Cashflows'!AB72","v":5.5},{"$f":"'Project Cashflows'!AC72","v":5.5},{"$f":"'Project Cashflows'!AD72","v":5.5},{"$f":"'Project Cashflows'!AE72","v":5.5},{"$f":"'Project Cashflows'!AF72","v":5.5},{"$f":"'Project Cashflows'!AG72","v":5.5},{"$f":"'Project Cashflows'!AH72","v":5.5},{"$f":"'Project Cashflows'!AI72","v":5.5},{"$f":"'Project Cashflows'!AJ72","v":5.5},{"$f":"'Project Cashflows'!AK72","v":5.5},{"$f":"'Project Cashflows'!AL72","v":5.5},{"$f":"'Project Cashflows'!AM72","v":5.5},{"$f":"'Project Cashflows'!AN72","v":5.5},{"$f":"'Project Cashflows'!AO72","v":5.5},{"$f":"'Project Cashflows'!AP72","v":5.5},{"$f":"'Project Cashflows'!AQ72","v":5.5},{"$f":"'Project Cashflows'!AR72","v":5.5},{"$f":"'Project Cashflows'!AS72","v":5.5},{"$f":"'Project Cashflows'!AT72","v":5.5},{"$f":"'Project Cashflows'!AU72","v":5.5},{"$f":"'Project Cashflows'!AV72","v":5.5}]
[null,null,null,null,"Price - Manganese",null,"US$ /t",null,null,null,{"$f":"K26*'Working Inputs'!$F$244","v":529},{"$f":"L26*'Working Inputs'!$F$244","v":529},{"$f":"M26*'Working Inputs'!$F$244","v":529},{"$f":"N26*'Working Inputs'!$F$244","v":529},{"$f":"O26*'Working Inputs'!$F$244","v":529},{"$f":"P26*'Working Inputs'!$F$244","v":529},{"$f":"Q26*'Working Inputs'!$F$244","v":529},{"$f":"R26*'Working Inputs'!$F$244","v":529},{"$f":"S26*'Working Inputs'!$F$244","v":544},{"$f":"T26*'Working Inputs'!$F$244","v":544},{"$f":"U26*'Working Inputs'!$F$244","v":544},{"$f":"V26*'Working Inputs'!$F$244","v":544},{"$f":"W26*'Working Inputs'!$F$244","v":544},{"$f":"X26*'Working Inputs'!$F$244","v":550},{"$f":"Y26*'Working Inputs'!$F$244","v":550},{"$f":"Z26*'Working Inputs'!$F$244","v":550},{"$f":"AA26*'Working Inputs'!$F$244","v":550},{"$f":"AB26*'Working Inputs'!$F$244","v":550},{"$f":"AC26*'Working Inputs'!$F$244","v":550},{"$f":"AD26*'Working Inputs'!$F$244","v":550},{"$f":"AE26*'Working Inputs'!$F$244","v":550},{"$f":"AF26*'Working Inputs'!$F$244","v":550},{"$f":"AG26*'Working Inputs'!$F$244","v":550},{"$f":"AH26*'Working Inputs'!$F$244","v":550},{"$f":"AI26*'Working Inputs'!$F$244","v":550},{"$f":"AJ26*'Working Inputs'!$F$244","v":550},{"$f":"AK26*'Working Inputs'!$F$244","v":550},{"$f":"AL26*'Working Inputs'!$F$244","v":550},{"$f":"AM26*'Working Inputs'!$F$244","v":550},{"$f":"AN26*'Working Inputs'!$F$244","v":550},{"$f":"AO26*'Working Inputs'!$F$244","v":550},{"$f":"AP26*'Working Inputs'!$F$244","v":550},{"$f":"AQ26*'Working Inputs'!$F$244","v":550},{"$f":"AR26*'Working Inputs'!$F$244","v":550},{"$f":"AS26*'Working Inputs'!$F$244","v":550},{"$f":"AT26*'Working Inputs'!$F$244","v":550},{"$f":"AU26*'Working Inputs'!$F$244","v":550},{"$f":"AV26*'Working Inputs'!$F$244","v":550}]
[]
[null,null,null,null,"Aggregate Relevant Metal Value area 1",null,"US$ mn",null,{"$f":"SUM(K29:AV29)","v":77819.791305599996},null,{"$f":"(K8*$F$13*K23+K8*$F$14*K24+K8*$F$15*K25+K8*$F$12*K27)","v":0},{"$f":"L8*$F$13*L23+L8*$F$14*L24+L8*$F$15*L25+L8*$F$12*L27","v":0},87.163214399999987,435.81607200000002,871.63214400000004,2179.0803599999999,4685.022774,4685.022774,5141.774879999999,5141.774879999999,5141.774879999999,5141.774879999999,5141.774879999999,5220.6717959999996,5220.6717959999996,5220.6717959999996,5220.6717959999996,5220.6717959999996,5220.6717959999996,5220.6717959999996,2622.4769951999997,0,0,0,0,0,0,0,0,0,0,0,0,0,0,0,0,{"$f":"AV8*$F$13*AV23+AV8*$F$14*AV24+AV8*$F$15*AV25+AV8*$F$12*AV27","v":0}]
[null,null,null,null,"Aggregate Relevant Metal Value area 2",null,"US$ mn",null,{"$f":"SUM(K30:AV30)","v":0},null,{"$f":"(K9*$F$19*K23+K9*$F$20*K24+K9*$F$21*K25+K9*$F$18*K27)","v":0},{"$f":"(L9*$F$19*L23+L9*$F$20*L24+L9*$F$21*L25+L9*$F$18*L27)","v":0},0,0,0,0,0,0,0,0,0,0,0,0,0,0,0,0,0,0,0,0,0,0,0,0,0,0,0,0,0,0,0,0,0,0,0,0]
[]
[null,null,null,null,"Total Aggregate Relevant Metal Value",null,"US$ mn",null,{"$f":"SUM(K32:AV32)","v":77819.791305599996},null,{"$f":"K29+K30","v":0},{"$f":"L29+L30","v":0},87.163214399999987,435.81607200000002,871.63214400000004,2179.0803599999999,4685.022774,4685.022774,5141.774879999999,5141.774879999999,5141.774879999999,5141.774879999999,5141.774879999999,5220.6717959999996,5220.6717959999996,5220.6717959999996,5220.6717959999996,5220.6717959999996,5220.6717959999996,5220.6717959999996,2622.4769951999997,0,0,0,0,0,0,0,0,0,0,0,0,0,0,0,0,0]
[]
[null,"Royalty "]
[null,null,null,null,{"$f":"'Working Inputs'!E213","v":"Royalty - stage 1"},{"$f":"'Working Inputs'!F213","v":2.5000000000000001E-2},{"$f":"'Working Inputs'!G213","v":"%"}]
[null,null,null,null,{"$f":"'Working Inputs'!E214","v":"Royalty stage 1 duration"},{"$f":"'Working Inputs'!F214","v":5},{"$f":"'Working Inputs'!G214","v":"years into production"}]
[null,null,null,null,{"$f":"'Working Inputs'!E215","v":"Royalty - stage 2"},{"$f":"'Working Inputs'!F215","v":7.4999999999999997E-2},{"$f":"'Working Inputs'!G215","v":"%"}]
[]
[null,null,null,null,{"$f":"'T&E'!E57","v":"Production period flag"},{"$f":"'T&E'!F57","v":0},{"$f":"'T&E'!G57","v":"flag"},{"$f":"'T&E'!H57","v":0},{"$f":"'T&E'!I57","v":19},{"$f":"'T&E'!J57","v":0},{"$f":"'T&E'!K57","v":0},{"$f":"'T&E'!L57","v":0},{"$f":"'T&E'!M57","v":1},{"$f":"'T&E'!N57","v":1},{"$f":"'T&E'!O57","v":1},{"$f":"'T&E'!P57","v":1},{"$f":"'T&E'!Q57","v":1},{"$f":"'T&E'!R57","v":1},{"$f":"'T&E'!S57","v":1},{"$f":"'T&E'!T57","v":1},{"$f":"'T&E'!U57","v":1},{"$f":"'T&E'!V57","v":1},{"$f":"'T&E'!W57","v":1},{"$f":"'T&E'!X57","v":1},{"$f":"'T&E'!Y57","v":1},{"$f":"'T&E'!Z57","v":1},{"$f":"'T&E'!AA57","v":1},{"$f":"'T&E'!AB57","v":1},{"$f":"'T&E'!AC57","v":1},{"$f":"'T&E'!AD57","v":1},{"$f":"'T&E'!AE57","v":1},{"$f":"'T&E'!AF57","v":0},{"$f":"'T&E'!AG57","v":0},{"$f":"'T&E'!AH57","v":0},{"$f":"'T&E'!AI57","v":0},{"$f":"'T&E'!AJ57","v":0},{"$f":"'T&E'!AK57","v":0},{"$f":"'T&E'!AL57","v":0},{"$f":"'T&E'!AM57","v":0},{"$f":"'T&E'!AN57","v":0},{"$f":"'T&E'!AO57","v":0},{"$f":"'T&E'!AP57","v":0},{"$f":"'T&E'!AQ57","v":0},{"$f":"'T&E'!AR57","v":0},{"$f":"'T&E'!AS57","v":0},{"$f":"'T&E'!AT57","v":0},{"$f":"'T&E'!AU57","v":0},{"$f":"'T&E'!AV57","v":0}]
[null,null,null,null,{"$f":"'Working Inputs'!E29","v":"Production year adjustment "},{"$f":"'Working Inputs'!F29","v":1},{"$f":"'Working Inputs'!G29","v":"year # "}]
[]
[null,null,null,null,"Royalty rate applied",null,"%",null,null,null,{"$f":"IF(SUM($K$39:K39)>$F$36+$F$40,$F$37,$F$35)*K39","v":0},{"$f":"IF(SUM($K$39:L39)>$F$36+$F$40,$F$37,$F$35)*L39","v":0},{"$f":"IF(SUM($K$39:M39)>$F$36+$F$40,$F$37,$F$35)*M39","v":2.5000000000000001E-2},{"$f":"IF(SUM($K$39:N39)>$F$36+$F$40,$F$37,$F$35)*N39","v":2.5000000000000001E-2},{"$f":"IF(SUM($K$39:O39)>$F$36+$F$40,$F$37,$F$35)*O39","v":2.5000000000000001E-2},{"$f":"IF(SUM($K$39:P39)>$F$36+$F$40,$F$37,$F$35)*P39","v":2.5000000000000001E-2},{"$f":"IF(SUM($K$39:Q39)>$F$36+$F$40,$F$37,$F$35)*Q39","v":2.5000000000000001E-2},{"$f":"IF(SUM($K$39:R39)>$F$36+$F$40,$F$37,$F$35)*R39","v":2.5000000000000001E-2},{"$f":"IF(SUM($K$39:S39)>$F$36+$F$40,$F$37,$F$35)*S39","v":7.4999999999999997E-2},{"$f":"IF(SUM($K$39:T39)>$F$36+$F$40,$F$37,$F$35)*T39","v":7.4999999999999997E-2},{"$f":"IF(SUM($K$39:U39)>$F$36+$F$40,$F$37,$F$35)*U39","v":7.4999999999999997E-2},{"$f":"IF(SUM($K$39:V39)>$F$36+$F$40,$F$37,$F$35)*V39","v":7.4999999999999997E-2},{"$f":"IF(SUM($K$39:W39)>$F$36+$F$40,$F$37,$F$35)*W39","v":7.4999999999999997E-2},{"$f":"IF(SUM($K$39:X39)>$F$36+$F$40,$F$37,$F$35)*X39","v":7.4999999999999997E-2},{"$f":"IF(SUM($K$39:Y39)>$F$36+$F$40,$F$37,$F$35)*Y39","v":7.4999999999999997E-2},{"$f":"IF(SUM($K$39:Z39)>$F$36+$F$40,$F$37,$F$35)*Z39","v":7.4999999999999997E-2},{"$f":"IF(SUM($K$39:AA39)>$F$36+$F$40,$F$37,$F$35)*AA39","v":7.4999999999999997E-2},{"$f":"IF(SUM($K$39:AB39)>$F$36+$F$40,$F$37,$F$35)*AB39","v":7.4999999999999997E-2},{"$f":"IF(SUM($K$39:AC39)>$F$36+$F$40,$F$37,$F$35)*AC39","v":7.4999999999999997E-2},{"$f":"IF(SUM($K$39:AD39)>$F$36+$F$40,$F$37,$F$35)*AD39","v":7.4999999999999997E-2},{"$f":"IF(SUM($K$39:AE39)>$F$36+$F$40,$F$37,$F$35)*AE39","v":7.4999999999999997E-2},{"$f":"IF(SUM($K$39:AF39)>$F$36+$F$40,$F$37,$F$35)*AF39","v":0},{"$f":"IF(SUM($K$39:AG39)>$F$36+$F$40,$F$37,$F$35)*AG39","v":0},{"$f":"IF(SUM($K$39:AH39)>$F$36+$F$40,$F$37,$F$35)*AH39","v":0},{"$f":"IF(SUM($K$39:AI39)>$F$36+$F$40,$F$37,$F$35)*AI39","v":0},{"$f":"IF(SUM($K$39:AJ39)>$F$36+$F$40,$F$37,$F$35)*AJ39","v":0},{"$f":"IF(SUM($K$39:AK39)>$F$36+$F$40,$F$37,$F$35)*AK39","v":0},{"$f":"IF(SUM($K$39:AL39)>$F$36+$F$40,$F$37,$F$35)*AL39","v":0},{"$f":"IF(SUM($K$39:AM39)>$F$36+$F$40,$F$37,$F$35)*AM39","v":0},{"$f":"IF(SUM($K$39:AN39)>$F$36+$F$40,$F$37,$F$35)*AN39","v":0},{"$f":"IF(SUM($K$39:AO39)>$F$36+$F$40,$F$37,$F$35)*AO39","v":0},{"$f":"IF(SUM($K$39:AP39)>$F$36+$F$40,$F$37,$F$35)*AP39","v":0},{"$f":"IF(SUM($K$39:AQ39)>$F$36+$F$40,$F$37,$F$35)*AQ39","v":0},{"$f":"IF(SUM($K$39:AR39)>$F$36+$F$40,$F$37,$F$35)*AR39","v":0},{"$f":"IF(SUM($K$39:AS39)>$F$36+$F$40,$F$37,$F$35)*AS39","v":0},{"$f":"IF(SUM($K$39:AT39)>$F$36+$F$40,$F$37,$F$35)*AT39","v":0},{"$f":"IF(SUM($K$39:AU39)>$F$36+$F$40,$F$37,$F$35)*AU39","v":0},{"$f":"IF(SUM($K$39:AV39)>$F$36+$F$40,$F$37,$F$35)*AV39","v":0}]
[null,null,null,null,{"$f":"E32","v":"Total Aggregate Relevant Metal Value"},{"$f":"F32","v":0},"US$ mn",0,77819.791305599996,0,0,0,87.163214399999987,435.81607200000002,871.63214400000004,2179.0803599999999,4685.022774,4685.022774,5141.774879999999,5141.774879999999,5141.774879999999,5141.774879999999,5141.774879999999,5220.6717959999996,5220.6717959999996,5220.6717959999996,5220.6717959999996,5220.6717959999996,5220.6717959999996,5220.6717959999996,2622.4769951999997,0,0,0,0,0,0,0,0,0,0,0,0,0,0,0,0,0]
[null,null,null,null,{"$f":"'Project Cashflows'!E353","v":"Total Sales Revenue"},null,{"$f":"'Project Cashflows'!G353","v":"US$ mn"},null,{"$f":"'Project Cashflows'!I353","v":58574.18437056597},null,{"$f":"'Project Cashflows'!K353","v":0},{"$f":"'Project Cashflows'!L353","v":0},{"$f":"'Project Cashflows'!M353","v":60.500953447145264},{"$f":"'Project Cashflows'!N353","v":302.50476723572643},{"$f":"'Project Cashflows'!O353","v":647.12918926235284},{"$f":"'Project Cashflows'!P353","v":1667.3755082039997},{"$f":"'Project Cashflows'!Q353","v":3584.8573426385997},{"$f":"'Project Cashflows'!R353","v":3584.8573426385997},{"$f":"'Project Cashflows'!S353","v":3877.4471057683195},{"$f":"'Project Cashflows'!T353","v":3877.4471057683195},{"$f":"'Project Cashflows'!U353","v":3877.4471057683195},{"$f":"'Project Cashflows'!V353","v":3877.4471057683195},{"$f":"'Project Cashflows'!W353","v":3877.4471057683195},{"$f":"'Project Cashflows'!X353","v":3910.7505292833603},{"$f":"'Project Cashflows'!Y353","v":3910.7505292833603},{"$f":"'Project Cashflows'!Z353","v":3910.7505292833603},{"$f":"'Project Cashflows'!AA353","v":3910.7505292833603},{"$f":"'Project Cashflows'!AB353","v":3910.7505292833603},{"$f":"'Project Cashflows'!AC353","v":3910.7505292833603},{"$f":"'Project Cashflows'!AD353","v":3910.7505292833603},{"$f":"'Project Cashflows'!AE353","v":1964.4700333144319},{"$f":"'Project Cashflows'!AF353","v":0},{"$f":"'Project Cashflows'!AG353","v":0},{"$f":"'Project Cashflows'!AH353","v":0},{"$f":"'Project Cashflows'!AI353","v":0},{"$f":"'Project Cashflows'!AJ353","v":0},{"$f":"'Project Cashflows'!AK353","v":0},{"$f":"'Project Cashflows'!AL353","v":0},{"$f":"'Project Cashflows'!AM353","v":0},{"$f":"'Project Cashflows'!AN353","v":0},{"$f":"'Project Cashflows'!AO353","v":0},{"$f":"'Project Cashflows'!AP353","v":0},{"$f":"'Project Cashflows'!AQ353","v":0},{"$f":"'Project Cashflows'!AR353","v":0},{"$f":"'Project Cashflows'!AS353","v":0},{"$f":"'Project Cashflows'!AT353","v":0},{"$f":"'Project Cashflows'!AU353","v":0},{"$f":"'Project Cashflows'!AV353","v":0}]
[null,null,null,null,"Royalty Payables",null,"US$ mn",null,{"$f":"SUM(K45:AV45)","v":5189.2974809999996},null,{"$f":"+K42*K43","v":0},{"$f":"+L42*L43","v":0},{"$f":"+M42*M43","v":2.1790803599999999},10.895401800000002,21.790803600000004,54.477009000000002,117.12556935000001,117.12556935000001,385.63311599999992,385.63311599999992,385.63311599999992,385.63311599999992,385.63311599999992,391.55038469999994,391.55038469999994,391.55038469999994,391.55038469999994,391.55038469999994,391.55038469999994,391.55038469999994,196.68577463999998,0,0,0,0,0,0,0,0,0,0,0,0,0,0,0,0,{"$f":"+AV42*AV43","v":0}]
[]
["Debt financing"]
[]
[null,"Development costs to be financed by debt"]
[null,null,"Costs to be financed"]
[null,null,null,null,{"$f":"'Project Cashflows'!E357","v":"Capital expenditure"},null,{"$f":"'Project Cashflows'!G357","v":"US$ mn"},null,{"$f":"'Project Cashflows'!I357","v":491.59999999999997},{"$f":"'Project Cashflows'!J357","v":0},{"$f":"'Project Cashflows'!K357","v":245.79999999999998},{"$f":"'Project Cashflows'!L357","v":245.79999999999998},{"$f":"'Project Cashflows'!M357","v":0},{"$f":"'Project Cashflows'!N357","v":0},{"$f":"'Project Cashflows'!O357","v":0},{"$f":"'Project Cashflows'!P357","v":0},{"$f":"'Project Cashflows'!Q357","v":0},{"$f":"'Project Cashflows'!R357","v":0},{"$f":"'Project Cashflows'!S357","v":0},{"$f":"'Project Cashflows'!T357","v":0},{"$f":"'Project Cashflows'!U357","v":0},{"$f":"'Project Cashflows'!V357","v":0},{"$f":"'Project Cashflows'!W357","v":0},{"$f":"'Project Cashflows'!X357","v":0},{"$f":"'Project Cashflows'!Y357","v":0},{"$f":"'Project Cashflows'!Z357","v":0},{"$f":"'Project Cashflows'!AA357","v":0},{"$f":"'Project Cashflows'!AB357","v":0},{"$f":"'Project Cashflows'!AC357","v":0},{"$f":"'Project Cashflows'!AD357","v":0},{"$f":"'Project Cashflows'!AE357","v":0},{"$f":"'Project Cashflows'!AF357","v":0},{"$f":"'Project Cashflows'!AG357","v":0},{"$f":"'Project Cashflows'!AH357","v":0},{"$f":"'Project Cashflows'!AI357","v":0},{"$f":"'Project Cashflows'!AJ357","v":0},{"$f":"'Project Cashflows'!AK357","v":0},{"$f":"'Project Cashflows'!AL357","v":0},{"$f":"'Project Cashflows'!AM357","v":0},{"$f":"'Project Cashflows'!AN357","v":0},{"$f":"'Project Cashflows'!AO357","v":0},{"$f":"'Project Cashflows'!AP357","v":0},{"$f":"'Project Cashflows'!AQ357","v":0},{"$f":"'Project Cashflows'!AR357","v":0},{"$f":"'Project Cashflows'!AS357","v":0},{"$f":"'Project Cashflows'!AT357","v":0},{"$f":"'Project Cashflows'!AU357","v":0},{"$f":"'Project Cashflows'!AV357","v":0}]
[null,null,null,null,{"$f":"'Working Inputs'!E229","v":"Proportion of Capex financed by debts"},{"$f":"'Working Inputs'!F229","v":0},{"$f":"'Working Inputs'!G229","v":"%"}]
[null,null,null,null,"Debt drawdowns ",null,"US$ mn",null,{"$f":"SUM(K53:AV53)","v":0},null,{"$f":"K51*$F$52","v":0},{"$f":"L51*$F$52","v":0},0,0,0,0,0,0,0,0,0,0,0,0,0,0,0,0,0,0,0,0,0,0,0,0,0,0,0,0,0,0,0,0,0,0,0,{"$f":"AV51*$F$52","v":0}]
[]
[null,null,null,null,{"$f":"'Working Inputs'!E232","v":"Loan real interest rate "},{"$f":"'Working Inputs'!F232","v":0.18},{"$f":"'Working Inputs'!G232","v":"%"}]
[null,null,null,null,{"$f":"+'T&E'!E112","v":"Interest payment flag"},{"$f":"+'T&E'!F112","v":0},{"$f":"+'T&E'!G112","v":"flag"},{"$f":"+'T&E'!H112","v":0},{"$f":"+'T&E'!I112","v":35},{"$f":"+'T&E'!J112","v":0},{"$f":"+'T&E'!K112","v":0},{"$f":"+'T&E'!L112","v":0},{"$f":"+'T&E'!M112","v":0},{"$f":"+'T&E'!N112","v":1},{"$f":"+'T&E'!O112","v":1},{"$f":"+'T&E'!P112","v":1},{"$f":"+'T&E'!Q112","v":1},{"$f":"+'T&E'!R112","v":1},{"$f":"+'T&E'!S112","v":1},{"$f":"+'T&E'!T112","v":1},{"$f":"+'T&E'!U112","v":1},{"$f":"+'T&E'!V112","v":1},{"$f":"+'T&E'!W112","v":1},{"$f":"+'T&E'!X112","v":1},{"$f":"+'T&E'!Y112","v":1},{"$f":"+'T&E'!Z112","v":1},{"$f":"+'T&E'!AA112","v":1},{"$f":"+'T&E'!AB112","v":1},{"$f":"+'T&E'!AC112","v":1},{"$f":"+'T&E'!AD112","v":1},{"$f":"+'T&E'!AE112","v":1},{"$f":"+'T&E'!AF112","v":1},{"$f":"+'T&E'!AG112","v":1},{"$f":"+'T&E'!AH112","v":1},{"$f":"+'T&E'!AI112","v":1},{"$f":"+'T&E'!AJ112","v":1},{"$f":"+'T&E'!AK112","v":1},{"$f":"+'T&E'!AL112","v":1},{"$f":"+'T&E'!AM112","v":1},{"$f":"+'T&E'!AN112","v":1},{"$f":"+'T&E'!AO112","v":1},{"$f":"+'T&E'!AP112","v":1},{"$f":"+'T&E'!AQ112","v":1},{"$f":"+'T&E'!AR112","v":1},{"$f":"+'T&E'!AS112","v":1},{"$f":"+'T&E'!AT112","v":1},{"$f":"+'T&E'!AU112","v":1},{"$f":"+'T&E'!AV112","v":1}]
[null,null,null,null,"Interest payments "]
[]
[]
[null,"Debt repayments"]
[null,null,null,null,{"$f":"'Working Inputs'!E230","v":"Repayment start year"},{"$f":"'Working Inputs'!F230","v":7},{"$f":"'Working Inputs'!G230","v":"Year"}]
[null,null,null,null,{"$f":"'Working Inputs'!E231","v":"Repayment period"},{"$f":"'Working Inputs'!F231","v":10},{"$f":"'Working Inputs'!G231","v":"Years"}]
[null,null,null,null,"Debt repayment flag",null,"flag",null,{"$f":" SUM(K63:AV63)","v":10},null,{"$f":"+IF(OR(K1<$F$61,K1>=$F$61+$F$62),0,1)","v":0},0,0,0,0,0,1,1,1,1,1,1,1,1,1,1,0,0,0,0,0,0,0,0,0,0,0,0,0,0,0,0,0,0,0,0,0,0]
[null,null,null,null,"Proportion of remaining Debt balance to be paid",null,"%",null,null,null,{"$f":" IFERROR( K63 / SUM(K63:$AU63), 0 )","v":0},{"$f":" IFERROR( L63 / SUM(L63:$AU63), 0 )","v":0},{"$f":" IFERROR( M63 / SUM(M63:$AU63), 0 )","v":0},{"$f":" IFERROR( N63 / SUM(N63:$AU63), 0 )","v":0},{"$f":" IFERROR( O63 / SUM(O63:$AU63), 0 )","v":0},{"$f":" IFERROR( P63 / SUM(P63:$AU63), 0 )","v":0},{"$f":" IFERROR( Q63 / SUM(Q63:$AU63), 0 )","v":0.1},{"$f":" IFERROR( R63 / SUM(R63:$AU63), 0 )","v":0.1111111111111111},{"$f":" IFERROR( S63 / SUM(S63:$AU63), 0 )","v":0.125},{"$f":" IFERROR( T63 / SUM(T63:$AU63), 0 )","v":0.14285714285714285},{"$f":" IFERROR( U63 / SUM(U63:$AU63), 0 )","v":0.16666666666666666},{"$f":" IFERROR( V63 / SUM(V63:$AU63), 0 )","v":0.2},{"$f":" IFERROR( W63 / SUM(W63:$AU63), 0 )","v":0.25},{"$f":" IFERROR( X63 / SUM(X63:$AU63), 0 )","v":0.33333333333333331},{"$f":" IFERROR( Y63 / SUM(Y63:$AU63), 0 )","v":0.5},{"$f":" IFERROR( Z63 / SUM(Z63:$AU63), 0 )","v":1},{"$f":" IFERROR( AA63 / SUM(AA63:$AU63), 0 )","v":0},{"$f":" IFERROR( AB63 / SUM(AB63:$AU63), 0 )","v":0},{"$f":" IFERROR( AC63 / SUM(AC63:$AU63), 0 )","v":0},{"$f":" IFERROR( AD63 / SUM(AD63:$AU63), 0 )","v":0},{"$f":" IFERROR( AE63 / SUM(AE63:$AU63), 0 )","v":0},{"$f":" IFERROR( AF63 / SUM(AF63:$AU63), 0 )","v":0},{"$f":" IFERROR( AG63 / SUM(AG63:$AU63), 0 )","v":0},{"$f":" IFERROR( AH63 / SUM(AH63:$AU63), 0 )","v":0},{"$f":" IFERROR( AI63 / SUM(AI63:$AU63), 0 )","v":0},{"$f":" IFERROR( AJ63 / SUM(AJ63:$AU63), 0 )","v":0},{"$f":" IFERROR( AK63 / SUM(AK63:$AU63), 0 )","v":0},{"$f":" IFERROR( AL63 / SUM(AL63:$AU63), 0 )","v":0},{"$f":" IFERROR( AM63 / SUM(AM63:$AU63), 0 )","v":0},{"$f":" IFERROR( AN63 / SUM(AN63:$AU63), 0 )","v":0},{"$f":" IFERROR( AO63 / SUM(AO63:$AU63), 0 )","v":0},{"$f":" IFERROR( AP63 / SUM(AP63:$AU63), 0 )","v":0},{"$f":" IFERROR( AQ63 / SUM(AQ63:$AU63), 0 )","v":0},{"$f":" IFERROR( AR63 / SUM(AR63:$AU63), 0 )","v":0},{"$f":" IFERROR( AS63 / SUM(AS63:$AU63), 0 )","v":0},{"$f":" IFERROR( AT63 / SUM(AT63:$AU63), 0 )","v":0},{"$f":" IFERROR( AU63 / SUM(AU63:$AU63), 0 )","v":0},{"$f":" IFERROR( AV63 / SUM($AU63:AV63), 0 )","v":0}]
[]
[null,"Debt account"]
[null,null,null,null,{"$f":"'Working Inputs'!E232","v":"Loan real interest rate "},{"$f":"'Working Inputs'!F232","v":0.18},{"$f":"'Working Inputs'!G232","v":"%"}]
[]
[null,null,null,null,"Debt account opening balance: BEG",null,"US$ mn",null,null,null,{"$f":"J74+K53","v":0},{"$f":"K74+L53","v":0},0,0,0,0,0,0,0,0,0,0,0,0,0,0,0,0,0,0,0,0,0,0,0,0,0,0,0,0,0,0,0,0,0,0,0,0]
[null,null,null,"add","Capitalized interest",null,"US$ mn",null,{"$f":" SUM(K70:AV70)","v":0},null,{"$f":"K69*$F$67*('Working Inputs'!$F$247-'Fiscal Model'!K56)","v":0},{"$f":"L69*$F$67*('Working Inputs'!$F$247-'Fiscal Model'!L56)","v":0},{"$f":"M69*$F$67*('Working Inputs'!$F$247-'Fiscal Model'!M56)","v":0},{"$f":"N69*$F$67*('Working Inputs'!$F$247-'Fiscal Model'!N56)","v":0},{"$f":"O69*$F$67*('Working Inputs'!$F$247-'Fiscal Model'!O56)","v":0},{"$f":"P69*$F$67*('Working Inputs'!$F$247-'Fiscal Model'!P56)","v":0},{"$f":"Q69*$F$67*('Working Inputs'!$F$247-'Fiscal Model'!Q56)","v":0},{"$f":"R69*$F$67*('Working Inputs'!$F$247-'Fiscal Model'!R56)","v":0},{"$f":"S69*$F$67*('Working Inputs'!$F$247-'Fiscal Model'!S56)","v":0},{"$f":"T69*$F$67*('Working Inputs'!$F$247-'Fiscal Model'!T56)","v":0},{"$f":"U69*$F$67*('Working Inputs'!$F$247-'Fiscal Model'!U56)","v":0},{"$f":"V69*$F$67*('Working Inputs'!$F$247-'Fiscal Model'!V56)","v":0},{"$f":"W69*$F$67*('Working Inputs'!$F$247-'Fiscal Model'!W56)","v":0},{"$f":"X69*$F$67*('Working Inputs'!$F$247-'Fiscal Model'!X56)","v":0},{"$f":"Y69*$F$67*('Working Inputs'!$F$247-'Fiscal Model'!Y56)","v":0},{"$f":"Z69*$F$67*('Working Inputs'!$F$247-'Fiscal Model'!Z56)","v":0},{"$f":"AA69*$F$67*('Working Inputs'!$F$247-'Fiscal Model'!AA56)","v":0},{"$f":"AB69*$F$67*('Working Inputs'!$F$247-'Fiscal Model'!AB56)","v":0},{"$f":"AC69*$F$67*('Working Inputs'!$F$247-'Fiscal Model'!AC56)","v":0},{"$f":"AD69*$F$67*('Working Inputs'!$F$247-'Fiscal Model'!AD56)","v":0},{"$f":"AE69*$F$67*('Working Inputs'!$F$247-'Fiscal Model'!AE56)","v":0},{"$f":"AF69*$F$67*('Working Inputs'!$F$247-'Fiscal Model'!AF56)","v":0},{"$f":"AG69*$F$67*('Working Inputs'!$F$247-'Fiscal Model'!AG56)","v":0},{"$f":"AH69*$F$67*('Working Inputs'!$F$247-'Fiscal Model'!AH56)","v":0},{"$f":"AI69*$F$67*('Working Inputs'!$F$247-'Fiscal Model'!AI56)","v":0},{"$f":"AJ69*$F$67*('Working Inputs'!$F$247-'Fiscal Model'!AJ56)","v":0},{"$f":"AK69*$F$67*('Working Inputs'!$F$247-'Fiscal Model'!AK56)","v":0},{"$f":"AL69*$F$67*('Working Inputs'!$F$247-'Fiscal Model'!AL56)","v":0},{"$f":"AM69*$F$67*('Working Inputs'!$F$247-'Fiscal Model'!AM56)","v":0},{"$f":"AN69*$F$67*('Working Inputs'!$F$247-'Fiscal Model'!AN56)","v":0},{"$f":"AO69*$F$67*('Working Inputs'!$F$247-'Fiscal Model'!AO56)","v":0},{"$f":"AP69*$F$67*('Working Inputs'!$F$247-'Fiscal Model'!AP56)","v":0},{"$f":"AQ69*$F$67*('Working Inputs'!$F$247-'Fiscal Model'!AQ56)","v":0},{"$f":"AR69*$F$67*('Working Inputs'!$F$247-'Fiscal Model'!AR56)","v":0},{"$f":"AS69*$F$67*('Working Inputs'!$F$247-'Fiscal Model'!AS56)","v":0},{"$f":"AT69*$F$67*('Working Inputs'!$F$247-'Fiscal Model'!AT56)","v":0},{"$f":"AU69*$F$67*('Working Inputs'!$F$247-'Fiscal Model'!AU56)","v":0},{"$f":"AV69*$F$67*('Working Inputs'!$F$247-'Fiscal Model'!AV56)","v":0}]
[null,null,null,null,"Debt balance to be paid",null,"US$ mn",null,null,null,{"$f":" K69 + K70","v":0},{"$f":" L69 + L70","v":0},0,0,0,0,0,0,0,0,0,0,0,0,0,0,0,0,0,0,0,0,0,0,0,0,0,0,0,0,0,0,0,0,0,0,0,{"$f":" AV69 + AV70","v":0}]
[null,null,null,null,"Interest payments (end of period)",null,"US$ mn",null,{"$f":" SUM(K72:AV72)","v":0},null,{"$f":"+K56*K71*$F$55","v":0},{"$f":"+L56*L71*$F$55","v":0},0,0,0,0,0,0,0,0,0,0,0,0,0,0,0,0,0,0,0,0,0,0,0,0,0,0,0,0,0,0,0,0,0,0,0,{"$f":"+AV56*AV71*$F$55","v":0}]
[null,null,null,"less","Principal repayments",null,"US$ mn",null,{"$f":" SUM(K73:AV73)","v":0},null,{"$f":"K71*K64","v":0},{"$f":"L71*L64","v":0},0,0,0,0,0,0,0,0,0,0,0,0,0,0,0,0,0,0,0,0,0,0,0,0,0,0,0,0,0,0,0,0,0,0,0,{"$f":"AV71*AV64","v":0}]
[null,null,null,null,"Debt closing balance: END",null,"US$ mn",null,null,null,{"$f":" K71 - K73","v":0},{"$f":" L71 - L73","v":0},0,0,0,0,0,0,0,0,0,0,0,0,0,0,0,0,0,0,0,0,0,0,0,0,0,0,0,0,0,0,0,0,0,0,0,{"$f":" AV71 - AV73","v":0}]
[]
[null,"Debt cashflows"]
[null,null,null,null,"Debt drawdown",null,"US$ mn",null,{"$f":"I53","v":0},null,{"$f":"K53","v":0},0,0,0,{"$f":"O53","v":0},{"$f":"P53","v":0},0,0,0,0,0,0,0,0,0,0,0,0,0,0,0,0,0,0,0,0,0,0,0,0,0,0,0,0,0,0,0,{"$f":"AV53","v":0}]
[null,null,null,null,"Principal repayments",null,"US$ mn",null,{"$f":"I73","v":0},0,0,0,0,0,0,0,0,0,0,0,0,0,0,0,0,0,0,0,0,0,0,0,0,0,0,0,0,0,0,0,0,0,0,0,0,0,0,{"$f":"AV73","v":0}]
[null,null,null,null,"Interest payments (end of period)",null,"US$ mn",null,{"$f":"I72","v":0},0,0,0,0,0,0,0,0,0,0,0,0,0,0,0,0,0,0,0,0,0,0,0,0,0,0,0,0,0,0,0,0,0,0,0,0,0,0,{"$f":"AV72","v":0}]
[]
[null,null,null,null,{"$f":"'Project Cashflows'!E396","v":"Project after tax Cashflow"},null,{"$f":"'Project Cashflows'!G396","v":"US$ mn"},null,{"$f":"'Project Cashflows'!I396","v":10344.662667174485},{"$f":"'Project Cashflows'!J396","v":0},{"$f":"'Project Cashflows'!K396","v":-247.29999999999998},{"$f":"'Project Cashflows'!L396","v":-247.29999999999998},{"$f":"'Project Cashflows'!M396","v":9.2114048153589394},{"$f":"'Project Cashflows'!N396","v":59.097024076794831},{"$f":"'Project Cashflows'!O396","v":138.61878924676463},{"$f":"'Project Cashflows'!P396","v":366.96387440299981},{"$f":"'Project Cashflows'!Q396","v":776.13257996645007},{"$f":"'Project Cashflows'!R396","v":628.88257996645007},{"$f":"'Project Cashflows'!S396","v":654.69424232623987},{"$f":"'Project Cashflows'!T396","v":662.44424232623987},{"$f":"'Project Cashflows'!U396","v":670.19424232623987},{"$f":"'Project Cashflows'!V396","v":825.19424232623987},{"$f":"'Project Cashflows'!W396","v":670.19424232623987},{"$f":"'Project Cashflows'!X396","v":678.44385843752048},{"$f":"'Project Cashflows'!Y396","v":678.44385843752048},{"$f":"'Project Cashflows'!Z396","v":678.44385843752048},{"$f":"'Project Cashflows'!AA396","v":833.44385843752048},{"$f":"'Project Cashflows'!AB396","v":678.44385843752048},{"$f":"'Project Cashflows'!AC396","v":678.44385843752048},{"$f":"'Project Cashflows'!AD396","v":825.69385843752048},{"$f":"'Project Cashflows'!AE396","v":441.27819400582393},{"$f":"'Project Cashflows'!AF396","v":-11.5},{"$f":"'Project Cashflows'!AG396","v":-11.5},{"$f":"'Project Cashflows'!AH396","v":-11.5},{"$f":"'Project Cashflows'!AI396","v":-11.5},{"$f":"'Project Cashflows'!AJ396","v":-11.5},{"$f":"'Project Cashflows'!AK396","v":-11.5},{"$f":"'Project Cashflows'!AL396","v":-11.5},{"$f":"'Project Cashflows'!AM396","v":-11.5},{"$f":"'Project Cashflows'!AN396","v":-11.5},{"$f":"'Project Cashflows'!AO396","v":-11.5},{"$f":"'Project Cashflows'!AP396","v":0},{"$f":"'Project Cashflows'!AQ396","v":0},{"$f":"'Project Cashflows'!AR396","v":0},{"$f":"'Project Cashflows'!AS396","v":0},{"$f":"'Project Cashflows'!AT396","v":0},{"$f":"'Project Cashflows'!AU396","v":0},{"$f":"'Project Cashflows'!AV396","v":0}]
[null,null,null,null,"DSCR ",null,null,null,null,null,{"$f":"IF(K78+K79>0, K81/(K78+K79), \"n/a\")","v":"n/a"},{"$f":"IF(L78+L79>0, L81/(L78+L79), \"n/a\")","v":"n/a"},{"$f":"IF(M78+M79>0, M81/(M78+M79), \"n/a\")","v":"n/a"},{"$f":"IF(N78+N79>0, N81/(N78+N79), \"n/a\")","v":"n/a"},{"$f":"IF(O78+O79>0, O81/(O78+O79), \"n/a\")","v":"n/a"},"n/a","n/a","n/a","n/a","n/a","n/a","n/a","n/a","n/a","n/a","n/a","n/a","n/a","n/a","n/a","n/a","n/a","n/a","n/a","n/a","n/a","n/a","n/a","n/a","n/a","n/a","n/a","n/a","n/a","n/a","n/a","n/a",{"$f":"IF(AV78+AV79>0, AV81/(AV78+AV79), \"n/a\")","v":"n/a"}]
[null,null,null,null,"Check: Enough cashflow for debt service",{"$f":"IF(ABS(SUM(K83:AU83))>CHK_TOL,1,0)","v":0},null,null,null,null,{"$f":"IF(K82<1, 1,0)","v":0},{"$f":"IF(L82<1, 1,0)","v":0},0,0,{"$f":"IF(O82<1, 1,0)","v":0},0,0,0,0,0,0,0,0,0,0,0,0,0,0,0,0,0,0,0,0,0,0,0,0,0,0,0,0,0,0,0,0,{"$f":"IF(AV82<1, 1,0)","v":0}]
[]
["Depreciation"]
[]
[null,"Capex depreciation"]
[null,null,null,null,{"$f":"'Project Cashflows'!E229","v":"Production Vessel"},null,{"$f":"'Project Cashflows'!G229","v":"US$ mn"},{"$f":"'Project Cashflows'!H229","v":0},{"$f":"'Project Cashflows'!I229","v":468.4},{"$f":"'Project Cashflows'!J229","v":0},{"$f":"'Project Cashflows'!K229","v":234.2},{"$f":"'Project Cashflows'!L229","v":234.2},{"$f":"'Project Cashflows'!M229","v":0},{"$f":"'Project Cashflows'!N229","v":0},{"$f":"'Project Cashflows'!O229","v":0},{"$f":"'Project Cashflows'!P229","v":0},{"$f":"'Project Cashflows'!Q229","v":0},{"$f":"'Project Cashflows'!R229","v":0},{"$f":"'Project Cashflows'!S229","v":0},{"$f":"'Project Cashflows'!T229","v":0},{"$f":"'Project Cashflows'!U229","v":0},{"$f":"'Project Cashflows'!V229","v":0},{"$f":"'Project Cashflows'!W229","v":0},{"$f":"'Project Cashflows'!X229","v":0},{"$f":"'Project Cashflows'!Y229","v":0},{"$f":"'Project Cashflows'!Z229","v":0},{"$f":"'Project Cashflows'!AA229","v":0},{"$f":"'Project Cashflows'!AB229","v":0},{"$f":"'Project Cashflows'!AC229","v":0},{"$f":"'Project Cashflows'!AD229","v":0},{"$f":"'Project Cashflows'!AE229","v":0},{"$f":"'Project Cashflows'!AF229","v":0},{"$f":"'Project Cashflows'!AG229","v":0},{"$f":"'Project Cashflows'!AH229","v":0},{"$f":"'Project Cashflows'!AI229","v":0},{"$f":"'Project Cashflows'!AJ229","v":0},{"$f":"'Project Cashflows'!AK229","v":0},{"$f":"'Project Cashflows'!AL229","v":0},{"$f":"'Project Cashflows'!AM229","v":0},{"$f":"'Project Cashflows'!AN229","v":0},{"$f":"'Project Cashflows'!AO229","v":0},{"$f":"'Project Cashflows'!AP229","v":0},{"$f":"'Project Cashflows'!AQ229","v":0},{"$f":"'Project Cashflows'!AR229","v":0},{"$f":"'Project Cashflows'!AS229","v":0},{"$f":"'Project Cashflows'!AT229","v":0},{"$f":"'Project Cashflows'!AU229","v":0},{"$f":"'Project Cashflows'!AV229","v":0}]
[null,null,null,null,{"$f":"'Project Cashflows'!E230","v":"Transfer Vessel/Bulk Carriers"},null,{"$f":"'Project Cashflows'!G230","v":"US$ mn"},{"$f":"'Project Cashflows'!H230","v":0},{"$f":"'Project Cashflows'!I230","v":89.6},{"$f":"'Project Cashflows'!J230","v":0},{"$f":"'Project Cashflows'!K230","v":44.8},{"$f":"'Project Cashflows'!L230","v":44.8},{"$f":"'Project Cashflows'!M230","v":0},{"$f":"'Project Cashflows'!N230","v":0},{"$f":"'Project Cashflows'!O230","v":0},{"$f":"'Project Cashflows'!P230","v":0},{"$f":"'Project Cashflows'!Q230","v":0},{"$f":"'Project Cashflows'!R230","v":0},{"$f":"'Project Cashflows'!S230","v":0},{"$f":"'Project Cashflows'!T230","v":0},{"$f":"'Project Cashflows'!U230","v":0},{"$f":"'Project Cashflows'!V230","v":0},{"$f":"'Project Cashflows'!W230","v":0},{"$f":"'Project Cashflows'!X230","v":0},{"$f":"'Project Cashflows'!Y230","v":0},{"$f":"'Project Cashflows'!Z230","v":0},{"$f":"'Project Cashflows'!AA230","v":0},{"$f":"'Project Cashflows'!AB230","v":0},{"$f":"'Project Cashflows'!AC230","v":0},{"$f":"'Project Cashflows'!AD230","v":0},{"$f":"'Project Cashflows'!AE230","v":0},{"$f":"'Project Cashflows'!AF230","v":0},{"$f":"'Project Cashflows'!AG230","v":0},{"$f":"'Project Cashflows'!AH230","v":0},{"$f":"'Project Cashflows'!AI230","v":0},{"$f":"'Project Cashflows'!AJ230","v":0},{"$f":"'Project Cashflows'!AK230","v":0},{"$f":"'Project Cashflows'!AL230","v":0},{"$f":"'Project Cashflows'!AM230","v":0},{"$f":"'Project Cashflows'!AN230","v":0},{"$f":"'Project Cashflows'!AO230","v":0},{"$f":"'Project Cashflows'!AP230","v":0},{"$f":"'Project Cashflows'!AQ230","v":0},{"$f":"'Project Cashflows'!AR230","v":0},{"$f":"'Project Cashflows'!AS230","v":0},{"$f":"'Project Cashflows'!AT230","v":0},{"$f":"'Project Cashflows'!AU230","v":0},{"$f":"'Project Cashflows'!AV230","v":0}]
[null,null,null,null,{"$f":"'Project Cashflows'!E231","v":"Support Vessel"},null,{"$f":"'Project Cashflows'!G231","v":"US$ mn"},{"$f":"'Project Cashflows'!H231","v":0},{"$f":"'Project Cashflows'!I231","v":15.2},{"$f":"'Project Cashflows'!J231","v":0},{"$f":"'Project Cashflows'!K231","v":7.6},{"$f":"'Project Cashflows'!L231","v":7.6},{"$f":"'Project Cashflows'!M231","v":0},{"$f":"'Project Cashflows'!N231","v":0},{"$f":"'Project Cashflows'!O231","v":0},{"$f":"'Project Cashflows'!P231","v":0},{"$f":"'Project Cashflows'!Q231","v":0},{"$f":"'Project Cashflows'!R231","v":0},{"$f":"'Project Cashflows'!S231","v":0},{"$f":"'Project Cashflows'!T231","v":0},{"$f":"'Project Cashflows'!U231","v":0},{"$f":"'Project Cashflows'!V231","v":0},{"$f":"'Project Cashflows'!W231","v":0},{"$f":"'Project Cashflows'!X231","v":0},{"$f":"'Project Cashflows'!Y231","v":0},{"$f":"'Project Cashflows'!Z231","v":0},{"$f":"'Project Cashflows'!AA231","v":0},{"$f":"'Project Cashflows'!AB231","v":0},{"$f":"'Project Cashflows'!AC231","v":0},{"$f":"'Project Cashflows'!AD231","v":0},{"$f":"'Project Cashflows'!AE231","v":0},{"$f":"'Project Cashflows'!AF231","v":0},{"$f":"'Project Cashflows'!AG231","v":0},{"$f":"'Project Cashflows'!AH231","v":0},{"$f":"'Project Cashflows'!AI231","v":0},{"$f":"'Project Cashflows'!AJ231","v":0},{"$f":"'Project Cashflows'!AK231","v":0},{"$f":"'Project Cashflows'!AL231","v":0},{"$f":"'Project Cashflows'!AM231","v":0},{"$f":"'Project Cashflows'!AN231","v":0},{"$f":"'Project Cashflows'!AO231","v":0},{"$f":"'Project Cashflows'!AP231","v":0},{"$f":"'Project Cashflows'!AQ231","v":0},{"$f":"'Project Cashflows'!AR231","v":0},{"$f":"'Project Cashflows'!AS231","v":0},{"$f":"'Project Cashflows'!AT231","v":0},{"$f":"'Project Cashflows'!AU231","v":0},{"$f":"'Project Cashflows'!AV231","v":0}]
[null,null,null,null,{"$f":"'Project Cashflows'!E232","v":"Operations facilities initial setup"},null,{"$f":"'Project Cashflows'!G232","v":"US$ mn"},{"$f":"'Project Cashflows'!H232","v":0},{"$f":"'Project Cashflows'!I232","v":2.2999999999999998},{"$f":"'Project Cashflows'!J232","v":0},{"$f":"'Project Cashflows'!K232","v":1.1499999999999999},{"$f":"'Project Cashflows'!L232","v":1.1499999999999999},{"$f":"'Project Cashflows'!M232","v":0},{"$f":"'Project Cashflows'!N232","v":0},{"$f":"'Project Cashflows'!O232","v":0},{"$f":"'Project Cashflows'!P232","v":0},{"$f":"'Project Cashflows'!Q232","v":0},{"$f":"'Project Cashflows'!R232","v":0},{"$f":"'Project Cashflows'!S232","v":0},{"$f":"'Project Cashflows'!T232","v":0},{"$f":"'Project Cashflows'!U232","v":0},{"$f":"'Project Cashflows'!V232","v":0},{"$f":"'Project Cashflows'!W232","v":0},{"$f":"'Project Cashflows'!X232","v":0},{"$f":"'Project Cashflows'!Y232","v":0},{"$f":"'Project Cashflows'!Z232","v":0},{"$f":"'Project Cashflows'!AA232","v":0},{"$f":"'Project Cashflows'!AB232","v":0},{"$f":"'Project Cashflows'!AC232","v":0},{"$f":"'Project Cashflows'!AD232","v":0},{"$f":"'Project Cashflows'!AE232","v":0},{"$f":"'Project Cashflows'!AF232","v":0},{"$f":"'Project Cashflows'!AG232","v":0},{"$f":"'Project Cashflows'!AH232","v":0},{"$f":"'Project Cashflows'!AI232","v":0},{"$f":"'Project Cashflows'!AJ232","v":0},{"$f":"'Project Cashflows'!AK232","v":0},{"$f":"'Project Cashflows'!AL232","v":0},{"$f":"'Project Cashflows'!AM232","v":0},{"$f":"'Project Cashflows'!AN232","v":0},{"$f":"'Project Cashflows'!AO232","v":0},{"$f":"'Project Cashflows'!AP232","v":0},{"$f":"'Project Cashflows'!AQ232","v":0},{"$f":"'Project Cashflows'!AR232","v":0},{"$f":"'Project Cashflows'!AS232","v":0},{"$f":"'Project Cashflows'!AT232","v":0},{"$f":"'Project Cashflows'!AU232","v":0},{"$f":"'Project Cashflows'!AV232","v":0}]
[null,null,null,null,{"$f":"'Project Cashflows'!E233","v":"Professional Services"},null,{"$f":"'Project Cashflows'!G233","v":"US$ mn"},{"$f":"'Project Cashflows'!H233","v":0},{"$f":"'Project Cashflows'!I233","v":59.4},{"$f":"'Project Cashflows'!J233","v":0},{"$f":"'Project Cashflows'!K233","v":29.7},{"$f":"'Project Cashflows'!L233","v":29.7},{"$f":"'Project Cashflows'!M233","v":0},{"$f":"'Project Cashflows'!N233","v":0},{"$f":"'Project Cashflows'!O233","v":0},{"$f":"'Project Cashflows'!P233","v":0},{"$f":"'Project Cashflows'!Q233","v":0},{"$f":"'Project Cashflows'!R233","v":0},{"$f":"'Project Cashflows'!S233","v":0},{"$f":"'Project Cashflows'!T233","v":0},{"$f":"'Project Cashflows'!U233","v":0},{"$f":"'Project Cashflows'!V233","v":0},{"$f":"'Project Cashflows'!W233","v":0},{"$f":"'Project Cashflows'!X233","v":0},{"$f":"'Project Cashflows'!Y233","v":0},{"$f":"'Project Cashflows'!Z233","v":0},{"$f":"'Project Cashflows'!AA233","v":0},{"$f":"'Project Cashflows'!AB233","v":0},{"$f":"'Project Cashflows'!AC233","v":0},{"$f":"'Project Cashflows'!AD233","v":0},{"$f":"'Project Cashflows'!AE233","v":0},{"$f":"'Project Cashflows'!AF233","v":0},{"$f":"'Project Cashflows'!AG233","v":0},{"$f":"'Project Cashflows'!AH233","v":0},{"$f":"'Project Cashflows'!AI233","v":0},{"$f":"'Project Cashflows'!AJ233","v":0},{"$f":"'Project Cashflows'!AK233","v":0},{"$f":"'Project Cashflows'!AL233","v":0},{"$f":"'Project Cashflows'!AM233","v":0},{"$f":"'Project Cashflows'!AN233","v":0},{"$f":"'Project Cashflows'!AO233","v":0},{"$f":"'Project Cashflows'!AP233","v":0},{"$f":"'Project Cashflows'!AQ233","v":0},{"$f":"'Project Cashflows'!AR233","v":0},{"$f":"'Project Cashflows'!AS233","v":0},{"$f":"'Project Cashflows'!AT233","v":0},{"$f":"'Project Cashflows'!AU233","v":0},{"$f":"'Project Cashflows'!AV233","v":0}]
[null,null,null,null,{"$f":"'Project Cashflows'!E234","v":"Owners cost"},null,{"$f":"'Project Cashflows'!G234","v":"US$ mn"},{"$f":"'Project Cashflows'!H234","v":0},{"$f":"'Project Cashflows'!I234","v":44.6},{"$f":"'Project Cashflows'!J234","v":0},{"$f":"'Project Cashflows'!K234","v":22.3},{"$f":"'Project Cashflows'!L234","v":22.3},{"$f":"'Project Cashflows'!M234","v":0},{"$f":"'Project Cashflows'!N234","v":0},{"$f":"'Project Cashflows'!O234","v":0},{"$f":"'Project Cashflows'!P234","v":0},{"$f":"'Project Cashflows'!Q234","v":0},{"$f":"'Project Cashflows'!R234","v":0},{"$f":"'Project Cashflows'!S234","v":0},{"$f":"'Project Cashflows'!T234","v":0},{"$f":"'Project Cashflows'!U234","v":0},{"$f":"'Project Cashflows'!V234","v":0},{"$f":"'Project Cashflows'!W234","v":0},{"$f":"'Project Cashflows'!X234","v":0},{"$f":"'Project Cashflows'!Y234","v":0},{"$f":"'Project Cashflows'!Z234","v":0},{"$f":"'Project Cashflows'!AA234","v":0},{"$f":"'Project Cashflows'!AB234","v":0},{"$f":"'Project Cashflows'!AC234","v":0},{"$f":"'Project Cashflows'!AD234","v":0},{"$f":"'Project Cashflows'!AE234","v":0},{"$f":"'Project Cashflows'!AF234","v":0},{"$f":"'Project Cashflows'!AG234","v":0},{"$f":"'Project Cashflows'!AH234","v":0},{"$f":"'Project Cashflows'!AI234","v":0},{"$f":"'Project Cashflows'!AJ234","v":0},{"$f":"'Project Cashflows'!AK234","v":0},{"$f":"'Project Cashflows'!AL234","v":0},{"$f":"'Project Cashflows'!AM234","v":0},{"$f":"'Project Cashflows'!AN234","v":0},{"$f":"'Project Cashflows'!AO234","v":0},{"$f":"'Project Cashflows'!AP234","v":0},{"$f":"'Project Cashflows'!AQ234","v":0},{"$f":"'Project Cashflows'!AR234","v":0},{"$f":"'Project Cashflows'!AS234","v":0},{"$f":"'Project Cashflows'!AT234","v":0},{"$f":"'Project Cashflows'!AU234","v":0},{"$f":"'Project Cashflows'!AV234","v":0}]
[null,null,null,null,{"$f":"'Project Cashflows'!E235","v":"Contingency"},null,{"$f":"'Project Cashflows'!G235","v":"US$ mn"},{"$f":"'Project Cashflows'!H235","v":0},{"$f":"'Project Cashflows'!I235","v":101.4},{"$f":"'Project Cashflows'!J235","v":0},{"$f":"'Project Cashflows'!K235","v":50.7},{"$f":"'Project Cashflows'!L235","v":50.7},{"$f":"'Project Cashflows'!M235","v":0},{"$f":"'Project Cashflows'!N235","v":0},{"$f":"'Project Cashflows'!O235","v":0},{"$f":"'Project Cashflows'!P235","v":0},{"$f":"'Project Cashflows'!Q235","v":0},{"$f":"'Project Cashflows'!R235","v":0},{"$f":"'Project Cashflows'!S235","v":0},{"$f":"'Project Cashflows'!T235","v":0},{"$f":"'Project Cashflows'!U235","v":0},{"$f":"'Project Cashflows'!V235","v":0},{"$f":"'Project Cashflows'!W235","v":0},{"$f":"'Project Cashflows'!X235","v":0},{"$f":"'Project Cashflows'!Y235","v":0},{"$f":"'Project Cashflows'!Z235","v":0},{"$f":"'Project Cashflows'!AA235","v":0},{"$f":"'Project Cashflows'!AB235","v":0},{"$f":"'Project Cashflows'!AC235","v":0},{"$f":"'Project Cashflows'!AD235","v":0},{"$f":"'Project Cashflows'!AE235","v":0},{"$f":"'Project Cashflows'!AF235","v":0},{"$f":"'Project Cashflows'!AG235","v":0},{"$f":"'Project Cashflows'!AH235","v":0},{"$f":"'Project Cashflows'!AI235","v":0},{"$f":"'Project Cashflows'!AJ235","v":0},{"$f":"'Project Cashflows'!AK235","v":0},{"$f":"'Project Cashflows'!AL235","v":0},{"$f":"'Project Cashflows'!AM235","v":0},{"$f":"'Project Cashflows'!AN235","v":0},{"$f":"'Project Cashflows'!AO235","v":0},{"$f":"'Project Cashflows'!AP235","v":0},{"$f":"'Project Cashflows'!AQ235","v":0},{"$f":"'Project Cashflows'!AR235","v":0},{"$f":"'Project Cashflows'!AS235","v":0},{"$f":"'Project Cashflows'!AT235","v":0},{"$f":"'Project Cashflows'!AU235","v":0},{"$f":"'Project Cashflows'!AV235","v":0}]
[null,null,null,null,{"$f":"'Project Cashflows'!E236","v":"Allseas credit"},null,{"$f":"'Project Cashflows'!G236","v":"US$ mn"},{"$f":"'Project Cashflows'!H236","v":0},{"$f":"'Project Cashflows'!I236","v":-289.3},{"$f":"'Project Cashflows'!J236","v":0},{"$f":"'Project Cashflows'!K236","v":-144.65},{"$f":"'Project Cashflows'!L236","v":-144.65},{"$f":"'Project Cashflows'!M236","v":0},{"$f":"'Project Cashflows'!N236","v":0},{"$f":"'Project Cashflows'!O236","v":0},{"$f":"'Project Cashflows'!P236","v":0},{"$f":"'Project Cashflows'!Q236","v":0},{"$f":"'Project Cashflows'!R236","v":0},{"$f":"'Project Cashflows'!S236","v":0},{"$f":"'Project Cashflows'!T236","v":0},{"$f":"'Project Cashflows'!U236","v":0},{"$f":"'Project Cashflows'!V236","v":0},{"$f":"'Project Cashflows'!W236","v":0},{"$f":"'Project Cashflows'!X236","v":0},{"$f":"'Project Cashflows'!Y236","v":0},{"$f":"'Project Cashflows'!Z236","v":0},{"$f":"'Project Cashflows'!AA236","v":0},{"$f":"'Project Cashflows'!AB236","v":0},{"$f":"'Project Cashflows'!AC236","v":0},{"$f":"'Project Cashflows'!AD236","v":0},{"$f":"'Project Cashflows'!AE236","v":0},{"$f":"'Project Cashflows'!AF236","v":0},{"$f":"'Project Cashflows'!AG236","v":0},{"$f":"'Project Cashflows'!AH236","v":0},{"$f":"'Project Cashflows'!AI236","v":0},{"$f":"'Project Cashflows'!AJ236","v":0},{"$f":"'Project Cashflows'!AK236","v":0},{"$f":"'Project Cashflows'!AL236","v":0},{"$f":"'Project Cashflows'!AM236","v":0},{"$f":"'Project Cashflows'!AN236","v":0},{"$f":"'Project Cashflows'!AO236","v":0},{"$f":"'Project Cashflows'!AP236","v":0},{"$f":"'Project Cashflows'!AQ236","v":0},{"$f":"'Project Cashflows'!AR236","v":0},{"$f":"'Project Cashflows'!AS236","v":0},{"$f":"'Project Cashflows'!AT236","v":0},{"$f":"'Project Cashflows'!AU236","v":0},{"$f":"'Project Cashflows'!AV236","v":0}]
[null,null,null,null,{"$f":"'Project Cashflows'!E237","v":"Total capex"},null,null,null,{"$f":" SUM(K96:AV96)","v":491.59999999999997},null,{"$f":"SUM(K88:K95)","v":245.79999999999998},{"$f":"SUM(L88:L95)","v":245.79999999999998},0,0,0,0,0,0,0,0,0,0,0,0,0,0,0,0,0,0,0,0,0,0,0,0,0,0,0,0,0,0,0,0,0,0,0,{"$f":"SUM(AV88:AV95)","v":0}]
[]
[null,null,null,null,{"$f":"E70","v":"Capitalized interest"},null,{"$f":"G70","v":"US$ mn"},null,{"$f":" SUM(K98:AV98)","v":0},null,{"$f":"K70","v":0},0,0,0,0,0,0,0,0,0,0,0,0,0,0,0,0,0,0,0,0,0,0,0,0,0,0,0,0,0,0,0,0,0,0,0,0,{"$f":"AV70","v":0}]
[]
[null,null,"Depreciatable Asset with Allseas credit adjusted"]
[null,null,null,null,"Production Vessel with Allseas credit adjusted",null,null,null,{"$f":"SUM(K101:AV101)","v":294.87186579587654},null,{"$f":"IFERROR(K88*$I$96/SUM($I$88:$I$94),0)","v":147.43593289793827},{"$f":"IFERROR(L88*$I$96/SUM($I$88:$I$94),0)","v":147.43593289793827},0,0,0,0,0,0,0,0,0,0,0,0,0,0,0,0,0,0,0,0,0,0,0,0,0,0,0,0,0,0,0,0,0,0,0,{"$f":"IFERROR(AV88*$I$96/SUM($I$88:$I$94),0)","v":0}]
[null,null,null,null,"Transfer Vessel/Bulk Carriers with Allseas credit adjusted",null,null,null,{"$f":"SUM(K102:AV102)","v":56.405890639006266},null,{"$f":"IFERROR(K89*$I$96/SUM($I$88:$I$94),0)","v":28.202945319503133},{"$f":"IFERROR(L89*$I$96/SUM($I$88:$I$94),0)","v":28.202945319503133},0,0,0,0,0,0,0,0,0,0,0,0,0,0,0,0,0,0,0,0,0,0,0,0,0,0,0,0,0,0,0,0,0,0,0,{"$f":"IFERROR(AV89*$I$96/SUM($I$88:$I$94),0)","v":0}]
[null,null,null,null,"Support Vessel with Allseas credit adjusted",null,null,null,{"$f":"SUM(K103:AV103)","v":9.5688564476885638},null,{"$f":"IFERROR(K90*$I$96/SUM($I$88:$I$94),0)","v":4.7844282238442819},{"$f":"IFERROR(L90*$I$96/SUM($I$88:$I$94),0)","v":4.7844282238442819},0,0,0,0,0,0,0,0,0,0,0,0,0,0,0,0,0,0,0,0,0,0,0,0,0,0,0,0,0,0,0,0,0,0,0,{"$f":"IFERROR(AV90*$I$96/SUM($I$88:$I$94),0)","v":0}]
[null,null,null,null,"Capitalized interest",null,null,null,{"$f":"SUM(K104:AV104)","v":0},null,{"$f":"K98","v":0},{"$f":"L98","v":0},0,0,0,0,0,0,0,0,0,0,0,0,0,0,0,0,0,0,0,0,0,0,0,0,0,0,0,0,0,0,0,0,0,0,0,{"$f":"AV98","v":0}]
[]
[null,null,"Book value of depreciated assets "]
[null,null,null,null,{"$f":"E88","v":"Production Vessel"},null,"US$ mn",null,null,null,{"$f":"K88+J107-K134","v":234.2},{"$f":"L88+K107-L134","v":468.4},{"$f":"M88+L107-M134","v":468.4},{"$f":"N88+M107-N134","v":421.56},{"$f":"O88+N107-O134","v":374.72},{"$f":"P88+O107-P134","v":327.88000000000005},{"$f":"Q88+P107-Q134","v":281.04000000000008},{"$f":"R88+Q107-R134","v":234.20000000000007},{"$f":"S88+R107-S134","v":187.36000000000007},{"$f":"T88+S107-T134","v":140.52000000000007},{"$f":"U88+T107-U134","v":93.680000000000064},{"$f":"V88+U107-V134","v":46.840000000000067},{"$f":"W88+V107-W134","v":7.1054273576010019E-14},{"$f":"X88+W107-X134","v":7.1054273576010019E-14},{"$f":"Y88+X107-Y134","v":7.1054273576010019E-14},{"$f":"Z88+Y107-Z134","v":7.1054273576010019E-14},{"$f":"AA88+Z107-AA134","v":7.1054273576010019E-14},{"$f":"AB88+AA107-AB134","v":7.1054273576010019E-14},{"$f":"AC88+AB107-AC134","v":7.1054273576010019E-14},{"$f":"AD88+AC107-AD134","v":7.1054273576010019E-14},{"$f":"AE88+AD107-AE134","v":7.1054273576010019E-14},{"$f":"AF88+AE107-AF134","v":7.1054273576010019E-14},{"$f":"AG88+AF107-AG134","v":7.1054273576010019E-14},{"$f":"AH88+AG107-AH134","v":7.1054273576010019E-14},{"$f":"AI88+AH107-AI134","v":7.1054273576010019E-14},{"$f":"AJ88+AI107-AJ134","v":7.1054273576010019E-14},{"$f":"AK88+AJ107-AK134","v":7.1054273576010019E-14},{"$f":"AL88+AK107-AL134","v":7.1054273576010019E-14},{"$f":"AM88+AL107-AM134","v":7.1054273576010019E-14},{"$f":"AN88+AM107-AN134","v":7.1054273576010019E-14},{"$f":"AO88+AN107-AO134","v":7.1054273576010019E-14},{"$f":"AP88+AO107-AP134","v":7.1054273576010019E-14},{"$f":"AQ88+AP107-AQ134","v":7.1054273576010019E-14},{"$f":"AR88+AQ107-AR134","v":7.1054273576010019E-14},{"$f":"AS88+AR107-AS134","v":7.1054273576010019E-14},{"$f":"AT88+AS107-AT134","v":7.1054273576010019E-14},{"$f":"AU88+AT107-AU134","v":7.1054273576010019E-14},{"$f":"AV88+AU107-AV134","v":7.1054273576010019E-14}]
[null,null,null,null,{"$f":"E89","v":"Transfer Vessel/Bulk Carriers"},null,"US$ mn",null,null,null,{"$f":"K89+J108-K135","v":44.8},89.6,89.6,80.64,71.680000000000007,62.720000000000006,53.760000000000005,44.800000000000004,35.840000000000003,26.880000000000003,17.920000000000002,8.9600000000000026,0,0,0,0,0,0,0,0,0,0,0,0,0,0,0,0,0,0,0,0,0,0,0,0,0,0]
[null,null,null,null,"Support Vessel",null,"US$ mn",null,null,null,{"$f":"K90+J109-K136","v":7.6},15.2,15.2,13.68,12.16,10.64,9.120000000000001,7.6000000000000014,6.0800000000000018,4.5600000000000023,3.0400000000000023,1.5200000000000022,2.2204460492503131E-15,2.2204460492503131E-15,2.2204460492503131E-15,2.2204460492503131E-15,2.2204460492503131E-15,2.2204460492503131E-15,2.2204460492503131E-15,2.2204460492503131E-15,2.2204460492503131E-15,2.2204460492503131E-15,2.2204460492503131E-15,2.2204460492503131E-15,2.2204460492503131E-15,2.2204460492503131E-15,2.2204460492503131E-15,2.2204460492503131E-15,2.2204460492503131E-15,2.2204460492503131E-15,2.2204460492503131E-15,2.2204460492503131E-15,2.2204460492503131E-15,2.2204460492503131E-15,2.2204460492503131E-15,2.2204460492503131E-15,2.2204460492503131E-15,2.2204460492503131E-15]
[null,null,null,null,"Operations facilities initial setup",null,"US$ mn",null,null,null,{"$f":"K91+J110-K137","v":1.1499999999999999},2.2999999999999998,2.2999999999999998,2.0699999999999998,1.8399999999999999,1.6099999999999999,1.38,1.1499999999999999,0.91999999999999993,0.69,0.45999999999999996,0.22999999999999998,0,0,0,0,0,0,0,0,0,0,0,0,0,0,0,0,0,0,0,0,0,0,0,0,0,0]
[null,null,null,null,"Professional Services",null,"US$ mn",null,null,null,29.7,59.4,59.4,53.46,47.52,41.580000000000005,35.640000000000008,29.70000000000001,23.760000000000012,17.820000000000014,11.880000000000015,5.9400000000000155,1.5987211554602254E-14,1.5987211554602254E-14,1.5987211554602254E-14,1.5987211554602254E-14,1.5987211554602254E-14,1.5987211554602254E-14,1.5987211554602254E-14,1.5987211554602254E-14,1.5987211554602254E-14,1.5987211554602254E-14,1.5987211554602254E-14,1.5987211554602254E-14,1.5987211554602254E-14,1.5987211554602254E-14,1.5987211554602254E-14,1.5987211554602254E-14,1.5987211554602254E-14,1.5987211554602254E-14,1.5987211554602254E-14,1.5987211554602254E-14,1.5987211554602254E-14,1.5987211554602254E-14,1.5987211554602254E-14,1.5987211554602254E-14,1.5987211554602254E-14,1.5987211554602254E-14]
[null,null,null,null,"Owners cost",null,"US$ mn",null,null,null,22.3,44.6,44.6,40.14,35.68,31.22,26.759999999999998,22.299999999999997,17.839999999999996,13.379999999999995,8.9199999999999946,4.4599999999999946,0,0,0,0,0,0,0,0,0,0,0,0,0,0,0,0,0,0,0,0,0,0,0,0,0,0]
[null,null,null,null,"Contingency",null,"US$ mn",null,null,null,50.7,101.4,101.4,91.26,81.12,70.98,60.84,50.7,40.56,30.42,20.28,10.14,0,0,0,0,0,0,0,0,0,0,0,0,0,0,0,0,0,0,0,0,0,0,0,0,0,0]
[null,null,null,null,"Allseas credit",null,"US$ mn",null,null,null,-144.65,-289.3,-289.3,-260.37,-231.44,-202.51,-173.57999999999998,-144.64999999999998,-115.71999999999997,-86.789999999999964,-57.859999999999964,-28.929999999999964,3.5527136788005009E-14,3.5527136788005009E-14,3.5527136788005009E-14,3.5527136788005009E-14,3.5527136788005009E-14,3.5527136788005009E-14,3.5527136788005009E-14,3.5527136788005009E-14,3.5527136788005009E-14,3.5527136788005009E-14,3.5527136788005009E-14,3.5527136788005009E-14,3.5527136788005009E-14,3.5527136788005009E-14,3.5527136788005009E-14,3.5527136788005009E-14,3.5527136788005009E-14,3.5527136788005009E-14,3.5527136788005009E-14,3.5527136788005009E-14,3.5527136788005009E-14,3.5527136788005009E-14,3.5527136788005009E-14,3.5527136788005009E-14,3.5527136788005009E-14,3.5527136788005009E-14]
[null,null,null,null,{"$f":"E70","v":"Capitalized interest"},null,"US$ mn",null,null,null,245.79999999999998,491.59999999999997,491.59999999999997,491.59999999999997,491.59999999999997,491.59999999999997,491.59999999999997,491.59999999999997,491.59999999999997,491.59999999999997,491.59999999999997,491.59999999999997,491.59999999999997,491.59999999999997,491.59999999999997,491.59999999999997,491.59999999999997,491.59999999999997,491.59999999999997,491.59999999999997,491.59999999999997,491.59999999999997,491.59999999999997,491.59999999999997,491.59999999999997,491.59999999999997,491.59999999999997,491.59999999999997,491.59999999999997,491.59999999999997,491.59999999999997,491.59999999999997,491.59999999999997,491.59999999999997,491.59999999999997,491.59999999999997,491.59999999999997,491.59999999999997]
[]
[null,null,"Book value of depreciated assets with Allseas credit adjusted"]
[null,null,null,null,{"$f":"E107&\" with Allseas credit adjusted\"","v":"Production Vessel with Allseas credit adjusted"},null,null,null,null,null,{"$f":"IFERROR(K107*$I$96/SUM($I$88:$I$94),0)","v":147.43593289793827},{"$f":"IFERROR(L107*$I$96/SUM($I$88:$I$94),0)","v":294.87186579587654},294.87186579587654,265.38467921628887,235.89749263670126,206.41030605711362,176.92311947752597,147.43593289793833,117.94874631835066,88.461559738763,58.974373159175343,29.487186579587696,4.4730798937080963E-14,4.4730798937080963E-14,4.4730798937080963E-14,4.4730798937080963E-14,4.4730798937080963E-14,4.4730798937080963E-14,4.4730798937080963E-14,4.4730798937080963E-14,4.4730798937080963E-14,4.4730798937080963E-14,4.4730798937080963E-14,4.4730798937080963E-14,4.4730798937080963E-14,4.4730798937080963E-14,4.4730798937080963E-14,4.4730798937080963E-14,4.4730798937080963E-14,4.4730798937080963E-14,4.4730798937080963E-14,4.4730798937080963E-14,4.4730798937080963E-14,4.4730798937080963E-14,4.4730798937080963E-14,4.4730798937080963E-14,4.4730798937080963E-14,{"$f":"IFERROR(AV107*$I$96/SUM($I$88:$I$94),0)","v":4.4730798937080963E-14}]
[null,null,null,null,{"$f":"E108&\" with Allseas credit adjusted\"","v":"Transfer Vessel/Bulk Carriers with Allseas credit adjusted"},null,null,null,null,null,{"$f":"IFERROR(K108*$I$96/SUM($I$88:$I$94),0)","v":28.202945319503133},{"$f":"IFERROR(L108*$I$96/SUM($I$88:$I$94),0)","v":56.405890639006266},56.405890639006266,50.765301575105646,45.124712511205018,39.484123447304398,33.843534383403764,28.20294531950314,22.562356255602509,16.921767191701882,11.281178127801255,5.6405890639006291,0,0,0,0,0,0,0,0,0,0,0,0,0,0,0,0,0,0,0,0,0,0,0,0,0,{"$f":"IFERROR(AV108*$I$96/SUM($I$88:$I$94),0)","v":0}]
[null,null,null,null,{"$f":"E109&\" with Allseas credit adjusted\"","v":"Support Vessel with Allseas credit adjusted"},null,null,null,null,null,{"$f":"IFERROR(K109*$I$96/SUM($I$88:$I$94),0)","v":4.7844282238442819},{"$f":"IFERROR(L109*$I$96/SUM($I$88:$I$94),0)","v":9.5688564476885638},9.5688564476885638,8.6119708029197071,7.6550851581508512,6.6981995133819954,5.7413138686131386,4.7844282238442828,3.8275425790754269,2.8706569343065707,1.9137712895377144,0.95688564476885773,1.3978374667837801E-15,1.3978374667837801E-15,1.3978374667837801E-15,1.3978374667837801E-15,1.3978374667837801E-15,1.3978374667837801E-15,1.3978374667837801E-15,1.3978374667837801E-15,1.3978374667837801E-15,1.3978374667837801E-15,1.3978374667837801E-15,1.3978374667837801E-15,1.3978374667837801E-15,1.3978374667837801E-15,1.3978374667837801E-15,1.3978374667837801E-15,1.3978374667837801E-15,1.3978374667837801E-15,1.3978374667837801E-15,1.3978374667837801E-15,1.3978374667837801E-15,1.3978374667837801E-15,1.3978374667837801E-15,1.3978374667837801E-15,1.3978374667837801E-15,{"$f":"IFERROR(AV109*$I$96/SUM($I$88:$I$94),0)","v":1.3978374667837801E-15}]
[null,null,null,null,{"$f":"E115","v":"Capitalized interest"},null,null,null,null,null,{"$f":"K115","v":245.79999999999998},{"$f":"L115","v":491.59999999999997},491.59999999999997,491.59999999999997,{"$f":"O115","v":491.59999999999997},491.59999999999997,491.59999999999997,491.59999999999997,491.59999999999997,491.59999999999997,491.59999999999997,491.59999999999997,491.59999999999997,491.59999999999997,491.59999999999997,491.59999999999997,491.59999999999997,491.59999999999997,491.59999999999997,491.59999999999997,491.59999999999997,491.59999999999997,491.59999999999997,491.59999999999997,491.59999999999997,491.59999999999997,491.59999999999997,491.59999999999997,491.59999999999997,491.59999999999997,491.59999999999997,491.59999999999997,491.59999999999997,491.59999999999997,491.59999999999997,491.59999999999997,491.59999999999997,{"$f":"AV115","v":491.59999999999997}]
[]
[null,null,"Depreciation"]
[null,null,null,null,{"$f":"'T&E'!E141","v":"Production Vessel Depreciation period flag"},null,{"$f":"'T&E'!G141","v":"flag"},null,{"$f":" SUM(K124:AV124)","v":10},null,{"$f":"'T&E'!K141","v":0},{"$f":"'T&E'!L141","v":0},{"$f":"'T&E'!M141","v":0},{"$f":"'T&E'!N141","v":1},{"$f":"'T&E'!O141","v":1},{"$f":"'T&E'!P141","v":1},{"$f":"'T&E'!Q141","v":1},{"$f":"'T&E'!R141","v":1},{"$f":"'T&E'!S141","v":1},{"$f":"'T&E'!T141","v":1},{"$f":"'T&E'!U141","v":1},{"$f":"'T&E'!V141","v":1},{"$f":"'T&E'!W141","v":1},{"$f":"'T&E'!X141","v":0},{"$f":"'T&E'!Y141","v":0},{"$f":"'T&E'!Z141","v":0},{"$f":"'T&E'!AA141","v":0},{"$f":"'T&E'!AB141","v":0},{"$f":"'T&E'!AC141","v":0},{"$f":"'T&E'!AD141","v":0},{"$f":"'T&E'!AE141","v":0},{"$f":"'T&E'!AF141","v":0},{"$f":"'T&E'!AG141","v":0},{"$f":"'T&E'!AH141","v":0},{"$f":"'T&E'!AI141","v":0},{"$f":"'T&E'!AJ141","v":0},{"$f":"'T&E'!AK141","v":0},{"$f":"'T&E'!AL141","v":0},{"$f":"'T&E'!AM141","v":0},{"$f":"'T&E'!AN141","v":0},{"$f":"'T&E'!AO141","v":0},{"$f":"'T&E'!AP141","v":0},{"$f":"'T&E'!AQ141","v":0},{"$f":"'T&E'!AR141","v":0},{"$f":"'T&E'!AS141","v":0},{"$f":"'T&E'!AT141","v":0},{"$f":"'T&E'!AU141","v":0},{"$f":"'T&E'!AV141","v":0}]
[null,null,null,null,{"$f":"'T&E'!E142","v":"Transfer Vessel/Bulk Carriers Depreciation period flag"},null,{"$f":"'T&E'!G142","v":"flag"},null,10,null,{"$f":"'T&E'!K142","v":0},{"$f":"'T&E'!L142","v":0},{"$f":"'T&E'!M142","v":0},{"$f":"'T&E'!N142","v":1},{"$f":"'T&E'!O142","v":1},{"$f":"'T&E'!P142","v":1},{"$f":"'T&E'!Q142","v":1},{"$f":"'T&E'!R142","v":1},{"$f":"'T&E'!S142","v":1},{"$f":"'T&E'!T142","v":1},{"$f":"'T&E'!U142","v":1},{"$f":"'T&E'!V142","v":1},{"$f":"'T&E'!W142","v":1},{"$f":"'T&E'!X142","v":0},{"$f":"'T&E'!Y142","v":0},{"$f":"'T&E'!Z142","v":0},{"$f":"'T&E'!AA142","v":0},{"$f":"'T&E'!AB142","v":0},{"$f":"'T&E'!AC142","v":0},{"$f":"'T&E'!AD142","v":0},{"$f":"'T&E'!AE142","v":0},{"$f":"'T&E'!AF142","v":0},{"$f":"'T&E'!AG142","v":0},{"$f":"'T&E'!AH142","v":0},{"$f":"'T&E'!AI142","v":0},{"$f":"'T&E'!AJ142","v":0},{"$f":"'T&E'!AK142","v":0},{"$f":"'T&E'!AL142","v":0},{"$f":"'T&E'!AM142","v":0},{"$f":"'T&E'!AN142","v":0},{"$f":"'T&E'!AO142","v":0},{"$f":"'T&E'!AP142","v":0},{"$f":"'T&E'!AQ142","v":0},{"$f":"'T&E'!AR142","v":0},{"$f":"'T&E'!AS142","v":0},{"$f":"'T&E'!AT142","v":0},{"$f":"'T&E'!AU142","v":0},{"$f":"'T&E'!AV142","v":0}]
[null,null,null,null,{"$f":"'T&E'!E143","v":"Support Vessel Depreciation period flag"},null,{"$f":"'T&E'!G143","v":"flag"},null,10,null,{"$f":"'T&E'!K143","v":0},{"$f":"'T&E'!L143","v":0},{"$f":"'T&E'!M143","v":0},{"$f":"'T&E'!N143","v":1},{"$f":"'T&E'!O143","v":1},{"$f":"'T&E'!P143","v":1},{"$f":"'T&E'!Q143","v":1},{"$f":"'T&E'!R143","v":1},{"$f":"'T&E'!S143","v":1},{"$f":"'T&E'!T143","v":1},{"$f":"'T&E'!U143","v":1},{"$f":"'T&E'!V143","v":1},{"$f":"'T&E'!W143","v":1},{"$f":"'T&E'!X143","v":0},{"$f":"'T&E'!Y143","v":0},{"$f":"'T&E'!Z143","v":0},{"$f":"'T&E'!AA143","v":0},{"$f":"'T&E'!AB143","v":0},{"$f":"'T&E'!AC143","v":0},{"$f":"'T&E'!AD143","v":0},{"$f":"'T&E'!AE143","v":0},{"$f":"'T&E'!AF143","v":0},{"$f":"'T&E'!AG143","v":0},{"$f":"'T&E'!AH143","v":0},{"$f":"'T&E'!AI143","v":0},{"$f":"'T&E'!AJ143","v":0},{"$f":"'T&E'!AK143","v":0},{"$f":"'T&E'!AL143","v":0},{"$f":"'T&E'!AM143","v":0},{"$f":"'T&E'!AN143","v":0},{"$f":"'T&E'!AO143","v":0},{"$f":"'T&E'!AP143","v":0},{"$f":"'T&E'!AQ143","v":0},{"$f":"'T&E'!AR143","v":0},{"$f":"'T&E'!AS143","v":0},{"$f":"'T&E'!AT143","v":0},{"$f":"'T&E'!AU143","v":0},{"$f":"'T&E'!AV143","v":0}]
[null,null,null,null,{"$f":"'T&E'!E144","v":"Operations facilities initial setup Depreciation period flag"},null,null,null,10,null,{"$f":"'T&E'!K144","v":0},{"$f":"'T&E'!L144","v":0},{"$f":"'T&E'!M144","v":0},{"$f":"'T&E'!N144","v":1},{"$f":"'T&E'!O144","v":1},{"$f":"'T&E'!P144","v":1},{"$f":"'T&E'!Q144","v":1},{"$f":"'T&E'!R144","v":1},{"$f":"'T&E'!S144","v":1},{"$f":"'T&E'!T144","v":1},{"$f":"'T&E'!U144","v":1},{"$f":"'T&E'!V144","v":1},{"$f":"'T&E'!W144","v":1},{"$f":"'T&E'!X144","v":0},{"$f":"'T&E'!Y144","v":0},{"$f":"'T&E'!Z144","v":0},{"$f":"'T&E'!AA144","v":0},{"$f":"'T&E'!AB144","v":0},{"$f":"'T&E'!AC144","v":0},{"$f":"'T&E'!AD144","v":0},{"$f":"'T&E'!AE144","v":0},{"$f":"'T&E'!AF144","v":0},{"$f":"'T&E'!AG144","v":0},{"$f":"'T&E'!AH144","v":0},{"$f":"'T&E'!AI144","v":0},{"$f":"'T&E'!AJ144","v":0},{"$f":"'T&E'!AK144","v":0},{"$f":"'T&E'!AL144","v":0},{"$f":"'T&E'!AM144","v":0},{"$f":"'T&E'!AN144","v":0},{"$f":"'T&E'!AO144","v":0},{"$f":"'T&E'!AP144","v":0},{"$f":"'T&E'!AQ144","v":0},{"$f":"'T&E'!AR144","v":0},{"$f":"'T&E'!AS144","v":0},{"$f":"'T&E'!AT144","v":0},{"$f":"'T&E'!AU144","v":0},{"$f":"'T&E'!AV144","v":0}]
[null,null,null,null,{"$f":"'T&E'!E145","v":"Professional Services Depreciation period flag"},null,null,null,10,null,{"$f":"'T&E'!K145","v":0},{"$f":"'T&E'!L145","v":0},{"$f":"'T&E'!M145","v":0},{"$f":"'T&E'!N145","v":1},{"$f":"'T&E'!O145","v":1},{"$f":"'T&E'!P145","v":1},{"$f":"'T&E'!Q145","v":1},{"$f":"'T&E'!R145","v":1},{"$f":"'T&E'!S145","v":1},{"$f":"'T&E'!T145","v":1},{"$f":"'T&E'!U145","v":1},{"$f":"'T&E'!V145","v":1},{"$f":"'T&E'!W145","v":1},{"$f":"'T&E'!X145","v":0},{"$f":"'T&E'!Y145","v":0},{"$f":"'T&E'!Z145","v":0},{"$f":"'T&E'!AA145","v":0},{"$f":"'T&E'!AB145","v":0},{"$f":"'T&E'!AC145","v":0},{"$f":"'T&E'!AD145","v":0},{"$f":"'T&E'!AE145","v":0},{"$f":"'T&E'!AF145","v":0},{"$f":"'T&E'!AG145","v":0},{"$f":"'T&E'!AH145","v":0},{"$f":"'T&E'!AI145","v":0},{"$f":"'T&E'!AJ145","v":0},{"$f":"'T&E'!AK145","v":0},{"$f":"'T&E'!AL145","v":0},{"$f":"'T&E'!AM145","v":0},{"$f":"'T&E'!AN145","v":0},{"$f":"'T&E'!AO145","v":0},{"$f":"'T&E'!AP145","v":0},{"$f":"'T&E'!AQ145","v":0},{"$f":"'T&E'!AR145","v":0},{"$f":"'T&E'!AS145","v":0},{"$f":"'T&E'!AT145","v":0},{"$f":"'T&E'!AU145","v":0},{"$f":"'T&E'!AV145","v":0}]
[null,null,null,null,{"$f":"'T&E'!E146","v":"Owners cost Depreciation period flag"},null,null,null,10,null,{"$f":"'T&E'!K146","v":0},{"$f":"'T&E'!L146","v":0},{"$f":"'T&E'!M146","v":0},{"$f":"'T&E'!N146","v":1},{"$f":"'T&E'!O146","v":1},{"$f":"'T&E'!P146","v":1},{"$f":"'T&E'!Q146","v":1},{"$f":"'T&E'!R146","v":1},{"$f":"'T&E'!S146","v":1},{"$f":"'T&E'!T146","v":1},{"$f":"'T&E'!U146","v":1},{"$f":"'T&E'!V146","v":1},{"$f":"'T&E'!W146","v":1},{"$f":"'T&E'!X146","v":0},{"$f":"'T&E'!Y146","v":0},{"$f":"'T&E'!Z146","v":0},{"$f":"'T&E'!AA146","v":0},{"$f":"'T&E'!AB146","v":0},{"$f":"'T&E'!AC146","v":0},{"$f":"'T&E'!AD146","v":0},{"$f":"'T&E'!AE146","v":0},{"$f":"'T&E'!AF146","v":0},{"$f":"'T&E'!AG146","v":0},{"$f":"'T&E'!AH146","v":0},{"$f":"'T&E'!AI146","v":0},{"$f":"'T&E'!AJ146","v":0},{"$f":"'T&E'!AK146","v":0},{"$f":"'T&E'!AL146","v":0},{"$f":"'T&E'!AM146","v":0},{"$f":"'T&E'!AN146","v":0},{"$f":"'T&E'!AO146","v":0},{"$f":"'T&E'!AP146","v":0},{"$f":"'T&E'!AQ146","v":0},{"$f":"'T&E'!AR146","v":0},{"$f":"'T&E'!AS146","v":0},{"$f":"'T&E'!AT146","v":0},{"$f":"'T&E'!AU146","v":0},{"$f":"'T&E'!AV146","v":0}]
[null,null,null,null,{"$f":"'T&E'!E147","v":"Contingency Depreciation period flag"},null,null,null,10,null,{"$f":"'T&E'!K147","v":0},{"$f":"'T&E'!L147","v":0},{"$f":"'T&E'!M147","v":0},{"$f":"'T&E'!N147","v":1},{"$f":"'T&E'!O147","v":1},{"$f":"'T&E'!P147","v":1},{"$f":"'T&E'!Q147","v":1},{"$f":"'T&E'!R147","v":1},{"$f":"'T&E'!S147","v":1},{"$f":"'T&E'!T147","v":1},{"$f":"'T&E'!U147","v":1},{"$f":"'T&E'!V147","v":1},{"$f":"'T&E'!W147","v":1},{"$f":"'T&E'!X147","v":0},{"$f":"'T&E'!Y147","v":0},{"$f":"'T&E'!Z147","v":0},{"$f":"'T&E'!AA147","v":0},{"$f":"'T&E'!AB147","v":0},{"$f":"'T&E'!AC147","v":0},{"$f":"'T&E'!AD147","v":0},{"$f":"'T&E'!AE147","v":0},{"$f":"'T&E'!AF147","v":0},{"$f":"'T&E'!AG147","v":0},{"$f":"'T&E'!AH147","v":0},{"$f":"'T&E'!AI147","v":0},{"$f":"'T&E'!AJ147","v":0},{"$f":"'T&E'!AK147","v":0},{"$f":"'T&E'!AL147","v":0},{"$f":"'T&E'!AM147","v":0},{"$f":"'T&E'!AN147","v":0},{"$f":"'T&E'!AO147","v":0},{"$f":"'T&E'!AP147","v":0},{"$f":"'T&E'!AQ147","v":0},{"$f":"'T&E'!AR147","v":0},{"$f":"'T&E'!AS147","v":0},{"$f":"'T&E'!AT147","v":0},{"$f":"'T&E'!AU147","v":0},{"$f":"'T&E'!AV147","v":0}]
[null,null,null,null,{"$f":"'T&E'!E148","v":"Allseas credit Depreciation period flag"},null,null,null,10,null,{"$f":"'T&E'!K148","v":0},{"$f":"'T&E'!L148","v":0},{"$f":"'T&E'!M148","v":0},{"$f":"'T&E'!N148","v":1},{"$f":"'T&E'!O148","v":1},{"$f":"'T&E'!P148","v":1},{"$f":"'T&E'!Q148","v":1},{"$f":"'T&E'!R148","v":1},{"$f":"'T&E'!S148","v":1},{"$f":"'T&E'!T148","v":1},{"$f":"'T&E'!U148","v":1},{"$f":"'T&E'!V148","v":1},{"$f":"'T&E'!W148","v":1},{"$f":"'T&E'!X148","v":0},{"$f":"'T&E'!Y148","v":0},{"$f":"'T&E'!Z148","v":0},{"$f":"'T&E'!AA148","v":0},{"$f":"'T&E'!AB148","v":0},{"$f":"'T&E'!AC148","v":0},{"$f":"'T&E'!AD148","v":0},{"$f":"'T&E'!AE148","v":0},{"$f":"'T&E'!AF148","v":0},{"$f":"'T&E'!AG148","v":0},{"$f":"'T&E'!AH148","v":0},{"$f":"'T&E'!AI148","v":0},{"$f":"'T&E'!AJ148","v":0},{"$f":"'T&E'!AK148","v":0},{"$f":"'T&E'!AL148","v":0},{"$f":"'T&E'!AM148","v":0},{"$f":"'T&E'!AN148","v":0},{"$f":"'T&E'!AO148","v":0},{"$f":"'T&E'!AP148","v":0},{"$f":"'T&E'!AQ148","v":0},{"$f":"'T&E'!AR148","v":0},{"$f":"'T&E'!AS148","v":0},{"$f":"'T&E'!AT148","v":0},{"$f":"'T&E'!AU148","v":0},{"$f":"'T&E'!AV148","v":0}]
[null,null,null,null,{"$f":"'T&E'!E149","v":"Capitalized interest Depreciation period flag"},null,{"$f":"'T&E'!G149","v":"flag"},null,10,null,{"$f":"'T&E'!K149","v":0},{"$f":"'T&E'!L149","v":0},{"$f":"'T&E'!M149","v":0},{"$f":"'T&E'!N149","v":1},{"$f":"'T&E'!O149","v":1},{"$f":"'T&E'!P149","v":1},{"$f":"'T&E'!Q149","v":1},{"$f":"'T&E'!R149","v":1},{"$f":"'T&E'!S149","v":1},{"$f":"'T&E'!T149","v":1},{"$f":"'T&E'!U149","v":1},{"$f":"'T&E'!V149","v":1},{"$f":"'T&E'!W149","v":1},{"$f":"'T&E'!X149","v":0},{"$f":"'T&E'!Y149","v":0},{"$f":"'T&E'!Z149","v":0},{"$f":"'T&E'!AA149","v":0},{"$f":"'T&E'!AB149","v":0},{"$f":"'T&E'!AC149","v":0},{"$f":"'T&E'!AD149","v":0},{"$f":"'T&E'!AE149","v":0},{"$f":"'T&E'!AF149","v":0},{"$f":"'T&E'!AG149","v":0},{"$f":"'T&E'!AH149","v":0},{"$f":"'T&E'!AI149","v":0},{"$f":"'T&E'!AJ149","v":0},{"$f":"'T&E'!AK149","v":0},{"$f":"'T&E'!AL149","v":0},{"$f":"'T&E'!AM149","v":0},{"$f":"'T&E'!AN149","v":0},{"$f":"'T&E'!AO149","v":0},{"$f":"'T&E'!AP149","v":0},{"$f":"'T&E'!AQ149","v":0},{"$f":"'T&E'!AR149","v":0},{"$f":"'T&E'!AS149","v":0},{"$f":"'T&E'!AT149","v":0},{"$f":"'T&E'!AU149","v":0},{"$f":"'T&E'!AV149","v":0}]
[]
[null,null,null,null,"Production Vessel",null,"US$ mn",null,{"$f":" SUM(K134:AV134)","v":468.39999999999986},null,{"$f":"IFERROR($I88/$I124*K124,0)","v":0},{"$f":"IFERROR($I88/$I124*L124,0)","v":0},0,46.839999999999996,46.839999999999996,46.839999999999996,46.839999999999996,46.839999999999996,46.839999999999996,46.839999999999996,46.839999999999996,46.839999999999996,46.839999999999996,0,0,0,0,0,0,0,0,0,0,0,0,0,0,0,0,0,0,0,0,0,0,0,0,{"$f":"IFERROR($I88/$I124*AV124,0)","v":0}]
[null,null,null,null,"Transfer Vessel/Bulk Carriers",null,"US$ mn",null,89.59999999999998,null,0,{"$f":"IFERROR($I89/$I125*L125,0)","v":0},0,8.9599999999999991,8.9599999999999991,8.9599999999999991,8.9599999999999991,8.9599999999999991,8.9599999999999991,8.9599999999999991,8.9599999999999991,8.9599999999999991,8.9599999999999991,0,0,0,0,0,0,0,0,0,0,0,0,0,0,0,0,0,0,0,0,0,0,0,0,{"$f":"IFERROR($I89/$I125*AV125,0)","v":0}]
[null,null,null,null,"Support Vessel",null,"US$ mn",null,15.199999999999998,null,0,{"$f":"IFERROR($I90/$I126*L126,0)","v":0},0,1.52,1.52,1.52,1.52,1.52,1.52,1.52,1.52,1.52,1.52,0,0,0,0,0,0,0,0,0,0,0,0,0,0,0,0,0,0,0,0,0,0,0,0,{"$f":"IFERROR($I90/$I126*AV126,0)","v":0}]
[null,null,null,null,"Operations facilities initial setup",null,null,null,2.2999999999999998,null,0,{"$f":"IFERROR($I91/$I127*L127,0)","v":0},0,0.22999999999999998,0.22999999999999998,0.22999999999999998,0.22999999999999998,0.22999999999999998,0.22999999999999998,0.22999999999999998,0.22999999999999998,0.22999999999999998,0.22999999999999998,0,0,0,0,0,0,0,0,0,0,0,0,0,0,0,0,0,0,0,0,0,0,0,0,{"$f":"IFERROR($I91/$I127*AV127,0)","v":0}]
[null,null,null,null,"Professional Services",null,null,null,59.399999999999984,null,0,{"$f":"IFERROR($I92/$I128*L128,0)","v":0},0,5.9399999999999995,5.9399999999999995,5.9399999999999995,5.9399999999999995,5.9399999999999995,5.9399999999999995,5.9399999999999995,5.9399999999999995,5.9399999999999995,5.9399999999999995,0,0,0,0,0,0,0,0,0,0,0,0,0,0,0,0,0,0,0,0,0,0,0,0,{"$f":"IFERROR($I92/$I128*AV128,0)","v":0}]
[null,null,null,null,"Owners cost",null,null,null,44.6,null,0,{"$f":"IFERROR($I93/$I129*L129,0)","v":0},0,4.46,4.46,4.46,4.46,4.46,4.46,4.46,4.46,4.46,4.46,0,0,0,0,0,0,0,0,0,0,0,0,0,0,0,0,0,0,0,0,0,0,0,0,{"$f":"IFERROR($I93/$I129*AV129,0)","v":0}]
[null,null,null,null,"Contingency",null,null,null,101.4,null,0,{"$f":"IFERROR($I94/$I130*L130,0)","v":0},0,10.14,10.14,10.14,10.14,10.14,10.14,10.14,10.14,10.14,10.14,0,0,0,0,0,0,0,0,0,0,0,0,0,0,0,0,0,0,0,0,0,0,0,0,{"$f":"IFERROR($I94/$I130*AV130,0)","v":0}]
[null,null,null,null,"Allseas credit",null,null,null,-289.3,null,0,{"$f":"IFERROR($I95/$I131*L131,0)","v":0},0,-28.93,-28.93,-28.93,-28.93,-28.93,-28.93,-28.93,-28.93,-28.93,-28.93,0,0,0,0,0,0,0,0,0,0,0,0,0,0,0,0,0,0,0,0,0,0,0,0,{"$f":"IFERROR($I95/$I131*AV131,0)","v":0}]
[{"$f":"A113","v":0},0,0,0,"Capitalized interest",0,"US$ mn",null,0,0,{"$f":"IFERROR($I98/$I132*K132,0)","v":0},{"$f":"IFERROR($I98/$I132*L132,0)","v":0},0,0,0,0,0,0,0,0,0,0,0,0,0,0,0,0,0,0,0,0,0,0,0,0,0,0,0,0,0,0,0,0,0,0,0,{"$f":"IFERROR($I98/$I132*AV132,0)","v":0}]
[null,null,null,null,"Capex depreciation",null,"US$ mn",null,491.5999999999998,null,{"$f":"SUM(K134:K142)","v":0},0,0,49.159999999999989,49.159999999999989,49.159999999999989,49.159999999999989,49.159999999999989,49.159999999999989,49.159999999999989,49.159999999999989,49.159999999999989,49.159999999999989,0,0,0,0,0,0,0,0,0,0,0,0,0,0,0,0,0,0,0,0,0,0,0,0,{"$f":"SUM(AV134:AV142)","v":0}]
[]
[null,"Sustaining Capex depreciation"]
[null,null,null,null,{"$f":"'Project Cashflows'!E241","v":"Sustaining Capex"},{"$f":"'Project Cashflows'!F241","v":0},{"$f":"'Project Cashflows'!G241","v":"US$ mn"},{"$f":"'Project Cashflows'!H241","v":0},{"$f":"'Project Cashflows'!I241","v":1550},{"$f":"'Project Cashflows'!J241","v":0},{"$f":"'Project Cashflows'!K241","v":0},{"$f":"'Project Cashflows'!L241","v":0},{"$f":"'Project Cashflows'!M241","v":0},{"$f":"'Project Cashflows'!N241","v":0},{"$f":"'Project Cashflows'!O241","v":0},{"$f":"'Project Cashflows'!P241","v":0},{"$f":"'Project Cashflows'!Q241","v":0},{"$f":"'Project Cashflows'!R241","v":155},{"$f":"'Project Cashflows'!S241","v":155},{"$f":"'Project Cashflows'!T241","v":155},{"$f":"'Project Cashflows'!U241","v":155},{"$f":"'Project Cashflows'!V241","v":0},{"$f":"'Project Cashflows'!W241","v":155},{"$f":"'Project Cashflows'!X241","v":155},{"$f":"'Project Cashflows'!Y241","v":155},{"$f":"'Project Cashflows'!Z241","v":155},{"$f":"'Project Cashflows'!AA241","v":0},{"$f":"'Project Cashflows'!AB241","v":155},{"$f":"'Project Cashflows'!AC241","v":155},{"$f":"'Project Cashflows'!AD241","v":0},{"$f":"'Project Cashflows'!AE241","v":0},{"$f":"'Project Cashflows'!AF241","v":0},{"$f":"'Project Cashflows'!AG241","v":0},{"$f":"'Project Cashflows'!AH241","v":0},{"$f":"'Project Cashflows'!AI241","v":0},{"$f":"'Project Cashflows'!AJ241","v":0},{"$f":"'Project Cashflows'!AK241","v":0},{"$f":"'Project Cashflows'!AL241","v":0},{"$f":"'Project Cashflows'!AM241","v":0},{"$f":"'Project Cashflows'!AN241","v":0},{"$f":"'Project Cashflows'!AO241","v":0},{"$f":"'Project Cashflows'!AP241","v":0},{"$f":"'Project Cashflows'!AQ241","v":0},{"$f":"'Project Cashflows'!AR241","v":0},{"$f":"'Project Cashflows'!AS241","v":0},{"$f":"'Project Cashflows'!AT241","v":0},{"$f":"'Project Cashflows'!AU241","v":0},{"$f":"'Project Cashflows'!AV241","v":0}]
[null,null,null,null,{"$f":"'Working Inputs'!E183","v":"Sustaining capex depreciation period"},{"$f":"'Working Inputs'!F183","v":5},{"$f":"'Working Inputs'!G183","v":"years"}]
[null,null,null,null,{"$f":"'T&E'!E54","v":"Overall Operation closing period flag"},{"$f":"'T&E'!F54","v":0},{"$f":"'T&E'!G54","v":"flag"},{"$f":"'T&E'!H54","v":0},{"$f":"'T&E'!I54","v":1},{"$f":"'T&E'!J54","v":0},{"$f":"'T&E'!K54","v":0},{"$f":"'T&E'!L54","v":0},{"$f":"'T&E'!M54","v":0},{"$f":"'T&E'!N54","v":0},{"$f":"'T&E'!O54","v":0},{"$f":"'T&E'!P54","v":0},{"$f":"'T&E'!Q54","v":0},{"$f":"'T&E'!R54","v":0},{"$f":"'T&E'!S54","v":0},{"$f":"'T&E'!T54","v":0},{"$f":"'T&E'!U54","v":0},{"$f":"'T&E'!V54","v":0},{"$f":"'T&E'!W54","v":0},{"$f":"'T&E'!X54","v":0},{"$f":"'T&E'!Y54","v":0},{"$f":"'T&E'!Z54","v":0},{"$f":"'T&E'!AA54","v":0},{"$f":"'T&E'!AB54","v":0},{"$f":"'T&E'!AC54","v":0},{"$f":"'T&E'!AD54","v":0},{"$f":"'T&E'!AE54","v":1},{"$f":"'T&E'!AF54","v":0},{"$f":"'T&E'!AG54","v":0},{"$f":"'T&E'!AH54","v":0},{"$f":"'T&E'!AI54","v":0},{"$f":"'T&E'!AJ54","v":0},{"$f":"'T&E'!AK54","v":0},{"$f":"'T&E'!AL54","v":0},{"$f":"'T&E'!AM54","v":0},{"$f":"'T&E'!AN54","v":0},{"$f":"'T&E'!AO54","v":0},{"$f":"'T&E'!AP54","v":0},{"$f":"'T&E'!AQ54","v":0},{"$f":"'T&E'!AR54","v":0},{"$f":"'T&E'!AS54","v":0},{"$f":"'T&E'!AT54","v":0},{"$f":"'T&E'!AU54","v":0},{"$f":"'T&E'!AV54","v":0}]
[null,null,null,null,{"$f":"'T&E'!E57","v":"Production period flag"},{"$f":"'T&E'!F57","v":0},{"$f":"'T&E'!G57","v":"flag"},{"$f":"'T&E'!H57","v":0},{"$f":"'T&E'!I57","v":19},{"$f":"'T&E'!J57","v":0},{"$f":"'T&E'!K57","v":0},{"$f":"'T&E'!L57","v":0},{"$f":"'T&E'!M57","v":1},{"$f":"'T&E'!N57","v":1},{"$f":"'T&E'!O57","v":1},{"$f":"'T&E'!P57","v":1},{"$f":"'T&E'!Q57","v":1},{"$f":"'T&E'!R57","v":1},{"$f":"'T&E'!S57","v":1},{"$f":"'T&E'!T57","v":1},{"$f":"'T&E'!U57","v":1},{"$f":"'T&E'!V57","v":1},{"$f":"'T&E'!W57","v":1},{"$f":"'T&E'!X57","v":1},{"$f":"'T&E'!Y57","v":1},{"$f":"'T&E'!Z57","v":1},{"$f":"'T&E'!AA57","v":1},{"$f":"'T&E'!AB57","v":1},{"$f":"'T&E'!AC57","v":1},{"$f":"'T&E'!AD57","v":1},{"$f":"'T&E'!AE57","v":1},{"$f":"'T&E'!AF57","v":0},{"$f":"'T&E'!AG57","v":0},{"$f":"'T&E'!AH57","v":0},{"$f":"'T&E'!AI57","v":0},{"$f":"'T&E'!AJ57","v":0},{"$f":"'T&E'!AK57","v":0},{"$f":"'T&E'!AL57","v":0},{"$f":"'T&E'!AM57","v":0},{"$f":"'T&E'!AN57","v":0},{"$f":"'T&E'!AO57","v":0},{"$f":"'T&E'!AP57","v":0},{"$f":"'T&E'!AQ57","v":0},{"$f":"'T&E'!AR57","v":0},{"$f":"'T&E'!AS57","v":0},{"$f":"'T&E'!AT57","v":0},{"$f":"'T&E'!AU57","v":0},{"$f":"'T&E'!AV57","v":0}]
[null,null,null,null,"Sustaining  Capex Depreciation",{"$f":"'Working Inputs'!H142","v":0},"%",null,{"$f":"SUM(K150:AV150)","v":1550},null,{"$f":"IF(K148=1,SUM($K$146:K146)-SUM(J$150:$K150),SUM(OFFSET($K$146,0,MAX(0,COLUMN()-COLUMN($K$146)-($F$147-1)),1,MIN($F$147,COLUMN()-COLUMN($K$146)+1)))/$F$147)*K149","v":0},{"$f":"IF(L148=1,SUM($K$146:L146)-SUM($K$150:K150),SUM(OFFSET($K$146,0,MAX(0,COLUMN()-COLUMN($K$146)-($F$147-1)),1,MIN($F$147,COLUMN()-COLUMN($K$146)+1)))/$F$147)*L149","v":0},{"$f":"IF(M148=1,SUM($K$146:M146)-SUM($K$150:L150),SUM(OFFSET($K$146,0,MAX(0,COLUMN()-COLUMN($K$146)-($F$147-1)),1,MIN($F$147,COLUMN()-COLUMN($K$146)+1)))/$F$147)*M149","v":0},{"$f":"IF(N148=1,SUM($K$146:N146)-SUM($K$150:M150),SUM(OFFSET($K$146,0,MAX(0,COLUMN()-COLUMN($K$146)-($F$147-1)),1,MIN($F$147,COLUMN()-COLUMN($K$146)+1)))/$F$147)*N149","v":0},{"$f":"IF(O148=1,SUM($K$146:O146)-SUM($K$150:N150),SUM(OFFSET($K$146,0,MAX(0,COLUMN()-COLUMN($K$146)-($F$147-1)),1,MIN($F$147,COLUMN()-COLUMN($K$146)+1)))/$F$147)*O149","v":0},{"$f":"IF(P148=1,SUM($K$146:P146)-SUM($K$150:O150),SUM(OFFSET($K$146,0,MAX(0,COLUMN()-COLUMN($K$146)-($F$147-1)),1,MIN($F$147,COLUMN()-COLUMN($K$146)+1)))/$F$147)*P149","v":0},{"$f":"IF(Q148=1,SUM($K$146:Q146)-SUM($K$150:P150),SUM(OFFSET($K$146,0,MAX(0,COLUMN()-COLUMN($K$146)-($F$147-1)),1,MIN($F$147,COLUMN()-COLUMN($K$146)+1)))/$F$147)*Q149","v":0},{"$f":"IF(R148=1,SUM($K$146:R146)-SUM($K$150:Q150),SUM(OFFSET($K$146,0,MAX(0,COLUMN()-COLUMN($K$146)-($F$147-1)),1,MIN($F$147,COLUMN()-COLUMN($K$146)+1)))/$F$147)*R149","v":31},{"$f":"IF(S148=1,SUM($K$146:S146)-SUM($K$150:R150),SUM(OFFSET($K$146,0,MAX(0,COLUMN()-COLUMN($K$146)-($F$147-1)),1,MIN($F$147,COLUMN()-COLUMN($K$146)+1)))/$F$147)*S149","v":62},{"$f":"IF(T148=1,SUM($K$146:T146)-SUM($K$150:S150),SUM(OFFSET($K$146,0,MAX(0,COLUMN()-COLUMN($K$146)-($F$147-1)),1,MIN($F$147,COLUMN()-COLUMN($K$146)+1)))/$F$147)*T149","v":93},{"$f":"IF(U148=1,SUM($K$146:U146)-SUM($K$150:T150),SUM(OFFSET($K$146,0,MAX(0,COLUMN()-COLUMN($K$146)-($F$147-1)),1,MIN($F$147,COLUMN()-COLUMN($K$146)+1)))/$F$147)*U149","v":124},{"$f":"IF(V148=1,SUM($K$146:V146)-SUM($K$150:U150),SUM(OFFSET($K$146,0,MAX(0,COLUMN()-COLUMN($K$146)-($F$147-1)),1,MIN($F$147,COLUMN()-COLUMN($K$146)+1)))/$F$147)*V149","v":124},{"$f":"IF(W148=1,SUM($K$146:W146)-SUM($K$150:V150),SUM(OFFSET($K$146,0,MAX(0,COLUMN()-COLUMN($K$146)-($F$147-1)),1,MIN($F$147,COLUMN()-COLUMN($K$146)+1)))/$F$147)*W149","v":124},{"$f":"IF(X148=1,SUM($K$146:X146)-SUM($K$150:W150),SUM(OFFSET($K$146,0,MAX(0,COLUMN()-COLUMN($K$146)-($F$147-1)),1,MIN($F$147,COLUMN()-COLUMN($K$146)+1)))/$F$147)*X149","v":124},{"$f":"IF(Y148=1,SUM($K$146:Y146)-SUM($K$150:X150),SUM(OFFSET($K$146,0,MAX(0,COLUMN()-COLUMN($K$146)-($F$147-1)),1,MIN($F$147,COLUMN()-COLUMN($K$146)+1)))/$F$147)*Y149","v":124},{"$f":"IF(Z148=1,SUM($K$146:Z146)-SUM($K$150:Y150),SUM(OFFSET($K$146,0,MAX(0,COLUMN()-COLUMN($K$146)-($F$147-1)),1,MIN($F$147,COLUMN()-COLUMN($K$146)+1)))/$F$147)*Z149","v":124},{"$f":"IF(AA148=1,SUM($K$146:AA146)-SUM($K$150:Z150),SUM(OFFSET($K$146,0,MAX(0,COLUMN()-COLUMN($K$146)-($F$147-1)),1,MIN($F$147,COLUMN()-COLUMN($K$146)+1)))/$F$147)*AA149","v":124},{"$f":"IF(AB148=1,SUM($K$146:AB146)-SUM($K$150:AA150),SUM(OFFSET($K$146,0,MAX(0,COLUMN()-COLUMN($K$146)-($F$147-1)),1,MIN($F$147,COLUMN()-COLUMN($K$146)+1)))/$F$147)*AB149","v":124},{"$f":"IF(AC148=1,SUM($K$146:AC146)-SUM($K$150:AB150),SUM(OFFSET($K$146,0,MAX(0,COLUMN()-COLUMN($K$146)-($F$147-1)),1,MIN($F$147,COLUMN()-COLUMN($K$146)+1)))/$F$147)*AC149","v":124},{"$f":"IF(AD148=1,SUM($K$146:AD146)-SUM($K$150:AC150),SUM(OFFSET($K$146,0,MAX(0,COLUMN()-COLUMN($K$146)-($F$147-1)),1,MIN($F$147,COLUMN()-COLUMN($K$146)+1)))/$F$147)*AD149","v":93},{"$f":"IF(AE148=1,SUM($K$146:AE146)-SUM($K$150:AD150),SUM(OFFSET($K$146,0,MAX(0,COLUMN()-COLUMN($K$146)-($F$147-1)),1,MIN($F$147,COLUMN()-COLUMN($K$146)+1)))/$F$147)*AE149","v":155},{"$f":"IF(AF148=1,SUM($K$146:AF146)-SUM($K$150:AE150),SUM(OFFSET($K$146,0,MAX(0,COLUMN()-COLUMN($K$146)-($F$147-1)),1,MIN($F$147,COLUMN()-COLUMN($K$146)+1)))/$F$147)*AF149","v":0},{"$f":"IF(AG148=1,SUM($K$146:AG146)-SUM($K$150:AF150),SUM(OFFSET($K$146,0,MAX(0,COLUMN()-COLUMN($K$146)-($F$147-1)),1,MIN($F$147,COLUMN()-COLUMN($K$146)+1)))/$F$147)*AG149","v":0},{"$f":"IF(AH148=1,SUM($K$146:AH146)-SUM($K$150:AG150),SUM(OFFSET($K$146,0,MAX(0,COLUMN()-COLUMN($K$146)-($F$147-1)),1,MIN($F$147,COLUMN()-COLUMN($K$146)+1)))/$F$147)*AH149","v":0},{"$f":"IF(AI148=1,SUM($K$146:AI146)-SUM($K$150:AH150),SUM(OFFSET($K$146,0,MAX(0,COLUMN()-COLUMN($K$146)-($F$147-1)),1,MIN($F$147,COLUMN()-COLUMN($K$146)+1)))/$F$147)*AI149","v":0},{"$f":"IF(AJ148=1,SUM($K$146:AJ146)-SUM($K$150:AI150),SUM(OFFSET($K$146,0,MAX(0,COLUMN()-COLUMN($K$146)-($F$147-1)),1,MIN($F$147,COLUMN()-COLUMN($K$146)+1)))/$F$147)*AJ149","v":0},{"$f":"IF(AK148=1,SUM($K$146:AK146)-SUM($K$150:AJ150),SUM(OFFSET($K$146,0,MAX(0,COLUMN()-COLUMN($K$146)-($F$147-1)),1,MIN($F$147,COLUMN()-COLUMN($K$146)+1)))/$F$147)*AK149","v":0},{"$f":"IF(AL148=1,SUM($K$146:AL146)-SUM($K$150:AK150),SUM(OFFSET($K$146,0,MAX(0,COLUMN()-COLUMN($K$146)-($F$147-1)),1,MIN($F$147,COLUMN()-COLUMN($K$146)+1)))/$F$147)*AL149","v":0},{"$f":"IF(AM148=1,SUM($K$146:AM146)-SUM($K$150:AL150),SUM(OFFSET($K$146,0,MAX(0,COLUMN()-COLUMN($K$146)-($F$147-1)),1,MIN($F$147,COLUMN()-COLUMN($K$146)+1)))/$F$147)*AM149","v":0},{"$f":"IF(AN148=1,SUM($K$146:AN146)-SUM($K$150:AM150),SUM(OFFSET($K$146,0,MAX(0,COLUMN()-COLUMN($K$146)-($F$147-1)),1,MIN($F$147,COLUMN()-COLUMN($K$146)+1)))/$F$147)*AN149","v":0},{"$f":"IF(AO148=1,SUM($K$146:AO146)-SUM($K$150:AN150),SUM(OFFSET($K$146,0,MAX(0,COLUMN()-COLUMN($K$146)-($F$147-1)),1,MIN($F$147,COLUMN()-COLUMN($K$146)+1)))/$F$147)*AO149","v":0},{"$f":"IF(AP148=1,SUM($K$146:AP146)-SUM($K$150:AO150),SUM(OFFSET($K$146,0,MAX(0,COLUMN()-COLUMN($K$146)-($F$147-1)),1,MIN($F$147,COLUMN()-COLUMN($K$146)+1)))/$F$147)*AP149","v":0},{"$f":"IF(AQ148=1,SUM($K$146:AQ146)-SUM($K$150:AP150),SUM(OFFSET($K$146,0,MAX(0,COLUMN()-COLUMN($K$146)-($F$147-1)),1,MIN($F$147,COLUMN()-COLUMN($K$146)+1)))/$F$147)*AQ149","v":0},{"$f":"IF(AR148=1,SUM($K$146:AR146)-SUM($K$150:AQ150),SUM(OFFSET($K$146,0,MAX(0,COLUMN()-COLUMN($K$146)-($F$147-1)),1,MIN($F$147,COLUMN()-COLUMN($K$146)+1)))/$F$147)*AR149","v":0},{"$f":"IF(AS148=1,SUM($K$146:AS146)-SUM($K$150:AR150),SUM(OFFSET($K$146,0,MAX(0,COLUMN()-COLUMN($K$146)-($F$147-1)),1,MIN($F$147,COLUMN()-COLUMN($K$146)+1)))/$F$147)*AS149","v":0},{"$f":"IF(AT148=1,SUM($K$146:AT146)-SUM($K$150:AS150),SUM(OFFSET($K$146,0,MAX(0,COLUMN()-COLUMN($K$146)-($F$147-1)),1,MIN($F$147,COLUMN()-COLUMN($K$146)+1)))/$F$147)*AT149","v":0},{"$f":"IF(AU148=1,SUM($K$146:AU146)-SUM($K$150:AT150),SUM(OFFSET($K$146,0,MAX(0,COLUMN()-COLUMN($K$146)-($F$147-1)),1,MIN($F$147,COLUMN()-COLUMN($K$146)+1)))/$F$147)*AU149","v":0},{"$f":"IF(AV148=1,SUM($K$146:AV146)-SUM($K$150:AU150),SUM(OFFSET($K$146,0,MAX(0,COLUMN()-COLUMN($K$146)-($F$147-1)),1,MIN($F$147,COLUMN()-COLUMN($K$146)+1)))/$F$147)*AV149","v":0}]
[]
[null,null,null,null,"Total depreciation",null,"US$ mn",null,{"$f":"SUM(K152:AV152)","v":2041.6},null,{"$f":"K150+K143","v":0},0,0,49.159999999999989,{"$f":"O150+O143","v":49.159999999999989},49.159999999999989,49.159999999999989,80.16,111.16,142.16,173.16,173.16,173.16,124,124,124,124,124,124,93,155,0,0,0,0,0,0,0,0,0,0,0,0,0,0,0,0,{"$f":"AV150+AV143","v":0}]
[]
[null,null,null,null,"Check: Depreciation calculation ( no residual value included)",{"$f":"IF(ABS(I152-(I146+I96+I98))>CHK_TOL,1,0)","v":0}]
[]
["Project Accounting Profit & Income tax"]
[]
[null,null,null,null,{"$f":"'Project Cashflows'!E353","v":"Total Sales Revenue"},null,{"$f":"'Project Cashflows'!G353","v":"US$ mn"},null,{"$f":" SUM(K158:AV158)","v":58574.18437056597},null,{"$f":"'Project Cashflows'!K353","v":0},{"$f":"'Project Cashflows'!L353","v":0},{"$f":"'Project Cashflows'!M353","v":60.500953447145264},{"$f":"'Project Cashflows'!N353","v":302.50476723572643},{"$f":"'Project Cashflows'!O353","v":647.12918926235284},{"$f":"'Project Cashflows'!P353","v":1667.3755082039997},{"$f":"'Project Cashflows'!Q353","v":3584.8573426385997},{"$f":"'Project Cashflows'!R353","v":3584.8573426385997},{"$f":"'Project Cashflows'!S353","v":3877.4471057683195},{"$f":"'Project Cashflows'!T353","v":3877.4471057683195},{"$f":"'Project Cashflows'!U353","v":3877.4471057683195},{"$f":"'Project Cashflows'!V353","v":3877.4471057683195},{"$f":"'Project Cashflows'!W353","v":3877.4471057683195},{"$f":"'Project Cashflows'!X353","v":3910.7505292833603},{"$f":"'Project Cashflows'!Y353","v":3910.7505292833603},{"$f":"'Project Cashflows'!Z353","v":3910.7505292833603},{"$f":"'Project Cashflows'!AA353","v":3910.7505292833603},{"$f":"'Project Cashflows'!AB353","v":3910.7505292833603},{"$f":"'Project Cashflows'!AC353","v":3910.7505292833603},{"$f":"'Project Cashflows'!AD353","v":3910.7505292833603},{"$f":"'Project Cashflows'!AE353","v":1964.4700333144319},{"$f":"'Project Cashflows'!AF353","v":0},{"$f":"'Project Cashflows'!AG353","v":0},{"$f":"'Project Cashflows'!AH353","v":0},{"$f":"'Project Cashflows'!AI353","v":0},{"$f":"'Project Cashflows'!AJ353","v":0},{"$f":"'Project Cashflows'!AK353","v":0},{"$f":"'Project Cashflows'!AL353","v":0},{"$f":"'Project Cashflows'!AM353","v":0},{"$f":"'Project Cashflows'!AN353","v":0},{"$f":"'Project Cashflows'!AO353","v":0},{"$f":"'Project Cashflows'!AP353","v":0},{"$f":"'Project Cashflows'!AQ353","v":0},{"$f":"'Project Cashflows'!AR353","v":0},{"$f":"'Project Cashflows'!AS353","v":0},{"$f":"'Project Cashflows'!AT353","v":0},{"$f":"'Project Cashflows'!AU353","v":0},{"$f":"'Project Cashflows'!AV353","v":0}]
[null,null,null,"Less",{"$f":"'Project Cashflows'!E356","v":"Operating costs"},null,{"$f":"'Project Cashflows'!G356","v":"US$ mn"},null,{"$f":" SUM(K159:AV159)","v":36709.170000000013},null,{"$f":"'Project Cashflows'!K356","v":0},{"$f":"'Project Cashflows'!L356","v":0},{"$f":"'Project Cashflows'!M356","v":44.740000000000009},{"$f":"'Project Cashflows'!N356","v":223.7},{"$f":"'Project Cashflows'!O356","v":447.4},{"$f":"'Project Cashflows'!P356","v":1118.5},{"$f":"'Project Cashflows'!Q356","v":2404.7749999999996},{"$f":"'Project Cashflows'!R356","v":2404.7749999999996},{"$f":"'Project Cashflows'!S356","v":2404.7749999999996},{"$f":"'Project Cashflows'!T356","v":2404.7749999999996},{"$f":"'Project Cashflows'!U356","v":2404.7749999999996},{"$f":"'Project Cashflows'!V356","v":2404.7749999999996},{"$f":"'Project Cashflows'!W356","v":2404.7749999999996},{"$f":"'Project Cashflows'!X356","v":2404.7749999999996},{"$f":"'Project Cashflows'!Y356","v":2404.7749999999996},{"$f":"'Project Cashflows'!Z356","v":2404.7749999999996},{"$f":"'Project Cashflows'!AA356","v":2404.7749999999996},{"$f":"'Project Cashflows'!AB356","v":2404.7749999999996},{"$f":"'Project Cashflows'!AC356","v":2404.7749999999996},{"$f":"'Project Cashflows'!AD356","v":2404.7749999999996},{"$f":"'Project Cashflows'!AE356","v":1207.98},{"$f":"'Project Cashflows'!AF356","v":0},{"$f":"'Project Cashflows'!AG356","v":0},{"$f":"'Project Cashflows'!AH356","v":0},{"$f":"'Project Cashflows'!AI356","v":0},{"$f":"'Project Cashflows'!AJ356","v":0},{"$f":"'Project Cashflows'!AK356","v":0},{"$f":"'Project Cashflows'!AL356","v":0},{"$f":"'Project Cashflows'!AM356","v":0},{"$f":"'Project Cashflows'!AN356","v":0},{"$f":"'Project Cashflows'!AO356","v":0},{"$f":"'Project Cashflows'!AP356","v":0},{"$f":"'Project Cashflows'!AQ356","v":0},{"$f":"'Project Cashflows'!AR356","v":0},{"$f":"'Project Cashflows'!AS356","v":0},{"$f":"'Project Cashflows'!AT356","v":0},{"$f":"'Project Cashflows'!AU356","v":0},{"$f":"'Project Cashflows'!AV356","v":0}]
[null,null,null,"Less",{"$f":"'Project Cashflows'!E359","v":"Closure cost"},null,{"$f":"'Project Cashflows'!G359","v":"US$ mn"},null,{"$f":"'Project Cashflows'!I359","v":115},{"$f":"'Project Cashflows'!J359","v":0},{"$f":"'Project Cashflows'!K359","v":0},{"$f":"'Project Cashflows'!L359","v":0},{"$f":"'Project Cashflows'!M359","v":0},{"$f":"'Project Cashflows'!N359","v":0},{"$f":"'Project Cashflows'!O359","v":0},{"$f":"'Project Cashflows'!P359","v":0},{"$f":"'Project Cashflows'!Q359","v":0},{"$f":"'Project Cashflows'!R359","v":0},{"$f":"'Project Cashflows'!S359","v":0},{"$f":"'Project Cashflows'!T359","v":0},{"$f":"'Project Cashflows'!U359","v":0},{"$f":"'Project Cashflows'!V359","v":0},{"$f":"'Project Cashflows'!W359","v":0},{"$f":"'Project Cashflows'!X359","v":0},{"$f":"'Project Cashflows'!Y359","v":0},{"$f":"'Project Cashflows'!Z359","v":0},{"$f":"'Project Cashflows'!AA359","v":0},{"$f":"'Project Cashflows'!AB359","v":0},{"$f":"'Project Cashflows'!AC359","v":0},{"$f":"'Project Cashflows'!AD359","v":0},{"$f":"'Project Cashflows'!AE359","v":0},{"$f":"'Project Cashflows'!AF359","v":11.5},{"$f":"'Project Cashflows'!AG359","v":11.5},{"$f":"'Project Cashflows'!AH359","v":11.5},{"$f":"'Project Cashflows'!AI359","v":11.5},{"$f":"'Project Cashflows'!AJ359","v":11.5},{"$f":"'Project Cashflows'!AK359","v":11.5},{"$f":"'Project Cashflows'!AL359","v":11.5},{"$f":"'Project Cashflows'!AM359","v":11.5},{"$f":"'Project Cashflows'!AN359","v":11.5},{"$f":"'Project Cashflows'!AO359","v":11.5},{"$f":"'Project Cashflows'!AP359","v":0},{"$f":"'Project Cashflows'!AQ359","v":0},{"$f":"'Project Cashflows'!AR359","v":0},{"$f":"'Project Cashflows'!AS359","v":0},{"$f":"'Project Cashflows'!AT359","v":0},{"$f":"'Project Cashflows'!AU359","v":0},{"$f":"'Project Cashflows'!AV359","v":0}]
[null,null,null,"Less",{"$f":"'Project Cashflows'!E368","v":"Nauru Continuity Benefits Payment"},null,{"$f":"'Project Cashflows'!G368","v":"US$ mn"},null,{"$f":"'Project Cashflows'!I368","v":196.92000000000004},{"$f":"'Project Cashflows'!J368","v":0},{"$f":"'Project Cashflows'!K368","v":0},{"$f":"'Project Cashflows'!L368","v":0},{"$f":"'Project Cashflows'!M368","v":0.24},{"$f":"'Project Cashflows'!N368","v":1.2},{"$f":"'Project Cashflows'!O368","v":2.4},{"$f":"'Project Cashflows'!P368","v":6},{"$f":"'Project Cashflows'!Q368","v":12.9},{"$f":"'Project Cashflows'!R368","v":12.9},{"$f":"'Project Cashflows'!S368","v":12.9},{"$f":"'Project Cashflows'!T368","v":12.9},{"$f":"'Project Cashflows'!U368","v":12.9},{"$f":"'Project Cashflows'!V368","v":12.9},{"$f":"'Project Cashflows'!W368","v":12.9},{"$f":"'Project Cashflows'!X368","v":12.9},{"$f":"'Project Cashflows'!Y368","v":12.9},{"$f":"'Project Cashflows'!Z368","v":12.9},{"$f":"'Project Cashflows'!AA368","v":12.9},{"$f":"'Project Cashflows'!AB368","v":12.9},{"$f":"'Project Cashflows'!AC368","v":12.9},{"$f":"'Project Cashflows'!AD368","v":12.9},{"$f":"'Project Cashflows'!AE368","v":6.48},{"$f":"'Project Cashflows'!AF368","v":0},{"$f":"'Project Cashflows'!AG368","v":0},{"$f":"'Project Cashflows'!AH368","v":0},{"$f":"'Project Cashflows'!AI368","v":0},{"$f":"'Project Cashflows'!AJ368","v":0},{"$f":"'Project Cashflows'!AK368","v":0},{"$f":"'Project Cashflows'!AL368","v":0},{"$f":"'Project Cashflows'!AM368","v":0},{"$f":"'Project Cashflows'!AN368","v":0},{"$f":"'Project Cashflows'!AO368","v":0},{"$f":"'Project Cashflows'!AP368","v":0},{"$f":"'Project Cashflows'!AQ368","v":0},{"$f":"'Project Cashflows'!AR368","v":0},{"$f":"'Project Cashflows'!AS368","v":0},{"$f":"'Project Cashflows'!AT368","v":0},{"$f":"'Project Cashflows'!AU368","v":0},{"$f":"'Project Cashflows'!AV368","v":0}]
[null,null,null,"Less",{"$f":"'Project Cashflows'!E371","v":"Tonga Continuity Benefits Payment"},{"$f":"'Project Cashflows'!F371","v":0},{"$f":"'Project Cashflows'!G371","v":"US$ mn"},{"$f":"'Project Cashflows'!H371","v":0},{"$f":"'Project Cashflows'!I371","v":0},{"$f":"'Project Cashflows'!J371","v":0},{"$f":"'Project Cashflows'!K371","v":0},{"$f":"'Project Cashflows'!L371","v":0},{"$f":"'Project Cashflows'!M371","v":0},{"$f":"'Project Cashflows'!N371","v":0},{"$f":"'Project Cashflows'!O371","v":0},{"$f":"'Project Cashflows'!P371","v":0},{"$f":"'Project Cashflows'!Q371","v":0},{"$f":"'Project Cashflows'!R371","v":0},{"$f":"'Project Cashflows'!S371","v":0},{"$f":"'Project Cashflows'!T371","v":0},{"$f":"'Project Cashflows'!U371","v":0},{"$f":"'Project Cashflows'!V371","v":0},{"$f":"'Project Cashflows'!W371","v":0},{"$f":"'Project Cashflows'!X371","v":0},{"$f":"'Project Cashflows'!Y371","v":0},{"$f":"'Project Cashflows'!Z371","v":0},{"$f":"'Project Cashflows'!AA371","v":0},{"$f":"'Project Cashflows'!AB371","v":0},{"$f":"'Project Cashflows'!AC371","v":0},{"$f":"'Project Cashflows'!AD371","v":0},{"$f":"'Project Cashflows'!AE371","v":0},{"$f":"'Project Cashflows'!AF371","v":0},{"$f":"'Project Cashflows'!AG371","v":0},{"$f":"'Project Cashflows'!AH371","v":0},{"$f":"'Project Cashflows'!AI371","v":0},{"$f":"'Project Cashflows'!AJ371","v":0},{"$f":"'Project Cashflows'!AK371","v":0},{"$f":"'Project Cashflows'!AL371","v":0},{"$f":"'Project Cashflows'!AM371","v":0},{"$f":"'Project Cashflows'!AN371","v":0},{"$f":"'Project Cashflows'!AO371","v":0},{"$f":"'Project Cashflows'!AP371","v":0},{"$f":"'Project Cashflows'!AQ371","v":0},{"$f":"'Project Cashflows'!AR371","v":0},{"$f":"'Project Cashflows'!AS371","v":0},{"$f":"'Project Cashflows'!AT371","v":0},{"$f":"'Project Cashflows'!AU371","v":0},{"$f":"'Project Cashflows'!AV371","v":0},{"$f":"'Project Cashflows'!AW371","v":0},{"$f":"'Project Cashflows'!AX371","v":0},{"$f":"'Project Cashflows'!AY371","v":0},{"$f":"'Project Cashflows'!AZ371","v":0},{"$f":"'Project Cashflows'!BA371","v":0},{"$f":"'Project Cashflows'!BB371","v":0},{"$f":"'Project Cashflows'!BC371","v":0},{"$f":"'Project Cashflows'!BD371","v":0},{"$f":"'Project Cashflows'!BE371","v":0},{"$f":"'Project Cashflows'!BF371","v":0},{"$f":"'Project Cashflows'!BG371","v":0},{"$f":"'Project Cashflows'!BH371","v":0},{"$f":"'Project Cashflows'!BI371","v":0},{"$f":"'Project Cashflows'!BJ371","v":0},{"$f":"'Project Cashflows'!BK371","v":0},{"$f":"'Project Cashflows'!BL371","v":0},{"$f":"'Project Cashflows'!BM371","v":0},{"$f":"'Project Cashflows'!BN371","v":0},{"$f":"'Project Cashflows'!BO371","v":0},{"$f":"'Project Cashflows'!BP371","v":0},{"$f":"'Project Cashflows'!BQ371","v":0},{"$f":"'Project Cashflows'!BR371","v":0},{"$f":"'Project Cashflows'!BS371","v":0},{"$f":"'Project Cashflows'!BT371","v":0},{"$f":"'Project Cashflows'!BU371","v":0},{"$f":"'Project Cashflows'!BV371","v":0},{"$f":"'Project Cashflows'!BW371","v":0},{"$f":"'Project Cashflows'!BX371","v":0},{"$f":"'Project Cashflows'!BY371","v":0},{"$f":"'Project Cashflows'!BZ371","v":0},{"$f":"'Project Cashflows'!CA371","v":0},{"$f":"'Project Cashflows'!CB371","v":0},{"$f":"'Project Cashflows'!CC371","v":0},{"$f":"'Project Cashflows'!CD371","v":0},{"$f":"'Project Cashflows'!CE371","v":0},{"$f":"'Project Cashflows'!CF371","v":0},{"$f":"'Project Cashflows'!CG371","v":0},{"$f":"'Project Cashflows'!CH371","v":0},{"$f":"'Project Cashflows'!CI371","v":0},{"$f":"'Project Cashflows'!CJ371","v":0},{"$f":"'Project Cashflows'!CK371","v":0},{"$f":"'Project Cashflows'!CL371","v":0},{"$f":"'Project Cashflows'!CM371","v":0},{"$f":"'Project Cashflows'!CN371","v":0},{"$f":"'Project Cashflows'!CO371","v":0},{"$f":"'Project Cashflows'!CP371","v":0},{"$f":"'Project Cashflows'!CQ371","v":0},{"$f":"'Project Cashflows'!CR371","v":0},{"$f":"'Project Cashflows'!CS371","v":0},{"$f":"'Project Cashflows'!CT371","v":0},{"$f":"'Project Cashflows'!CU371","v":0},{"$f":"'Project Cashflows'!CV371","v":0},{"$f":"'Project Cashflows'!CW371","v":0},{"$f":"'Project Cashflows'!CX371","v":0},{"$f":"'Project Cashflows'!CY371","v":0},{"$f":"'Project Cashflows'!CZ371","v":0},{"$f":"'Project Cashflows'!DA371","v":0},{"$f":"'Project Cashflows'!DB371","v":0},{"$f":"'Project Cashflows'!DC371","v":0},{"$f":"'Project Cashflows'!DD371","v":0},{"$f":"'Project Cashflows'!DE371","v":0},{"$f":"'Project Cashflows'!DF371","v":0},{"$f":"'Project Cashflows'!DG371","v":0},{"$f":"'Project Cashflows'!DH371","v":0},{"$f":"'Project Cashflows'!DI371","v":0},{"$f":"'Project Cashflows'!DJ371","v":0},{"$f":"'Project Cashflows'!DK371","v":0},{"$f":"'Project Cashflows'!DL371","v":0},{"$f":"'Project Cashflows'!DM371","v":0},{"$f":"'Project Cashflows'!DN371","v":0},{"$f":"'Project Cashflows'!DO371","v":0},{"$f":"'Project Cashflows'!DP371","v":0},{"$f":"'Project Cashflows'!DQ371","v":0},{"$f":"'Project Cashflows'!DR371","v":0},{"$f":"'Project Cashflows'!DS371","v":0},{"$f":"'Project Cashflows'!DT371","v":0},{"$f":"'Project Cashflows'!DU371","v":0},{"$f":"'Project Cashflows'!DV371","v":0},{"$f":"'Project Cashflows'!DW371","v":0},{"$f":"'Project Cashflows'!DX371","v":0},{"$f":"'Project Cashflows'!DY371","v":0},{"$f":"'Project Cashflows'!DZ371","v":0},{"$f":"'Project Cashflows'!EA371","v":0},{"$f":"'Project Cashflows'!EB371","v":0},{"$f":"'Project Cashflows'!EC371","v":0},{"$f":"'Project Cashflows'!ED371","v":0},{"$f":"'Project Cashflows'!EE371","v":0},{"$f":"'Project Cashflows'!EF371","v":0},{"$f":"'Project Cashflows'!EG371","v":0},{"$f":"'Project Cashflows'!EH371","v":0},{"$f":"'Project Cashflows'!EI371","v":0},{"$f":"'Project Cashflows'!EJ371","v":0},{"$f":"'Project Cashflows'!EK371","v":0},{"$f":"'Project Cashflows'!EL371","v":0},{"$f":"'Project Cashflows'!EM371","v":0},{"$f":"'Project Cashflows'!EN371","v":0},{"$f":"'Project Cashflows'!EO371","v":0},{"$f":"'Project Cashflows'!EP371","v":0},{"$f":"'Project Cashflows'!EQ371","v":0},{"$f":"'Project Cashflows'!ER371","v":0},{"$f":"'Project Cashflows'!ES371","v":0},{"$f":"'Project Cashflows'!ET371","v":0},{"$f":"'Project Cashflows'!EU371","v":0},{"$f":"'Project Cashflows'!EV371","v":0},{"$f":"'Project Cashflows'!EW371","v":0},{"$f":"'Project Cashflows'!EX371","v":0},{"$f":"'Project Cashflows'!EY371","v":0},{"$f":"'Project Cashflows'!EZ371","v":0},{"$f":"'Project Cashflows'!FA371","v":0},{"$f":"'Project Cashflows'!FB371","v":0},{"$f":"'Project Cashflows'!FC371","v":0},{"$f":"'Project Cashflows'!FD371","v":0},{"$f":"'Project Cashflows'!FE371","v":0},{"$f":"'Project Cashflows'!FF371","v":0},{"$f":"'Project Cashflows'!FG371","v":0},{"$f":"'Project Cashflows'!FH371","v":0},{"$f":"'Project Cashflows'!FI371","v":0},{"$f":"'Project Cashflows'!FJ371","v":0},{"$f":"'Project Cashflows'!FK371","v":0},{"$f":"'Project Cashflows'!FL371","v":0},{"$f":"'Project Cashflows'!FM371","v":0},{"$f":"'Project Cashflows'!FN371","v":0},{"$f":"'Project Cashflows'!FO371","v":0},{"$f":"'Project Cashflows'!FP371","v":0},{"$f":"'Project Cashflows'!FQ371","v":0},{"$f":"'Project Cashflows'!FR371","v":0},{"$f":"'Project Cashflows'!FS371","v":0},{"$f":"'Project Cashflows'!FT371","v":0},{"$f":"'Project Cashflows'!FU371","v":0},{"$f":"'Project Cashflows'!FV371","v":0},{"$f":"'Project Cashflows'!FW371","v":0},{"$f":"'Project Cashflows'!FX371","v":0},{"$f":"'Project Cashflows'!FY371","v":0},{"$f":"'Project Cashflows'!FZ371","v":0},{"$f":"'Project Cashflows'!GA371","v":0},{"$f":"'Project Cashflows'!GB371","v":0},{"$f":"'Project Cashflows'!GC371","v":0},{"$f":"'Project Cashflows'!GD371","v":0},{"$f":"'Project Cashflows'!GE371","v":0},{"$f":"'Project Cashflows'!GF371","v":0},{"$f":"'Project Cashflows'!GG371","v":0},{"$f":"'Project Cashflows'!GH371","v":0},{"$f":"'Project Cashflows'!GI371","v":0},{"$f":"'Project Cashflows'!GJ371","v":0},{"$f":"'Project Cashflows'!GK371","v":0},{"$f":"'Project Cashflows'!GL371","v":0},{"$f":"'Project Cashflows'!GM371","v":0},{"$f":"'Project Cashflows'!GN371","v":0},{"$f":"'Project Cashflows'!GO371","v":0},{"$f":"'Project Cashflows'!GP371","v":0},{"$f":"'Project Cashflows'!GQ371","v":0},{"$f":"'Project Cashflows'!GR371","v":0},{"$f":"'Project Cashflows'!GS371","v":0},{"$f":"'Project Cashflows'!GT371","v":0},{"$f":"'Project Cashflows'!GU371","v":0},{"$f":"'Project Cashflows'!GV371","v":0},{"$f":"'Project Cashflows'!GW371","v":0},{"$f":"'Project Cashflows'!GX371","v":0},{"$f":"'Project Cashflows'!GY371","v":0},{"$f":"'Project Cashflows'!GZ371","v":0},{"$f":"'Project Cashflows'!HA371","v":0},{"$f":"'Project Cashflows'!HB371","v":0},{"$f":"'Project Cashflows'!HC371","v":0},{"$f":"'Project Cashflows'!HD371","v":0},{"$f":"'Project Cashflows'!HE371","v":0},{"$f":"'Project Cashflows'!HF371","v":0},{"$f":"'Project Cashflows'!HG371","v":0},{"$f":"'Project Cashflows'!HH371","v":0},{"$f":"'Project Cashflows'!HI371","v":0},{"$f":"'Project Cashflows'!HJ371","v":0},{"$f":"'Project Cashflows'!HK371","v":0},{"$f":"'Project Cashflows'!HL371","v":0},{"$f":"'Project Cashflows'!HM371","v":0},{"$f":"'Project Cashflows'!HN371","v":0},{"$f":"'Project Cashflows'!HO371","v":0},{"$f":"'Project Cashflows'!HP371","v":0},{"$f":"'Project Cashflows'!HQ371","v":0},{"$f":"'Project Cashflows'!HR371","v":0},{"$f":"'Project Cashflows'!HS371","v":0},{"$f":"'Project Cashflows'!HT371","v":0},{"$f":"'Project Cashflows'!HU371","v":0},{"$f":"'Project Cashflows'!HV371","v":0},{"$f":"'Project Cashflows'!HW371","v":0},{"$f":"'Project Cashflows'!HX371","v":0},{"$f":"'Project Cashflows'!HY371","v":0},{"$f":"'Project Cashflows'!HZ371","v":0},{"$f":"'Project Cashflows'!IA371","v":0},{"$f":"'Project Cashflows'!IB371","v":0},{"$f":"'Project Cashflows'!IC371","v":0},{"$f":"'Project Cashflows'!ID371","v":0},{"$f":"'Project Cashflows'!IE371","v":0},{"$f":"'Project Cashflows'!IF371","v":0},{"$f":"'Project Cashflows'!IG371","v":0},{"$f":"'Project Cashflows'!IH371","v":0},{"$f":"'Project Cashflows'!II371","v":0},{"$f":"'Project Cashflows'!IJ371","v":0},{"$f":"'Project Cashflows'!IK371","v":0},{"$f":"'Project Cashflows'!IL371","v":0},{"$f":"'Project Cashflows'!IM371","v":0},{"$f":"'Project Cashflows'!IN371","v":0},{"$f":"'Project Cashflows'!IO371","v":0},{"$f":"'Project Cashflows'!IP371","v":0},{"$f":"'Project Cashflows'!IQ371","v":0},{"$f":"'Project Cashflows'!IR371","v":0},{"$f":"'Project Cashflows'!IS371","v":0},{"$f":"'Project Cashflows'!IT371","v":0},{"$f":"'Project Cashflows'!IU371","v":0},{"$f":"'Project Cashflows'!IV371","v":0},{"$f":"'Project Cashflows'!IW371","v":0},{"$f":"'Project Cashflows'!IX371","v":0},{"$f":"'Project Cashflows'!IY371","v":0},{"$f":"'Project Cashflows'!IZ371","v":0},{"$f":"'Project Cashflows'!JA371","v":0},{"$f":"'Project Cashflows'!JB371","v":0},{"$f":"'Project Cashflows'!JC371","v":0},{"$f":"'Project Cashflows'!JD371","v":0},{"$f":"'Project Cashflows'!JE371","v":0},{"$f":"'Project Cashflows'!JF371","v":0},{"$f":"'Project Cashflows'!JG371","v":0},{"$f":"'Project Cashflows'!JH371","v":0},{"$f":"'Project Cashflows'!JI371","v":0},{"$f":"'Project Cashflows'!JJ371","v":0},{"$f":"'Project Cashflows'!JK371","v":0},{"$f":"'Project Cashflows'!JL371","v":0},{"$f":"'Project Cashflows'!JM371","v":0},{"$f":"'Project Cashflows'!JN371","v":0},{"$f":"'Project Cashflows'!JO371","v":0},{"$f":"'Project Cashflows'!JP371","v":0},{"$f":"'Project Cashflows'!JQ371","v":0},{"$f":"'Project Cashflows'!JR371","v":0},{"$f":"'Project Cashflows'!JS371","v":0},{"$f":"'Project Cashflows'!JT371","v":0},{"$f":"'Project Cashflows'!JU371","v":0},{"$f":"'Project Cashflows'!JV371","v":0},{"$f":"'Project Cashflows'!JW371","v":0},{"$f":"'Project Cashflows'!JX371","v":0},{"$f":"'Project Cashflows'!JY371","v":0},{"$f":"'Project Cashflows'!JZ371","v":0},{"$f":"'Project Cashflows'!KA371","v":0},{"$f":"'Project Cashflows'!KB371","v":0},{"$f":"'Project Cashflows'!KC371","v":0},{"$f":"'Project Cashflows'!KD371","v":0},{"$f":"'Project Cashflows'!KE371","v":0},{"$f":"'Project Cashflows'!KF371","v":0},{"$f":"'Project Cashflows'!KG371","v":0},{"$f":"'Project Cashflows'!KH371","v":0},{"$f":"'Project Cashflows'!KI371","v":0},{"$f":"'Project Cashflows'!KJ371","v":0},{"$f":"'Project Cashflows'!KK371","v":0},{"$f":"'Project Cashflows'!KL371","v":0},{"$f":"'Project Cashflows'!KM371","v":0},{"$f":"'Project Cashflows'!KN371","v":0},{"$f":"'Project Cashflows'!KO371","v":0},{"$f":"'Project Cashflows'!KP371","v":0},{"$f":"'Project Cashflows'!KQ371","v":0},{"$f":"'Project Cashflows'!KR371","v":0},{"$f":"'Project Cashflows'!KS371","v":0},{"$f":"'Project Cashflows'!KT371","v":0},{"$f":"'Project Cashflows'!KU371","v":0},{"$f":"'Project Cashflows'!KV371","v":0},{"$f":"'Project Cashflows'!KW371","v":0},{"$f":"'Project Cashflows'!KX371","v":0},{"$f":"'Project Cashflows'!KY371","v":0},{"$f":"'Project Cashflows'!KZ371","v":0},{"$f":"'Project Cashflows'!LA371","v":0},{"$f":"'Project Cashflows'!LB371","v":0},{"$f":"'Project Cashflows'!LC371","v":0},{"$f":"'Project Cashflows'!LD371","v":0},{"$f":"'Project Cashflows'!LE371","v":0},{"$f":"'Project Cashflows'!LF371","v":0},{"$f":"'Project Cashflows'!LG371","v":0},{"$f":"'Project Cashflows'!LH371","v":0},{"$f":"'Project Cashflows'!LI371","v":0},{"$f":"'Project Cashflows'!LJ371","v":0},{"$f":"'Project Cashflows'!LK371","v":0},{"$f":"'Project Cashflows'!LL371","v":0},{"$f":"'Project Cashflows'!LM371","v":0},{"$f":"'Project Cashflows'!LN371","v":0},{"$f":"'Project Cashflows'!LO371","v":0},{"$f":"'Project Cashflows'!LP371","v":0},{"$f":"'Project Cashflows'!LQ371","v":0},{"$f":"'Project Cashflows'!LR371","v":0},{"$f":"'Project Cashflows'!LS371","v":0},{"$f":"'Project Cashflows'!LT371","v":0},{"$f":"'Project Cashflows'!LU371","v":0},{"$f":"'Project Cashflows'!LV371","v":0},{"$f":"'Project Cashflows'!LW371","v":0},{"$f":"'Project Cashflows'!LX371","v":0},{"$f":"'Project Cashflows'!LY371","v":0},{"$f":"'Project Cashflows'!LZ371","v":0},{"$f":"'Project Cashflows'!MA371","v":0},{"$f":"'Project Cashflows'!MB371","v":0},{"$f":"'Project Cashflows'!MC371","v":0},{"$f":"'Project Cashflows'!MD371","v":0},{"$f":"'Project Cashflows'!ME371","v":0},{"$f":"'Project Cashflows'!MF371","v":0},{"$f":"'Project Cashflows'!MG371","v":0},{"$f":"'Project Cashflows'!MH371","v":0},{"$f":"'Project Cashflows'!MI371","v":0},{"$f":"'Project Cashflows'!MJ371","v":0},{"$f":"'Project Cashflows'!MK371","v":0},{"$f":"'Project Cashflows'!ML371","v":0},{"$f":"'Project Cashflows'!MM371","v":0},{"$f":"'Project Cashflows'!MN371","v":0},{"$f":"'Project Cashflows'!MO371","v":0},{"$f":"'Project Cashflows'!MP371","v":0},{"$f":"'Project Cashflows'!MQ371","v":0},{"$f":"'Project Cashflows'!MR371","v":0},{"$f":"'Project Cashflows'!MS371","v":0},{"$f":"'Project Cashflows'!MT371","v":0},{"$f":"'Project Cashflows'!MU371","v":0},{"$f":"'Project Cashflows'!MV371","v":0},{"$f":"'Project Cashflows'!MW371","v":0},{"$f":"'Project Cashflows'!MX371","v":0},{"$f":"'Project Cashflows'!MY371","v":0},{"$f":"'Project Cashflows'!MZ371","v":0},{"$f":"'Project Cashflows'!NA371","v":0},{"$f":"'Project Cashflows'!NB371","v":0},{"$f":"'Project Cashflows'!NC371","v":0},{"$f":"'Project Cashflows'!ND371","v":0},{"$f":"'Project Cashflows'!NE371","v":0},{"$f":"'Project Cashflows'!NF371","v":0},{"$f":"'Project Cashflows'!NG371","v":0},{"$f":"'Project Cashflows'!NH371","v":0},{"$f":"'Project Cashflows'!NI371","v":0},{"$f":"'Project Cashflows'!NJ371","v":0},{"$f":"'Project Cashflows'!NK371","v":0},{"$f":"'Project Cashflows'!NL371","v":0},{"$f":"'Project Cashflows'!NM371","v":0},{"$f":"'Project Cashflows'!NN371","v":0},{"$f":"'Project Cashflows'!NO371","v":0},{"$f":"'Project Cashflows'!NP371","v":0},{"$f":"'Project Cashflows'!NQ371","v":0},{"$f":"'Project Cashflows'!NR371","v":0},{"$f":"'Project Cashflows'!NS371","v":0},{"$f":"'Project Cashflows'!NT371","v":0},{"$f":"'Project Cashflows'!NU371","v":0},{"$f":"'Project Cashflows'!NV371","v":0},{"$f":"'Project Cashflows'!NW371","v":0},{"$f":"'Project Cashflows'!NX371","v":0},{"$f":"'Project Cashflows'!NY371","v":0},{"$f":"'Project Cashflows'!NZ371","v":0},{"$f":"'Project Cashflows'!OA371","v":0},{"$f":"'Project Cashflows'!OB371","v":0},{"$f":"'Project Cashflows'!OC371","v":0},{"$f":"'Project Cashflows'!OD371","v":0},{"$f":"'Project Cashflows'!OE371","v":0},{"$f":"'Project Cashflows'!OF371","v":0},{"$f":"'Project Cashflows'!OG371","v":0},{"$f":"'Project Cashflows'!OH371","v":0},{"$f":"'Project Cashflows'!OI371","v":0},{"$f":"'Project Cashflows'!OJ371","v":0},{"$f":"'Project Cashflows'!OK371","v":0},{"$f":"'Project Cashflows'!OL371","v":0},{"$f":"'Project Cashflows'!OM371","v":0},{"$f":"'Project Cashflows'!ON371","v":0},{"$f":"'Project Cashflows'!OO371","v":0},{"$f":"'Project Cashflows'!OP371","v":0},{"$f":"'Project Cashflows'!OQ371","v":0},{"$f":"'Project Cashflows'!OR371","v":0},{"$f":"'Project Cashflows'!OS371","v":0},{"$f":"'Project Cashflows'!OT371","v":0},{"$f":"'Project Cashflows'!OU371","v":0},{"$f":"'Project Cashflows'!OV371","v":0},{"$f":"'Project Cashflows'!OW371","v":0},{"$f":"'Project Cashflows'!OX371","v":0},{"$f":"'Project Cashflows'!OY371","v":0},{"$f":"'Project Cashflows'!OZ371","v":0},{"$f":"'Project Cashflows'!PA371","v":0},{"$f":"'Project Cashflows'!PB371","v":0},{"$f":"'Project Cashflows'!PC371","v":0},{"$f":"'Project Cashflows'!PD371","v":0},{"$f":"'Project Cashflows'!PE371","v":0},{"$f":"'Project Cashflows'!PF371","v":0},{"$f":"'Project Cashflows'!PG371","v":0},{"$f":"'Project Cashflows'!PH371","v":0},{"$f":"'Project Cashflows'!PI371","v":0},{"$f":"'Project Cashflows'!PJ371","v":0},{"$f":"'Project Cashflows'!PK371","v":0},{"$f":"'Project Cashflows'!PL371","v":0},{"$f":"'Project Cashflows'!PM371","v":0},{"$f":"'Project Cashflows'!PN371","v":0},{"$f":"'Project Cashflows'!PO371","v":0},{"$f":"'Project Cashflows'!PP371","v":0},{"$f":"'Project Cashflows'!PQ371","v":0},{"$f":"'Project Cashflows'!PR371","v":0},{"$f":"'Project Cashflows'!PS371","v":0},{"$f":"'Project Cashflows'!PT371","v":0},{"$f":"'Project Cashflows'!PU371","v":0},{"$f":"'Project Cashflows'!PV371","v":0},{"$f":"'Project Cashflows'!PW371","v":0},{"$f":"'Project Cashflows'!PX371","v":0},{"$f":"'Project Cashflows'!PY371","v":0},{"$f":"'Project Cashflows'!PZ371","v":0},{"$f":"'Project Cashflows'!QA371","v":0},{"$f":"'Project Cashflows'!QB371","v":0},{"$f":"'Project Cashflows'!QC371","v":0},{"$f":"'Project Cashflows'!QD371","v":0},{"$f":"'Project Cashflows'!QE371","v":0},{"$f":"'Project Cashflows'!QF371","v":0},{"$f":"'Project Cashflows'!QG371","v":0},{"$f":"'Project Cashflows'!QH371","v":0},{"$f":"'Project Cashflows'!QI371","v":0},{"$f":"'Project Cashflows'!QJ371","v":0},{"$f":"'Project Cashflows'!QK371","v":0},{"$f":"'Project Cashflows'!QL371","v":0},{"$f":"'Project Cashflows'!QM371","v":0},{"$f":"'Project Cashflows'!QN371","v":0},{"$f":"'Project Cashflows'!QO371","v":0},{"$f":"'Project Cashflows'!QP371","v":0},{"$f":"'Project Cashflows'!QQ371","v":0},{"$f":"'Project Cashflows'!QR371","v":0},{"$f":"'Project Cashflows'!QS371","v":0},{"$f":"'Project Cashflows'!QT371","v":0},{"$f":"'Project Cashflows'!QU371","v":0},{"$f":"'Project Cashflows'!QV371","v":0},{"$f":"'Project Cashflows'!QW371","v":0},{"$f":"'Project Cashflows'!QX371","v":0},{"$f":"'Project Cashflows'!QY371","v":0},{"$f":"'Project Cashflows'!QZ371","v":0},{"$f":"'Project Cashflows'!RA371","v":0},{"$f":"'Project Cashflows'!RB371","v":0},{"$f":"'Project Cashflows'!RC371","v":0},{"$f":"'Project Cashflows'!RD371","v":0},{"$f":"'Project Cashflows'!RE371","v":0},{"$f":"'Project Cashflows'!RF371","v":0},{"$f":"'Project Cashflows'!RG371","v":0},{"$f":"'Project Cashflows'!RH371","v":0},{"$f":"'Project Cashflows'!RI371","v":0},{"$f":"'Project Cashflows'!RJ371","v":0},{"$f":"'Project Cashflows'!RK371","v":0},{"$f":"'Project Cashflows'!RL371","v":0},{"$f":"'Project Cashflows'!RM371","v":0},{"$f":"'Project Cashflows'!RN371","v":0},{"$f":"'Project Cashflows'!RO371","v":0},{"$f":"'Project Cashflows'!RP371","v":0},{"$f":"'Project Cashflows'!RQ371","v":0},{"$f":"'Project Cashflows'!RR371","v":0},{"$f":"'Project Cashflows'!RS371","v":0},{"$f":"'Project Cashflows'!RT371","v":0},{"$f":"'Project Cashflows'!RU371","v":0},{"$f":"'Project Cashflows'!RV371","v":0},{"$f":"'Project Cashflows'!RW371","v":0},{"$f":"'Project Cashflows'!RX371","v":0},{"$f":"'Project Cashflows'!RY371","v":0},{"$f":"'Project Cashflows'!RZ371","v":0},{"$f":"'Project Cashflows'!SA371","v":0},{"$f":"'Project Cashflows'!SB371","v":0},{"$f":"'Project Cashflows'!SC371","v":0},{"$f":"'Project Cashflows'!SD371","v":0},{"$f":"'Project Cashflows'!SE371","v":0},{"$f":"'Project Cashflows'!SF371","v":0},{"$f":"'Project Cashflows'!SG371","v":0},{"$f":"'Project Cashflows'!SH371","v":0},{"$f":"'Project Cashflows'!SI371","v":0},{"$f":"'Project Cashflows'!SJ371","v":0},{"$f":"'Project Cashflows'!SK371","v":0},{"$f":"'Project Cashflows'!SL371","v":0},{"$f":"'Project Cashflows'!SM371","v":0},{"$f":"'Project Cashflows'!SN371","v":0},{"$f":"'Project Cashflows'!SO371","v":0},{"$f":"'Project Cashflows'!SP371","v":0},{"$f":"'Project Cashflows'!SQ371","v":0},{"$f":"'Project Cashflows'!SR371","v":0},{"$f":"'Project Cashflows'!SS371","v":0},{"$f":"'Project Cashflows'!ST371","v":0},{"$f":"'Project Cashflows'!SU371","v":0},{"$f":"'Project Cashflows'!SV371","v":0},{"$f":"'Project Cashflows'!SW371","v":0},{"$f":"'Project Cashflows'!SX371","v":0},{"$f":"'Project Cashflows'!SY371","v":0},{"$f":"'Project Cashflows'!SZ371","v":0},{"$f":"'Project Cashflows'!TA371","v":0},{"$f":"'Project Cashflows'!TB371","v":0},{"$f":"'Project Cashflows'!TC371","v":0},{"$f":"'Project Cashflows'!TD371","v":0},{"$f":"'Project Cashflows'!TE371","v":0},{"$f":"'Project Cashflows'!TF371","v":0},{"$f":"'Project Cashflows'!TG371","v":0},{"$f":"'Project Cashflows'!TH371","v":0},{"$f":"'Project Cashflows'!TI371","v":0},{"$f":"'Project Cashflows'!TJ371","v":0},{"$f":"'Project Cashflows'!TK371","v":0},{"$f":"'Project Cashflows'!TL371","v":0},{"$f":"'Project Cashflows'!TM371","v":0},{"$f":"'Project Cashflows'!TN371","v":0},{"$f":"'Project Cashflows'!TO371","v":0},{"$f":"'Project Cashflows'!TP371","v":0},{"$f":"'Project Cashflows'!TQ371","v":0},{"$f":"'Project Cashflows'!TR371","v":0},{"$f":"'Project Cashflows'!TS371","v":0},{"$f":"'Project Cashflows'!TT371","v":0},{"$f":"'Project Cashflows'!TU371","v":0},{"$f":"'Project Cashflows'!TV371","v":0},{"$f":"'Project Cashflows'!TW371","v":0},{"$f":"'Project Cashflows'!TX371","v":0},{"$f":"'Project Cashflows'!TY371","v":0},{"$f":"'Project Cashflows'!TZ371","v":0},{"$f":"'Project Cashflows'!UA371","v":0},{"$f":"'Project Cashflows'!UB371","v":0},{"$f":"'Project Cashflows'!UC371","v":0},{"$f":"'Project Cashflows'!UD371","v":0},{"$f":"'Project Cashflows'!UE371","v":0},{"$f":"'Project Cashflows'!UF371","v":0},{"$f":"'Project Cashflows'!UG371","v":0},{"$f":"'Project Cashflows'!UH371","v":0},{"$f":"'Project Cashflows'!UI371","v":0},{"$f":"'Project Cashflows'!UJ371","v":0},{"$f":"'Project Cashflows'!UK371","v":0},{"$f":"'Project Cashflows'!UL371","v":0},{"$f":"'Project Cashflows'!UM371","v":0},{"$f":"'Project Cashflows'!UN371","v":0},{"$f":"'Project Cashflows'!UO371","v":0},{"$f":"'Project Cashflows'!UP371","v":0},{"$f":"'Project Cashflows'!UQ371","v":0},{"$f":"'Project Cashflows'!UR371","v":0},{"$f":"'Project Cashflows'!US371","v":0},{"$f":"'Project Cashflows'!UT371","v":0},{"$f":"'Project Cashflows'!UU371","v":0},{"$f":"'Project Cashflows'!UV371","v":0},{"$f":"'Project Cashflows'!UW371","v":0},{"$f":"'Project Cashflows'!UX371","v":0},{"$f":"'Project Cashflows'!UY371","v":0},{"$f":"'Project Cashflows'!UZ371","v":0},{"$f":"'Project Cashflows'!VA371","v":0},{"$f":"'Project Cashflows'!VB371","v":0},{"$f":"'Project Cashflows'!VC371","v":0},{"$f":"'Project Cashflows'!VD371","v":0},{"$f":"'Project Cashflows'!VE371","v":0},{"$f":"'Project Cashflows'!VF371","v":0},{"$f":"'Project Cashflows'!VG371","v":0},{"$f":"'Project Cashflows'!VH371","v":0},{"$f":"'Project Cashflows'!VI371","v":0},{"$f":"'Project Cashflows'!VJ371","v":0},{"$f":"'Project Cashflows'!VK371","v":0},{"$f":"'Project Cashflows'!VL371","v":0},{"$f":"'Project Cashflows'!VM371","v":0},{"$f":"'Project Cashflows'!VN371","v":0},{"$f":"'Project Cashflows'!VO371","v":0},{"$f":"'Project Cashflows'!VP371","v":0},{"$f":"'Project Cashflows'!VQ371","v":0},{"$f":"'Project Cashflows'!VR371","v":0},{"$f":"'Project Cashflows'!VS371","v":0},{"$f":"'Project Cashflows'!VT371","v":0},{"$f":"'Project Cashflows'!VU371","v":0},{"$f":"'Project Cashflows'!VV371","v":0},{"$f":"'Project Cashflows'!VW371","v":0},{"$f":"'Project Cashflows'!VX371","v":0},{"$f":"'Project Cashflows'!VY371","v":0},{"$f":"'Project Cashflows'!VZ371","v":0},{"$f":"'Project Cashflows'!WA371","v":0},{"$f":"'Project Cashflows'!WB371","v":0},{"$f":"'Project Cashflows'!WC371","v":0},{"$f":"'Project Cashflows'!WD371","v":0},{"$f":"'Project Cashflows'!WE371","v":0},{"$f":"'Project Cashflows'!WF371","v":0},{"$f":"'Project Cashflows'!WG371","v":0},{"$f":"'Project Cashflows'!WH371","v":0},{"$f":"'Project Cashflows'!WI371","v":0},{"$f":"'Project Cashflows'!WJ371","v":0},{"$f":"'Project Cashflows'!WK371","v":0},{"$f":"'Project Cashflows'!WL371","v":0},{"$f":"'Project Cashflows'!WM371","v":0},{"$f":"'Project Cashflows'!WN371","v":0},{"$f":"'Project Cashflows'!WO371","v":0},{"$f":"'Project Cashflows'!WP371","v":0},{"$f":"'Project Cashflows'!WQ371","v":0},{"$f":"'Project Cashflows'!WR371","v":0},{"$f":"'Project Cashflows'!WS371","v":0},{"$f":"'Project Cashflows'!WT371","v":0},{"$f":"'Project Cashflows'!WU371","v":0},{"$f":"'Project Cashflows'!WV371","v":0},{"$f":"'Project Cashflows'!WW371","v":0},{"$f":"'Project Cashflows'!WX371","v":0},{"$f":"'Project Cashflows'!WY371","v":0},{"$f":"'Project Cashflows'!WZ371","v":0},{"$f":"'Project Cashflows'!XA371","v":0},{"$f":"'Project Cashflows'!XB371","v":0},{"$f":"'Project Cashflows'!XC371","v":0},{"$f":"'Project Cashflows'!XD371","v":0},{"$f":"'Project Cashflows'!XE371","v":0},{"$f":"'Project Cashflows'!XF371","v":0},{"$f":"'Project Cashflows'!XG371","v":0},{"$f":"'Project Cashflows'!XH371","v":0},{"$f":"'Project Cashflows'!XI371","v":0},{"$f":"'Project Cashflows'!XJ371","v":0},{"$f":"'Project Cashflows'!XK371","v":0},{"$f":"'Project Cashflows'!XL371","v":0},{"$f":"'Project Cashflows'!XM371","v":0},{"$f":"'Project Cashflows'!XN371","v":0},{"$f":"'Project Cashflows'!XO371","v":0},{"$f":"'Project Cashflows'!XP371","v":0},{"$f":"'Project Cashflows'!XQ371","v":0},{"$f":"'Project Cashflows'!XR371","v":0},{"$f":"'Project Cashflows'!XS371","v":0},{"$f":"'Project Cashflows'!XT371","v":0},{"$f":"'Project Cashflows'!XU371","v":0},{"$f":"'Project Cashflows'!XV371","v":0},{"$f":"'Project Cashflows'!XW371","v":0},{"$f":"'Project Cashflows'!XX371","v":0},{"$f":"'Project Cashflows'!XY371","v":0},{"$f":"'Project Cashflows'!XZ371","v":0},{"$f":"'Project Cashflows'!YA371","v":0},{"$f":"'Project Cashflows'!YB371","v":0},{"$f":"'Project Cashflows'!YC371","v":0},{"$f":"'Project Cashflows'!YD371","v":0},{"$f":"'Project Cashflows'!YE371","v":0},{"$f":"'Project Cashflows'!YF371","v":0},{"$f":"'Project Cashflows'!YG371","v":0},{"$f":"'Project Cashflows'!YH371","v":0},{"$f":"'Project Cashflows'!YI371","v":0},{"$f":"'Project Cashflows'!YJ371","v":0},{"$f":"'Project Cashflows'!YK371","v":0},{"$f":"'Project Cashflows'!YL371","v":0},{"$f":"'Project Cashflows'!YM371","v":0},{"$f":"'Project Cashflows'!YN371","v":0},{"$f":"'Project Cashflows'!YO371","v":0},{"$f":"'Project Cashflows'!YP371","v":0},{"$f":"'Project Cashflows'!YQ371","v":0},{"$f":"'Project Cashflows'!YR371","v":0},{"$f":"'Project Cashflows'!YS371","v":0},{"$f":"'Project Cashflows'!YT371","v":0},{"$f":"'Project Cashflows'!YU371","v":0},{"$f":"'Project Cashflows'!YV371","v":0},{"$f":"'Project Cashflows'!YW371","v":0},{"$f":"'Project Cashflows'!YX371","v":0},{"$f":"'Project Cashflows'!YY371","v":0},{"$f":"'Project Cashflows'!YZ371","v":0},{"$f":"'Project Cashflows'!ZA371","v":0},{"$f":"'Project Cashflows'!ZB371","v":0},{"$f":"'Project Cashflows'!ZC371","v":0},{"$f":"'Project Cashflows'!ZD371","v":0},{"$f":"'Project Cashflows'!ZE371","v":0},{"$f":"'Project Cashflows'!ZF371","v":0},{"$f":"'Project Cashflows'!ZG371","v":0},{"$f":"'Project Cashflows'!ZH371","v":0},{"$f":"'Project Cashflows'!ZI371","v":0},{"$f":"'Project Cashflows'!ZJ371","v":0},{"$f":"'Project Cashflows'!ZK371","v":0},{"$f":"'Project Cashflows'!ZL371","v":0},{"$f":"'Project Cashflows'!ZM371","v":0},{"$f":"'Project Cashflows'!ZN371","v":0},{"$f":"'Project Cashflows'!ZO371","v":0},{"$f":"'Project Cashflows'!ZP371","v":0},{"$f":"'Project Cashflows'!ZQ371","v":0},{"$f":"'Project Cashflows'!ZR371","v":0},{"$f":"'Project Cashflows'!ZS371","v":0},{"$f":"'Project Cashflows'!ZT371","v":0},{"$f":"'Project Cashflows'!ZU371","v":0},{"$f":"'Project Cashflows'!ZV371","v":0},{"$f":"'Project Cashflows'!ZW371","v":0},{"$f":"'Project Cashflows'!ZX371","v":0},{"$f":"'Project Cashflows'!ZY371","v":0},{"$f":"'Project Cashflows'!ZZ371","v":0},{"$f":"'Project Cashflows'!AAA371","v":0},{"$f":"'Project Cashflows'!AAB371","v":0},{"$f":"'Project Cashflows'!AAC371","v":0},{"$f":"'Project Cashflows'!AAD371","v":0},{"$f":"'Project Cashflows'!AAE371","v":0},{"$f":"'Project Cashflows'!AAF371","v":0},{"$f":"'Project Cashflows'!AAG371","v":0},{"$f":"'Project Cashflows'!AAH371","v":0},{"$f":"'Project Cashflows'!AAI371","v":0},{"$f":"'Project Cashflows'!AAJ371","v":0},{"$f":"'Project Cashflows'!AAK371","v":0},{"$f":"'Project Cashflows'!AAL371","v":0},{"$f":"'Project Cashflows'!AAM371","v":0},{"$f":"'Project Cashflows'!AAN371","v":0},{"$f":"'Project Cashflows'!AAO371","v":0},{"$f":"'Project Cashflows'!AAP371","v":0},{"$f":"'Project Cashflows'!AAQ371","v":0},{"$f":"'Project Cashflows'!AAR371","v":0},{"$f":"'Project Cashflows'!AAS371","v":0},{"$f":"'Project Cashflows'!AAT371","v":0},{"$f":"'Project Cashflows'!AAU371","v":0},{"$f":"'Project Cashflows'!AAV371","v":0},{"$f":"'Project Cashflows'!AAW371","v":0},{"$f":"'Project Cashflows'!AAX371","v":0},{"$f":"'Project Cashflows'!AAY371","v":0},{"$f":"'Project Cashflows'!AAZ371","v":0},{"$f":"'Project Cashflows'!ABA371","v":0},{"$f":"'Project Cashflows'!ABB371","v":0},{"$f":"'Project Cashflows'!ABC371","v":0},{"$f":"'Project Cashflows'!ABD371","v":0},{"$f":"'Project Cashflows'!ABE371","v":0},{"$f":"'Project Cashflows'!ABF371","v":0},{"$f":"'Project Cashflows'!ABG371","v":0},{"$f":"'Project Cashflows'!ABH371","v":0},{"$f":"'Project Cashflows'!ABI371","v":0},{"$f":"'Project Cashflows'!ABJ371","v":0},{"$f":"'Project Cashflows'!ABK371","v":0},{"$f":"'Project Cashflows'!ABL371","v":0},{"$f":"'Project Cashflows'!ABM371","v":0},{"$f":"'Project Cashflows'!ABN371","v":0},{"$f":"'Project Cashflows'!ABO371","v":0},{"$f":"'Project Cashflows'!ABP371","v":0},{"$f":"'Project Cashflows'!ABQ371","v":0},{"$f":"'Project Cashflows'!ABR371","v":0},{"$f":"'Project Cashflows'!ABS371","v":0},{"$f":"'Project Cashflows'!ABT371","v":0},{"$f":"'Project Cashflows'!ABU371","v":0},{"$f":"'Project Cashflows'!ABV371","v":0},{"$f":"'Project Cashflows'!ABW371","v":0},{"$f":"'Project Cashflows'!ABX371","v":0},{"$f":"'Project Cashflows'!ABY371","v":0},{"$f":"'Project Cashflows'!ABZ371","v":0},{"$f":"'Project Cashflows'!ACA371","v":0},{"$f":"'Project Cashflows'!ACB371","v":0},{"$f":"'Project Cashflows'!ACC371","v":0},{"$f":"'Project Cashflows'!ACD371","v":0},{"$f":"'Project Cashflows'!ACE371","v":0},{"$f":"'Project Cashflows'!ACF371","v":0},{"$f":"'Project Cashflows'!ACG371","v":0},{"$f":"'Project Cashflows'!ACH371","v":0},{"$f":"'Project Cashflows'!ACI371","v":0},{"$f":"'Project Cashflows'!ACJ371","v":0},{"$f":"'Project Cashflows'!ACK371","v":0},{"$f":"'Project Cashflows'!ACL371","v":0},{"$f":"'Project Cashflows'!ACM371","v":0},{"$f":"'Project Cashflows'!ACN371","v":0},{"$f":"'Project Cashflows'!ACO371","v":0},{"$f":"'Project Cashflows'!ACP371","v":0},{"$f":"'Project Cashflows'!ACQ371","v":0},{"$f":"'Project Cashflows'!ACR371","v":0},{"$f":"'Project Cashflows'!ACS371","v":0},{"$f":"'Project Cashflows'!ACT371","v":0},{"$f":"'Project Cashflows'!ACU371","v":0},{"$f":"'Project Cashflows'!ACV371","v":0},{"$f":"'Project Cashflows'!ACW371","v":0},{"$f":"'Project Cashflows'!ACX371","v":0},{"$f":"'Project Cashflows'!ACY371","v":0},{"$f":"'Project Cashflows'!ACZ371","v":0},{"$f":"'Project Cashflows'!ADA371","v":0},{"$f":"'Project Cashflows'!ADB371","v":0},{"$f":"'Project Cashflows'!ADC371","v":0},{"$f":"'Project Cashflows'!ADD371","v":0},{"$f":"'Project Cashflows'!ADE371","v":0},{"$f":"'Project Cashflows'!ADF371","v":0},{"$f":"'Project Cashflows'!ADG371","v":0},{"$f":"'Project Cashflows'!ADH371","v":0},{"$f":"'Project Cashflows'!ADI371","v":0},{"$f":"'Project Cashflows'!ADJ371","v":0},{"$f":"'Project Cashflows'!ADK371","v":0},{"$f":"'Project Cashflows'!ADL371","v":0},{"$f":"'Project Cashflows'!ADM371","v":0},{"$f":"'Project Cashflows'!ADN371","v":0},{"$f":"'Project Cashflows'!ADO371","v":0},{"$f":"'Project Cashflows'!ADP371","v":0},{"$f":"'Project Cashflows'!ADQ371","v":0},{"$f":"'Project Cashflows'!ADR371","v":0},{"$f":"'Project Cashflows'!ADS371","v":0},{"$f":"'Project Cashflows'!ADT371","v":0},{"$f":"'Project Cashflows'!ADU371","v":0},{"$f":"'Project Cashflows'!ADV371","v":0},{"$f":"'Project Cashflows'!ADW371","v":0},{"$f":"'Project Cashflows'!ADX371","v":0},{"$f":"'Project Cashflows'!ADY371","v":0},{"$f":"'Project Cashflows'!ADZ371","v":0},{"$f":"'Project Cashflows'!AEA371","v":0},{"$f":"'Project Cashflows'!AEB371","v":0},{"$f":"'Project Cashflows'!AEC371","v":0},{"$f":"'Project Cashflows'!AED371","v":0},{"$f":"'Project Cashflows'!AEE371","v":0},{"$f":"'Project Cashflows'!AEF371","v":0},{"$f":"'Project Cashflows'!AEG371","v":0},{"$f":"'Project Cashflows'!AEH371","v":0},{"$f":"'Project Cashflows'!AEI371","v":0},{"$f":"'Project Cashflows'!AEJ371","v":0},{"$f":"'Project Cashflows'!AEK371","v":0},{"$f":"'Project Cashflows'!AEL371","v":0},{"$f":"'Project Cashflows'!AEM371","v":0},{"$f":"'Project Cashflows'!AEN371","v":0},{"$f":"'Project Cashflows'!AEO371","v":0},{"$f":"'Project Cashflows'!AEP371","v":0},{"$f":"'Project Cashflows'!AEQ371","v":0},{"$f":"'Project Cashflows'!AER371","v":0},{"$f":"'Project Cashflows'!AES371","v":0},{"$f":"'Project Cashflows'!AET371","v":0},{"$f":"'Project Cashflows'!AEU371","v":0},{"$f":"'Project Cashflows'!AEV371","v":0},{"$f":"'Project Cashflows'!AEW371","v":0},{"$f":"'Project Cashflows'!AEX371","v":0},{"$f":"'Project Cashflows'!AEY371","v":0},{"$f":"'Project Cashflows'!AEZ371","v":0},{"$f":"'Project Cashflows'!AFA371","v":0},{"$f":"'Project Cashflows'!AFB371","v":0},{"$f":"'Project Cashflows'!AFC371","v":0},{"$f":"'Project Cashflows'!AFD371","v":0},{"$f":"'Project Cashflows'!AFE371","v":0},{"$f":"'Project Cashflows'!AFF371","v":0},{"$f":"'Project Cashflows'!AFG371","v":0},{"$f":"'Project Cashflows'!AFH371","v":0},{"$f":"'Project Cashflows'!AFI371","v":0},{"$f":"'Project Cashflows'!AFJ371","v":0},{"$f":"'Project Cashflows'!AFK371","v":0},{"$f":"'Project Cashflows'!AFL371","v":0},{"$f":"'Project Cashflows'!AFM371","v":0},{"$f":"'Project Cashflows'!AFN371","v":0},{"$f":"'Project Cashflows'!AFO371","v":0},{"$f":"'Project Cashflows'!AFP371","v":0},{"$f":"'Project Cashflows'!AFQ371","v":0},{"$f":"'Project Cashflows'!AFR371","v":0},{"$f":"'Project Cashflows'!AFS371","v":0},{"$f":"'Project Cashflows'!AFT371","v":0},{"$f":"'Project Cashflows'!AFU371","v":0},{"$f":"'Project Cashflows'!AFV371","v":0},{"$f":"'Project Cashflows'!AFW371","v":0},{"$f":"'Project Cashflows'!AFX371","v":0},{"$f":"'Project Cashflows'!AFY371","v":0},{"$f":"'Project Cashflows'!AFZ371","v":0},{"$f":"'Project Cashflows'!AGA371","v":0},{"$f":"'Project Cashflows'!AGB371","v":0},{"$f":"'Project Cashflows'!AGC371","v":0},{"$f":"'Project Cashflows'!AGD371","v":0},{"$f":"'Project Cashflows'!AGE371","v":0},{"$f":"'Project Cashflows'!AGF371","v":0},{"$f":"'Project Cashflows'!AGG371","v":0},{"$f":"'Project Cashflows'!AGH371","v":0},{"$f":"'Project Cashflows'!AGI371","v":0},{"$f":"'Project Cashflows'!AGJ371","v":0},{"$f":"'Project Cashflows'!AGK371","v":0},{"$f":"'Project Cashflows'!AGL371","v":0},{"$f":"'Project Cashflows'!AGM371","v":0},{"$f":"'Project Cashflows'!AGN371","v":0},{"$f":"'Project Cashflows'!AGO371","v":0},{"$f":"'Project Cashflows'!AGP371","v":0},{"$f":"'Project Cashflows'!AGQ371","v":0},{"$f":"'Project Cashflows'!AGR371","v":0},{"$f":"'Project Cashflows'!AGS371","v":0},{"$f":"'Project Cashflows'!AGT371","v":0},{"$f":"'Project Cashflows'!AGU371","v":0},{"$f":"'Project Cashflows'!AGV371","v":0},{"$f":"'Project Cashflows'!AGW371","v":0},{"$f":"'Project Cashflows'!AGX371","v":0},{"$f":"'Project Cashflows'!AGY371","v":0},{"$f":"'Project Cashflows'!AGZ371","v":0},{"$f":"'Project Cashflows'!AHA371","v":0},{"$f":"'Project Cashflows'!AHB371","v":0},{"$f":"'Project Cashflows'!AHC371","v":0},{"$f":"'Project Cashflows'!AHD371","v":0},{"$f":"'Project Cashflows'!AHE371","v":0},{"$f":"'Project Cashflows'!AHF371","v":0},{"$f":"'Project Cashflows'!AHG371","v":0},{"$f":"'Project Cashflows'!AHH371","v":0},{"$f":"'Project Cashflows'!AHI371","v":0},{"$f":"'Project Cashflows'!AHJ371","v":0},{"$f":"'Project Cashflows'!AHK371","v":0},{"$f":"'Project Cashflows'!AHL371","v":0},{"$f":"'Project Cashflows'!AHM371","v":0},{"$f":"'Project Cashflows'!AHN371","v":0},{"$f":"'Project Cashflows'!AHO371","v":0},{"$f":"'Project Cashflows'!AHP371","v":0},{"$f":"'Project Cashflows'!AHQ371","v":0},{"$f":"'Project Cashflows'!AHR371","v":0},{"$f":"'Project Cashflows'!AHS371","v":0},{"$f":"'Project Cashflows'!AHT371","v":0},{"$f":"'Project Cashflows'!AHU371","v":0},{"$f":"'Project Cashflows'!AHV371","v":0},{"$f":"'Project Cashflows'!AHW371","v":0},{"$f":"'Project Cashflows'!AHX371","v":0},{"$f":"'Project Cashflows'!AHY371","v":0},{"$f":"'Project Cashflows'!AHZ371","v":0},{"$f":"'Project Cashflows'!AIA371","v":0},{"$f":"'Project Cashflows'!AIB371","v":0},{"$f":"'Project Cashflows'!AIC371","v":0},{"$f":"'Project Cashflows'!AID371","v":0},{"$f":"'Project Cashflows'!AIE371","v":0},{"$f":"'Project Cashflows'!AIF371","v":0},{"$f":"'Project Cashflows'!AIG371","v":0},{"$f":"'Project Cashflows'!AIH371","v":0},{"$f":"'Project Cashflows'!AII371","v":0},{"$f":"'Project Cashflows'!AIJ371","v":0},{"$f":"'Project Cashflows'!AIK371","v":0},{"$f":"'Project Cashflows'!AIL371","v":0},{"$f":"'Project Cashflows'!AIM371","v":0},{"$f":"'Project Cashflows'!AIN371","v":0},{"$f":"'Project Cashflows'!AIO371","v":0},{"$f":"'Project Cashflows'!AIP371","v":0},{"$f":"'Project Cashflows'!AIQ371","v":0},{"$f":"'Project Cashflows'!AIR371","v":0},{"$f":"'Project Cashflows'!AIS371","v":0},{"$f":"'Project Cashflows'!AIT371","v":0},{"$f":"'Project Cashflows'!AIU371","v":0},{"$f":"'Project Cashflows'!AIV371","v":0},{"$f":"'Project Cashflows'!AIW371","v":0},{"$f":"'Project Cashflows'!AIX371","v":0},{"$f":"'Project Cashflows'!AIY371","v":0},{"$f":"'Project Cashflows'!AIZ371","v":0},{"$f":"'Project Cashflows'!AJA371","v":0},{"$f":"'Project Cashflows'!AJB371","v":0},{"$f":"'Project Cashflows'!AJC371","v":0},{"$f":"'Project Cashflows'!AJD371","v":0},{"$f":"'Project Cashflows'!AJE371","v":0},{"$f":"'Project Cashflows'!AJF371","v":0},{"$f":"'Project Cashflows'!AJG371","v":0},{"$f":"'Project Cashflows'!AJH371","v":0},{"$f":"'Project Cashflows'!AJI371","v":0},{"$f":"'Project Cashflows'!AJJ371","v":0},{"$f":"'Project Cashflows'!AJK371","v":0},{"$f":"'Project Cashflows'!AJL371","v":0},{"$f":"'Project Cashflows'!AJM371","v":0},{"$f":"'Project Cashflows'!AJN371","v":0},{"$f":"'Project Cashflows'!AJO371","v":0},{"$f":"'Project Cashflows'!AJP371","v":0},{"$f":"'Project Cashflows'!AJQ371","v":0},{"$f":"'Project Cashflows'!AJR371","v":0},{"$f":"'Project Cashflows'!AJS371","v":0},{"$f":"'Project Cashflows'!AJT371","v":0},{"$f":"'Project Cashflows'!AJU371","v":0},{"$f":"'Project Cashflows'!AJV371","v":0},{"$f":"'Project Cashflows'!AJW371","v":0},{"$f":"'Project Cashflows'!AJX371","v":0},{"$f":"'Project Cashflows'!AJY371","v":0},{"$f":"'Project Cashflows'!AJZ371","v":0},{"$f":"'Project Cashflows'!AKA371","v":0},{"$f":"'Project Cashflows'!AKB371","v":0},{"$f":"'Project Cashflows'!AKC371","v":0},{"$f":"'Project Cashflows'!AKD371","v":0},{"$f":"'Project Cashflows'!AKE371","v":0},{"$f":"'Project Cashflows'!AKF371","v":0},{"$f":"'Project Cashflows'!AKG371","v":0},{"$f":"'Project Cashflows'!AKH371","v":0},{"$f":"'Project Cashflows'!AKI371","v":0},{"$f":"'Project Cashflows'!AKJ371","v":0},{"$f":"'Project Cashflows'!AKK371","v":0},{"$f":"'Project Cashflows'!AKL371","v":0},{"$f":"'Project Cashflows'!AKM371","v":0},{"$f":"'Project Cashflows'!AKN371","v":0},{"$f":"'Project Cashflows'!AKO371","v":0},{"$f":"'Project Cashflows'!AKP371","v":0},{"$f":"'Project Cashflows'!AKQ371","v":0},{"$f":"'Project Cashflows'!AKR371","v":0},{"$f":"'Project Cashflows'!AKS371","v":0},{"$f":"'Project Cashflows'!AKT371","v":0},{"$f":"'Project Cashflows'!AKU371","v":0},{"$f":"'Project Cashflows'!AKV371","v":0},{"$f":"'Project Cashflows'!AKW371","v":0},{"$f":"'Project Cashflows'!AKX371","v":0},{"$f":"'Project Cashflows'!AKY371","v":0},{"$f":"'Project Cashflows'!AKZ371","v":0},{"$f":"'Project Cashflows'!ALA371","v":0},{"$f":"'Project Cashflows'!ALB371","v":0},{"$f":"'Project Cashflows'!ALC371","v":0},{"$f":"'Project Cashflows'!ALD371","v":0},{"$f":"'Project Cashflows'!ALE371","v":0},{"$f":"'Project Cashflows'!ALF371","v":0},{"$f":"'Project Cashflows'!ALG371","v":0},{"$f":"'Project Cashflows'!ALH371","v":0},{"$f":"'Project Cashflows'!ALI371","v":0},{"$f":"'Project Cashflows'!ALJ371","v":0},{"$f":"'Project Cashflows'!ALK371","v":0},{"$f":"'Project Cashflows'!ALL371","v":0},{"$f":"'Project Cashflows'!ALM371","v":0},{"$f":"'Project Cashflows'!ALN371","v":0},{"$f":"'Project Cashflows'!ALO371","v":0},{"$f":"'Project Cashflows'!ALP371","v":0},{"$f":"'Project Cashflows'!ALQ371","v":0},{"$f":"'Project Cashflows'!ALR371","v":0},{"$f":"'Project Cashflows'!ALS371","v":0},{"$f":"'Project Cashflows'!ALT371","v":0},{"$f":"'Project Cashflows'!ALU371","v":0},{"$f":"'Project Cashflows'!ALV371","v":0},{"$f":"'Project Cashflows'!ALW371","v":0},{"$f":"'Project Cashflows'!ALX371","v":0},{"$f":"'Project Cashflows'!ALY371","v":0},{"$f":"'Project Cashflows'!ALZ371","v":0},{"$f":"'Project Cashflows'!AMA371","v":0},{"$f":"'Project Cashflows'!AMB371","v":0},{"$f":"'Project Cashflows'!AMC371","v":0},{"$f":"'Project Cashflows'!AMD371","v":0},{"$f":"'Project Cashflows'!AME371","v":0},{"$f":"'Project Cashflows'!AMF371","v":0},{"$f":"'Project Cashflows'!AMG371","v":0},{"$f":"'Project Cashflows'!AMH371","v":0},{"$f":"'Project Cashflows'!AMI371","v":0},{"$f":"'Project Cashflows'!AMJ371","v":0},{"$f":"'Project Cashflows'!AMK371","v":0},{"$f":"'Project Cashflows'!AML371","v":0},{"$f":"'Project Cashflows'!AMM371","v":0},{"$f":"'Project Cashflows'!AMN371","v":0},{"$f":"'Project Cashflows'!AMO371","v":0},{"$f":"'Project Cashflows'!AMP371","v":0},{"$f":"'Project Cashflows'!AMQ371","v":0},{"$f":"'Project Cashflows'!AMR371","v":0},{"$f":"'Project Cashflows'!AMS371","v":0},{"$f":"'Project Cashflows'!AMT371","v":0},{"$f":"'Project Cashflows'!AMU371","v":0},{"$f":"'Project Cashflows'!AMV371","v":0},{"$f":"'Project Cashflows'!AMW371","v":0},{"$f":"'Project Cashflows'!AMX371","v":0},{"$f":"'Project Cashflows'!AMY371","v":0},{"$f":"'Project Cashflows'!AMZ371","v":0},{"$f":"'Project Cashflows'!ANA371","v":0},{"$f":"'Project Cashflows'!ANB371","v":0},{"$f":"'Project Cashflows'!ANC371","v":0},{"$f":"'Project Cashflows'!AND371","v":0},{"$f":"'Project Cashflows'!ANE371","v":0},{"$f":"'Project Cashflows'!ANF371","v":0},{"$f":"'Project Cashflows'!ANG371","v":0},{"$f":"'Project Cashflows'!ANH371","v":0},{"$f":"'Project Cashflows'!ANI371","v":0},{"$f":"'Project Cashflows'!ANJ371","v":0},{"$f":"'Project Cashflows'!ANK371","v":0},{"$f":"'Project Cashflows'!ANL371","v":0},{"$f":"'Project Cashflows'!ANM371","v":0},{"$f":"'Project Cashflows'!ANN371","v":0},{"$f":"'Project Cashflows'!ANO371","v":0},{"$f":"'Project Cashflows'!ANP371","v":0},{"$f":"'Project Cashflows'!ANQ371","v":0},{"$f":"'Project Cashflows'!ANR371","v":0},{"$f":"'Project Cashflows'!ANS371","v":0},{"$f":"'Project Cashflows'!ANT371","v":0},{"$f":"'Project Cashflows'!ANU371","v":0},{"$f":"'Project Cashflows'!ANV371","v":0},{"$f":"'Project Cashflows'!ANW371","v":0},{"$f":"'Project Cashflows'!ANX371","v":0},{"$f":"'Project Cashflows'!ANY371","v":0},{"$f":"'Project Cashflows'!ANZ371","v":0},{"$f":"'Project Cashflows'!AOA371","v":0},{"$f":"'Project Cashflows'!AOB371","v":0},{"$f":"'Project Cashflows'!AOC371","v":0},{"$f":"'Project Cashflows'!AOD371","v":0},{"$f":"'Project Cashflows'!AOE371","v":0},{"$f":"'Project Cashflows'!AOF371","v":0},{"$f":"'Project Cashflows'!AOG371","v":0},{"$f":"'Project Cashflows'!AOH371","v":0},{"$f":"'Project Cashflows'!AOI371","v":0},{"$f":"'Project Cashflows'!AOJ371","v":0},{"$f":"'Project Cashflows'!AOK371","v":0},{"$f":"'Project Cashflows'!AOL371","v":0},{"$f":"'Project Cashflows'!AOM371","v":0},{"$f":"'Project Cashflows'!AON371","v":0},{"$f":"'Project Cashflows'!AOO371","v":0},{"$f":"'Project Cashflows'!AOP371","v":0},{"$f":"'Project Cashflows'!AOQ371","v":0},{"$f":"'Project Cashflows'!AOR371","v":0},{"$f":"'Project Cashflows'!AOS371","v":0},{"$f":"'Project Cashflows'!AOT371","v":0},{"$f":"'Project Cashflows'!AOU371","v":0},{"$f":"'Project Cashflows'!AOV371","v":0},{"$f":"'Project Cashflows'!AOW371","v":0},{"$f":"'Project Cashflows'!AOX371","v":0},{"$f":"'Project Cashflows'!AOY371","v":0},{"$f":"'Project Cashflows'!AOZ371","v":0},{"$f":"'Project Cashflows'!APA371","v":0},{"$f":"'Project Cashflows'!APB371","v":0},{"$f":"'Project Cashflows'!APC371","v":0},{"$f":"'Project Cashflows'!APD371","v":0},{"$f":"'Project Cashflows'!APE371","v":0},{"$f":"'Project Cashflows'!APF371","v":0},{"$f":"'Project Cashflows'!APG371","v":0},{"$f":"'Project Cashflows'!APH371","v":0},{"$f":"'Project Cashflows'!API371","v":0},{"$f":"'Project Cashflows'!APJ371","v":0},{"$f":"'Project Cashflows'!APK371","v":0},{"$f":"'Project Cashflows'!APL371","v":0},{"$f":"'Project Cashflows'!APM371","v":0},{"$f":"'Project Cashflows'!APN371","v":0},{"$f":"'Project Cashflows'!APO371","v":0},{"$f":"'Project Cashflows'!APP371","v":0},{"$f":"'Project Cashflows'!APQ371","v":0},{"$f":"'Project Cashflows'!APR371","v":0},{"$f":"'Project Cashflows'!APS371","v":0},{"$f":"'Project Cashflows'!APT371","v":0},{"$f":"'Project Cashflows'!APU371","v":0},{"$f":"'Project Cashflows'!APV371","v":0},{"$f":"'Project Cashflows'!APW371","v":0},{"$f":"'Project Cashflows'!APX371","v":0},{"$f":"'Project Cashflows'!APY371","v":0},{"$f":"'Project Cashflows'!APZ371","v":0},{"$f":"'Project Cashflows'!AQA371","v":0},{"$f":"'Project Cashflows'!AQB371","v":0},{"$f":"'Project Cashflows'!AQC371","v":0},{"$f":"'Project Cashflows'!AQD371","v":0},{"$f":"'Project Cashflows'!AQE371","v":0},{"$f":"'Project Cashflows'!AQF371","v":0},{"$f":"'Project Cashflows'!AQG371","v":0},{"$f":"'Project Cashflows'!AQH371","v":0},{"$f":"'Project Cashflows'!AQI371","v":0},{"$f":"'Project Cashflows'!AQJ371","v":0},{"$f":"'Project Cashflows'!AQK371","v":0},{"$f":"'Project Cashflows'!AQL371","v":0},{"$f":"'Project Cashflows'!AQM371","v":0},{"$f":"'Project Cashflows'!AQN371","v":0},{"$f":"'Project Cashflows'!AQO371","v":0},{"$f":"'Project Cashflows'!AQP371","v":0},{"$f":"'Project Cashflows'!AQQ371","v":0},{"$f":"'Project Cashflows'!AQR371","v":0},{"$f":"'Project Cashflows'!AQS371","v":0},{"$f":"'Project Cashflows'!AQT371","v":0},{"$f":"'Project Cashflows'!AQU371","v":0},{"$f":"'Project Cashflows'!AQV371","v":0},{"$f":"'Project Cashflows'!AQW371","v":0},{"$f":"'Project Cashflows'!AQX371","v":0},{"$f":"'Project Cashflows'!AQY371","v":0},{"$f":"'Project Cashflows'!AQZ371","v":0},{"$f":"'Project Cashflows'!ARA371","v":0},{"$f":"'Project Cashflows'!ARB371","v":0},{"$f":"'Project Cashflows'!ARC371","v":0},{"$f":"'Project Cashflows'!ARD371","v":0},{"$f":"'Project Cashflows'!ARE371","v":0},{"$f":"'Project Cashflows'!ARF371","v":0},{"$f":"'Project Cashflows'!ARG371","v":0},{"$f":"'Project Cashflows'!ARH371","v":0},{"$f":"'Project Cashflows'!ARI371","v":0},{"$f":"'Project Cashflows'!ARJ371","v":0},{"$f":"'Project Cashflows'!ARK371","v":0},{"$f":"'Project Cashflows'!ARL371","v":0},{"$f":"'Project Cashflows'!ARM371","v":0},{"$f":"'Project Cashflows'!ARN371","v":0},{"$f":"'Project Cashflows'!ARO371","v":0},{"$f":"'Project Cashflows'!ARP371","v":0},{"$f":"'Project Cashflows'!ARQ371","v":0},{"$f":"'Project Cashflows'!ARR371","v":0},{"$f":"'Project Cashflows'!ARS371","v":0},{"$f":"'Project Cashflows'!ART371","v":0},{"$f":"'Project Cashflows'!ARU371","v":0},{"$f":"'Project Cashflows'!ARV371","v":0},{"$f":"'Project Cashflows'!ARW371","v":0},{"$f":"'Project Cashflows'!ARX371","v":0},{"$f":"'Project Cashflows'!ARY371","v":0},{"$f":"'Project Cashflows'!ARZ371","v":0},{"$f":"'Project Cashflows'!ASA371","v":0},{"$f":"'Project Cashflows'!ASB371","v":0},{"$f":"'Project Cashflows'!ASC371","v":0},{"$f":"'Project Cashflows'!ASD371","v":0},{"$f":"'Project Cashflows'!ASE371","v":0},{"$f":"'Project Cashflows'!ASF371","v":0},{"$f":"'Project Cashflows'!ASG371","v":0},{"$f":"'Project Cashflows'!ASH371","v":0},{"$f":"'Project Cashflows'!ASI371","v":0},{"$f":"'Project Cashflows'!ASJ371","v":0},{"$f":"'Project Cashflows'!ASK371","v":0},{"$f":"'Project Cashflows'!ASL371","v":0},{"$f":"'Project Cashflows'!ASM371","v":0},{"$f":"'Project Cashflows'!ASN371","v":0},{"$f":"'Project Cashflows'!ASO371","v":0},{"$f":"'Project Cashflows'!ASP371","v":0},{"$f":"'Project Cashflows'!ASQ371","v":0},{"$f":"'Project Cashflows'!ASR371","v":0},{"$f":"'Project Cashflows'!ASS371","v":0},{"$f":"'Project Cashflows'!AST371","v":0},{"$f":"'Project Cashflows'!ASU371","v":0},{"$f":"'Project Cashflows'!ASV371","v":0},{"$f":"'Project Cashflows'!ASW371","v":0},{"$f":"'Project Cashflows'!ASX371","v":0},{"$f":"'Project Cashflows'!ASY371","v":0},{"$f":"'Project Cashflows'!ASZ371","v":0},{"$f":"'Project Cashflows'!ATA371","v":0},{"$f":"'Project Cashflows'!ATB371","v":0},{"$f":"'Project Cashflows'!ATC371","v":0},{"$f":"'Project Cashflows'!ATD371","v":0},{"$f":"'Project Cashflows'!ATE371","v":0},{"$f":"'Project Cashflows'!ATF371","v":0},{"$f":"'Project Cashflows'!ATG371","v":0},{"$f":"'Project Cashflows'!ATH371","v":0},{"$f":"'Project Cashflows'!ATI371","v":0},{"$f":"'Project Cashflows'!ATJ371","v":0},{"$f":"'Project Cashflows'!ATK371","v":0},{"$f":"'Project Cashflows'!ATL371","v":0},{"$f":"'Project Cashflows'!ATM371","v":0},{"$f":"'Project Cashflows'!ATN371","v":0},{"$f":"'Project Cashflows'!ATO371","v":0},{"$f":"'Project Cashflows'!ATP371","v":0},{"$f":"'Project Cashflows'!ATQ371","v":0},{"$f":"'Project Cashflows'!ATR371","v":0},{"$f":"'Project Cashflows'!ATS371","v":0},{"$f":"'Project Cashflows'!ATT371","v":0},{"$f":"'Project Cashflows'!ATU371","v":0},{"$f":"'Project Cashflows'!ATV371","v":0},{"$f":"'Project Cashflows'!ATW371","v":0},{"$f":"'Project Cashflows'!ATX371","v":0},{"$f":"'Project Cashflows'!ATY371","v":0},{"$f":"'Project Cashflows'!ATZ371","v":0},{"$f":"'Project Cashflows'!AUA371","v":0},{"$f":"'Project Cashflows'!AUB371","v":0},{"$f":"'Project Cashflows'!AUC371","v":0},{"$f":"'Project Cashflows'!AUD371","v":0},{"$f":"'Project Cashflows'!AUE371","v":0},{"$f":"'Project Cashflows'!AUF371","v":0},{"$f":"'Project Cashflows'!AUG371","v":0},{"$f":"'Project Cashflows'!AUH371","v":0},{"$f":"'Project Cashflows'!AUI371","v":0},{"$f":"'Project Cashflows'!AUJ371","v":0},{"$f":"'Project Cashflows'!AUK371","v":0},{"$f":"'Project Cashflows'!AUL371","v":0},{"$f":"'Project Cashflows'!AUM371","v":0},{"$f":"'Project Cashflows'!AUN371","v":0},{"$f":"'Project Cashflows'!AUO371","v":0},{"$f":"'Project Cashflows'!AUP371","v":0},{"$f":"'Project Cashflows'!AUQ371","v":0},{"$f":"'Project Cashflows'!AUR371","v":0},{"$f":"'Project Cashflows'!AUS371","v":0},{"$f":"'Project Cashflows'!AUT371","v":0},{"$f":"'Project Cashflows'!AUU371","v":0},{"$f":"'Project Cashflows'!AUV371","v":0},{"$f":"'Project Cashflows'!AUW371","v":0},{"$f":"'Project Cashflows'!AUX371","v":0},{"$f":"'Project Cashflows'!AUY371","v":0},{"$f":"'Project Cashflows'!AUZ371","v":0},{"$f":"'Project Cashflows'!AVA371","v":0},{"$f":"'Project Cashflows'!AVB371","v":0},{"$f":"'Project Cashflows'!AVC371","v":0},{"$f":"'Project Cashflows'!AVD371","v":0},{"$f":"'Project Cashflows'!AVE371","v":0},{"$f":"'Project Cashflows'!AVF371","v":0},{"$f":"'Project Cashflows'!AVG371","v":0},{"$f":"'Project Cashflows'!AVH371","v":0},{"$f":"'Project Cashflows'!AVI371","v":0},{"$f":"'Project Cashflows'!AVJ371","v":0},{"$f":"'Project Cashflows'!AVK371","v":0},{"$f":"'Project Cashflows'!AVL371","v":0},{"$f":"'Project Cashflows'!AVM371","v":0},{"$f":"'Project Cashflows'!AVN371","v":0},{"$f":"'Project Cashflows'!AVO371","v":0},{"$f":"'Project Cashflows'!AVP371","v":0},{"$f":"'Project Cashflows'!AVQ371","v":0},{"$f":"'Project Cashflows'!AVR371","v":0},{"$f":"'Project Cashflows'!AVS371","v":0},{"$f":"'Project Cashflows'!AVT371","v":0},{"$f":"'Project Cashflows'!AVU371","v":0},{"$f":"'Project Cashflows'!AVV371","v":0},{"$f":"'Project Cashflows'!AVW371","v":0},{"$f":"'Project Cashflows'!AVX371","v":0},{"$f":"'Project Cashflows'!AVY371","v":0},{"$f":"'Project Cashflows'!AVZ371","v":0},{"$f":"'Project Cashflows'!AWA371","v":0},{"$f":"'Project Cashflows'!AWB371","v":0},{"$f":"'Project Cashflows'!AWC371","v":0},{"$f":"'Project Cashflows'!AWD371","v":0},{"$f":"'Project Cashflows'!AWE371","v":0},{"$f":"'Project Cashflows'!AWF371","v":0},{"$f":"'Project Cashflows'!AWG371","v":0},{"$f":"'Project Cashflows'!AWH371","v":0},{"$f":"'Project Cashflows'!AWI371","v":0},{"$f":"'Project Cashflows'!AWJ371","v":0},{"$f":"'Project Cashflows'!AWK371","v":0},{"$f":"'Project Cashflows'!AWL371","v":0},{"$f":"'Project Cashflows'!AWM371","v":0},{"$f":"'Project Cashflows'!AWN371","v":0},{"$f":"'Project Cashflows'!AWO371","v":0},{"$f":"'Project Cashflows'!AWP371","v":0},{"$f":"'Project Cashflows'!AWQ371","v":0},{"$f":"'Project Cashflows'!AWR371","v":0},{"$f":"'Project Cashflows'!AWS371","v":0},{"$f":"'Project Cashflows'!AWT371","v":0},{"$f":"'Project Cashflows'!AWU371","v":0},{"$f":"'Project Cashflows'!AWV371","v":0},{"$f":"'Project Cashflows'!AWW371","v":0},{"$f":"'Project Cashflows'!AWX371","v":0},{"$f":"'Project Cashflows'!AWY371","v":0},{"$f":"'Project Cashflows'!AWZ371","v":0},{"$f":"'Project Cashflows'!AXA371","v":0},{"$f":"'Project Cashflows'!AXB371","v":0},{"$f":"'Project Cashflows'!AXC371","v":0},{"$f":"'Project Cashflows'!AXD371","v":0},{"$f":"'Project Cashflows'!AXE371","v":0},{"$f":"'Project Cashflows'!AXF371","v":0},{"$f":"'Project Cashflows'!AXG371","v":0},{"$f":"'Project Cashflows'!AXH371","v":0},{"$f":"'Project Cashflows'!AXI371","v":0},{"$f":"'Project Cashflows'!AXJ371","v":0},{"$f":"'Project Cashflows'!AXK371","v":0},{"$f":"'Project Cashflows'!AXL371","v":0},{"$f":"'Project Cashflows'!AXM371","v":0},{"$f":"'Project Cashflows'!AXN371","v":0},{"$f":"'Project Cashflows'!AXO371","v":0},{"$f":"'Project Cashflows'!AXP371","v":0},{"$f":"'Project Cashflows'!AXQ371","v":0},{"$f":"'Project Cashflows'!AXR371","v":0},{"$f":"'Project Cashflows'!AXS371","v":0},{"$f":"'Project Cashflows'!AXT371","v":0},{"$f":"'Project Cashflows'!AXU371","v":0},{"$f":"'Project Cashflows'!AXV371","v":0},{"$f":"'Project Cashflows'!AXW371","v":0},{"$f":"'Project Cashflows'!AXX371","v":0},{"$f":"'Project Cashflows'!AXY371","v":0},{"$f":"'Project Cashflows'!AXZ371","v":0},{"$f":"'Project Cashflows'!AYA371","v":0},{"$f":"'Project Cashflows'!AYB371","v":0},{"$f":"'Project Cashflows'!AYC371","v":0},{"$f":"'Project Cashflows'!AYD371","v":0},{"$f":"'Project Cashflows'!AYE371","v":0},{"$f":"'Project Cashflows'!AYF371","v":0},{"$f":"'Project Cashflows'!AYG371","v":0},{"$f":"'Project Cashflows'!AYH371","v":0},{"$f":"'Project Cashflows'!AYI371","v":0},{"$f":"'Project Cashflows'!AYJ371","v":0},{"$f":"'Project Cashflows'!AYK371","v":0},{"$f":"'Project Cashflows'!AYL371","v":0},{"$f":"'Project Cashflows'!AYM371","v":0},{"$f":"'Project Cashflows'!AYN371","v":0},{"$f":"'Project Cashflows'!AYO371","v":0},{"$f":"'Project Cashflows'!AYP371","v":0},{"$f":"'Project Cashflows'!AYQ371","v":0},{"$f":"'Project Cashflows'!AYR371","v":0},{"$f":"'Project Cashflows'!AYS371","v":0},{"$f":"'Project Cashflows'!AYT371","v":0},{"$f":"'Project Cashflows'!AYU371","v":0},{"$f":"'Project Cashflows'!AYV371","v":0},{"$f":"'Project Cashflows'!AYW371","v":0},{"$f":"'Project Cashflows'!AYX371","v":0},{"$f":"'Project Cashflows'!AYY371","v":0},{"$f":"'Project Cashflows'!AYZ371","v":0},{"$f":"'Project Cashflows'!AZA371","v":0},{"$f":"'Project Cashflows'!AZB371","v":0},{"$f":"'Project Cashflows'!AZC371","v":0},{"$f":"'Project Cashflows'!AZD371","v":0},{"$f":"'Project Cashflows'!AZE371","v":0},{"$f":"'Project Cashflows'!AZF371","v":0},{"$f":"'Project Cashflows'!AZG371","v":0},{"$f":"'Project Cashflows'!AZH371","v":0},{"$f":"'Project Cashflows'!AZI371","v":0},{"$f":"'Project Cashflows'!AZJ371","v":0},{"$f":"'Project Cashflows'!AZK371","v":0},{"$f":"'Project Cashflows'!AZL371","v":0},{"$f":"'Project Cashflows'!AZM371","v":0},{"$f":"'Project Cashflows'!AZN371","v":0},{"$f":"'Project Cashflows'!AZO371","v":0},{"$f":"'Project Cashflows'!AZP371","v":0},{"$f":"'Project Cashflows'!AZQ371","v":0},{"$f":"'Project Cashflows'!AZR371","v":0},{"$f":"'Project Cashflows'!AZS371","v":0},{"$f":"'Project Cashflows'!AZT371","v":0},{"$f":"'Project Cashflows'!AZU371","v":0},{"$f":"'Project Cashflows'!AZV371","v":0},{"$f":"'Project Cashflows'!AZW371","v":0},{"$f":"'Project Cashflows'!AZX371","v":0},{"$f":"'Project Cashflows'!AZY371","v":0},{"$f":"'Project Cashflows'!AZZ371","v":0},{"$f":"'Project Cashflows'!BAA371","v":0},{"$f":"'Project Cashflows'!BAB371","v":0},{"$f":"'Project Cashflows'!BAC371","v":0},{"$f":"'Project Cashflows'!BAD371","v":0},{"$f":"'Project Cashflows'!BAE371","v":0},{"$f":"'Project Cashflows'!BAF371","v":0},{"$f":"'Project Cashflows'!BAG371","v":0},{"$f":"'Project Cashflows'!BAH371","v":0},{"$f":"'Project Cashflows'!BAI371","v":0},{"$f":"'Project Cashflows'!BAJ371","v":0},{"$f":"'Project Cashflows'!BAK371","v":0},{"$f":"'Project Cashflows'!BAL371","v":0},{"$f":"'Project Cashflows'!BAM371","v":0},{"$f":"'Project Cashflows'!BAN371","v":0},{"$f":"'Project Cashflows'!BAO371","v":0},{"$f":"'Project Cashflows'!BAP371","v":0},{"$f":"'Project Cashflows'!BAQ371","v":0},{"$f":"'Project Cashflows'!BAR371","v":0},{"$f":"'Project Cashflows'!BAS371","v":0},{"$f":"'Project Cashflows'!BAT371","v":0},{"$f":"'Project Cashflows'!BAU371","v":0},{"$f":"'Project Cashflows'!BAV371","v":0},{"$f":"'Project Cashflows'!BAW371","v":0},{"$f":"'Project Cashflows'!BAX371","v":0},{"$f":"'Project Cashflows'!BAY371","v":0},{"$f":"'Project Cashflows'!BAZ371","v":0},{"$f":"'Project Cashflows'!BBA371","v":0},{"$f":"'Project Cashflows'!BBB371","v":0},{"$f":"'Project Cashflows'!BBC371","v":0},{"$f":"'Project Cashflows'!BBD371","v":0},{"$f":"'Project Cashflows'!BBE371","v":0},{"$f":"'Project Cashflows'!BBF371","v":0},{"$f":"'Project Cashflows'!BBG371","v":0},{"$f":"'Project Cashflows'!BBH371","v":0},{"$f":"'Project Cashflows'!BBI371","v":0},{"$f":"'Project Cashflows'!BBJ371","v":0},{"$f":"'Project Cashflows'!BBK371","v":0},{"$f":"'Project Cashflows'!BBL371","v":0},{"$f":"'Project Cashflows'!BBM371","v":0},{"$f":"'Project Cashflows'!BBN371","v":0},{"$f":"'Project Cashflows'!BBO371","v":0},{"$f":"'Project Cashflows'!BBP371","v":0},{"$f":"'Project Cashflows'!BBQ371","v":0},{"$f":"'Project Cashflows'!BBR371","v":0},{"$f":"'Project Cashflows'!BBS371","v":0},{"$f":"'Project Cashflows'!BBT371","v":0},{"$f":"'Project Cashflows'!BBU371","v":0},{"$f":"'Project Cashflows'!BBV371","v":0},{"$f":"'Project Cashflows'!BBW371","v":0},{"$f":"'Project Cashflows'!BBX371","v":0},{"$f":"'Project Cashflows'!BBY371","v":0},{"$f":"'Project Cashflows'!BBZ371","v":0},{"$f":"'Project Cashflows'!BCA371","v":0},{"$f":"'Project Cashflows'!BCB371","v":0},{"$f":"'Project Cashflows'!BCC371","v":0},{"$f":"'Project Cashflows'!BCD371","v":0},{"$f":"'Project Cashflows'!BCE371","v":0},{"$f":"'Project Cashflows'!BCF371","v":0},{"$f":"'Project Cashflows'!BCG371","v":0},{"$f":"'Project Cashflows'!BCH371","v":0},{"$f":"'Project Cashflows'!BCI371","v":0},{"$f":"'Project Cashflows'!BCJ371","v":0},{"$f":"'Project Cashflows'!BCK371","v":0},{"$f":"'Project Cashflows'!BCL371","v":0},{"$f":"'Project Cashflows'!BCM371","v":0},{"$f":"'Project Cashflows'!BCN371","v":0},{"$f":"'Project Cashflows'!BCO371","v":0},{"$f":"'Project Cashflows'!BCP371","v":0},{"$f":"'Project Cashflows'!BCQ371","v":0},{"$f":"'Project Cashflows'!BCR371","v":0},{"$f":"'Project Cashflows'!BCS371","v":0},{"$f":"'Project Cashflows'!BCT371","v":0},{"$f":"'Project Cashflows'!BCU371","v":0},{"$f":"'Project Cashflows'!BCV371","v":0},{"$f":"'Project Cashflows'!BCW371","v":0},{"$f":"'Project Cashflows'!BCX371","v":0},{"$f":"'Project Cashflows'!BCY371","v":0},{"$f":"'Project Cashflows'!BCZ371","v":0},{"$f":"'Project Cashflows'!BDA371","v":0},{"$f":"'Project Cashflows'!BDB371","v":0},{"$f":"'Project Cashflows'!BDC371","v":0},{"$f":"'Project Cashflows'!BDD371","v":0},{"$f":"'Project Cashflows'!BDE371","v":0},{"$f":"'Project Cashflows'!BDF371","v":0},{"$f":"'Project Cashflows'!BDG371","v":0},{"$f":"'Project Cashflows'!BDH371","v":0},{"$f":"'Project Cashflows'!BDI371","v":0},{"$f":"'Project Cashflows'!BDJ371","v":0},{"$f":"'Project Cashflows'!BDK371","v":0},{"$f":"'Project Cashflows'!BDL371","v":0},{"$f":"'Project Cashflows'!BDM371","v":0},{"$f":"'Project Cashflows'!BDN371","v":0},{"$f":"'Project Cashflows'!BDO371","v":0},{"$f":"'Project Cashflows'!BDP371","v":0},{"$f":"'Project Cashflows'!BDQ371","v":0},{"$f":"'Project Cashflows'!BDR371","v":0},{"$f":"'Project Cashflows'!BDS371","v":0},{"$f":"'Project Cashflows'!BDT371","v":0},{"$f":"'Project Cashflows'!BDU371","v":0},{"$f":"'Project Cashflows'!BDV371","v":0},{"$f":"'Project Cashflows'!BDW371","v":0},{"$f":"'Project Cashflows'!BDX371","v":0},{"$f":"'Project Cashflows'!BDY371","v":0},{"$f":"'Project Cashflows'!BDZ371","v":0},{"$f":"'Project Cashflows'!BEA371","v":0},{"$f":"'Project Cashflows'!BEB371","v":0},{"$f":"'Project Cashflows'!BEC371","v":0},{"$f":"'Project Cashflows'!BED371","v":0},{"$f":"'Project Cashflows'!BEE371","v":0},{"$f":"'Project Cashflows'!BEF371","v":0},{"$f":"'Project Cashflows'!BEG371","v":0},{"$f":"'Project Cashflows'!BEH371","v":0},{"$f":"'Project Cashflows'!BEI371","v":0},{"$f":"'Project Cashflows'!BEJ371","v":0},{"$f":"'Project Cashflows'!BEK371","v":0},{"$f":"'Project Cashflows'!BEL371","v":0},{"$f":"'Project Cashflows'!BEM371","v":0},{"$f":"'Project Cashflows'!BEN371","v":0},{"$f":"'Project Cashflows'!BEO371","v":0},{"$f":"'Project Cashflows'!BEP371","v":0},{"$f":"'Project Cashflows'!BEQ371","v":0},{"$f":"'Project Cashflows'!BER371","v":0},{"$f":"'Project Cashflows'!BES371","v":0},{"$f":"'Project Cashflows'!BET371","v":0},{"$f":"'Project Cashflows'!BEU371","v":0},{"$f":"'Project Cashflows'!BEV371","v":0},{"$f":"'Project Cashflows'!BEW371","v":0},{"$f":"'Project Cashflows'!BEX371","v":0},{"$f":"'Project Cashflows'!BEY371","v":0},{"$f":"'Project Cashflows'!BEZ371","v":0},{"$f":"'Project Cashflows'!BFA371","v":0},{"$f":"'Project Cashflows'!BFB371","v":0},{"$f":"'Project Cashflows'!BFC371","v":0},{"$f":"'Project Cashflows'!BFD371","v":0},{"$f":"'Project Cashflows'!BFE371","v":0},{"$f":"'Project Cashflows'!BFF371","v":0},{"$f":"'Project Cashflows'!BFG371","v":0},{"$f":"'Project Cashflows'!BFH371","v":0},{"$f":"'Project Cashflows'!BFI371","v":0},{"$f":"'Project Cashflows'!BFJ371","v":0},{"$f":"'Project Cashflows'!BFK371","v":0},{"$f":"'Project Cashflows'!BFL371","v":0},{"$f":"'Project Cashflows'!BFM371","v":0},{"$f":"'Project Cashflows'!BFN371","v":0},{"$f":"'Project Cashflows'!BFO371","v":0},{"$f":"'Project Cashflows'!BFP371","v":0},{"$f":"'Project Cashflows'!BFQ371","v":0},{"$f":"'Project Cashflows'!BFR371","v":0},{"$f":"'Project Cashflows'!BFS371","v":0},{"$f":"'Project Cashflows'!BFT371","v":0},{"$f":"'Project Cashflows'!BFU371","v":0},{"$f":"'Project Cashflows'!BFV371","v":0},{"$f":"'Project Cashflows'!BFW371","v":0},{"$f":"'Project Cashflows'!BFX371","v":0},{"$f":"'Project Cashflows'!BFY371","v":0},{"$f":"'Project Cashflows'!BFZ371","v":0},{"$f":"'Project Cashflows'!BGA371","v":0},{"$f":"'Project Cashflows'!BGB371","v":0},{"$f":"'Project Cashflows'!BGC371","v":0},{"$f":"'Project Cashflows'!BGD371","v":0},{"$f":"'Project Cashflows'!BGE371","v":0},{"$f":"'Project Cashflows'!BGF371","v":0},{"$f":"'Project Cashflows'!BGG371","v":0},{"$f":"'Project Cashflows'!BGH371","v":0},{"$f":"'Project Cashflows'!BGI371","v":0},{"$f":"'Project Cashflows'!BGJ371","v":0},{"$f":"'Project Cashflows'!BGK371","v":0},{"$f":"'Project Cashflows'!BGL371","v":0},{"$f":"'Project Cashflows'!BGM371","v":0},{"$f":"'Project Cashflows'!BGN371","v":0},{"$f":"'Project Cashflows'!BGO371","v":0},{"$f":"'Project Cashflows'!BGP371","v":0},{"$f":"'Project Cashflows'!BGQ371","v":0},{"$f":"'Project Cashflows'!BGR371","v":0},{"$f":"'Project Cashflows'!BGS371","v":0},{"$f":"'Project Cashflows'!BGT371","v":0},{"$f":"'Project Cashflows'!BGU371","v":0},{"$f":"'Project Cashflows'!BGV371","v":0},{"$f":"'Project Cashflows'!BGW371","v":0},{"$f":"'Project Cashflows'!BGX371","v":0},{"$f":"'Project Cashflows'!BGY371","v":0},{"$f":"'Project Cashflows'!BGZ371","v":0},{"$f":"'Project Cashflows'!BHA371","v":0},{"$f":"'Project Cashflows'!BHB371","v":0},{"$f":"'Project Cashflows'!BHC371","v":0},{"$f":"'Project Cashflows'!BHD371","v":0},{"$f":"'Project Cashflows'!BHE371","v":0},{"$f":"'Project Cashflows'!BHF371","v":0},{"$f":"'Project Cashflows'!BHG371","v":0},{"$f":"'Project Cashflows'!BHH371","v":0},{"$f":"'Project Cashflows'!BHI371","v":0},{"$f":"'Project Cashflows'!BHJ371","v":0},{"$f":"'Project Cashflows'!BHK371","v":0},{"$f":"'Project Cashflows'!BHL371","v":0},{"$f":"'Project Cashflows'!BHM371","v":0},{"$f":"'Project Cashflows'!BHN371","v":0},{"$f":"'Project Cashflows'!BHO371","v":0},{"$f":"'Project Cashflows'!BHP371","v":0},{"$f":"'Project Cashflows'!BHQ371","v":0},{"$f":"'Project Cashflows'!BHR371","v":0},{"$f":"'Project Cashflows'!BHS371","v":0},{"$f":"'Project Cashflows'!BHT371","v":0},{"$f":"'Project Cashflows'!BHU371","v":0},{"$f":"'Project Cashflows'!BHV371","v":0},{"$f":"'Project Cashflows'!BHW371","v":0},{"$f":"'Project Cashflows'!BHX371","v":0},{"$f":"'Project Cashflows'!BHY371","v":0},{"$f":"'Project Cashflows'!BHZ371","v":0},{"$f":"'Project Cashflows'!BIA371","v":0},{"$f":"'Project Cashflows'!BIB371","v":0},{"$f":"'Project Cashflows'!BIC371","v":0},{"$f":"'Project Cashflows'!BID371","v":0},{"$f":"'Project Cashflows'!BIE371","v":0},{"$f":"'Project Cashflows'!BIF371","v":0},{"$f":"'Project Cashflows'!BIG371","v":0},{"$f":"'Project Cashflows'!BIH371","v":0},{"$f":"'Project Cashflows'!BII371","v":0},{"$f":"'Project Cashflows'!BIJ371","v":0},{"$f":"'Project Cashflows'!BIK371","v":0},{"$f":"'Project Cashflows'!BIL371","v":0},{"$f":"'Project Cashflows'!BIM371","v":0},{"$f":"'Project Cashflows'!BIN371","v":0},{"$f":"'Project Cashflows'!BIO371","v":0},{"$f":"'Project Cashflows'!BIP371","v":0},{"$f":"'Project Cashflows'!BIQ371","v":0},{"$f":"'Project Cashflows'!BIR371","v":0},{"$f":"'Project Cashflows'!BIS371","v":0},{"$f":"'Project Cashflows'!BIT371","v":0},{"$f":"'Project Cashflows'!BIU371","v":0},{"$f":"'Project Cashflows'!BIV371","v":0},{"$f":"'Project Cashflows'!BIW371","v":0},{"$f":"'Project Cashflows'!BIX371","v":0},{"$f":"'Project Cashflows'!BIY371","v":0},{"$f":"'Project Cashflows'!BIZ371","v":0},{"$f":"'Project Cashflows'!BJA371","v":0},{"$f":"'Project Cashflows'!BJB371","v":0},{"$f":"'Project Cashflows'!BJC371","v":0},{"$f":"'Project Cashflows'!BJD371","v":0},{"$f":"'Project Cashflows'!BJE371","v":0},{"$f":"'Project Cashflows'!BJF371","v":0},{"$f":"'Project Cashflows'!BJG371","v":0},{"$f":"'Project Cashflows'!BJH371","v":0},{"$f":"'Project Cashflows'!BJI371","v":0},{"$f":"'Project Cashflows'!BJJ371","v":0},{"$f":"'Project Cashflows'!BJK371","v":0},{"$f":"'Project Cashflows'!BJL371","v":0},{"$f":"'Project Cashflows'!BJM371","v":0},{"$f":"'Project Cashflows'!BJN371","v":0},{"$f":"'Project Cashflows'!BJO371","v":0},{"$f":"'Project Cashflows'!BJP371","v":0},{"$f":"'Project Cashflows'!BJQ371","v":0},{"$f":"'Project Cashflows'!BJR371","v":0},{"$f":"'Project Cashflows'!BJS371","v":0},{"$f":"'Project Cashflows'!BJT371","v":0},{"$f":"'Project Cashflows'!BJU371","v":0},{"$f":"'Project Cashflows'!BJV371","v":0},{"$f":"'Project Cashflows'!BJW371","v":0},{"$f":"'Project Cashflows'!BJX371","v":0},{"$f":"'Project Cashflows'!BJY371","v":0},{"$f":"'Project Cashflows'!BJZ371","v":0},{"$f":"'Project Cashflows'!BKA371","v":0},{"$f":"'Project Cashflows'!BKB371","v":0},{"$f":"'Project Cashflows'!BKC371","v":0},{"$f":"'Project Cashflows'!BKD371","v":0},{"$f":"'Project Cashflows'!BKE371","v":0},{"$f":"'Project Cashflows'!BKF371","v":0},{"$f":"'Project Cashflows'!BKG371","v":0},{"$f":"'Project Cashflows'!BKH371","v":0},{"$f":"'Project Cashflows'!BKI371","v":0},{"$f":"'Project Cashflows'!BKJ371","v":0},{"$f":"'Project Cashflows'!BKK371","v":0},{"$f":"'Project Cashflows'!BKL371","v":0},{"$f":"'Project Cashflows'!BKM371","v":0},{"$f":"'Project Cashflows'!BKN371","v":0},{"$f":"'Project Cashflows'!BKO371","v":0},{"$f":"'Project Cashflows'!BKP371","v":0},{"$f":"'Project Cashflows'!BKQ371","v":0},{"$f":"'Project Cashflows'!BKR371","v":0},{"$f":"'Project Cashflows'!BKS371","v":0},{"$f":"'Project Cashflows'!BKT371","v":0},{"$f":"'Project Cashflows'!BKU371","v":0},{"$f":"'Project Cashflows'!BKV371","v":0},{"$f":"'Project Cashflows'!BKW371","v":0},{"$f":"'Project Cashflows'!BKX371","v":0},{"$f":"'Project Cashflows'!BKY371","v":0},{"$f":"'Project Cashflows'!BKZ371","v":0},{"$f":"'Project Cashflows'!BLA371","v":0},{"$f":"'Project Cashflows'!BLB371","v":0},{"$f":"'Project Cashflows'!BLC371","v":0},{"$f":"'Project Cashflows'!BLD371","v":0},{"$f":"'Project Cashflows'!BLE371","v":0},{"$f":"'Project Cashflows'!BLF371","v":0},{"$f":"'Project Cashflows'!BLG371","v":0},{"$f":"'Project Cashflows'!BLH371","v":0},{"$f":"'Project Cashflows'!BLI371","v":0},{"$f":"'Project Cashflows'!BLJ371","v":0},{"$f":"'Project Cashflows'!BLK371","v":0},{"$f":"'Project Cashflows'!BLL371","v":0},{"$f":"'Project Cashflows'!BLM371","v":0},{"$f":"'Project Cashflows'!BLN371","v":0},{"$f":"'Project Cashflows'!BLO371","v":0},{"$f":"'Project Cashflows'!BLP371","v":0},{"$f":"'Project Cashflows'!BLQ371","v":0},{"$f":"'Project Cashflows'!BLR371","v":0},{"$f":"'Project Cashflows'!BLS371","v":0},{"$f":"'Project Cashflows'!BLT371","v":0},{"$f":"'Project Cashflows'!BLU371","v":0},{"$f":"'Project Cashflows'!BLV371","v":0},{"$f":"'Project Cashflows'!BLW371","v":0},{"$f":"'Project Cashflows'!BLX371","v":0},{"$f":"'Project Cashflows'!BLY371","v":0},{"$f":"'Project Cashflows'!BLZ371","v":0},{"$f":"'Project Cashflows'!BMA371","v":0},{"$f":"'Project Cashflows'!BMB371","v":0},{"$f":"'Project Cashflows'!BMC371","v":0},{"$f":"'Project Cashflows'!BMD371","v":0},{"$f":"'Project Cashflows'!BME371","v":0},{"$f":"'Project Cashflows'!BMF371","v":0},{"$f":"'Project Cashflows'!BMG371","v":0},{"$f":"'Project Cashflows'!BMH371","v":0},{"$f":"'Project Cashflows'!BMI371","v":0},{"$f":"'Project Cashflows'!BMJ371","v":0},{"$f":"'Project Cashflows'!BMK371","v":0},{"$f":"'Project Cashflows'!BML371","v":0},{"$f":"'Project Cashflows'!BMM371","v":0},{"$f":"'Project Cashflows'!BMN371","v":0},{"$f":"'Project Cashflows'!BMO371","v":0},{"$f":"'Project Cashflows'!BMP371","v":0},{"$f":"'Project Cashflows'!BMQ371","v":0},{"$f":"'Project Cashflows'!BMR371","v":0},{"$f":"'Project Cashflows'!BMS371","v":0},{"$f":"'Project Cashflows'!BMT371","v":0},{"$f":"'Project Cashflows'!BMU371","v":0},{"$f":"'Project Cashflows'!BMV371","v":0},{"$f":"'Project Cashflows'!BMW371","v":0},{"$f":"'Project Cashflows'!BMX371","v":0},{"$f":"'Project Cashflows'!BMY371","v":0},{"$f":"'Project Cashflows'!BMZ371","v":0},{"$f":"'Project Cashflows'!BNA371","v":0},{"$f":"'Project Cashflows'!BNB371","v":0},{"$f":"'Project Cashflows'!BNC371","v":0},{"$f":"'Project Cashflows'!BND371","v":0},{"$f":"'Project Cashflows'!BNE371","v":0},{"$f":"'Project Cashflows'!BNF371","v":0},{"$f":"'Project Cashflows'!BNG371","v":0},{"$f":"'Project Cashflows'!BNH371","v":0},{"$f":"'Project Cashflows'!BNI371","v":0},{"$f":"'Project Cashflows'!BNJ371","v":0},{"$f":"'Project Cashflows'!BNK371","v":0},{"$f":"'Project Cashflows'!BNL371","v":0},{"$f":"'Project Cashflows'!BNM371","v":0},{"$f":"'Project Cashflows'!BNN371","v":0},{"$f":"'Project Cashflows'!BNO371","v":0},{"$f":"'Project Cashflows'!BNP371","v":0},{"$f":"'Project Cashflows'!BNQ371","v":0},{"$f":"'Project Cashflows'!BNR371","v":0},{"$f":"'Project Cashflows'!BNS371","v":0},{"$f":"'Project Cashflows'!BNT371","v":0},{"$f":"'Project Cashflows'!BNU371","v":0},{"$f":"'Project Cashflows'!BNV371","v":0},{"$f":"'Project Cashflows'!BNW371","v":0},{"$f":"'Project Cashflows'!BNX371","v":0},{"$f":"'Project Cashflows'!BNY371","v":0},{"$f":"'Project Cashflows'!BNZ371","v":0},{"$f":"'Project Cashflows'!BOA371","v":0},{"$f":"'Project Cashflows'!BOB371","v":0},{"$f":"'Project Cashflows'!BOC371","v":0},{"$f":"'Project Cashflows'!BOD371","v":0},{"$f":"'Project Cashflows'!BOE371","v":0},{"$f":"'Project Cashflows'!BOF371","v":0},{"$f":"'Project Cashflows'!BOG371","v":0},{"$f":"'Project Cashflows'!BOH371","v":0},{"$f":"'Project Cashflows'!BOI371","v":0},{"$f":"'Project Cashflows'!BOJ371","v":0},{"$f":"'Project Cashflows'!BOK371","v":0},{"$f":"'Project Cashflows'!BOL371","v":0},{"$f":"'Project Cashflows'!BOM371","v":0},{"$f":"'Project Cashflows'!BON371","v":0},{"$f":"'Project Cashflows'!BOO371","v":0},{"$f":"'Project Cashflows'!BOP371","v":0},{"$f":"'Project Cashflows'!BOQ371","v":0},{"$f":"'Project Cashflows'!BOR371","v":0},{"$f":"'Project Cashflows'!BOS371","v":0},{"$f":"'Project Cashflows'!BOT371","v":0},{"$f":"'Project Cashflows'!BOU371","v":0},{"$f":"'Project Cashflows'!BOV371","v":0},{"$f":"'Project Cashflows'!BOW371","v":0},{"$f":"'Project Cashflows'!BOX371","v":0},{"$f":"'Project Cashflows'!BOY371","v":0},{"$f":"'Project Cashflows'!BOZ371","v":0},{"$f":"'Project Cashflows'!BPA371","v":0},{"$f":"'Project Cashflows'!BPB371","v":0},{"$f":"'Project Cashflows'!BPC371","v":0},{"$f":"'Project Cashflows'!BPD371","v":0},{"$f":"'Project Cashflows'!BPE371","v":0},{"$f":"'Project Cashflows'!BPF371","v":0},{"$f":"'Project Cashflows'!BPG371","v":0},{"$f":"'Project Cashflows'!BPH371","v":0},{"$f":"'Project Cashflows'!BPI371","v":0},{"$f":"'Project Cashflows'!BPJ371","v":0},{"$f":"'Project Cashflows'!BPK371","v":0},{"$f":"'Project Cashflows'!BPL371","v":0},{"$f":"'Project Cashflows'!BPM371","v":0},{"$f":"'Project Cashflows'!BPN371","v":0},{"$f":"'Project Cashflows'!BPO371","v":0},{"$f":"'Project Cashflows'!BPP371","v":0},{"$f":"'Project Cashflows'!BPQ371","v":0},{"$f":"'Project Cashflows'!BPR371","v":0},{"$f":"'Project Cashflows'!BPS371","v":0},{"$f":"'Project Cashflows'!BPT371","v":0},{"$f":"'Project Cashflows'!BPU371","v":0},{"$f":"'Project Cashflows'!BPV371","v":0},{"$f":"'Project Cashflows'!BPW371","v":0},{"$f":"'Project Cashflows'!BPX371","v":0},{"$f":"'Project Cashflows'!BPY371","v":0},{"$f":"'Project Cashflows'!BPZ371","v":0},{"$f":"'Project Cashflows'!BQA371","v":0},{"$f":"'Project Cashflows'!BQB371","v":0},{"$f":"'Project Cashflows'!BQC371","v":0},{"$f":"'Project Cashflows'!BQD371","v":0},{"$f":"'Project Cashflows'!BQE371","v":0},{"$f":"'Project Cashflows'!BQF371","v":0},{"$f":"'Project Cashflows'!BQG371","v":0},{"$f":"'Project Cashflows'!BQH371","v":0},{"$f":"'Project Cashflows'!BQI371","v":0},{"$f":"'Project Cashflows'!BQJ371","v":0},{"$f":"'Project Cashflows'!BQK371","v":0},{"$f":"'Project Cashflows'!BQL371","v":0},{"$f":"'Project Cashflows'!BQM371","v":0},{"$f":"'Project Cashflows'!BQN371","v":0},{"$f":"'Project Cashflows'!BQO371","v":0},{"$f":"'Project Cashflows'!BQP371","v":0},{"$f":"'Project Cashflows'!BQQ371","v":0},{"$f":"'Project Cashflows'!BQR371","v":0},{"$f":"'Project Cashflows'!BQS371","v":0},{"$f":"'Project Cashflows'!BQT371","v":0},{"$f":"'Project Cashflows'!BQU371","v":0},{"$f":"'Project Cashflows'!BQV371","v":0},{"$f":"'Project Cashflows'!BQW371","v":0},{"$f":"'Project Cashflows'!BQX371","v":0},{"$f":"'Project Cashflows'!BQY371","v":0},{"$f":"'Project Cashflows'!BQZ371","v":0},{"$f":"'Project Cashflows'!BRA371","v":0},{"$f":"'Project Cashflows'!BRB371","v":0},{"$f":"'Project Cashflows'!BRC371","v":0},{"$f":"'Project Cashflows'!BRD371","v":0},{"$f":"'Project Cashflows'!BRE371","v":0},{"$f":"'Project Cashflows'!BRF371","v":0},{"$f":"'Project Cashflows'!BRG371","v":0},{"$f":"'Project Cashflows'!BRH371","v":0},{"$f":"'Project Cashflows'!BRI371","v":0},{"$f":"'Project Cashflows'!BRJ371","v":0},{"$f":"'Project Cashflows'!BRK371","v":0},{"$f":"'Project Cashflows'!BRL371","v":0},{"$f":"'Project Cashflows'!BRM371","v":0},{"$f":"'Project Cashflows'!BRN371","v":0},{"$f":"'Project Cashflows'!BRO371","v":0},{"$f":"'Project Cashflows'!BRP371","v":0},{"$f":"'Project Cashflows'!BRQ371","v":0},{"$f":"'Project Cashflows'!BRR371","v":0},{"$f":"'Project Cashflows'!BRS371","v":0},{"$f":"'Project Cashflows'!BRT371","v":0},{"$f":"'Project Cashflows'!BRU371","v":0},{"$f":"'Project Cashflows'!BRV371","v":0},{"$f":"'Project Cashflows'!BRW371","v":0},{"$f":"'Project Cashflows'!BRX371","v":0},{"$f":"'Project Cashflows'!BRY371","v":0},{"$f":"'Project Cashflows'!BRZ371","v":0},{"$f":"'Project Cashflows'!BSA371","v":0},{"$f":"'Project Cashflows'!BSB371","v":0},{"$f":"'Project Cashflows'!BSC371","v":0},{"$f":"'Project Cashflows'!BSD371","v":0},{"$f":"'Project Cashflows'!BSE371","v":0},{"$f":"'Project Cashflows'!BSF371","v":0},{"$f":"'Project Cashflows'!BSG371","v":0},{"$f":"'Project Cashflows'!BSH371","v":0},{"$f":"'Project Cashflows'!BSI371","v":0},{"$f":"'Project Cashflows'!BSJ371","v":0},{"$f":"'Project Cashflows'!BSK371","v":0},{"$f":"'Project Cashflows'!BSL371","v":0},{"$f":"'Project Cashflows'!BSM371","v":0},{"$f":"'Project Cashflows'!BSN371","v":0},{"$f":"'Project Cashflows'!BSO371","v":0},{"$f":"'Project Cashflows'!BSP371","v":0},{"$f":"'Project Cashflows'!BSQ371","v":0},{"$f":"'Project Cashflows'!BSR371","v":0},{"$f":"'Project Cashflows'!BSS371","v":0},{"$f":"'Project Cashflows'!BST371","v":0},{"$f":"'Project Cashflows'!BSU371","v":0},{"$f":"'Project Cashflows'!BSV371","v":0},{"$f":"'Project Cashflows'!BSW371","v":0},{"$f":"'Project Cashflows'!BSX371","v":0},{"$f":"'Project Cashflows'!BSY371","v":0},{"$f":"'Project Cashflows'!BSZ371","v":0},{"$f":"'Project Cashflows'!BTA371","v":0},{"$f":"'Project Cashflows'!BTB371","v":0},{"$f":"'Project Cashflows'!BTC371","v":0},{"$f":"'Project Cashflows'!BTD371","v":0},{"$f":"'Project Cashflows'!BTE371","v":0},{"$f":"'Project Cashflows'!BTF371","v":0},{"$f":"'Project Cashflows'!BTG371","v":0},{"$f":"'Project Cashflows'!BTH371","v":0},{"$f":"'Project Cashflows'!BTI371","v":0},{"$f":"'Project Cashflows'!BTJ371","v":0},{"$f":"'Project Cashflows'!BTK371","v":0},{"$f":"'Project Cashflows'!BTL371","v":0},{"$f":"'Project Cashflows'!BTM371","v":0},{"$f":"'Project Cashflows'!BTN371","v":0},{"$f":"'Project Cashflows'!BTO371","v":0},{"$f":"'Project Cashflows'!BTP371","v":0},{"$f":"'Project Cashflows'!BTQ371","v":0},{"$f":"'Project Cashflows'!BTR371","v":0},{"$f":"'Project Cashflows'!BTS371","v":0},{"$f":"'Project Cashflows'!BTT371","v":0},{"$f":"'Project Cashflows'!BTU371","v":0},{"$f":"'Project Cashflows'!BTV371","v":0},{"$f":"'Project Cashflows'!BTW371","v":0},{"$f":"'Project Cashflows'!BTX371","v":0},{"$f":"'Project Cashflows'!BTY371","v":0},{"$f":"'Project Cashflows'!BTZ371","v":0},{"$f":"'Project Cashflows'!BUA371","v":0},{"$f":"'Project Cashflows'!BUB371","v":0},{"$f":"'Project Cashflows'!BUC371","v":0},{"$f":"'Project Cashflows'!BUD371","v":0},{"$f":"'Project Cashflows'!BUE371","v":0},{"$f":"'Project Cashflows'!BUF371","v":0},{"$f":"'Project Cashflows'!BUG371","v":0},{"$f":"'Project Cashflows'!BUH371","v":0},{"$f":"'Project Cashflows'!BUI371","v":0},{"$f":"'Project Cashflows'!BUJ371","v":0},{"$f":"'Project Cashflows'!BUK371","v":0},{"$f":"'Project Cashflows'!BUL371","v":0},{"$f":"'Project Cashflows'!BUM371","v":0},{"$f":"'Project Cashflows'!BUN371","v":0},{"$f":"'Project Cashflows'!BUO371","v":0},{"$f":"'Project Cashflows'!BUP371","v":0},{"$f":"'Project Cashflows'!BUQ371","v":0},{"$f":"'Project Cashflows'!BUR371","v":0},{"$f":"'Project Cashflows'!BUS371","v":0},{"$f":"'Project Cashflows'!BUT371","v":0},{"$f":"'Project Cashflows'!BUU371","v":0},{"$f":"'Project Cashflows'!BUV371","v":0},{"$f":"'Project Cashflows'!BUW371","v":0},{"$f":"'Project Cashflows'!BUX371","v":0},{"$f":"'Project Cashflows'!BUY371","v":0},{"$f":"'Project Cashflows'!BUZ371","v":0},{"$f":"'Project Cashflows'!BVA371","v":0},{"$f":"'Project Cashflows'!BVB371","v":0},{"$f":"'Project Cashflows'!BVC371","v":0},{"$f":"'Project Cashflows'!BVD371","v":0},{"$f":"'Project Cashflows'!BVE371","v":0},{"$f":"'Project Cashflows'!BVF371","v":0},{"$f":"'Project Cashflows'!BVG371","v":0},{"$f":"'Project Cashflows'!BVH371","v":0},{"$f":"'Project Cashflows'!BVI371","v":0},{"$f":"'Project Cashflows'!BVJ371","v":0},{"$f":"'Project Cashflows'!BVK371","v":0},{"$f":"'Project Cashflows'!BVL371","v":0},{"$f":"'Project Cashflows'!BVM371","v":0},{"$f":"'Project Cashflows'!BVN371","v":0},{"$f":"'Project Cashflows'!BVO371","v":0},{"$f":"'Project Cashflows'!BVP371","v":0},{"$f":"'Project Cashflows'!BVQ371","v":0},{"$f":"'Project Cashflows'!BVR371","v":0},{"$f":"'Project Cashflows'!BVS371","v":0},{"$f":"'Project Cashflows'!BVT371","v":0},{"$f":"'Project Cashflows'!BVU371","v":0},{"$f":"'Project Cashflows'!BVV371","v":0},{"$f":"'Project Cashflows'!BVW371","v":0},{"$f":"'Project Cashflows'!BVX371","v":0},{"$f":"'Project Cashflows'!BVY371","v":0},{"$f":"'Project Cashflows'!BVZ371","v":0},{"$f":"'Project Cashflows'!BWA371","v":0},{"$f":"'Project Cashflows'!BWB371","v":0},{"$f":"'Project Cashflows'!BWC371","v":0},{"$f":"'Project Cashflows'!BWD371","v":0},{"$f":"'Project Cashflows'!BWE371","v":0},{"$f":"'Project Cashflows'!BWF371","v":0},{"$f":"'Project Cashflows'!BWG371","v":0},{"$f":"'Project Cashflows'!BWH371","v":0},{"$f":"'Project Cashflows'!BWI371","v":0},{"$f":"'Project Cashflows'!BWJ371","v":0},{"$f":"'Project Cashflows'!BWK371","v":0},{"$f":"'Project Cashflows'!BWL371","v":0},{"$f":"'Project Cashflows'!BWM371","v":0},{"$f":"'Project Cashflows'!BWN371","v":0},{"$f":"'Project Cashflows'!BWO371","v":0},{"$f":"'Project Cashflows'!BWP371","v":0},{"$f":"'Project Cashflows'!BWQ371","v":0},{"$f":"'Project Cashflows'!BWR371","v":0},{"$f":"'Project Cashflows'!BWS371","v":0},{"$f":"'Project Cashflows'!BWT371","v":0},{"$f":"'Project Cashflows'!BWU371","v":0},{"$f":"'Project Cashflows'!BWV371","v":0},{"$f":"'Project Cashflows'!BWW371","v":0},{"$f":"'Project Cashflows'!BWX371","v":0},{"$f":"'Project Cashflows'!BWY371","v":0},{"$f":"'Project Cashflows'!BWZ371","v":0},{"$f":"'Project Cashflows'!BXA371","v":0},{"$f":"'Project Cashflows'!BXB371","v":0},{"$f":"'Project Cashflows'!BXC371","v":0},{"$f":"'Project Cashflows'!BXD371","v":0},{"$f":"'Project Cashflows'!BXE371","v":0},{"$f":"'Project Cashflows'!BXF371","v":0},{"$f":"'Project Cashflows'!BXG371","v":0},{"$f":"'Project Cashflows'!BXH371","v":0},{"$f":"'Project Cashflows'!BXI371","v":0},{"$f":"'Project Cashflows'!BXJ371","v":0},{"$f":"'Project Cashflows'!BXK371","v":0},{"$f":"'Project Cashflows'!BXL371","v":0},{"$f":"'Project Cashflows'!BXM371","v":0},{"$f":"'Project Cashflows'!BXN371","v":0},{"$f":"'Project Cashflows'!BXO371","v":0},{"$f":"'Project Cashflows'!BXP371","v":0},{"$f":"'Project Cashflows'!BXQ371","v":0},{"$f":"'Project Cashflows'!BXR371","v":0},{"$f":"'Project Cashflows'!BXS371","v":0},{"$f":"'Project Cashflows'!BXT371","v":0},{"$f":"'Project Cashflows'!BXU371","v":0},{"$f":"'Project Cashflows'!BXV371","v":0},{"$f":"'Project Cashflows'!BXW371","v":0},{"$f":"'Project Cashflows'!BXX371","v":0},{"$f":"'Project Cashflows'!BXY371","v":0},{"$f":"'Project Cashflows'!BXZ371","v":0},{"$f":"'Project Cashflows'!BYA371","v":0},{"$f":"'Project Cashflows'!BYB371","v":0},{"$f":"'Project Cashflows'!BYC371","v":0},{"$f":"'Project Cashflows'!BYD371","v":0},{"$f":"'Project Cashflows'!BYE371","v":0},{"$f":"'Project Cashflows'!BYF371","v":0},{"$f":"'Project Cashflows'!BYG371","v":0},{"$f":"'Project Cashflows'!BYH371","v":0},{"$f":"'Project Cashflows'!BYI371","v":0},{"$f":"'Project Cashflows'!BYJ371","v":0},{"$f":"'Project Cashflows'!BYK371","v":0},{"$f":"'Project Cashflows'!BYL371","v":0},{"$f":"'Project Cashflows'!BYM371","v":0},{"$f":"'Project Cashflows'!BYN371","v":0},{"$f":"'Project Cashflows'!BYO371","v":0},{"$f":"'Project Cashflows'!BYP371","v":0},{"$f":"'Project Cashflows'!BYQ371","v":0},{"$f":"'Project Cashflows'!BYR371","v":0},{"$f":"'Project Cashflows'!BYS371","v":0},{"$f":"'Project Cashflows'!BYT371","v":0},{"$f":"'Project Cashflows'!BYU371","v":0},{"$f":"'Project Cashflows'!BYV371","v":0},{"$f":"'Project Cashflows'!BYW371","v":0},{"$f":"'Project Cashflows'!BYX371","v":0},{"$f":"'Project Cashflows'!BYY371","v":0},{"$f":"'Project Cashflows'!BYZ371","v":0},{"$f":"'Project Cashflows'!BZA371","v":0},{"$f":"'Project Cashflows'!BZB371","v":0},{"$f":"'Project Cashflows'!BZC371","v":0},{"$f":"'Project Cashflows'!BZD371","v":0},{"$f":"'Project Cashflows'!BZE371","v":0},{"$f":"'Project Cashflows'!BZF371","v":0},{"$f":"'Project Cashflows'!BZG371","v":0},{"$f":"'Project Cashflows'!BZH371","v":0},{"$f":"'Project Cashflows'!BZI371","v":0},{"$f":"'Project Cashflows'!BZJ371","v":0},{"$f":"'Project Cashflows'!BZK371","v":0},{"$f":"'Project Cashflows'!BZL371","v":0},{"$f":"'Project Cashflows'!BZM371","v":0},{"$f":"'Project Cashflows'!BZN371","v":0},{"$f":"'Project Cashflows'!BZO371","v":0},{"$f":"'Project Cashflows'!BZP371","v":0},{"$f":"'Project Cashflows'!BZQ371","v":0},{"$f":"'Project Cashflows'!BZR371","v":0},{"$f":"'Project Cashflows'!BZS371","v":0},{"$f":"'Project Cashflows'!BZT371","v":0},{"$f":"'Project Cashflows'!BZU371","v":0},{"$f":"'Project Cashflows'!BZV371","v":0},{"$f":"'Project Cashflows'!BZW371","v":0},{"$f":"'Project Cashflows'!BZX371","v":0},{"$f":"'Project Cashflows'!BZY371","v":0},{"$f":"'Project Cashflows'!BZZ371","v":0},{"$f":"'Project Cashflows'!CAA371","v":0},{"$f":"'Project Cashflows'!CAB371","v":0},{"$f":"'Project Cashflows'!CAC371","v":0},{"$f":"'Project Cashflows'!CAD371","v":0},{"$f":"'Project Cashflows'!CAE371","v":0},{"$f":"'Project Cashflows'!CAF371","v":0},{"$f":"'Project Cashflows'!CAG371","v":0},{"$f":"'Project Cashflows'!CAH371","v":0},{"$f":"'Project Cashflows'!CAI371","v":0},{"$f":"'Project Cashflows'!CAJ371","v":0},{"$f":"'Project Cashflows'!CAK371","v":0},{"$f":"'Project Cashflows'!CAL371","v":0},{"$f":"'Project Cashflows'!CAM371","v":0},{"$f":"'Project Cashflows'!CAN371","v":0},{"$f":"'Project Cashflows'!CAO371","v":0},{"$f":"'Project Cashflows'!CAP371","v":0},{"$f":"'Project Cashflows'!CAQ371","v":0},{"$f":"'Project Cashflows'!CAR371","v":0},{"$f":"'Project Cashflows'!CAS371","v":0},{"$f":"'Project Cashflows'!CAT371","v":0},{"$f":"'Project Cashflows'!CAU371","v":0},{"$f":"'Project Cashflows'!CAV371","v":0},{"$f":"'Project Cashflows'!CAW371","v":0},{"$f":"'Project Cashflows'!CAX371","v":0},{"$f":"'Project Cashflows'!CAY371","v":0},{"$f":"'Project Cashflows'!CAZ371","v":0},{"$f":"'Project Cashflows'!CBA371","v":0},{"$f":"'Project Cashflows'!CBB371","v":0},{"$f":"'Project Cashflows'!CBC371","v":0},{"$f":"'Project Cashflows'!CBD371","v":0},{"$f":"'Project Cashflows'!CBE371","v":0},{"$f":"'Project Cashflows'!CBF371","v":0},{"$f":"'Project Cashflows'!CBG371","v":0},{"$f":"'Project Cashflows'!CBH371","v":0},{"$f":"'Project Cashflows'!CBI371","v":0},{"$f":"'Project Cashflows'!CBJ371","v":0},{"$f":"'Project Cashflows'!CBK371","v":0},{"$f":"'Project Cashflows'!CBL371","v":0},{"$f":"'Project Cashflows'!CBM371","v":0},{"$f":"'Project Cashflows'!CBN371","v":0},{"$f":"'Project Cashflows'!CBO371","v":0},{"$f":"'Project Cashflows'!CBP371","v":0},{"$f":"'Project Cashflows'!CBQ371","v":0},{"$f":"'Project Cashflows'!CBR371","v":0},{"$f":"'Project Cashflows'!CBS371","v":0},{"$f":"'Project Cashflows'!CBT371","v":0},{"$f":"'Project Cashflows'!CBU371","v":0},{"$f":"'Project Cashflows'!CBV371","v":0},{"$f":"'Project Cashflows'!CBW371","v":0},{"$f":"'Project Cashflows'!CBX371","v":0},{"$f":"'Project Cashflows'!CBY371","v":0},{"$f":"'Project Cashflows'!CBZ371","v":0},{"$f":"'Project Cashflows'!CCA371","v":0},{"$f":"'Project Cashflows'!CCB371","v":0},{"$f":"'Project Cashflows'!CCC371","v":0},{"$f":"'Project Cashflows'!CCD371","v":0},{"$f":"'Project Cashflows'!CCE371","v":0},{"$f":"'Project Cashflows'!CCF371","v":0},{"$f":"'Project Cashflows'!CCG371","v":0},{"$f":"'Project Cashflows'!CCH371","v":0},{"$f":"'Project Cashflows'!CCI371","v":0},{"$f":"'Project Cashflows'!CCJ371","v":0},{"$f":"'Project Cashflows'!CCK371","v":0},{"$f":"'Project Cashflows'!CCL371","v":0},{"$f":"'Project Cashflows'!CCM371","v":0},{"$f":"'Project Cashflows'!CCN371","v":0},{"$f":"'Project Cashflows'!CCO371","v":0},{"$f":"'Project Cashflows'!CCP371","v":0},{"$f":"'Project Cashflows'!CCQ371","v":0},{"$f":"'Project Cashflows'!CCR371","v":0},{"$f":"'Project Cashflows'!CCS371","v":0},{"$f":"'Project Cashflows'!CCT371","v":0},{"$f":"'Project Cashflows'!CCU371","v":0},{"$f":"'Project Cashflows'!CCV371","v":0},{"$f":"'Project Cashflows'!CCW371","v":0},{"$f":"'Project Cashflows'!CCX371","v":0},{"$f":"'Project Cashflows'!CCY371","v":0},{"$f":"'Project Cashflows'!CCZ371","v":0},{"$f":"'Project Cashflows'!CDA371","v":0},{"$f":"'Project Cashflows'!CDB371","v":0},{"$f":"'Project Cashflows'!CDC371","v":0},{"$f":"'Project Cashflows'!CDD371","v":0},{"$f":"'Project Cashflows'!CDE371","v":0},{"$f":"'Project Cashflows'!CDF371","v":0},{"$f":"'Project Cashflows'!CDG371","v":0},{"$f":"'Project Cashflows'!CDH371","v":0},{"$f":"'Project Cashflows'!CDI371","v":0},{"$f":"'Project Cashflows'!CDJ371","v":0},{"$f":"'Project Cashflows'!CDK371","v":0},{"$f":"'Project Cashflows'!CDL371","v":0},{"$f":"'Project Cashflows'!CDM371","v":0},{"$f":"'Project Cashflows'!CDN371","v":0},{"$f":"'Project Cashflows'!CDO371","v":0},{"$f":"'Project Cashflows'!CDP371","v":0},{"$f":"'Project Cashflows'!CDQ371","v":0},{"$f":"'Project Cashflows'!CDR371","v":0},{"$f":"'Project Cashflows'!CDS371","v":0},{"$f":"'Project Cashflows'!CDT371","v":0},{"$f":"'Project Cashflows'!CDU371","v":0},{"$f":"'Project Cashflows'!CDV371","v":0},{"$f":"'Project Cashflows'!CDW371","v":0},{"$f":"'Project Cashflows'!CDX371","v":0},{"$f":"'Project Cashflows'!CDY371","v":0},{"$f":"'Project Cashflows'!CDZ371","v":0},{"$f":"'Project Cashflows'!CEA371","v":0},{"$f":"'Project Cashflows'!CEB371","v":0},{"$f":"'Project Cashflows'!CEC371","v":0},{"$f":"'Project Cashflows'!CED371","v":0},{"$f":"'Project Cashflows'!CEE371","v":0},{"$f":"'Project Cashflows'!CEF371","v":0},{"$f":"'Project Cashflows'!CEG371","v":0},{"$f":"'Project Cashflows'!CEH371","v":0},{"$f":"'Project Cashflows'!CEI371","v":0},{"$f":"'Project Cashflows'!CEJ371","v":0},{"$f":"'Project Cashflows'!CEK371","v":0},{"$f":"'Project Cashflows'!CEL371","v":0},{"$f":"'Project Cashflows'!CEM371","v":0},{"$f":"'Project Cashflows'!CEN371","v":0},{"$f":"'Project Cashflows'!CEO371","v":0},{"$f":"'Project Cashflows'!CEP371","v":0},{"$f":"'Project Cashflows'!CEQ371","v":0},{"$f":"'Project Cashflows'!CER371","v":0},{"$f":"'Project Cashflows'!CES371","v":0},{"$f":"'Project Cashflows'!CET371","v":0},{"$f":"'Project Cashflows'!CEU371","v":0},{"$f":"'Project Cashflows'!CEV371","v":0},{"$f":"'Project Cashflows'!CEW371","v":0},{"$f":"'Project Cashflows'!CEX371","v":0},{"$f":"'Project Cashflows'!CEY371","v":0},{"$f":"'Project Cashflows'!CEZ371","v":0},{"$f":"'Project Cashflows'!CFA371","v":0},{"$f":"'Project Cashflows'!CFB371","v":0},{"$f":"'Project Cashflows'!CFC371","v":0},{"$f":"'Project Cashflows'!CFD371","v":0},{"$f":"'Project Cashflows'!CFE371","v":0},{"$f":"'Project Cashflows'!CFF371","v":0},{"$f":"'Project Cashflows'!CFG371","v":0},{"$f":"'Project Cashflows'!CFH371","v":0},{"$f":"'Project Cashflows'!CFI371","v":0},{"$f":"'Project Cashflows'!CFJ371","v":0},{"$f":"'Project Cashflows'!CFK371","v":0},{"$f":"'Project Cashflows'!CFL371","v":0},{"$f":"'Project Cashflows'!CFM371","v":0},{"$f":"'Project Cashflows'!CFN371","v":0},{"$f":"'Project Cashflows'!CFO371","v":0},{"$f":"'Project Cashflows'!CFP371","v":0},{"$f":"'Project Cashflows'!CFQ371","v":0},{"$f":"'Project Cashflows'!CFR371","v":0},{"$f":"'Project Cashflows'!CFS371","v":0},{"$f":"'Project Cashflows'!CFT371","v":0},{"$f":"'Project Cashflows'!CFU371","v":0},{"$f":"'Project Cashflows'!CFV371","v":0},{"$f":"'Project Cashflows'!CFW371","v":0},{"$f":"'Project Cashflows'!CFX371","v":0},{"$f":"'Project Cashflows'!CFY371","v":0},{"$f":"'Project Cashflows'!CFZ371","v":0},{"$f":"'Project Cashflows'!CGA371","v":0},{"$f":"'Project Cashflows'!CGB371","v":0},{"$f":"'Project Cashflows'!CGC371","v":0},{"$f":"'Project Cashflows'!CGD371","v":0},{"$f":"'Project Cashflows'!CGE371","v":0},{"$f":"'Project Cashflows'!CGF371","v":0},{"$f":"'Project Cashflows'!CGG371","v":0},{"$f":"'Project Cashflows'!CGH371","v":0},{"$f":"'Project Cashflows'!CGI371","v":0},{"$f":"'Project Cashflows'!CGJ371","v":0},{"$f":"'Project Cashflows'!CGK371","v":0},{"$f":"'Project Cashflows'!CGL371","v":0},{"$f":"'Project Cashflows'!CGM371","v":0},{"$f":"'Project Cashflows'!CGN371","v":0},{"$f":"'Project Cashflows'!CGO371","v":0},{"$f":"'Project Cashflows'!CGP371","v":0},{"$f":"'Project Cashflows'!CGQ371","v":0},{"$f":"'Project Cashflows'!CGR371","v":0},{"$f":"'Project Cashflows'!CGS371","v":0},{"$f":"'Project Cashflows'!CGT371","v":0},{"$f":"'Project Cashflows'!CGU371","v":0},{"$f":"'Project Cashflows'!CGV371","v":0},{"$f":"'Project Cashflows'!CGW371","v":0},{"$f":"'Project Cashflows'!CGX371","v":0},{"$f":"'Project Cashflows'!CGY371","v":0},{"$f":"'Project Cashflows'!CGZ371","v":0},{"$f":"'Project Cashflows'!CHA371","v":0},{"$f":"'Project Cashflows'!CHB371","v":0},{"$f":"'Project Cashflows'!CHC371","v":0},{"$f":"'Project Cashflows'!CHD371","v":0},{"$f":"'Project Cashflows'!CHE371","v":0},{"$f":"'Project Cashflows'!CHF371","v":0},{"$f":"'Project Cashflows'!CHG371","v":0},{"$f":"'Project Cashflows'!CHH371","v":0},{"$f":"'Project Cashflows'!CHI371","v":0},{"$f":"'Project Cashflows'!CHJ371","v":0},{"$f":"'Project Cashflows'!CHK371","v":0},{"$f":"'Project Cashflows'!CHL371","v":0},{"$f":"'Project Cashflows'!CHM371","v":0},{"$f":"'Project Cashflows'!CHN371","v":0},{"$f":"'Project Cashflows'!CHO371","v":0},{"$f":"'Project Cashflows'!CHP371","v":0},{"$f":"'Project Cashflows'!CHQ371","v":0},{"$f":"'Project Cashflows'!CHR371","v":0},{"$f":"'Project Cashflows'!CHS371","v":0},{"$f":"'Project Cashflows'!CHT371","v":0},{"$f":"'Project Cashflows'!CHU371","v":0},{"$f":"'Project Cashflows'!CHV371","v":0},{"$f":"'Project Cashflows'!CHW371","v":0},{"$f":"'Project Cashflows'!CHX371","v":0},{"$f":"'Project Cashflows'!CHY371","v":0},{"$f":"'Project Cashflows'!CHZ371","v":0},{"$f":"'Project Cashflows'!CIA371","v":0},{"$f":"'Project Cashflows'!CIB371","v":0},{"$f":"'Project Cashflows'!CIC371","v":0},{"$f":"'Project Cashflows'!CID371","v":0},{"$f":"'Project Cashflows'!CIE371","v":0},{"$f":"'Project Cashflows'!CIF371","v":0},{"$f":"'Project Cashflows'!CIG371","v":0},{"$f":"'Project Cashflows'!CIH371","v":0},{"$f":"'Project Cashflows'!CII371","v":0},{"$f":"'Project Cashflows'!CIJ371","v":0},{"$f":"'Project Cashflows'!CIK371","v":0},{"$f":"'Project Cashflows'!CIL371","v":0},{"$f":"'Project Cashflows'!CIM371","v":0},{"$f":"'Project Cashflows'!CIN371","v":0},{"$f":"'Project Cashflows'!CIO371","v":0},{"$f":"'Project Cashflows'!CIP371","v":0},{"$f":"'Project Cashflows'!CIQ371","v":0},{"$f":"'Project Cashflows'!CIR371","v":0},{"$f":"'Project Cashflows'!CIS371","v":0},{"$f":"'Project Cashflows'!CIT371","v":0},{"$f":"'Project Cashflows'!CIU371","v":0},{"$f":"'Project Cashflows'!CIV371","v":0},{"$f":"'Project Cashflows'!CIW371","v":0},{"$f":"'Project Cashflows'!CIX371","v":0},{"$f":"'Project Cashflows'!CIY371","v":0},{"$f":"'Project Cashflows'!CIZ371","v":0},{"$f":"'Project Cashflows'!CJA371","v":0},{"$f":"'Project Cashflows'!CJB371","v":0},{"$f":"'Project Cashflows'!CJC371","v":0},{"$f":"'Project Cashflows'!CJD371","v":0},{"$f":"'Project Cashflows'!CJE371","v":0},{"$f":"'Project Cashflows'!CJF371","v":0},{"$f":"'Project Cashflows'!CJG371","v":0},{"$f":"'Project Cashflows'!CJH371","v":0},{"$f":"'Project Cashflows'!CJI371","v":0},{"$f":"'Project Cashflows'!CJJ371","v":0},{"$f":"'Project Cashflows'!CJK371","v":0},{"$f":"'Project Cashflows'!CJL371","v":0},{"$f":"'Project Cashflows'!CJM371","v":0},{"$f":"'Project Cashflows'!CJN371","v":0},{"$f":"'Project Cashflows'!CJO371","v":0},{"$f":"'Project Cashflows'!CJP371","v":0},{"$f":"'Project Cashflows'!CJQ371","v":0},{"$f":"'Project Cashflows'!CJR371","v":0},{"$f":"'Project Cashflows'!CJS371","v":0},{"$f":"'Project Cashflows'!CJT371","v":0},{"$f":"'Project Cashflows'!CJU371","v":0},{"$f":"'Project Cashflows'!CJV371","v":0},{"$f":"'Project Cashflows'!CJW371","v":0},{"$f":"'Project Cashflows'!CJX371","v":0},{"$f":"'Project Cashflows'!CJY371","v":0},{"$f":"'Project Cashflows'!CJZ371","v":0},{"$f":"'Project Cashflows'!CKA371","v":0},{"$f":"'Project Cashflows'!CKB371","v":0},{"$f":"'Project Cashflows'!CKC371","v":0},{"$f":"'Project Cashflows'!CKD371","v":0},{"$f":"'Project Cashflows'!CKE371","v":0},{"$f":"'Project Cashflows'!CKF371","v":0},{"$f":"'Project Cashflows'!CKG371","v":0},{"$f":"'Project Cashflows'!CKH371","v":0},{"$f":"'Project Cashflows'!CKI371","v":0},{"$f":"'Project Cashflows'!CKJ371","v":0},{"$f":"'Project Cashflows'!CKK371","v":0},{"$f":"'Project Cashflows'!CKL371","v":0},{"$f":"'Project Cashflows'!CKM371","v":0},{"$f":"'Project Cashflows'!CKN371","v":0},{"$f":"'Project Cashflows'!CKO371","v":0},{"$f":"'Project Cashflows'!CKP371","v":0},{"$f":"'Project Cashflows'!CKQ371","v":0},{"$f":"'Project Cashflows'!CKR371","v":0},{"$f":"'Project Cashflows'!CKS371","v":0},{"$f":"'Project Cashflows'!CKT371","v":0},{"$f":"'Project Cashflows'!CKU371","v":0},{"$f":"'Project Cashflows'!CKV371","v":0},{"$f":"'Project Cashflows'!CKW371","v":0},{"$f":"'Project Cashflows'!CKX371","v":0},{"$f":"'Project Cashflows'!CKY371","v":0},{"$f":"'Project Cashflows'!CKZ371","v":0},{"$f":"'Project Cashflows'!CLA371","v":0},{"$f":"'Project Cashflows'!CLB371","v":0},{"$f":"'Project Cashflows'!CLC371","v":0},{"$f":"'Project Cashflows'!CLD371","v":0},{"$f":"'Project Cashflows'!CLE371","v":0},{"$f":"'Project Cashflows'!CLF371","v":0},{"$f":"'Project Cashflows'!CLG371","v":0},{"$f":"'Project Cashflows'!CLH371","v":0},{"$f":"'Project Cashflows'!CLI371","v":0},{"$f":"'Project Cashflows'!CLJ371","v":0},{"$f":"'Project Cashflows'!CLK371","v":0},{"$f":"'Project Cashflows'!CLL371","v":0},{"$f":"'Project Cashflows'!CLM371","v":0},{"$f":"'Project Cashflows'!CLN371","v":0},{"$f":"'Project Cashflows'!CLO371","v":0},{"$f":"'Project Cashflows'!CLP371","v":0},{"$f":"'Project Cashflows'!CLQ371","v":0},{"$f":"'Project Cashflows'!CLR371","v":0},{"$f":"'Project Cashflows'!CLS371","v":0},{"$f":"'Project Cashflows'!CLT371","v":0},{"$f":"'Project Cashflows'!CLU371","v":0},{"$f":"'Project Cashflows'!CLV371","v":0},{"$f":"'Project Cashflows'!CLW371","v":0},{"$f":"'Project Cashflows'!CLX371","v":0},{"$f":"'Project Cashflows'!CLY371","v":0},{"$f":"'Project Cashflows'!CLZ371","v":0},{"$f":"'Project Cashflows'!CMA371","v":0},{"$f":"'Project Cashflows'!CMB371","v":0},{"$f":"'Project Cashflows'!CMC371","v":0},{"$f":"'Project Cashflows'!CMD371","v":0},{"$f":"'Project Cashflows'!CME371","v":0},{"$f":"'Project Cashflows'!CMF371","v":0},{"$f":"'Project Cashflows'!CMG371","v":0},{"$f":"'Project Cashflows'!CMH371","v":0},{"$f":"'Project Cashflows'!CMI371","v":0},{"$f":"'Project Cashflows'!CMJ371","v":0},{"$f":"'Project Cashflows'!CMK371","v":0},{"$f":"'Project Cashflows'!CML371","v":0},{"$f":"'Project Cashflows'!CMM371","v":0},{"$f":"'Project Cashflows'!CMN371","v":0},{"$f":"'Project Cashflows'!CMO371","v":0},{"$f":"'Project Cashflows'!CMP371","v":0},{"$f":"'Project Cashflows'!CMQ371","v":0},{"$f":"'Project Cashflows'!CMR371","v":0},{"$f":"'Project Cashflows'!CMS371","v":0},{"$f":"'Project Cashflows'!CMT371","v":0},{"$f":"'Project Cashflows'!CMU371","v":0},{"$f":"'Project Cashflows'!CMV371","v":0},{"$f":"'Project Cashflows'!CMW371","v":0},{"$f":"'Project Cashflows'!CMX371","v":0},{"$f":"'Project Cashflows'!CMY371","v":0},{"$f":"'Project Cashflows'!CMZ371","v":0},{"$f":"'Project Cashflows'!CNA371","v":0},{"$f":"'Project Cashflows'!CNB371","v":0},{"$f":"'Project Cashflows'!CNC371","v":0},{"$f":"'Project Cashflows'!CND371","v":0},{"$f":"'Project Cashflows'!CNE371","v":0},{"$f":"'Project Cashflows'!CNF371","v":0},{"$f":"'Project Cashflows'!CNG371","v":0},{"$f":"'Project Cashflows'!CNH371","v":0},{"$f":"'Project Cashflows'!CNI371","v":0},{"$f":"'Project Cashflows'!CNJ371","v":0},{"$f":"'Project Cashflows'!CNK371","v":0},{"$f":"'Project Cashflows'!CNL371","v":0},{"$f":"'Project Cashflows'!CNM371","v":0},{"$f":"'Project Cashflows'!CNN371","v":0},{"$f":"'Project Cashflows'!CNO371","v":0},{"$f":"'Project Cashflows'!CNP371","v":0},{"$f":"'Project Cashflows'!CNQ371","v":0},{"$f":"'Project Cashflows'!CNR371","v":0},{"$f":"'Project Cashflows'!CNS371","v":0},{"$f":"'Project Cashflows'!CNT371","v":0},{"$f":"'Project Cashflows'!CNU371","v":0},{"$f":"'Project Cashflows'!CNV371","v":0},{"$f":"'Project Cashflows'!CNW371","v":0},{"$f":"'Project Cashflows'!CNX371","v":0},{"$f":"'Project Cashflows'!CNY371","v":0},{"$f":"'Project Cashflows'!CNZ371","v":0},{"$f":"'Project Cashflows'!COA371","v":0},{"$f":"'Project Cashflows'!COB371","v":0},{"$f":"'Project Cashflows'!COC371","v":0},{"$f":"'Project Cashflows'!COD371","v":0},{"$f":"'Project Cashflows'!COE371","v":0},{"$f":"'Project Cashflows'!COF371","v":0},{"$f":"'Project Cashflows'!COG371","v":0},{"$f":"'Project Cashflows'!COH371","v":0},{"$f":"'Project Cashflows'!COI371","v":0},{"$f":"'Project Cashflows'!COJ371","v":0},{"$f":"'Project Cashflows'!COK371","v":0},{"$f":"'Project Cashflows'!COL371","v":0},{"$f":"'Project Cashflows'!COM371","v":0},{"$f":"'Project Cashflows'!CON371","v":0},{"$f":"'Project Cashflows'!COO371","v":0},{"$f":"'Project Cashflows'!COP371","v":0},{"$f":"'Project Cashflows'!COQ371","v":0},{"$f":"'Project Cashflows'!COR371","v":0},{"$f":"'Project Cashflows'!COS371","v":0},{"$f":"'Project Cashflows'!COT371","v":0},{"$f":"'Project Cashflows'!COU371","v":0},{"$f":"'Project Cashflows'!COV371","v":0},{"$f":"'Project Cashflows'!COW371","v":0},{"$f":"'Project Cashflows'!COX371","v":0},{"$f":"'Project Cashflows'!COY371","v":0},{"$f":"'Project Cashflows'!COZ371","v":0},{"$f":"'Project Cashflows'!CPA371","v":0},{"$f":"'Project Cashflows'!CPB371","v":0},{"$f":"'Project Cashflows'!CPC371","v":0},{"$f":"'Project Cashflows'!CPD371","v":0},{"$f":"'Project Cashflows'!CPE371","v":0},{"$f":"'Project Cashflows'!CPF371","v":0},{"$f":"'Project Cashflows'!CPG371","v":0},{"$f":"'Project Cashflows'!CPH371","v":0},{"$f":"'Project Cashflows'!CPI371","v":0},{"$f":"'Project Cashflows'!CPJ371","v":0},{"$f":"'Project Cashflows'!CPK371","v":0},{"$f":"'Project Cashflows'!CPL371","v":0},{"$f":"'Project Cashflows'!CPM371","v":0},{"$f":"'Project Cashflows'!CPN371","v":0},{"$f":"'Project Cashflows'!CPO371","v":0},{"$f":"'Project Cashflows'!CPP371","v":0},{"$f":"'Project Cashflows'!CPQ371","v":0},{"$f":"'Project Cashflows'!CPR371","v":0},{"$f":"'Project Cashflows'!CPS371","v":0},{"$f":"'Project Cashflows'!CPT371","v":0},{"$f":"'Project Cashflows'!CPU371","v":0},{"$f":"'Project Cashflows'!CPV371","v":0},{"$f":"'Project Cashflows'!CPW371","v":0},{"$f":"'Project Cashflows'!CPX371","v":0},{"$f":"'Project Cashflows'!CPY371","v":0},{"$f":"'Project Cashflows'!CPZ371","v":0},{"$f":"'Project Cashflows'!CQA371","v":0},{"$f":"'Project Cashflows'!CQB371","v":0},{"$f":"'Project Cashflows'!CQC371","v":0},{"$f":"'Project Cashflows'!CQD371","v":0},{"$f":"'Project Cashflows'!CQE371","v":0},{"$f":"'Project Cashflows'!CQF371","v":0},{"$f":"'Project Cashflows'!CQG371","v":0},{"$f":"'Project Cashflows'!CQH371","v":0},{"$f":"'Project Cashflows'!CQI371","v":0},{"$f":"'Project Cashflows'!CQJ371","v":0},{"$f":"'Project Cashflows'!CQK371","v":0},{"$f":"'Project Cashflows'!CQL371","v":0},{"$f":"'Project Cashflows'!CQM371","v":0},{"$f":"'Project Cashflows'!CQN371","v":0},{"$f":"'Project Cashflows'!CQO371","v":0},{"$f":"'Project Cashflows'!CQP371","v":0},{"$f":"'Project Cashflows'!CQQ371","v":0},{"$f":"'Project Cashflows'!CQR371","v":0},{"$f":"'Project Cashflows'!CQS371","v":0},{"$f":"'Project Cashflows'!CQT371","v":0},{"$f":"'Project Cashflows'!CQU371","v":0},{"$f":"'Project Cashflows'!CQV371","v":0},{"$f":"'Project Cashflows'!CQW371","v":0},{"$f":"'Project Cashflows'!CQX371","v":0},{"$f":"'Project Cashflows'!CQY371","v":0},{"$f":"'Project Cashflows'!CQZ371","v":0},{"$f":"'Project Cashflows'!CRA371","v":0},{"$f":"'Project Cashflows'!CRB371","v":0},{"$f":"'Project Cashflows'!CRC371","v":0},{"$f":"'Project Cashflows'!CRD371","v":0},{"$f":"'Project Cashflows'!CRE371","v":0},{"$f":"'Project Cashflows'!CRF371","v":0},{"$f":"'Project Cashflows'!CRG371","v":0},{"$f":"'Project Cashflows'!CRH371","v":0},{"$f":"'Project Cashflows'!CRI371","v":0},{"$f":"'Project Cashflows'!CRJ371","v":0},{"$f":"'Project Cashflows'!CRK371","v":0},{"$f":"'Project Cashflows'!CRL371","v":0},{"$f":"'Project Cashflows'!CRM371","v":0},{"$f":"'Project Cashflows'!CRN371","v":0},{"$f":"'Project Cashflows'!CRO371","v":0},{"$f":"'Project Cashflows'!CRP371","v":0},{"$f":"'Project Cashflows'!CRQ371","v":0},{"$f":"'Project Cashflows'!CRR371","v":0},{"$f":"'Project Cashflows'!CRS371","v":0},{"$f":"'Project Cashflows'!CRT371","v":0},{"$f":"'Project Cashflows'!CRU371","v":0},{"$f":"'Project Cashflows'!CRV371","v":0},{"$f":"'Project Cashflows'!CRW371","v":0},{"$f":"'Project Cashflows'!CRX371","v":0},{"$f":"'Project Cashflows'!CRY371","v":0},{"$f":"'Project Cashflows'!CRZ371","v":0},{"$f":"'Project Cashflows'!CSA371","v":0},{"$f":"'Project Cashflows'!CSB371","v":0},{"$f":"'Project Cashflows'!CSC371","v":0},{"$f":"'Project Cashflows'!CSD371","v":0},{"$f":"'Project Cashflows'!CSE371","v":0},{"$f":"'Project Cashflows'!CSF371","v":0},{"$f":"'Project Cashflows'!CSG371","v":0},{"$f":"'Project Cashflows'!CSH371","v":0},{"$f":"'Project Cashflows'!CSI371","v":0},{"$f":"'Project Cashflows'!CSJ371","v":0},{"$f":"'Project Cashflows'!CSK371","v":0},{"$f":"'Project Cashflows'!CSL371","v":0},{"$f":"'Project Cashflows'!CSM371","v":0},{"$f":"'Project Cashflows'!CSN371","v":0},{"$f":"'Project Cashflows'!CSO371","v":0},{"$f":"'Project Cashflows'!CSP371","v":0},{"$f":"'Project Cashflows'!CSQ371","v":0},{"$f":"'Project Cashflows'!CSR371","v":0},{"$f":"'Project Cashflows'!CSS371","v":0},{"$f":"'Project Cashflows'!CST371","v":0},{"$f":"'Project Cashflows'!CSU371","v":0},{"$f":"'Project Cashflows'!CSV371","v":0},{"$f":"'Project Cashflows'!CSW371","v":0},{"$f":"'Project Cashflows'!CSX371","v":0},{"$f":"'Project Cashflows'!CSY371","v":0},{"$f":"'Project Cashflows'!CSZ371","v":0},{"$f":"'Project Cashflows'!CTA371","v":0},{"$f":"'Project Cashflows'!CTB371","v":0},{"$f":"'Project Cashflows'!CTC371","v":0},{"$f":"'Project Cashflows'!CTD371","v":0},{"$f":"'Project Cashflows'!CTE371","v":0},{"$f":"'Project Cashflows'!CTF371","v":0},{"$f":"'Project Cashflows'!CTG371","v":0},{"$f":"'Project Cashflows'!CTH371","v":0},{"$f":"'Project Cashflows'!CTI371","v":0},{"$f":"'Project Cashflows'!CTJ371","v":0},{"$f":"'Project Cashflows'!CTK371","v":0},{"$f":"'Project Cashflows'!CTL371","v":0},{"$f":"'Project Cashflows'!CTM371","v":0},{"$f":"'Project Cashflows'!CTN371","v":0},{"$f":"'Project Cashflows'!CTO371","v":0},{"$f":"'Project Cashflows'!CTP371","v":0},{"$f":"'Project Cashflows'!CTQ371","v":0},{"$f":"'Project Cashflows'!CTR371","v":0},{"$f":"'Project Cashflows'!CTS371","v":0},{"$f":"'Project Cashflows'!CTT371","v":0},{"$f":"'Project Cashflows'!CTU371","v":0},{"$f":"'Project Cashflows'!CTV371","v":0},{"$f":"'Project Cashflows'!CTW371","v":0},{"$f":"'Project Cashflows'!CTX371","v":0},{"$f":"'Project Cashflows'!CTY371","v":0},{"$f":"'Project Cashflows'!CTZ371","v":0},{"$f":"'Project Cashflows'!CUA371","v":0},{"$f":"'Project Cashflows'!CUB371","v":0},{"$f":"'Project Cashflows'!CUC371","v":0},{"$f":"'Project Cashflows'!CUD371","v":0},{"$f":"'Project Cashflows'!CUE371","v":0},{"$f":"'Project Cashflows'!CUF371","v":0},{"$f":"'Project Cashflows'!CUG371","v":0},{"$f":"'Project Cashflows'!CUH371","v":0},{"$f":"'Project Cashflows'!CUI371","v":0},{"$f":"'Project Cashflows'!CUJ371","v":0},{"$f":"'Project Cashflows'!CUK371","v":0},{"$f":"'Project Cashflows'!CUL371","v":0},{"$f":"'Project Cashflows'!CUM371","v":0},{"$f":"'Project Cashflows'!CUN371","v":0},{"$f":"'Project Cashflows'!CUO371","v":0},{"$f":"'Project Cashflows'!CUP371","v":0},{"$f":"'Project Cashflows'!CUQ371","v":0},{"$f":"'Project Cashflows'!CUR371","v":0},{"$f":"'Project Cashflows'!CUS371","v":0},{"$f":"'Project Cashflows'!CUT371","v":0},{"$f":"'Project Cashflows'!CUU371","v":0},{"$f":"'Project Cashflows'!CUV371","v":0},{"$f":"'Project Cashflows'!CUW371","v":0},{"$f":"'Project Cashflows'!CUX371","v":0},{"$f":"'Project Cashflows'!CUY371","v":0},{"$f":"'Project Cashflows'!CUZ371","v":0},{"$f":"'Project Cashflows'!CVA371","v":0},{"$f":"'Project Cashflows'!CVB371","v":0},{"$f":"'Project Cashflows'!CVC371","v":0},{"$f":"'Project Cashflows'!CVD371","v":0},{"$f":"'Project Cashflows'!CVE371","v":0},{"$f":"'Project Cashflows'!CVF371","v":0},{"$f":"'Project Cashflows'!CVG371","v":0},{"$f":"'Project Cashflows'!CVH371","v":0},{"$f":"'Project Cashflows'!CVI371","v":0},{"$f":"'Project Cashflows'!CVJ371","v":0},{"$f":"'Project Cashflows'!CVK371","v":0},{"$f":"'Project Cashflows'!CVL371","v":0},{"$f":"'Project Cashflows'!CVM371","v":0},{"$f":"'Project Cashflows'!CVN371","v":0},{"$f":"'Project Cashflows'!CVO371","v":0},{"$f":"'Project Cashflows'!CVP371","v":0},{"$f":"'Project Cashflows'!CVQ371","v":0},{"$f":"'Project Cashflows'!CVR371","v":0},{"$f":"'Project Cashflows'!CVS371","v":0},{"$f":"'Project Cashflows'!CVT371","v":0},{"$f":"'Project Cashflows'!CVU371","v":0},{"$f":"'Project Cashflows'!CVV371","v":0},{"$f":"'Project Cashflows'!CVW371","v":0},{"$f":"'Project Cashflows'!CVX371","v":0},{"$f":"'Project Cashflows'!CVY371","v":0},{"$f":"'Project Cashflows'!CVZ371","v":0},{"$f":"'Project Cashflows'!CWA371","v":0},{"$f":"'Project Cashflows'!CWB371","v":0},{"$f":"'Project Cashflows'!CWC371","v":0},{"$f":"'Project Cashflows'!CWD371","v":0},{"$f":"'Project Cashflows'!CWE371","v":0},{"$f":"'Project Cashflows'!CWF371","v":0},{"$f":"'Project Cashflows'!CWG371","v":0},{"$f":"'Project Cashflows'!CWH371","v":0},{"$f":"'Project Cashflows'!CWI371","v":0},{"$f":"'Project Cashflows'!CWJ371","v":0},{"$f":"'Project Cashflows'!CWK371","v":0},{"$f":"'Project Cashflows'!CWL371","v":0},{"$f":"'Project Cashflows'!CWM371","v":0},{"$f":"'Project Cashflows'!CWN371","v":0},{"$f":"'Project Cashflows'!CWO371","v":0},{"$f":"'Project Cashflows'!CWP371","v":0},{"$f":"'Project Cashflows'!CWQ371","v":0},{"$f":"'Project Cashflows'!CWR371","v":0},{"$f":"'Project Cashflows'!CWS371","v":0},{"$f":"'Project Cashflows'!CWT371","v":0},{"$f":"'Project Cashflows'!CWU371","v":0},{"$f":"'Project Cashflows'!CWV371","v":0},{"$f":"'Project Cashflows'!CWW371","v":0},{"$f":"'Project Cashflows'!CWX371","v":0},{"$f":"'Project Cashflows'!CWY371","v":0},{"$f":"'Project Cashflows'!CWZ371","v":0},{"$f":"'Project Cashflows'!CXA371","v":0},{"$f":"'Project Cashflows'!CXB371","v":0},{"$f":"'Project Cashflows'!CXC371","v":0},{"$f":"'Project Cashflows'!CXD371","v":0},{"$f":"'Project Cashflows'!CXE371","v":0},{"$f":"'Project Cashflows'!CXF371","v":0},{"$f":"'Project Cashflows'!CXG371","v":0},{"$f":"'Project Cashflows'!CXH371","v":0},{"$f":"'Project Cashflows'!CXI371","v":0},{"$f":"'Project Cashflows'!CXJ371","v":0},{"$f":"'Project Cashflows'!CXK371","v":0},{"$f":"'Project Cashflows'!CXL371","v":0},{"$f":"'Project Cashflows'!CXM371","v":0},{"$f":"'Project Cashflows'!CXN371","v":0},{"$f":"'Project Cashflows'!CXO371","v":0},{"$f":"'Project Cashflows'!CXP371","v":0},{"$f":"'Project Cashflows'!CXQ371","v":0},{"$f":"'Project Cashflows'!CXR371","v":0},{"$f":"'Project Cashflows'!CXS371","v":0},{"$f":"'Project Cashflows'!CXT371","v":0},{"$f":"'Project Cashflows'!CXU371","v":0},{"$f":"'Project Cashflows'!CXV371","v":0},{"$f":"'Project Cashflows'!CXW371","v":0},{"$f":"'Project Cashflows'!CXX371","v":0},{"$f":"'Project Cashflows'!CXY371","v":0},{"$f":"'Project Cashflows'!CXZ371","v":0},{"$f":"'Project Cashflows'!CYA371","v":0},{"$f":"'Project Cashflows'!CYB371","v":0},{"$f":"'Project Cashflows'!CYC371","v":0},{"$f":"'Project Cashflows'!CYD371","v":0},{"$f":"'Project Cashflows'!CYE371","v":0},{"$f":"'Project Cashflows'!CYF371","v":0},{"$f":"'Project Cashflows'!CYG371","v":0},{"$f":"'Project Cashflows'!CYH371","v":0},{"$f":"'Project Cashflows'!CYI371","v":0},{"$f":"'Project Cashflows'!CYJ371","v":0},{"$f":"'Project Cashflows'!CYK371","v":0},{"$f":"'Project Cashflows'!CYL371","v":0},{"$f":"'Project Cashflows'!CYM371","v":0},{"$f":"'Project Cashflows'!CYN371","v":0},{"$f":"'Project Cashflows'!CYO371","v":0},{"$f":"'Project Cashflows'!CYP371","v":0},{"$f":"'Project Cashflows'!CYQ371","v":0},{"$f":"'Project Cashflows'!CYR371","v":0},{"$f":"'Project Cashflows'!CYS371","v":0},{"$f":"'Project Cashflows'!CYT371","v":0},{"$f":"'Project Cashflows'!CYU371","v":0},{"$f":"'Project Cashflows'!CYV371","v":0},{"$f":"'Project Cashflows'!CYW371","v":0},{"$f":"'Project Cashflows'!CYX371","v":0},{"$f":"'Project Cashflows'!CYY371","v":0},{"$f":"'Project Cashflows'!CYZ371","v":0},{"$f":"'Project Cashflows'!CZA371","v":0},{"$f":"'Project Cashflows'!CZB371","v":0},{"$f":"'Project Cashflows'!CZC371","v":0},{"$f":"'Project Cashflows'!CZD371","v":0},{"$f":"'Project Cashflows'!CZE371","v":0},{"$f":"'Project Cashflows'!CZF371","v":0},{"$f":"'Project Cashflows'!CZG371","v":0},{"$f":"'Project Cashflows'!CZH371","v":0},{"$f":"'Project Cashflows'!CZI371","v":0},{"$f":"'Project Cashflows'!CZJ371","v":0},{"$f":"'Project Cashflows'!CZK371","v":0},{"$f":"'Project Cashflows'!CZL371","v":0},{"$f":"'Project Cashflows'!CZM371","v":0},{"$f":"'Project Cashflows'!CZN371","v":0},{"$f":"'Project Cashflows'!CZO371","v":0},{"$f":"'Project Cashflows'!CZP371","v":0},{"$f":"'Project Cashflows'!CZQ371","v":0},{"$f":"'Project Cashflows'!CZR371","v":0},{"$f":"'Project Cashflows'!CZS371","v":0},{"$f":"'Project Cashflows'!CZT371","v":0},{"$f":"'Project Cashflows'!CZU371","v":0},{"$f":"'Project Cashflows'!CZV371","v":0},{"$f":"'Project Cashflows'!CZW371","v":0},{"$f":"'Project Cashflows'!CZX371","v":0},{"$f":"'Project Cashflows'!CZY371","v":0},{"$f":"'Project Cashflows'!CZZ371","v":0},{"$f":"'Project Cashflows'!DAA371","v":0},{"$f":"'Project Cashflows'!DAB371","v":0},{"$f":"'Project Cashflows'!DAC371","v":0},{"$f":"'Project Cashflows'!DAD371","v":0},{"$f":"'Project Cashflows'!DAE371","v":0},{"$f":"'Project Cashflows'!DAF371","v":0},{"$f":"'Project Cashflows'!DAG371","v":0},{"$f":"'Project Cashflows'!DAH371","v":0},{"$f":"'Project Cashflows'!DAI371","v":0},{"$f":"'Project Cashflows'!DAJ371","v":0},{"$f":"'Project Cashflows'!DAK371","v":0},{"$f":"'Project Cashflows'!DAL371","v":0},{"$f":"'Project Cashflows'!DAM371","v":0},{"$f":"'Project Cashflows'!DAN371","v":0},{"$f":"'Project Cashflows'!DAO371","v":0},{"$f":"'Project Cashflows'!DAP371","v":0},{"$f":"'Project Cashflows'!DAQ371","v":0},{"$f":"'Project Cashflows'!DAR371","v":0},{"$f":"'Project Cashflows'!DAS371","v":0},{"$f":"'Project Cashflows'!DAT371","v":0},{"$f":"'Project Cashflows'!DAU371","v":0},{"$f":"'Project Cashflows'!DAV371","v":0},{"$f":"'Project Cashflows'!DAW371","v":0},{"$f":"'Project Cashflows'!DAX371","v":0},{"$f":"'Project Cashflows'!DAY371","v":0},{"$f":"'Project Cashflows'!DAZ371","v":0},{"$f":"'Project Cashflows'!DBA371","v":0},{"$f":"'Project Cashflows'!DBB371","v":0},{"$f":"'Project Cashflows'!DBC371","v":0},{"$f":"'Project Cashflows'!DBD371","v":0},{"$f":"'Project Cashflows'!DBE371","v":0},{"$f":"'Project Cashflows'!DBF371","v":0},{"$f":"'Project Cashflows'!DBG371","v":0},{"$f":"'Project Cashflows'!DBH371","v":0},{"$f":"'Project Cashflows'!DBI371","v":0},{"$f":"'Project Cashflows'!DBJ371","v":0},{"$f":"'Project Cashflows'!DBK371","v":0},{"$f":"'Project Cashflows'!DBL371","v":0},{"$f":"'Project Cashflows'!DBM371","v":0},{"$f":"'Project Cashflows'!DBN371","v":0},{"$f":"'Project Cashflows'!DBO371","v":0},{"$f":"'Project Cashflows'!DBP371","v":0},{"$f":"'Project Cashflows'!DBQ371","v":0},{"$f":"'Project Cashflows'!DBR371","v":0},{"$f":"'Project Cashflows'!DBS371","v":0},{"$f":"'Project Cashflows'!DBT371","v":0},{"$f":"'Project Cashflows'!DBU371","v":0},{"$f":"'Project Cashflows'!DBV371","v":0},{"$f":"'Project Cashflows'!DBW371","v":0},{"$f":"'Project Cashflows'!DBX371","v":0},{"$f":"'Project Cashflows'!DBY371","v":0},{"$f":"'Project Cashflows'!DBZ371","v":0},{"$f":"'Project Cashflows'!DCA371","v":0},{"$f":"'Project Cashflows'!DCB371","v":0},{"$f":"'Project Cashflows'!DCC371","v":0},{"$f":"'Project Cashflows'!DCD371","v":0},{"$f":"'Project Cashflows'!DCE371","v":0},{"$f":"'Project Cashflows'!DCF371","v":0},{"$f":"'Project Cashflows'!DCG371","v":0},{"$f":"'Project Cashflows'!DCH371","v":0},{"$f":"'Project Cashflows'!DCI371","v":0},{"$f":"'Project Cashflows'!DCJ371","v":0},{"$f":"'Project Cashflows'!DCK371","v":0},{"$f":"'Project Cashflows'!DCL371","v":0},{"$f":"'Project Cashflows'!DCM371","v":0},{"$f":"'Project Cashflows'!DCN371","v":0},{"$f":"'Project Cashflows'!DCO371","v":0},{"$f":"'Project Cashflows'!DCP371","v":0},{"$f":"'Project Cashflows'!DCQ371","v":0},{"$f":"'Project Cashflows'!DCR371","v":0},{"$f":"'Project Cashflows'!DCS371","v":0},{"$f":"'Project Cashflows'!DCT371","v":0},{"$f":"'Project Cashflows'!DCU371","v":0},{"$f":"'Project Cashflows'!DCV371","v":0},{"$f":"'Project Cashflows'!DCW371","v":0},{"$f":"'Project Cashflows'!DCX371","v":0},{"$f":"'Project Cashflows'!DCY371","v":0},{"$f":"'Project Cashflows'!DCZ371","v":0},{"$f":"'Project Cashflows'!DDA371","v":0},{"$f":"'Project Cashflows'!DDB371","v":0},{"$f":"'Project Cashflows'!DDC371","v":0},{"$f":"'Project Cashflows'!DDD371","v":0},{"$f":"'Project Cashflows'!DDE371","v":0},{"$f":"'Project Cashflows'!DDF371","v":0},{"$f":"'Project Cashflows'!DDG371","v":0},{"$f":"'Project Cashflows'!DDH371","v":0},{"$f":"'Project Cashflows'!DDI371","v":0},{"$f":"'Project Cashflows'!DDJ371","v":0},{"$f":"'Project Cashflows'!DDK371","v":0},{"$f":"'Project Cashflows'!DDL371","v":0},{"$f":"'Project Cashflows'!DDM371","v":0},{"$f":"'Project Cashflows'!DDN371","v":0},{"$f":"'Project Cashflows'!DDO371","v":0},{"$f":"'Project Cashflows'!DDP371","v":0},{"$f":"'Project Cashflows'!DDQ371","v":0},{"$f":"'Project Cashflows'!DDR371","v":0},{"$f":"'Project Cashflows'!DDS371","v":0},{"$f":"'Project Cashflows'!DDT371","v":0},{"$f":"'Project Cashflows'!DDU371","v":0},{"$f":"'Project Cashflows'!DDV371","v":0},{"$f":"'Project Cashflows'!DDW371","v":0},{"$f":"'Project Cashflows'!DDX371","v":0},{"$f":"'Project Cashflows'!DDY371","v":0},{"$f":"'Project Cashflows'!DDZ371","v":0},{"$f":"'Project Cashflows'!DEA371","v":0},{"$f":"'Project Cashflows'!DEB371","v":0},{"$f":"'Project Cashflows'!DEC371","v":0},{"$f":"'Project Cashflows'!DED371","v":0},{"$f":"'Project Cashflows'!DEE371","v":0},{"$f":"'Project Cashflows'!DEF371","v":0},{"$f":"'Project Cashflows'!DEG371","v":0},{"$f":"'Project Cashflows'!DEH371","v":0},{"$f":"'Project Cashflows'!DEI371","v":0},{"$f":"'Project Cashflows'!DEJ371","v":0},{"$f":"'Project Cashflows'!DEK371","v":0},{"$f":"'Project Cashflows'!DEL371","v":0},{"$f":"'Project Cashflows'!DEM371","v":0},{"$f":"'Project Cashflows'!DEN371","v":0},{"$f":"'Project Cashflows'!DEO371","v":0},{"$f":"'Project Cashflows'!DEP371","v":0},{"$f":"'Project Cashflows'!DEQ371","v":0},{"$f":"'Project Cashflows'!DER371","v":0},{"$f":"'Project Cashflows'!DES371","v":0},{"$f":"'Project Cashflows'!DET371","v":0},{"$f":"'Project Cashflows'!DEU371","v":0},{"$f":"'Project Cashflows'!DEV371","v":0},{"$f":"'Project Cashflows'!DEW371","v":0},{"$f":"'Project Cashflows'!DEX371","v":0},{"$f":"'Project Cashflows'!DEY371","v":0},{"$f":"'Project Cashflows'!DEZ371","v":0},{"$f":"'Project Cashflows'!DFA371","v":0},{"$f":"'Project Cashflows'!DFB371","v":0},{"$f":"'Project Cashflows'!DFC371","v":0},{"$f":"'Project Cashflows'!DFD371","v":0},{"$f":"'Project Cashflows'!DFE371","v":0},{"$f":"'Project Cashflows'!DFF371","v":0},{"$f":"'Project Cashflows'!DFG371","v":0},{"$f":"'Project Cashflows'!DFH371","v":0},{"$f":"'Project Cashflows'!DFI371","v":0},{"$f":"'Project Cashflows'!DFJ371","v":0},{"$f":"'Project Cashflows'!DFK371","v":0},{"$f":"'Project Cashflows'!DFL371","v":0},{"$f":"'Project Cashflows'!DFM371","v":0},{"$f":"'Project Cashflows'!DFN371","v":0},{"$f":"'Project Cashflows'!DFO371","v":0},{"$f":"'Project Cashflows'!DFP371","v":0},{"$f":"'Project Cashflows'!DFQ371","v":0},{"$f":"'Project Cashflows'!DFR371","v":0},{"$f":"'Project Cashflows'!DFS371","v":0},{"$f":"'Project Cashflows'!DFT371","v":0},{"$f":"'Project Cashflows'!DFU371","v":0},{"$f":"'Project Cashflows'!DFV371","v":0},{"$f":"'Project Cashflows'!DFW371","v":0},{"$f":"'Project Cashflows'!DFX371","v":0},{"$f":"'Project Cashflows'!DFY371","v":0},{"$f":"'Project Cashflows'!DFZ371","v":0},{"$f":"'Project Cashflows'!DGA371","v":0},{"$f":"'Project Cashflows'!DGB371","v":0},{"$f":"'Project Cashflows'!DGC371","v":0},{"$f":"'Project Cashflows'!DGD371","v":0},{"$f":"'Project Cashflows'!DGE371","v":0},{"$f":"'Project Cashflows'!DGF371","v":0},{"$f":"'Project Cashflows'!DGG371","v":0},{"$f":"'Project Cashflows'!DGH371","v":0},{"$f":"'Project Cashflows'!DGI371","v":0},{"$f":"'Project Cashflows'!DGJ371","v":0},{"$f":"'Project Cashflows'!DGK371","v":0},{"$f":"'Project Cashflows'!DGL371","v":0},{"$f":"'Project Cashflows'!DGM371","v":0},{"$f":"'Project Cashflows'!DGN371","v":0},{"$f":"'Project Cashflows'!DGO371","v":0},{"$f":"'Project Cashflows'!DGP371","v":0},{"$f":"'Project Cashflows'!DGQ371","v":0},{"$f":"'Project Cashflows'!DGR371","v":0},{"$f":"'Project Cashflows'!DGS371","v":0},{"$f":"'Project Cashflows'!DGT371","v":0},{"$f":"'Project Cashflows'!DGU371","v":0},{"$f":"'Project Cashflows'!DGV371","v":0},{"$f":"'Project Cashflows'!DGW371","v":0},{"$f":"'Project Cashflows'!DGX371","v":0},{"$f":"'Project Cashflows'!DGY371","v":0},{"$f":"'Project Cashflows'!DGZ371","v":0},{"$f":"'Project Cashflows'!DHA371","v":0},{"$f":"'Project Cashflows'!DHB371","v":0},{"$f":"'Project Cashflows'!DHC371","v":0},{"$f":"'Project Cashflows'!DHD371","v":0},{"$f":"'Project Cashflows'!DHE371","v":0},{"$f":"'Project Cashflows'!DHF371","v":0},{"$f":"'Project Cashflows'!DHG371","v":0},{"$f":"'Project Cashflows'!DHH371","v":0},{"$f":"'Project Cashflows'!DHI371","v":0},{"$f":"'Project Cashflows'!DHJ371","v":0},{"$f":"'Project Cashflows'!DHK371","v":0},{"$f":"'Project Cashflows'!DHL371","v":0},{"$f":"'Project Cashflows'!DHM371","v":0},{"$f":"'Project Cashflows'!DHN371","v":0},{"$f":"'Project Cashflows'!DHO371","v":0},{"$f":"'Project Cashflows'!DHP371","v":0},{"$f":"'Project Cashflows'!DHQ371","v":0},{"$f":"'Project Cashflows'!DHR371","v":0},{"$f":"'Project Cashflows'!DHS371","v":0},{"$f":"'Project Cashflows'!DHT371","v":0},{"$f":"'Project Cashflows'!DHU371","v":0},{"$f":"'Project Cashflows'!DHV371","v":0},{"$f":"'Project Cashflows'!DHW371","v":0},{"$f":"'Project Cashflows'!DHX371","v":0},{"$f":"'Project Cashflows'!DHY371","v":0},{"$f":"'Project Cashflows'!DHZ371","v":0},{"$f":"'Project Cashflows'!DIA371","v":0},{"$f":"'Project Cashflows'!DIB371","v":0},{"$f":"'Project Cashflows'!DIC371","v":0},{"$f":"'Project Cashflows'!DID371","v":0},{"$f":"'Project Cashflows'!DIE371","v":0},{"$f":"'Project Cashflows'!DIF371","v":0},{"$f":"'Project Cashflows'!DIG371","v":0},{"$f":"'Project Cashflows'!DIH371","v":0},{"$f":"'Project Cashflows'!DII371","v":0},{"$f":"'Project Cashflows'!DIJ371","v":0},{"$f":"'Project Cashflows'!DIK371","v":0},{"$f":"'Project Cashflows'!DIL371","v":0},{"$f":"'Project Cashflows'!DIM371","v":0},{"$f":"'Project Cashflows'!DIN371","v":0},{"$f":"'Project Cashflows'!DIO371","v":0},{"$f":"'Project Cashflows'!DIP371","v":0},{"$f":"'Project Cashflows'!DIQ371","v":0},{"$f":"'Project Cashflows'!DIR371","v":0},{"$f":"'Project Cashflows'!DIS371","v":0},{"$f":"'Project Cashflows'!DIT371","v":0},{"$f":"'Project Cashflows'!DIU371","v":0},{"$f":"'Project Cashflows'!DIV371","v":0},{"$f":"'Project Cashflows'!DIW371","v":0},{"$f":"'Project Cashflows'!DIX371","v":0},{"$f":"'Project Cashflows'!DIY371","v":0},{"$f":"'Project Cashflows'!DIZ371","v":0},{"$f":"'Project Cashflows'!DJA371","v":0},{"$f":"'Project Cashflows'!DJB371","v":0},{"$f":"'Project Cashflows'!DJC371","v":0},{"$f":"'Project Cashflows'!DJD371","v":0},{"$f":"'Project Cashflows'!DJE371","v":0},{"$f":"'Project Cashflows'!DJF371","v":0},{"$f":"'Project Cashflows'!DJG371","v":0},{"$f":"'Project Cashflows'!DJH371","v":0},{"$f":"'Project Cashflows'!DJI371","v":0},{"$f":"'Project Cashflows'!DJJ371","v":0},{"$f":"'Project Cashflows'!DJK371","v":0},{"$f":"'Project Cashflows'!DJL371","v":0},{"$f":"'Project Cashflows'!DJM371","v":0},{"$f":"'Project Cashflows'!DJN371","v":0},{"$f":"'Project Cashflows'!DJO371","v":0},{"$f":"'Project Cashflows'!DJP371","v":0},{"$f":"'Project Cashflows'!DJQ371","v":0},{"$f":"'Project Cashflows'!DJR371","v":0},{"$f":"'Project Cashflows'!DJS371","v":0},{"$f":"'Project Cashflows'!DJT371","v":0},{"$f":"'Project Cashflows'!DJU371","v":0},{"$f":"'Project Cashflows'!DJV371","v":0},{"$f":"'Project Cashflows'!DJW371","v":0},{"$f":"'Project Cashflows'!DJX371","v":0},{"$f":"'Project Cashflows'!DJY371","v":0},{"$f":"'Project Cashflows'!DJZ371","v":0},{"$f":"'Project Cashflows'!DKA371","v":0},{"$f":"'Project Cashflows'!DKB371","v":0},{"$f":"'Project Cashflows'!DKC371","v":0},{"$f":"'Project Cashflows'!DKD371","v":0},{"$f":"'Project Cashflows'!DKE371","v":0},{"$f":"'Project Cashflows'!DKF371","v":0},{"$f":"'Project Cashflows'!DKG371","v":0},{"$f":"'Project Cashflows'!DKH371","v":0},{"$f":"'Project Cashflows'!DKI371","v":0},{"$f":"'Project Cashflows'!DKJ371","v":0},{"$f":"'Project Cashflows'!DKK371","v":0},{"$f":"'Project Cashflows'!DKL371","v":0},{"$f":"'Project Cashflows'!DKM371","v":0},{"$f":"'Project Cashflows'!DKN371","v":0},{"$f":"'Project Cashflows'!DKO371","v":0},{"$f":"'Project Cashflows'!DKP371","v":0},{"$f":"'Project Cashflows'!DKQ371","v":0},{"$f":"'Project Cashflows'!DKR371","v":0},{"$f":"'Project Cashflows'!DKS371","v":0},{"$f":"'Project Cashflows'!DKT371","v":0},{"$f":"'Project Cashflows'!DKU371","v":0},{"$f":"'Project Cashflows'!DKV371","v":0},{"$f":"'Project Cashflows'!DKW371","v":0},{"$f":"'Project Cashflows'!DKX371","v":0},{"$f":"'Project Cashflows'!DKY371","v":0},{"$f":"'Project Cashflows'!DKZ371","v":0},{"$f":"'Project Cashflows'!DLA371","v":0},{"$f":"'Project Cashflows'!DLB371","v":0},{"$f":"'Project Cashflows'!DLC371","v":0},{"$f":"'Project Cashflows'!DLD371","v":0},{"$f":"'Project Cashflows'!DLE371","v":0},{"$f":"'Project Cashflows'!DLF371","v":0},{"$f":"'Project Cashflows'!DLG371","v":0},{"$f":"'Project Cashflows'!DLH371","v":0},{"$f":"'Project Cashflows'!DLI371","v":0},{"$f":"'Project Cashflows'!DLJ371","v":0},{"$f":"'Project Cashflows'!DLK371","v":0},{"$f":"'Project Cashflows'!DLL371","v":0},{"$f":"'Project Cashflows'!DLM371","v":0},{"$f":"'Project Cashflows'!DLN371","v":0},{"$f":"'Project Cashflows'!DLO371","v":0},{"$f":"'Project Cashflows'!DLP371","v":0},{"$f":"'Project Cashflows'!DLQ371","v":0},{"$f":"'Project Cashflows'!DLR371","v":0},{"$f":"'Project Cashflows'!DLS371","v":0},{"$f":"'Project Cashflows'!DLT371","v":0},{"$f":"'Project Cashflows'!DLU371","v":0},{"$f":"'Project Cashflows'!DLV371","v":0},{"$f":"'Project Cashflows'!DLW371","v":0},{"$f":"'Project Cashflows'!DLX371","v":0},{"$f":"'Project Cashflows'!DLY371","v":0},{"$f":"'Project Cashflows'!DLZ371","v":0},{"$f":"'Project Cashflows'!DMA371","v":0},{"$f":"'Project Cashflows'!DMB371","v":0},{"$f":"'Project Cashflows'!DMC371","v":0},{"$f":"'Project Cashflows'!DMD371","v":0},{"$f":"'Project Cashflows'!DME371","v":0},{"$f":"'Project Cashflows'!DMF371","v":0},{"$f":"'Project Cashflows'!DMG371","v":0},{"$f":"'Project Cashflows'!DMH371","v":0},{"$f":"'Project Cashflows'!DMI371","v":0},{"$f":"'Project Cashflows'!DMJ371","v":0},{"$f":"'Project Cashflows'!DMK371","v":0},{"$f":"'Project Cashflows'!DML371","v":0},{"$f":"'Project Cashflows'!DMM371","v":0},{"$f":"'Project Cashflows'!DMN371","v":0},{"$f":"'Project Cashflows'!DMO371","v":0},{"$f":"'Project Cashflows'!DMP371","v":0},{"$f":"'Project Cashflows'!DMQ371","v":0},{"$f":"'Project Cashflows'!DMR371","v":0},{"$f":"'Project Cashflows'!DMS371","v":0},{"$f":"'Project Cashflows'!DMT371","v":0},{"$f":"'Project Cashflows'!DMU371","v":0},{"$f":"'Project Cashflows'!DMV371","v":0},{"$f":"'Project Cashflows'!DMW371","v":0},{"$f":"'Project Cashflows'!DMX371","v":0},{"$f":"'Project Cashflows'!DMY371","v":0},{"$f":"'Project Cashflows'!DMZ371","v":0},{"$f":"'Project Cashflows'!DNA371","v":0},{"$f":"'Project Cashflows'!DNB371","v":0},{"$f":"'Project Cashflows'!DNC371","v":0},{"$f":"'Project Cashflows'!DND371","v":0},{"$f":"'Project Cashflows'!DNE371","v":0},{"$f":"'Project Cashflows'!DNF371","v":0},{"$f":"'Project Cashflows'!DNG371","v":0},{"$f":"'Project Cashflows'!DNH371","v":0},{"$f":"'Project Cashflows'!DNI371","v":0},{"$f":"'Project Cashflows'!DNJ371","v":0},{"$f":"'Project Cashflows'!DNK371","v":0},{"$f":"'Project Cashflows'!DNL371","v":0},{"$f":"'Project Cashflows'!DNM371","v":0},{"$f":"'Project Cashflows'!DNN371","v":0},{"$f":"'Project Cashflows'!DNO371","v":0},{"$f":"'Project Cashflows'!DNP371","v":0},{"$f":"'Project Cashflows'!DNQ371","v":0},{"$f":"'Project Cashflows'!DNR371","v":0},{"$f":"'Project Cashflows'!DNS371","v":0},{"$f":"'Project Cashflows'!DNT371","v":0},{"$f":"'Project Cashflows'!DNU371","v":0},{"$f":"'Project Cashflows'!DNV371","v":0},{"$f":"'Project Cashflows'!DNW371","v":0},{"$f":"'Project Cashflows'!DNX371","v":0},{"$f":"'Project Cashflows'!DNY371","v":0},{"$f":"'Project Cashflows'!DNZ371","v":0},{"$f":"'Project Cashflows'!DOA371","v":0},{"$f":"'Project Cashflows'!DOB371","v":0},{"$f":"'Project Cashflows'!DOC371","v":0},{"$f":"'Project Cashflows'!DOD371","v":0},{"$f":"'Project Cashflows'!DOE371","v":0},{"$f":"'Project Cashflows'!DOF371","v":0},{"$f":"'Project Cashflows'!DOG371","v":0},{"$f":"'Project Cashflows'!DOH371","v":0},{"$f":"'Project Cashflows'!DOI371","v":0},{"$f":"'Project Cashflows'!DOJ371","v":0},{"$f":"'Project Cashflows'!DOK371","v":0},{"$f":"'Project Cashflows'!DOL371","v":0},{"$f":"'Project Cashflows'!DOM371","v":0},{"$f":"'Project Cashflows'!DON371","v":0},{"$f":"'Project Cashflows'!DOO371","v":0},{"$f":"'Project Cashflows'!DOP371","v":0},{"$f":"'Project Cashflows'!DOQ371","v":0},{"$f":"'Project Cashflows'!DOR371","v":0},{"$f":"'Project Cashflows'!DOS371","v":0},{"$f":"'Project Cashflows'!DOT371","v":0},{"$f":"'Project Cashflows'!DOU371","v":0},{"$f":"'Project Cashflows'!DOV371","v":0},{"$f":"'Project Cashflows'!DOW371","v":0},{"$f":"'Project Cashflows'!DOX371","v":0},{"$f":"'Project Cashflows'!DOY371","v":0},{"$f":"'Project Cashflows'!DOZ371","v":0},{"$f":"'Project Cashflows'!DPA371","v":0},{"$f":"'Project Cashflows'!DPB371","v":0},{"$f":"'Project Cashflows'!DPC371","v":0},{"$f":"'Project Cashflows'!DPD371","v":0},{"$f":"'Project Cashflows'!DPE371","v":0},{"$f":"'Project Cashflows'!DPF371","v":0},{"$f":"'Project Cashflows'!DPG371","v":0},{"$f":"'Project Cashflows'!DPH371","v":0},{"$f":"'Project Cashflows'!DPI371","v":0},{"$f":"'Project Cashflows'!DPJ371","v":0},{"$f":"'Project Cashflows'!DPK371","v":0},{"$f":"'Project Cashflows'!DPL371","v":0},{"$f":"'Project Cashflows'!DPM371","v":0},{"$f":"'Project Cashflows'!DPN371","v":0},{"$f":"'Project Cashflows'!DPO371","v":0},{"$f":"'Project Cashflows'!DPP371","v":0},{"$f":"'Project Cashflows'!DPQ371","v":0},{"$f":"'Project Cashflows'!DPR371","v":0},{"$f":"'Project Cashflows'!DPS371","v":0},{"$f":"'Project Cashflows'!DPT371","v":0},{"$f":"'Project Cashflows'!DPU371","v":0},{"$f":"'Project Cashflows'!DPV371","v":0},{"$f":"'Project Cashflows'!DPW371","v":0},{"$f":"'Project Cashflows'!DPX371","v":0},{"$f":"'Project Cashflows'!DPY371","v":0},{"$f":"'Project Cashflows'!DPZ371","v":0},{"$f":"'Project Cashflows'!DQA371","v":0},{"$f":"'Project Cashflows'!DQB371","v":0},{"$f":"'Project Cashflows'!DQC371","v":0},{"$f":"'Project Cashflows'!DQD371","v":0},{"$f":"'Project Cashflows'!DQE371","v":0},{"$f":"'Project Cashflows'!DQF371","v":0},{"$f":"'Project Cashflows'!DQG371","v":0},{"$f":"'Project Cashflows'!DQH371","v":0},{"$f":"'Project Cashflows'!DQI371","v":0},{"$f":"'Project Cashflows'!DQJ371","v":0},{"$f":"'Project Cashflows'!DQK371","v":0},{"$f":"'Project Cashflows'!DQL371","v":0},{"$f":"'Project Cashflows'!DQM371","v":0},{"$f":"'Project Cashflows'!DQN371","v":0},{"$f":"'Project Cashflows'!DQO371","v":0},{"$f":"'Project Cashflows'!DQP371","v":0},{"$f":"'Project Cashflows'!DQQ371","v":0},{"$f":"'Project Cashflows'!DQR371","v":0},{"$f":"'Project Cashflows'!DQS371","v":0},{"$f":"'Project Cashflows'!DQT371","v":0},{"$f":"'Project Cashflows'!DQU371","v":0},{"$f":"'Project Cashflows'!DQV371","v":0},{"$f":"'Project Cashflows'!DQW371","v":0},{"$f":"'Project Cashflows'!DQX371","v":0},{"$f":"'Project Cashflows'!DQY371","v":0},{"$f":"'Project Cashflows'!DQZ371","v":0},{"$f":"'Project Cashflows'!DRA371","v":0},{"$f":"'Project Cashflows'!DRB371","v":0},{"$f":"'Project Cashflows'!DRC371","v":0},{"$f":"'Project Cashflows'!DRD371","v":0},{"$f":"'Project Cashflows'!DRE371","v":0},{"$f":"'Project Cashflows'!DRF371","v":0},{"$f":"'Project Cashflows'!DRG371","v":0},{"$f":"'Project Cashflows'!DRH371","v":0},{"$f":"'Project Cashflows'!DRI371","v":0},{"$f":"'Project Cashflows'!DRJ371","v":0},{"$f":"'Project Cashflows'!DRK371","v":0},{"$f":"'Project Cashflows'!DRL371","v":0},{"$f":"'Project Cashflows'!DRM371","v":0},{"$f":"'Project Cashflows'!DRN371","v":0},{"$f":"'Project Cashflows'!DRO371","v":0},{"$f":"'Project Cashflows'!DRP371","v":0},{"$f":"'Project Cashflows'!DRQ371","v":0},{"$f":"'Project Cashflows'!DRR371","v":0},{"$f":"'Project Cashflows'!DRS371","v":0},{"$f":"'Project Cashflows'!DRT371","v":0},{"$f":"'Project Cashflows'!DRU371","v":0},{"$f":"'Project Cashflows'!DRV371","v":0},{"$f":"'Project Cashflows'!DRW371","v":0},{"$f":"'Project Cashflows'!DRX371","v":0},{"$f":"'Project Cashflows'!DRY371","v":0},{"$f":"'Project Cashflows'!DRZ371","v":0},{"$f":"'Project Cashflows'!DSA371","v":0},{"$f":"'Project Cashflows'!DSB371","v":0},{"$f":"'Project Cashflows'!DSC371","v":0},{"$f":"'Project Cashflows'!DSD371","v":0},{"$f":"'Project Cashflows'!DSE371","v":0},{"$f":"'Project Cashflows'!DSF371","v":0},{"$f":"'Project Cashflows'!DSG371","v":0},{"$f":"'Project Cashflows'!DSH371","v":0},{"$f":"'Project Cashflows'!DSI371","v":0},{"$f":"'Project Cashflows'!DSJ371","v":0},{"$f":"'Project Cashflows'!DSK371","v":0},{"$f":"'Project Cashflows'!DSL371","v":0},{"$f":"'Project Cashflows'!DSM371","v":0},{"$f":"'Project Cashflows'!DSN371","v":0},{"$f":"'Project Cashflows'!DSO371","v":0},{"$f":"'Project Cashflows'!DSP371","v":0},{"$f":"'Project Cashflows'!DSQ371","v":0},{"$f":"'Project Cashflows'!DSR371","v":0},{"$f":"'Project Cashflows'!DSS371","v":0},{"$f":"'Project Cashflows'!DST371","v":0},{"$f":"'Project Cashflows'!DSU371","v":0},{"$f":"'Project Cashflows'!DSV371","v":0},{"$f":"'Project Cashflows'!DSW371","v":0},{"$f":"'Project Cashflows'!DSX371","v":0},{"$f":"'Project Cashflows'!DSY371","v":0},{"$f":"'Project Cashflows'!DSZ371","v":0},{"$f":"'Project Cashflows'!DTA371","v":0},{"$f":"'Project Cashflows'!DTB371","v":0},{"$f":"'Project Cashflows'!DTC371","v":0},{"$f":"'Project Cashflows'!DTD371","v":0},{"$f":"'Project Cashflows'!DTE371","v":0},{"$f":"'Project Cashflows'!DTF371","v":0},{"$f":"'Project Cashflows'!DTG371","v":0},{"$f":"'Project Cashflows'!DTH371","v":0},{"$f":"'Project Cashflows'!DTI371","v":0},{"$f":"'Project Cashflows'!DTJ371","v":0},{"$f":"'Project Cashflows'!DTK371","v":0},{"$f":"'Project Cashflows'!DTL371","v":0},{"$f":"'Project Cashflows'!DTM371","v":0},{"$f":"'Project Cashflows'!DTN371","v":0},{"$f":"'Project Cashflows'!DTO371","v":0},{"$f":"'Project Cashflows'!DTP371","v":0},{"$f":"'Project Cashflows'!DTQ371","v":0},{"$f":"'Project Cashflows'!DTR371","v":0},{"$f":"'Project Cashflows'!DTS371","v":0},{"$f":"'Project Cashflows'!DTT371","v":0},{"$f":"'Project Cashflows'!DTU371","v":0},{"$f":"'Project Cashflows'!DTV371","v":0},{"$f":"'Project Cashflows'!DTW371","v":0},{"$f":"'Project Cashflows'!DTX371","v":0},{"$f":"'Project Cashflows'!DTY371","v":0},{"$f":"'Project Cashflows'!DTZ371","v":0},{"$f":"'Project Cashflows'!DUA371","v":0},{"$f":"'Project Cashflows'!DUB371","v":0},{"$f":"'Project Cashflows'!DUC371","v":0},{"$f":"'Project Cashflows'!DUD371","v":0},{"$f":"'Project Cashflows'!DUE371","v":0},{"$f":"'Project Cashflows'!DUF371","v":0},{"$f":"'Project Cashflows'!DUG371","v":0},{"$f":"'Project Cashflows'!DUH371","v":0},{"$f":"'Project Cashflows'!DUI371","v":0},{"$f":"'Project Cashflows'!DUJ371","v":0},{"$f":"'Project Cashflows'!DUK371","v":0},{"$f":"'Project Cashflows'!DUL371","v":0},{"$f":"'Project Cashflows'!DUM371","v":0},{"$f":"'Project Cashflows'!DUN371","v":0},{"$f":"'Project Cashflows'!DUO371","v":0},{"$f":"'Project Cashflows'!DUP371","v":0},{"$f":"'Project Cashflows'!DUQ371","v":0},{"$f":"'Project Cashflows'!DUR371","v":0},{"$f":"'Project Cashflows'!DUS371","v":0},{"$f":"'Project Cashflows'!DUT371","v":0},{"$f":"'Project Cashflows'!DUU371","v":0},{"$f":"'Project Cashflows'!DUV371","v":0},{"$f":"'Project Cashflows'!DUW371","v":0},{"$f":"'Project Cashflows'!DUX371","v":0},{"$f":"'Project Cashflows'!DUY371","v":0},{"$f":"'Project Cashflows'!DUZ371","v":0},{"$f":"'Project Cashflows'!DVA371","v":0},{"$f":"'Project Cashflows'!DVB371","v":0},{"$f":"'Project Cashflows'!DVC371","v":0},{"$f":"'Project Cashflows'!DVD371","v":0},{"$f":"'Project Cashflows'!DVE371","v":0},{"$f":"'Project Cashflows'!DVF371","v":0},{"$f":"'Project Cashflows'!DVG371","v":0},{"$f":"'Project Cashflows'!DVH371","v":0},{"$f":"'Project Cashflows'!DVI371","v":0},{"$f":"'Project Cashflows'!DVJ371","v":0},{"$f":"'Project Cashflows'!DVK371","v":0},{"$f":"'Project Cashflows'!DVL371","v":0},{"$f":"'Project Cashflows'!DVM371","v":0},{"$f":"'Project Cashflows'!DVN371","v":0},{"$f":"'Project Cashflows'!DVO371","v":0},{"$f":"'Project Cashflows'!DVP371","v":0},{"$f":"'Project Cashflows'!DVQ371","v":0},{"$f":"'Project Cashflows'!DVR371","v":0},{"$f":"'Project Cashflows'!DVS371","v":0},{"$f":"'Project Cashflows'!DVT371","v":0},{"$f":"'Project Cashflows'!DVU371","v":0},{"$f":"'Project Cashflows'!DVV371","v":0},{"$f":"'Project Cashflows'!DVW371","v":0},{"$f":"'Project Cashflows'!DVX371","v":0},{"$f":"'Project Cashflows'!DVY371","v":0},{"$f":"'Project Cashflows'!DVZ371","v":0},{"$f":"'Project Cashflows'!DWA371","v":0},{"$f":"'Project Cashflows'!DWB371","v":0},{"$f":"'Project Cashflows'!DWC371","v":0},{"$f":"'Project Cashflows'!DWD371","v":0},{"$f":"'Project Cashflows'!DWE371","v":0},{"$f":"'Project Cashflows'!DWF371","v":0},{"$f":"'Project Cashflows'!DWG371","v":0},{"$f":"'Project Cashflows'!DWH371","v":0},{"$f":"'Project Cashflows'!DWI371","v":0},{"$f":"'Project Cashflows'!DWJ371","v":0},{"$f":"'Project Cashflows'!DWK371","v":0},{"$f":"'Project Cashflows'!DWL371","v":0},{"$f":"'Project Cashflows'!DWM371","v":0},{"$f":"'Project Cashflows'!DWN371","v":0},{"$f":"'Project Cashflows'!DWO371","v":0},{"$f":"'Project Cashflows'!DWP371","v":0},{"$f":"'Project Cashflows'!DWQ371","v":0},{"$f":"'Project Cashflows'!DWR371","v":0},{"$f":"'Project Cashflows'!DWS371","v":0},{"$f":"'Project Cashflows'!DWT371","v":0},{"$f":"'Project Cashflows'!DWU371","v":0},{"$f":"'Project Cashflows'!DWV371","v":0},{"$f":"'Project Cashflows'!DWW371","v":0},{"$f":"'Project Cashflows'!DWX371","v":0},{"$f":"'Project Cashflows'!DWY371","v":0},{"$f":"'Project Cashflows'!DWZ371","v":0},{"$f":"'Project Cashflows'!DXA371","v":0},{"$f":"'Project Cashflows'!DXB371","v":0},{"$f":"'Project Cashflows'!DXC371","v":0},{"$f":"'Project Cashflows'!DXD371","v":0},{"$f":"'Project Cashflows'!DXE371","v":0},{"$f":"'Project Cashflows'!DXF371","v":0},{"$f":"'Project Cashflows'!DXG371","v":0},{"$f":"'Project Cashflows'!DXH371","v":0},{"$f":"'Project Cashflows'!DXI371","v":0},{"$f":"'Project Cashflows'!DXJ371","v":0},{"$f":"'Project Cashflows'!DXK371","v":0},{"$f":"'Project Cashflows'!DXL371","v":0},{"$f":"'Project Cashflows'!DXM371","v":0},{"$f":"'Project Cashflows'!DXN371","v":0},{"$f":"'Project Cashflows'!DXO371","v":0},{"$f":"'Project Cashflows'!DXP371","v":0},{"$f":"'Project Cashflows'!DXQ371","v":0},{"$f":"'Project Cashflows'!DXR371","v":0},{"$f":"'Project Cashflows'!DXS371","v":0},{"$f":"'Project Cashflows'!DXT371","v":0},{"$f":"'Project Cashflows'!DXU371","v":0},{"$f":"'Project Cashflows'!DXV371","v":0},{"$f":"'Project Cashflows'!DXW371","v":0},{"$f":"'Project Cashflows'!DXX371","v":0},{"$f":"'Project Cashflows'!DXY371","v":0},{"$f":"'Project Cashflows'!DXZ371","v":0},{"$f":"'Project Cashflows'!DYA371","v":0},{"$f":"'Project Cashflows'!DYB371","v":0},{"$f":"'Project Cashflows'!DYC371","v":0},{"$f":"'Project Cashflows'!DYD371","v":0},{"$f":"'Project Cashflows'!DYE371","v":0},{"$f":"'Project Cashflows'!DYF371","v":0},{"$f":"'Project Cashflows'!DYG371","v":0},{"$f":"'Project Cashflows'!DYH371","v":0},{"$f":"'Project Cashflows'!DYI371","v":0},{"$f":"'Project Cashflows'!DYJ371","v":0},{"$f":"'Project Cashflows'!DYK371","v":0},{"$f":"'Project Cashflows'!DYL371","v":0},{"$f":"'Project Cashflows'!DYM371","v":0},{"$f":"'Project Cashflows'!DYN371","v":0},{"$f":"'Project Cashflows'!DYO371","v":0},{"$f":"'Project Cashflows'!DYP371","v":0},{"$f":"'Project Cashflows'!DYQ371","v":0},{"$f":"'Project Cashflows'!DYR371","v":0},{"$f":"'Project Cashflows'!DYS371","v":0},{"$f":"'Project Cashflows'!DYT371","v":0},{"$f":"'Project Cashflows'!DYU371","v":0},{"$f":"'Project Cashflows'!DYV371","v":0},{"$f":"'Project Cashflows'!DYW371","v":0},{"$f":"'Project Cashflows'!DYX371","v":0},{"$f":"'Project Cashflows'!DYY371","v":0},{"$f":"'Project Cashflows'!DYZ371","v":0},{"$f":"'Project Cashflows'!DZA371","v":0},{"$f":"'Project Cashflows'!DZB371","v":0},{"$f":"'Project Cashflows'!DZC371","v":0},{"$f":"'Project Cashflows'!DZD371","v":0},{"$f":"'Project Cashflows'!DZE371","v":0},{"$f":"'Project Cashflows'!DZF371","v":0},{"$f":"'Project Cashflows'!DZG371","v":0},{"$f":"'Project Cashflows'!DZH371","v":0},{"$f":"'Project Cashflows'!DZI371","v":0},{"$f":"'Project Cashflows'!DZJ371","v":0},{"$f":"'Project Cashflows'!DZK371","v":0},{"$f":"'Project Cashflows'!DZL371","v":0},{"$f":"'Project Cashflows'!DZM371","v":0},{"$f":"'Project Cashflows'!DZN371","v":0},{"$f":"'Project Cashflows'!DZO371","v":0},{"$f":"'Project Cashflows'!DZP371","v":0},{"$f":"'Project Cashflows'!DZQ371","v":0},{"$f":"'Project Cashflows'!DZR371","v":0},{"$f":"'Project Cashflows'!DZS371","v":0},{"$f":"'Project Cashflows'!DZT371","v":0},{"$f":"'Project Cashflows'!DZU371","v":0},{"$f":"'Project Cashflows'!DZV371","v":0},{"$f":"'Project Cashflows'!DZW371","v":0},{"$f":"'Project Cashflows'!DZX371","v":0},{"$f":"'Project Cashflows'!DZY371","v":0},{"$f":"'Project Cashflows'!DZZ371","v":0},{"$f":"'Project Cashflows'!EAA371","v":0},{"$f":"'Project Cashflows'!EAB371","v":0},{"$f":"'Project Cashflows'!EAC371","v":0},{"$f":"'Project Cashflows'!EAD371","v":0},{"$f":"'Project Cashflows'!EAE371","v":0},{"$f":"'Project Cashflows'!EAF371","v":0},{"$f":"'Project Cashflows'!EAG371","v":0},{"$f":"'Project Cashflows'!EAH371","v":0},{"$f":"'Project Cashflows'!EAI371","v":0},{"$f":"'Project Cashflows'!EAJ371","v":0},{"$f":"'Project Cashflows'!EAK371","v":0},{"$f":"'Project Cashflows'!EAL371","v":0},{"$f":"'Project Cashflows'!EAM371","v":0},{"$f":"'Project Cashflows'!EAN371","v":0},{"$f":"'Project Cashflows'!EAO371","v":0},{"$f":"'Project Cashflows'!EAP371","v":0},{"$f":"'Project Cashflows'!EAQ371","v":0},{"$f":"'Project Cashflows'!EAR371","v":0},{"$f":"'Project Cashflows'!EAS371","v":0},{"$f":"'Project Cashflows'!EAT371","v":0},{"$f":"'Project Cashflows'!EAU371","v":0},{"$f":"'Project Cashflows'!EAV371","v":0},{"$f":"'Project Cashflows'!EAW371","v":0},{"$f":"'Project Cashflows'!EAX371","v":0},{"$f":"'Project Cashflows'!EAY371","v":0},{"$f":"'Project Cashflows'!EAZ371","v":0},{"$f":"'Project Cashflows'!EBA371","v":0},{"$f":"'Project Cashflows'!EBB371","v":0},{"$f":"'Project Cashflows'!EBC371","v":0},{"$f":"'Project Cashflows'!EBD371","v":0},{"$f":"'Project Cashflows'!EBE371","v":0},{"$f":"'Project Cashflows'!EBF371","v":0},{"$f":"'Project Cashflows'!EBG371","v":0},{"$f":"'Project Cashflows'!EBH371","v":0},{"$f":"'Project Cashflows'!EBI371","v":0},{"$f":"'Project Cashflows'!EBJ371","v":0},{"$f":"'Project Cashflows'!EBK371","v":0},{"$f":"'Project Cashflows'!EBL371","v":0},{"$f":"'Project Cashflows'!EBM371","v":0},{"$f":"'Project Cashflows'!EBN371","v":0},{"$f":"'Project Cashflows'!EBO371","v":0},{"$f":"'Project Cashflows'!EBP371","v":0},{"$f":"'Project Cashflows'!EBQ371","v":0},{"$f":"'Project Cashflows'!EBR371","v":0},{"$f":"'Project Cashflows'!EBS371","v":0},{"$f":"'Project Cashflows'!EBT371","v":0},{"$f":"'Project Cashflows'!EBU371","v":0},{"$f":"'Project Cashflows'!EBV371","v":0},{"$f":"'Project Cashflows'!EBW371","v":0},{"$f":"'Project Cashflows'!EBX371","v":0},{"$f":"'Project Cashflows'!EBY371","v":0},{"$f":"'Project Cashflows'!EBZ371","v":0},{"$f":"'Project Cashflows'!ECA371","v":0},{"$f":"'Project Cashflows'!ECB371","v":0},{"$f":"'Project Cashflows'!ECC371","v":0},{"$f":"'Project Cashflows'!ECD371","v":0},{"$f":"'Project Cashflows'!ECE371","v":0},{"$f":"'Project Cashflows'!ECF371","v":0},{"$f":"'Project Cashflows'!ECG371","v":0},{"$f":"'Project Cashflows'!ECH371","v":0},{"$f":"'Project Cashflows'!ECI371","v":0},{"$f":"'Project Cashflows'!ECJ371","v":0},{"$f":"'Project Cashflows'!ECK371","v":0},{"$f":"'Project Cashflows'!ECL371","v":0},{"$f":"'Project Cashflows'!ECM371","v":0},{"$f":"'Project Cashflows'!ECN371","v":0},{"$f":"'Project Cashflows'!ECO371","v":0},{"$f":"'Project Cashflows'!ECP371","v":0},{"$f":"'Project Cashflows'!ECQ371","v":0},{"$f":"'Project Cashflows'!ECR371","v":0},{"$f":"'Project Cashflows'!ECS371","v":0},{"$f":"'Project Cashflows'!ECT371","v":0},{"$f":"'Project Cashflows'!ECU371","v":0},{"$f":"'Project Cashflows'!ECV371","v":0},{"$f":"'Project Cashflows'!ECW371","v":0},{"$f":"'Project Cashflows'!ECX371","v":0},{"$f":"'Project Cashflows'!ECY371","v":0},{"$f":"'Project Cashflows'!ECZ371","v":0},{"$f":"'Project Cashflows'!EDA371","v":0},{"$f":"'Project Cashflows'!EDB371","v":0},{"$f":"'Project Cashflows'!EDC371","v":0},{"$f":"'Project Cashflows'!EDD371","v":0},{"$f":"'Project Cashflows'!EDE371","v":0},{"$f":"'Project Cashflows'!EDF371","v":0},{"$f":"'Project Cashflows'!EDG371","v":0},{"$f":"'Project Cashflows'!EDH371","v":0},{"$f":"'Project Cashflows'!EDI371","v":0},{"$f":"'Project Cashflows'!EDJ371","v":0},{"$f":"'Project Cashflows'!EDK371","v":0},{"$f":"'Project Cashflows'!EDL371","v":0},{"$f":"'Project Cashflows'!EDM371","v":0},{"$f":"'Project Cashflows'!EDN371","v":0},{"$f":"'Project Cashflows'!EDO371","v":0},{"$f":"'Project Cashflows'!EDP371","v":0},{"$f":"'Project Cashflows'!EDQ371","v":0},{"$f":"'Project Cashflows'!EDR371","v":0},{"$f":"'Project Cashflows'!EDS371","v":0},{"$f":"'Project Cashflows'!EDT371","v":0},{"$f":"'Project Cashflows'!EDU371","v":0},{"$f":"'Project Cashflows'!EDV371","v":0},{"$f":"'Project Cashflows'!EDW371","v":0},{"$f":"'Project Cashflows'!EDX371","v":0},{"$f":"'Project Cashflows'!EDY371","v":0},{"$f":"'Project Cashflows'!EDZ371","v":0},{"$f":"'Project Cashflows'!EEA371","v":0},{"$f":"'Project Cashflows'!EEB371","v":0},{"$f":"'Project Cashflows'!EEC371","v":0},{"$f":"'Project Cashflows'!EED371","v":0},{"$f":"'Project Cashflows'!EEE371","v":0},{"$f":"'Project Cashflows'!EEF371","v":0},{"$f":"'Project Cashflows'!EEG371","v":0},{"$f":"'Project Cashflows'!EEH371","v":0},{"$f":"'Project Cashflows'!EEI371","v":0},{"$f":"'Project Cashflows'!EEJ371","v":0},{"$f":"'Project Cashflows'!EEK371","v":0},{"$f":"'Project Cashflows'!EEL371","v":0},{"$f":"'Project Cashflows'!EEM371","v":0},{"$f":"'Project Cashflows'!EEN371","v":0},{"$f":"'Project Cashflows'!EEO371","v":0},{"$f":"'Project Cashflows'!EEP371","v":0},{"$f":"'Project Cashflows'!EEQ371","v":0},{"$f":"'Project Cashflows'!EER371","v":0},{"$f":"'Project Cashflows'!EES371","v":0},{"$f":"'Project Cashflows'!EET371","v":0},{"$f":"'Project Cashflows'!EEU371","v":0},{"$f":"'Project Cashflows'!EEV371","v":0},{"$f":"'Project Cashflows'!EEW371","v":0},{"$f":"'Project Cashflows'!EEX371","v":0},{"$f":"'Project Cashflows'!EEY371","v":0},{"$f":"'Project Cashflows'!EEZ371","v":0},{"$f":"'Project Cashflows'!EFA371","v":0},{"$f":"'Project Cashflows'!EFB371","v":0},{"$f":"'Project Cashflows'!EFC371","v":0},{"$f":"'Project Cashflows'!EFD371","v":0},{"$f":"'Project Cashflows'!EFE371","v":0},{"$f":"'Project Cashflows'!EFF371","v":0},{"$f":"'Project Cashflows'!EFG371","v":0},{"$f":"'Project Cashflows'!EFH371","v":0},{"$f":"'Project Cashflows'!EFI371","v":0},{"$f":"'Project Cashflows'!EFJ371","v":0},{"$f":"'Project Cashflows'!EFK371","v":0},{"$f":"'Project Cashflows'!EFL371","v":0},{"$f":"'Project Cashflows'!EFM371","v":0},{"$f":"'Project Cashflows'!EFN371","v":0},{"$f":"'Project Cashflows'!EFO371","v":0},{"$f":"'Project Cashflows'!EFP371","v":0},{"$f":"'Project Cashflows'!EFQ371","v":0},{"$f":"'Project Cashflows'!EFR371","v":0},{"$f":"'Project Cashflows'!EFS371","v":0},{"$f":"'Project Cashflows'!EFT371","v":0},{"$f":"'Project Cashflows'!EFU371","v":0},{"$f":"'Project Cashflows'!EFV371","v":0},{"$f":"'Project Cashflows'!EFW371","v":0},{"$f":"'Project Cashflows'!EFX371","v":0},{"$f":"'Project Cashflows'!EFY371","v":0},{"$f":"'Project Cashflows'!EFZ371","v":0},{"$f":"'Project Cashflows'!EGA371","v":0},{"$f":"'Project Cashflows'!EGB371","v":0},{"$f":"'Project Cashflows'!EGC371","v":0},{"$f":"'Project Cashflows'!EGD371","v":0},{"$f":"'Project Cashflows'!EGE371","v":0},{"$f":"'Project Cashflows'!EGF371","v":0},{"$f":"'Project Cashflows'!EGG371","v":0},{"$f":"'Project Cashflows'!EGH371","v":0},{"$f":"'Project Cashflows'!EGI371","v":0},{"$f":"'Project Cashflows'!EGJ371","v":0},{"$f":"'Project Cashflows'!EGK371","v":0},{"$f":"'Project Cashflows'!EGL371","v":0},{"$f":"'Project Cashflows'!EGM371","v":0},{"$f":"'Project Cashflows'!EGN371","v":0},{"$f":"'Project Cashflows'!EGO371","v":0},{"$f":"'Project Cashflows'!EGP371","v":0},{"$f":"'Project Cashflows'!EGQ371","v":0},{"$f":"'Project Cashflows'!EGR371","v":0},{"$f":"'Project Cashflows'!EGS371","v":0},{"$f":"'Project Cashflows'!EGT371","v":0},{"$f":"'Project Cashflows'!EGU371","v":0},{"$f":"'Project Cashflows'!EGV371","v":0},{"$f":"'Project Cashflows'!EGW371","v":0},{"$f":"'Project Cashflows'!EGX371","v":0},{"$f":"'Project Cashflows'!EGY371","v":0},{"$f":"'Project Cashflows'!EGZ371","v":0},{"$f":"'Project Cashflows'!EHA371","v":0},{"$f":"'Project Cashflows'!EHB371","v":0},{"$f":"'Project Cashflows'!EHC371","v":0},{"$f":"'Project Cashflows'!EHD371","v":0},{"$f":"'Project Cashflows'!EHE371","v":0},{"$f":"'Project Cashflows'!EHF371","v":0},{"$f":"'Project Cashflows'!EHG371","v":0},{"$f":"'Project Cashflows'!EHH371","v":0},{"$f":"'Project Cashflows'!EHI371","v":0},{"$f":"'Project Cashflows'!EHJ371","v":0},{"$f":"'Project Cashflows'!EHK371","v":0},{"$f":"'Project Cashflows'!EHL371","v":0},{"$f":"'Project Cashflows'!EHM371","v":0},{"$f":"'Project Cashflows'!EHN371","v":0},{"$f":"'Project Cashflows'!EHO371","v":0},{"$f":"'Project Cashflows'!EHP371","v":0},{"$f":"'Project Cashflows'!EHQ371","v":0},{"$f":"'Project Cashflows'!EHR371","v":0},{"$f":"'Project Cashflows'!EHS371","v":0},{"$f":"'Project Cashflows'!EHT371","v":0},{"$f":"'Project Cashflows'!EHU371","v":0},{"$f":"'Project Cashflows'!EHV371","v":0},{"$f":"'Project Cashflows'!EHW371","v":0},{"$f":"'Project Cashflows'!EHX371","v":0},{"$f":"'Project Cashflows'!EHY371","v":0},{"$f":"'Project Cashflows'!EHZ371","v":0},{"$f":"'Project Cashflows'!EIA371","v":0},{"$f":"'Project Cashflows'!EIB371","v":0},{"$f":"'Project Cashflows'!EIC371","v":0},{"$f":"'Project Cashflows'!EID371","v":0},{"$f":"'Project Cashflows'!EIE371","v":0},{"$f":"'Project Cashflows'!EIF371","v":0},{"$f":"'Project Cashflows'!EIG371","v":0},{"$f":"'Project Cashflows'!EIH371","v":0},{"$f":"'Project Cashflows'!EII371","v":0},{"$f":"'Project Cashflows'!EIJ371","v":0},{"$f":"'Project Cashflows'!EIK371","v":0},{"$f":"'Project Cashflows'!EIL371","v":0},{"$f":"'Project Cashflows'!EIM371","v":0},{"$f":"'Project Cashflows'!EIN371","v":0},{"$f":"'Project Cashflows'!EIO371","v":0},{"$f":"'Project Cashflows'!EIP371","v":0},{"$f":"'Project Cashflows'!EIQ371","v":0},{"$f":"'Project Cashflows'!EIR371","v":0},{"$f":"'Project Cashflows'!EIS371","v":0},{"$f":"'Project Cashflows'!EIT371","v":0},{"$f":"'Project Cashflows'!EIU371","v":0},{"$f":"'Project Cashflows'!EIV371","v":0},{"$f":"'Project Cashflows'!EIW371","v":0},{"$f":"'Project Cashflows'!EIX371","v":0},{"$f":"'Project Cashflows'!EIY371","v":0},{"$f":"'Project Cashflows'!EIZ371","v":0},{"$f":"'Project Cashflows'!EJA371","v":0},{"$f":"'Project Cashflows'!EJB371","v":0},{"$f":"'Project Cashflows'!EJC371","v":0},{"$f":"'Project Cashflows'!EJD371","v":0},{"$f":"'Project Cashflows'!EJE371","v":0},{"$f":"'Project Cashflows'!EJF371","v":0},{"$f":"'Project Cashflows'!EJG371","v":0},{"$f":"'Project Cashflows'!EJH371","v":0},{"$f":"'Project Cashflows'!EJI371","v":0},{"$f":"'Project Cashflows'!EJJ371","v":0},{"$f":"'Project Cashflows'!EJK371","v":0},{"$f":"'Project Cashflows'!EJL371","v":0},{"$f":"'Project Cashflows'!EJM371","v":0},{"$f":"'Project Cashflows'!EJN371","v":0},{"$f":"'Project Cashflows'!EJO371","v":0},{"$f":"'Project Cashflows'!EJP371","v":0},{"$f":"'Project Cashflows'!EJQ371","v":0},{"$f":"'Project Cashflows'!EJR371","v":0},{"$f":"'Project Cashflows'!EJS371","v":0},{"$f":"'Project Cashflows'!EJT371","v":0},{"$f":"'Project Cashflows'!EJU371","v":0},{"$f":"'Project Cashflows'!EJV371","v":0},{"$f":"'Project Cashflows'!EJW371","v":0},{"$f":"'Project Cashflows'!EJX371","v":0},{"$f":"'Project Cashflows'!EJY371","v":0},{"$f":"'Project Cashflows'!EJZ371","v":0},{"$f":"'Project Cashflows'!EKA371","v":0},{"$f":"'Project Cashflows'!EKB371","v":0},{"$f":"'Project Cashflows'!EKC371","v":0},{"$f":"'Project Cashflows'!EKD371","v":0},{"$f":"'Project Cashflows'!EKE371","v":0},{"$f":"'Project Cashflows'!EKF371","v":0},{"$f":"'Project Cashflows'!EKG371","v":0},{"$f":"'Project Cashflows'!EKH371","v":0},{"$f":"'Project Cashflows'!EKI371","v":0},{"$f":"'Project Cashflows'!EKJ371","v":0},{"$f":"'Project Cashflows'!EKK371","v":0},{"$f":"'Project Cashflows'!EKL371","v":0},{"$f":"'Project Cashflows'!EKM371","v":0},{"$f":"'Project Cashflows'!EKN371","v":0},{"$f":"'Project Cashflows'!EKO371","v":0},{"$f":"'Project Cashflows'!EKP371","v":0},{"$f":"'Project Cashflows'!EKQ371","v":0},{"$f":"'Project Cashflows'!EKR371","v":0},{"$f":"'Project Cashflows'!EKS371","v":0},{"$f":"'Project Cashflows'!EKT371","v":0},{"$f":"'Project Cashflows'!EKU371","v":0},{"$f":"'Project Cashflows'!EKV371","v":0},{"$f":"'Project Cashflows'!EKW371","v":0},{"$f":"'Project Cashflows'!EKX371","v":0},{"$f":"'Project Cashflows'!EKY371","v":0},{"$f":"'Project Cashflows'!EKZ371","v":0},{"$f":"'Project Cashflows'!ELA371","v":0},{"$f":"'Project Cashflows'!ELB371","v":0},{"$f":"'Project Cashflows'!ELC371","v":0},{"$f":"'Project Cashflows'!ELD371","v":0},{"$f":"'Project Cashflows'!ELE371","v":0},{"$f":"'Project Cashflows'!ELF371","v":0},{"$f":"'Project Cashflows'!ELG371","v":0},{"$f":"'Project Cashflows'!ELH371","v":0},{"$f":"'Project Cashflows'!ELI371","v":0},{"$f":"'Project Cashflows'!ELJ371","v":0},{"$f":"'Project Cashflows'!ELK371","v":0},{"$f":"'Project Cashflows'!ELL371","v":0},{"$f":"'Project Cashflows'!ELM371","v":0},{"$f":"'Project Cashflows'!ELN371","v":0},{"$f":"'Project Cashflows'!ELO371","v":0},{"$f":"'Project Cashflows'!ELP371","v":0},{"$f":"'Project Cashflows'!ELQ371","v":0},{"$f":"'Project Cashflows'!ELR371","v":0},{"$f":"'Project Cashflows'!ELS371","v":0},{"$f":"'Project Cashflows'!ELT371","v":0},{"$f":"'Project Cashflows'!ELU371","v":0},{"$f":"'Project Cashflows'!ELV371","v":0},{"$f":"'Project Cashflows'!ELW371","v":0},{"$f":"'Project Cashflows'!ELX371","v":0},{"$f":"'Project Cashflows'!ELY371","v":0},{"$f":"'Project Cashflows'!ELZ371","v":0},{"$f":"'Project Cashflows'!EMA371","v":0},{"$f":"'Project Cashflows'!EMB371","v":0},{"$f":"'Project Cashflows'!EMC371","v":0},{"$f":"'Project Cashflows'!EMD371","v":0},{"$f":"'Project Cashflows'!EME371","v":0},{"$f":"'Project Cashflows'!EMF371","v":0},{"$f":"'Project Cashflows'!EMG371","v":0},{"$f":"'Project Cashflows'!EMH371","v":0},{"$f":"'Project Cashflows'!EMI371","v":0},{"$f":"'Project Cashflows'!EMJ371","v":0},{"$f":"'Project Cashflows'!EMK371","v":0},{"$f":"'Project Cashflows'!EML371","v":0},{"$f":"'Project Cashflows'!EMM371","v":0},{"$f":"'Project Cashflows'!EMN371","v":0},{"$f":"'Project Cashflows'!EMO371","v":0},{"$f":"'Project Cashflows'!EMP371","v":0},{"$f":"'Project Cashflows'!EMQ371","v":0},{"$f":"'Project Cashflows'!EMR371","v":0},{"$f":"'Project Cashflows'!EMS371","v":0},{"$f":"'Project Cashflows'!EMT371","v":0},{"$f":"'Project Cashflows'!EMU371","v":0},{"$f":"'Project Cashflows'!EMV371","v":0},{"$f":"'Project Cashflows'!EMW371","v":0},{"$f":"'Project Cashflows'!EMX371","v":0},{"$f":"'Project Cashflows'!EMY371","v":0},{"$f":"'Project Cashflows'!EMZ371","v":0},{"$f":"'Project Cashflows'!ENA371","v":0},{"$f":"'Project Cashflows'!ENB371","v":0},{"$f":"'Project Cashflows'!ENC371","v":0},{"$f":"'Project Cashflows'!END371","v":0},{"$f":"'Project Cashflows'!ENE371","v":0},{"$f":"'Project Cashflows'!ENF371","v":0},{"$f":"'Project Cashflows'!ENG371","v":0},{"$f":"'Project Cashflows'!ENH371","v":0},{"$f":"'Project Cashflows'!ENI371","v":0},{"$f":"'Project Cashflows'!ENJ371","v":0},{"$f":"'Project Cashflows'!ENK371","v":0},{"$f":"'Project Cashflows'!ENL371","v":0},{"$f":"'Project Cashflows'!ENM371","v":0},{"$f":"'Project Cashflows'!ENN371","v":0},{"$f":"'Project Cashflows'!ENO371","v":0},{"$f":"'Project Cashflows'!ENP371","v":0},{"$f":"'Project Cashflows'!ENQ371","v":0},{"$f":"'Project Cashflows'!ENR371","v":0},{"$f":"'Project Cashflows'!ENS371","v":0},{"$f":"'Project Cashflows'!ENT371","v":0},{"$f":"'Project Cashflows'!ENU371","v":0},{"$f":"'Project Cashflows'!ENV371","v":0},{"$f":"'Project Cashflows'!ENW371","v":0},{"$f":"'Project Cashflows'!ENX371","v":0},{"$f":"'Project Cashflows'!ENY371","v":0},{"$f":"'Project Cashflows'!ENZ371","v":0},{"$f":"'Project Cashflows'!EOA371","v":0},{"$f":"'Project Cashflows'!EOB371","v":0},{"$f":"'Project Cashflows'!EOC371","v":0},{"$f":"'Project Cashflows'!EOD371","v":0},{"$f":"'Project Cashflows'!EOE371","v":0},{"$f":"'Project Cashflows'!EOF371","v":0},{"$f":"'Project Cashflows'!EOG371","v":0},{"$f":"'Project Cashflows'!EOH371","v":0},{"$f":"'Project Cashflows'!EOI371","v":0},{"$f":"'Project Cashflows'!EOJ371","v":0},{"$f":"'Project Cashflows'!EOK371","v":0},{"$f":"'Project Cashflows'!EOL371","v":0},{"$f":"'Project Cashflows'!EOM371","v":0},{"$f":"'Project Cashflows'!EON371","v":0},{"$f":"'Project Cashflows'!EOO371","v":0},{"$f":"'Project Cashflows'!EOP371","v":0},{"$f":"'Project Cashflows'!EOQ371","v":0},{"$f":"'Project Cashflows'!EOR371","v":0},{"$f":"'Project Cashflows'!EOS371","v":0},{"$f":"'Project Cashflows'!EOT371","v":0},{"$f":"'Project Cashflows'!EOU371","v":0},{"$f":"'Project Cashflows'!EOV371","v":0},{"$f":"'Project Cashflows'!EOW371","v":0},{"$f":"'Project Cashflows'!EOX371","v":0},{"$f":"'Project Cashflows'!EOY371","v":0},{"$f":"'Project Cashflows'!EOZ371","v":0},{"$f":"'Project Cashflows'!EPA371","v":0},{"$f":"'Project Cashflows'!EPB371","v":0},{"$f":"'Project Cashflows'!EPC371","v":0},{"$f":"'Project Cashflows'!EPD371","v":0},{"$f":"'Project Cashflows'!EPE371","v":0},{"$f":"'Project Cashflows'!EPF371","v":0},{"$f":"'Project Cashflows'!EPG371","v":0},{"$f":"'Project Cashflows'!EPH371","v":0},{"$f":"'Project Cashflows'!EPI371","v":0},{"$f":"'Project Cashflows'!EPJ371","v":0},{"$f":"'Project Cashflows'!EPK371","v":0},{"$f":"'Project Cashflows'!EPL371","v":0},{"$f":"'Project Cashflows'!EPM371","v":0},{"$f":"'Project Cashflows'!EPN371","v":0},{"$f":"'Project Cashflows'!EPO371","v":0},{"$f":"'Project Cashflows'!EPP371","v":0},{"$f":"'Project Cashflows'!EPQ371","v":0},{"$f":"'Project Cashflows'!EPR371","v":0},{"$f":"'Project Cashflows'!EPS371","v":0},{"$f":"'Project Cashflows'!EPT371","v":0},{"$f":"'Project Cashflows'!EPU371","v":0},{"$f":"'Project Cashflows'!EPV371","v":0},{"$f":"'Project Cashflows'!EPW371","v":0},{"$f":"'Project Cashflows'!EPX371","v":0},{"$f":"'Project Cashflows'!EPY371","v":0},{"$f":"'Project Cashflows'!EPZ371","v":0},{"$f":"'Project Cashflows'!EQA371","v":0},{"$f":"'Project Cashflows'!EQB371","v":0},{"$f":"'Project Cashflows'!EQC371","v":0},{"$f":"'Project Cashflows'!EQD371","v":0},{"$f":"'Project Cashflows'!EQE371","v":0},{"$f":"'Project Cashflows'!EQF371","v":0},{"$f":"'Project Cashflows'!EQG371","v":0},{"$f":"'Project Cashflows'!EQH371","v":0},{"$f":"'Project Cashflows'!EQI371","v":0},{"$f":"'Project Cashflows'!EQJ371","v":0},{"$f":"'Project Cashflows'!EQK371","v":0},{"$f":"'Project Cashflows'!EQL371","v":0},{"$f":"'Project Cashflows'!EQM371","v":0},{"$f":"'Project Cashflows'!EQN371","v":0},{"$f":"'Project Cashflows'!EQO371","v":0},{"$f":"'Project Cashflows'!EQP371","v":0},{"$f":"'Project Cashflows'!EQQ371","v":0},{"$f":"'Project Cashflows'!EQR371","v":0},{"$f":"'Project Cashflows'!EQS371","v":0},{"$f":"'Project Cashflows'!EQT371","v":0},{"$f":"'Project Cashflows'!EQU371","v":0},{"$f":"'Project Cashflows'!EQV371","v":0},{"$f":"'Project Cashflows'!EQW371","v":0},{"$f":"'Project Cashflows'!EQX371","v":0},{"$f":"'Project Cashflows'!EQY371","v":0},{"$f":"'Project Cashflows'!EQZ371","v":0},{"$f":"'Project Cashflows'!ERA371","v":0},{"$f":"'Project Cashflows'!ERB371","v":0},{"$f":"'Project Cashflows'!ERC371","v":0},{"$f":"'Project Cashflows'!ERD371","v":0},{"$f":"'Project Cashflows'!ERE371","v":0},{"$f":"'Project Cashflows'!ERF371","v":0},{"$f":"'Project Cashflows'!ERG371","v":0},{"$f":"'Project Cashflows'!ERH371","v":0},{"$f":"'Project Cashflows'!ERI371","v":0},{"$f":"'Project Cashflows'!ERJ371","v":0},{"$f":"'Project Cashflows'!ERK371","v":0},{"$f":"'Project Cashflows'!ERL371","v":0},{"$f":"'Project Cashflows'!ERM371","v":0},{"$f":"'Project Cashflows'!ERN371","v":0},{"$f":"'Project Cashflows'!ERO371","v":0},{"$f":"'Project Cashflows'!ERP371","v":0},{"$f":"'Project Cashflows'!ERQ371","v":0},{"$f":"'Project Cashflows'!ERR371","v":0},{"$f":"'Project Cashflows'!ERS371","v":0},{"$f":"'Project Cashflows'!ERT371","v":0},{"$f":"'Project Cashflows'!ERU371","v":0},{"$f":"'Project Cashflows'!ERV371","v":0},{"$f":"'Project Cashflows'!ERW371","v":0},{"$f":"'Project Cashflows'!ERX371","v":0},{"$f":"'Project Cashflows'!ERY371","v":0},{"$f":"'Project Cashflows'!ERZ371","v":0},{"$f":"'Project Cashflows'!ESA371","v":0},{"$f":"'Project Cashflows'!ESB371","v":0},{"$f":"'Project Cashflows'!ESC371","v":0},{"$f":"'Project Cashflows'!ESD371","v":0},{"$f":"'Project Cashflows'!ESE371","v":0},{"$f":"'Project Cashflows'!ESF371","v":0},{"$f":"'Project Cashflows'!ESG371","v":0},{"$f":"'Project Cashflows'!ESH371","v":0},{"$f":"'Project Cashflows'!ESI371","v":0},{"$f":"'Project Cashflows'!ESJ371","v":0},{"$f":"'Project Cashflows'!ESK371","v":0},{"$f":"'Project Cashflows'!ESL371","v":0},{"$f":"'Project Cashflows'!ESM371","v":0},{"$f":"'Project Cashflows'!ESN371","v":0},{"$f":"'Project Cashflows'!ESO371","v":0},{"$f":"'Project Cashflows'!ESP371","v":0},{"$f":"'Project Cashflows'!ESQ371","v":0},{"$f":"'Project Cashflows'!ESR371","v":0},{"$f":"'Project Cashflows'!ESS371","v":0},{"$f":"'Project Cashflows'!EST371","v":0},{"$f":"'Project Cashflows'!ESU371","v":0},{"$f":"'Project Cashflows'!ESV371","v":0},{"$f":"'Project Cashflows'!ESW371","v":0},{"$f":"'Project Cashflows'!ESX371","v":0},{"$f":"'Project Cashflows'!ESY371","v":0},{"$f":"'Project Cashflows'!ESZ371","v":0},{"$f":"'Project Cashflows'!ETA371","v":0},{"$f":"'Project Cashflows'!ETB371","v":0},{"$f":"'Project Cashflows'!ETC371","v":0},{"$f":"'Project Cashflows'!ETD371","v":0},{"$f":"'Project Cashflows'!ETE371","v":0},{"$f":"'Project Cashflows'!ETF371","v":0},{"$f":"'Project Cashflows'!ETG371","v":0},{"$f":"'Project Cashflows'!ETH371","v":0},{"$f":"'Project Cashflows'!ETI371","v":0},{"$f":"'Project Cashflows'!ETJ371","v":0},{"$f":"'Project Cashflows'!ETK371","v":0},{"$f":"'Project Cashflows'!ETL371","v":0},{"$f":"'Project Cashflows'!ETM371","v":0},{"$f":"'Project Cashflows'!ETN371","v":0},{"$f":"'Project Cashflows'!ETO371","v":0},{"$f":"'Project Cashflows'!ETP371","v":0},{"$f":"'Project Cashflows'!ETQ371","v":0},{"$f":"'Project Cashflows'!ETR371","v":0},{"$f":"'Project Cashflows'!ETS371","v":0},{"$f":"'Project Cashflows'!ETT371","v":0},{"$f":"'Project Cashflows'!ETU371","v":0},{"$f":"'Project Cashflows'!ETV371","v":0},{"$f":"'Project Cashflows'!ETW371","v":0},{"$f":"'Project Cashflows'!ETX371","v":0},{"$f":"'Project Cashflows'!ETY371","v":0},{"$f":"'Project Cashflows'!ETZ371","v":0},{"$f":"'Project Cashflows'!EUA371","v":0},{"$f":"'Project Cashflows'!EUB371","v":0},{"$f":"'Project Cashflows'!EUC371","v":0},{"$f":"'Project Cashflows'!EUD371","v":0},{"$f":"'Project Cashflows'!EUE371","v":0},{"$f":"'Project Cashflows'!EUF371","v":0},{"$f":"'Project Cashflows'!EUG371","v":0},{"$f":"'Project Cashflows'!EUH371","v":0},{"$f":"'Project Cashflows'!EUI371","v":0},{"$f":"'Project Cashflows'!EUJ371","v":0},{"$f":"'Project Cashflows'!EUK371","v":0},{"$f":"'Project Cashflows'!EUL371","v":0},{"$f":"'Project Cashflows'!EUM371","v":0},{"$f":"'Project Cashflows'!EUN371","v":0},{"$f":"'Project Cashflows'!EUO371","v":0},{"$f":"'Project Cashflows'!EUP371","v":0},{"$f":"'Project Cashflows'!EUQ371","v":0},{"$f":"'Project Cashflows'!EUR371","v":0},{"$f":"'Project Cashflows'!EUS371","v":0},{"$f":"'Project Cashflows'!EUT371","v":0},{"$f":"'Project Cashflows'!EUU371","v":0},{"$f":"'Project Cashflows'!EUV371","v":0},{"$f":"'Project Cashflows'!EUW371","v":0},{"$f":"'Project Cashflows'!EUX371","v":0},{"$f":"'Project Cashflows'!EUY371","v":0},{"$f":"'Project Cashflows'!EUZ371","v":0},{"$f":"'Project Cashflows'!EVA371","v":0},{"$f":"'Project Cashflows'!EVB371","v":0},{"$f":"'Project Cashflows'!EVC371","v":0},{"$f":"'Project Cashflows'!EVD371","v":0},{"$f":"'Project Cashflows'!EVE371","v":0},{"$f":"'Project Cashflows'!EVF371","v":0},{"$f":"'Project Cashflows'!EVG371","v":0},{"$f":"'Project Cashflows'!EVH371","v":0},{"$f":"'Project Cashflows'!EVI371","v":0},{"$f":"'Project Cashflows'!EVJ371","v":0},{"$f":"'Project Cashflows'!EVK371","v":0},{"$f":"'Project Cashflows'!EVL371","v":0},{"$f":"'Project Cashflows'!EVM371","v":0},{"$f":"'Project Cashflows'!EVN371","v":0},{"$f":"'Project Cashflows'!EVO371","v":0},{"$f":"'Project Cashflows'!EVP371","v":0},{"$f":"'Project Cashflows'!EVQ371","v":0},{"$f":"'Project Cashflows'!EVR371","v":0},{"$f":"'Project Cashflows'!EVS371","v":0},{"$f":"'Project Cashflows'!EVT371","v":0},{"$f":"'Project Cashflows'!EVU371","v":0},{"$f":"'Project Cashflows'!EVV371","v":0},{"$f":"'Project Cashflows'!EVW371","v":0},{"$f":"'Project Cashflows'!EVX371","v":0},{"$f":"'Project Cashflows'!EVY371","v":0},{"$f":"'Project Cashflows'!EVZ371","v":0},{"$f":"'Project Cashflows'!EWA371","v":0},{"$f":"'Project Cashflows'!EWB371","v":0},{"$f":"'Project Cashflows'!EWC371","v":0},{"$f":"'Project Cashflows'!EWD371","v":0},{"$f":"'Project Cashflows'!EWE371","v":0},{"$f":"'Project Cashflows'!EWF371","v":0},{"$f":"'Project Cashflows'!EWG371","v":0},{"$f":"'Project Cashflows'!EWH371","v":0},{"$f":"'Project Cashflows'!EWI371","v":0},{"$f":"'Project Cashflows'!EWJ371","v":0},{"$f":"'Project Cashflows'!EWK371","v":0},{"$f":"'Project Cashflows'!EWL371","v":0},{"$f":"'Project Cashflows'!EWM371","v":0},{"$f":"'Project Cashflows'!EWN371","v":0},{"$f":"'Project Cashflows'!EWO371","v":0},{"$f":"'Project Cashflows'!EWP371","v":0},{"$f":"'Project Cashflows'!EWQ371","v":0},{"$f":"'Project Cashflows'!EWR371","v":0},{"$f":"'Project Cashflows'!EWS371","v":0},{"$f":"'Project Cashflows'!EWT371","v":0},{"$f":"'Project Cashflows'!EWU371","v":0},{"$f":"'Project Cashflows'!EWV371","v":0},{"$f":"'Project Cashflows'!EWW371","v":0},{"$f":"'Project Cashflows'!EWX371","v":0},{"$f":"'Project Cashflows'!EWY371","v":0},{"$f":"'Project Cashflows'!EWZ371","v":0},{"$f":"'Project Cashflows'!EXA371","v":0},{"$f":"'Project Cashflows'!EXB371","v":0},{"$f":"'Project Cashflows'!EXC371","v":0},{"$f":"'Project Cashflows'!EXD371","v":0},{"$f":"'Project Cashflows'!EXE371","v":0},{"$f":"'Project Cashflows'!EXF371","v":0},{"$f":"'Project Cashflows'!EXG371","v":0},{"$f":"'Project Cashflows'!EXH371","v":0},{"$f":"'Project Cashflows'!EXI371","v":0},{"$f":"'Project Cashflows'!EXJ371","v":0},{"$f":"'Project Cashflows'!EXK371","v":0},{"$f":"'Project Cashflows'!EXL371","v":0},{"$f":"'Project Cashflows'!EXM371","v":0},{"$f":"'Project Cashflows'!EXN371","v":0},{"$f":"'Project Cashflows'!EXO371","v":0},{"$f":"'Project Cashflows'!EXP371","v":0},{"$f":"'Project Cashflows'!EXQ371","v":0},{"$f":"'Project Cashflows'!EXR371","v":0},{"$f":"'Project Cashflows'!EXS371","v":0},{"$f":"'Project Cashflows'!EXT371","v":0},{"$f":"'Project Cashflows'!EXU371","v":0},{"$f":"'Project Cashflows'!EXV371","v":0},{"$f":"'Project Cashflows'!EXW371","v":0},{"$f":"'Project Cashflows'!EXX371","v":0},{"$f":"'Project Cashflows'!EXY371","v":0},{"$f":"'Project Cashflows'!EXZ371","v":0},{"$f":"'Project Cashflows'!EYA371","v":0},{"$f":"'Project Cashflows'!EYB371","v":0},{"$f":"'Project Cashflows'!EYC371","v":0},{"$f":"'Project Cashflows'!EYD371","v":0},{"$f":"'Project Cashflows'!EYE371","v":0},{"$f":"'Project Cashflows'!EYF371","v":0},{"$f":"'Project Cashflows'!EYG371","v":0},{"$f":"'Project Cashflows'!EYH371","v":0},{"$f":"'Project Cashflows'!EYI371","v":0},{"$f":"'Project Cashflows'!EYJ371","v":0},{"$f":"'Project Cashflows'!EYK371","v":0},{"$f":"'Project Cashflows'!EYL371","v":0},{"$f":"'Project Cashflows'!EYM371","v":0},{"$f":"'Project Cashflows'!EYN371","v":0},{"$f":"'Project Cashflows'!EYO371","v":0},{"$f":"'Project Cashflows'!EYP371","v":0},{"$f":"'Project Cashflows'!EYQ371","v":0},{"$f":"'Project Cashflows'!EYR371","v":0},{"$f":"'Project Cashflows'!EYS371","v":0},{"$f":"'Project Cashflows'!EYT371","v":0},{"$f":"'Project Cashflows'!EYU371","v":0},{"$f":"'Project Cashflows'!EYV371","v":0},{"$f":"'Project Cashflows'!EYW371","v":0},{"$f":"'Project Cashflows'!EYX371","v":0},{"$f":"'Project Cashflows'!EYY371","v":0},{"$f":"'Project Cashflows'!EYZ371","v":0},{"$f":"'Project Cashflows'!EZA371","v":0},{"$f":"'Project Cashflows'!EZB371","v":0},{"$f":"'Project Cashflows'!EZC371","v":0},{"$f":"'Project Cashflows'!EZD371","v":0},{"$f":"'Project Cashflows'!EZE371","v":0},{"$f":"'Project Cashflows'!EZF371","v":0},{"$f":"'Project Cashflows'!EZG371","v":0},{"$f":"'Project Cashflows'!EZH371","v":0},{"$f":"'Project Cashflows'!EZI371","v":0},{"$f":"'Project Cashflows'!EZJ371","v":0},{"$f":"'Project Cashflows'!EZK371","v":0},{"$f":"'Project Cashflows'!EZL371","v":0},{"$f":"'Project Cashflows'!EZM371","v":0},{"$f":"'Project Cashflows'!EZN371","v":0},{"$f":"'Project Cashflows'!EZO371","v":0},{"$f":"'Project Cashflows'!EZP371","v":0},{"$f":"'Project Cashflows'!EZQ371","v":0},{"$f":"'Project Cashflows'!EZR371","v":0},{"$f":"'Project Cashflows'!EZS371","v":0},{"$f":"'Project Cashflows'!EZT371","v":0},{"$f":"'Project Cashflows'!EZU371","v":0},{"$f":"'Project Cashflows'!EZV371","v":0},{"$f":"'Project Cashflows'!EZW371","v":0},{"$f":"'Project Cashflows'!EZX371","v":0},{"$f":"'Project Cashflows'!EZY371","v":0},{"$f":"'Project Cashflows'!EZZ371","v":0},{"$f":"'Project Cashflows'!FAA371","v":0},{"$f":"'Project Cashflows'!FAB371","v":0},{"$f":"'Project Cashflows'!FAC371","v":0},{"$f":"'Project Cashflows'!FAD371","v":0},{"$f":"'Project Cashflows'!FAE371","v":0},{"$f":"'Project Cashflows'!FAF371","v":0},{"$f":"'Project Cashflows'!FAG371","v":0},{"$f":"'Project Cashflows'!FAH371","v":0},{"$f":"'Project Cashflows'!FAI371","v":0},{"$f":"'Project Cashflows'!FAJ371","v":0},{"$f":"'Project Cashflows'!FAK371","v":0},{"$f":"'Project Cashflows'!FAL371","v":0},{"$f":"'Project Cashflows'!FAM371","v":0},{"$f":"'Project Cashflows'!FAN371","v":0},{"$f":"'Project Cashflows'!FAO371","v":0},{"$f":"'Project Cashflows'!FAP371","v":0},{"$f":"'Project Cashflows'!FAQ371","v":0},{"$f":"'Project Cashflows'!FAR371","v":0},{"$f":"'Project Cashflows'!FAS371","v":0},{"$f":"'Project Cashflows'!FAT371","v":0},{"$f":"'Project Cashflows'!FAU371","v":0},{"$f":"'Project Cashflows'!FAV371","v":0},{"$f":"'Project Cashflows'!FAW371","v":0},{"$f":"'Project Cashflows'!FAX371","v":0},{"$f":"'Project Cashflows'!FAY371","v":0},{"$f":"'Project Cashflows'!FAZ371","v":0},{"$f":"'Project Cashflows'!FBA371","v":0},{"$f":"'Project Cashflows'!FBB371","v":0},{"$f":"'Project Cashflows'!FBC371","v":0},{"$f":"'Project Cashflows'!FBD371","v":0},{"$f":"'Project Cashflows'!FBE371","v":0},{"$f":"'Project Cashflows'!FBF371","v":0},{"$f":"'Project Cashflows'!FBG371","v":0},{"$f":"'Project Cashflows'!FBH371","v":0},{"$f":"'Project Cashflows'!FBI371","v":0},{"$f":"'Project Cashflows'!FBJ371","v":0},{"$f":"'Project Cashflows'!FBK371","v":0},{"$f":"'Project Cashflows'!FBL371","v":0},{"$f":"'Project Cashflows'!FBM371","v":0},{"$f":"'Project Cashflows'!FBN371","v":0},{"$f":"'Project Cashflows'!FBO371","v":0},{"$f":"'Project Cashflows'!FBP371","v":0},{"$f":"'Project Cashflows'!FBQ371","v":0},{"$f":"'Project Cashflows'!FBR371","v":0},{"$f":"'Project Cashflows'!FBS371","v":0},{"$f":"'Project Cashflows'!FBT371","v":0},{"$f":"'Project Cashflows'!FBU371","v":0},{"$f":"'Project Cashflows'!FBV371","v":0},{"$f":"'Project Cashflows'!FBW371","v":0},{"$f":"'Project Cashflows'!FBX371","v":0},{"$f":"'Project Cashflows'!FBY371","v":0},{"$f":"'Project Cashflows'!FBZ371","v":0},{"$f":"'Project Cashflows'!FCA371","v":0},{"$f":"'Project Cashflows'!FCB371","v":0},{"$f":"'Project Cashflows'!FCC371","v":0},{"$f":"'Project Cashflows'!FCD371","v":0},{"$f":"'Project Cashflows'!FCE371","v":0},{"$f":"'Project Cashflows'!FCF371","v":0},{"$f":"'Project Cashflows'!FCG371","v":0},{"$f":"'Project Cashflows'!FCH371","v":0},{"$f":"'Project Cashflows'!FCI371","v":0},{"$f":"'Project Cashflows'!FCJ371","v":0},{"$f":"'Project Cashflows'!FCK371","v":0},{"$f":"'Project Cashflows'!FCL371","v":0},{"$f":"'Project Cashflows'!FCM371","v":0},{"$f":"'Project Cashflows'!FCN371","v":0},{"$f":"'Project Cashflows'!FCO371","v":0},{"$f":"'Project Cashflows'!FCP371","v":0},{"$f":"'Project Cashflows'!FCQ371","v":0},{"$f":"'Project Cashflows'!FCR371","v":0},{"$f":"'Project Cashflows'!FCS371","v":0},{"$f":"'Project Cashflows'!FCT371","v":0},{"$f":"'Project Cashflows'!FCU371","v":0},{"$f":"'Project Cashflows'!FCV371","v":0},{"$f":"'Project Cashflows'!FCW371","v":0},{"$f":"'Project Cashflows'!FCX371","v":0},{"$f":"'Project Cashflows'!FCY371","v":0},{"$f":"'Project Cashflows'!FCZ371","v":0},{"$f":"'Project Cashflows'!FDA371","v":0},{"$f":"'Project Cashflows'!FDB371","v":0},{"$f":"'Project Cashflows'!FDC371","v":0},{"$f":"'Project Cashflows'!FDD371","v":0},{"$f":"'Project Cashflows'!FDE371","v":0},{"$f":"'Project Cashflows'!FDF371","v":0},{"$f":"'Project Cashflows'!FDG371","v":0},{"$f":"'Project Cashflows'!FDH371","v":0},{"$f":"'Project Cashflows'!FDI371","v":0},{"$f":"'Project Cashflows'!FDJ371","v":0},{"$f":"'Project Cashflows'!FDK371","v":0},{"$f":"'Project Cashflows'!FDL371","v":0},{"$f":"'Project Cashflows'!FDM371","v":0},{"$f":"'Project Cashflows'!FDN371","v":0},{"$f":"'Project Cashflows'!FDO371","v":0},{"$f":"'Project Cashflows'!FDP371","v":0},{"$f":"'Project Cashflows'!FDQ371","v":0},{"$f":"'Project Cashflows'!FDR371","v":0},{"$f":"'Project Cashflows'!FDS371","v":0},{"$f":"'Project Cashflows'!FDT371","v":0},{"$f":"'Project Cashflows'!FDU371","v":0},{"$f":"'Project Cashflows'!FDV371","v":0},{"$f":"'Project Cashflows'!FDW371","v":0},{"$f":"'Project Cashflows'!FDX371","v":0},{"$f":"'Project Cashflows'!FDY371","v":0},{"$f":"'Project Cashflows'!FDZ371","v":0},{"$f":"'Project Cashflows'!FEA371","v":0},{"$f":"'Project Cashflows'!FEB371","v":0},{"$f":"'Project Cashflows'!FEC371","v":0},{"$f":"'Project Cashflows'!FED371","v":0},{"$f":"'Project Cashflows'!FEE371","v":0},{"$f":"'Project Cashflows'!FEF371","v":0},{"$f":"'Project Cashflows'!FEG371","v":0},{"$f":"'Project Cashflows'!FEH371","v":0},{"$f":"'Project Cashflows'!FEI371","v":0},{"$f":"'Project Cashflows'!FEJ371","v":0},{"$f":"'Project Cashflows'!FEK371","v":0},{"$f":"'Project Cashflows'!FEL371","v":0},{"$f":"'Project Cashflows'!FEM371","v":0},{"$f":"'Project Cashflows'!FEN371","v":0},{"$f":"'Project Cashflows'!FEO371","v":0},{"$f":"'Project Cashflows'!FEP371","v":0},{"$f":"'Project Cashflows'!FEQ371","v":0},{"$f":"'Project Cashflows'!FER371","v":0},{"$f":"'Project Cashflows'!FES371","v":0},{"$f":"'Project Cashflows'!FET371","v":0},{"$f":"'Project Cashflows'!FEU371","v":0},{"$f":"'Project Cashflows'!FEV371","v":0},{"$f":"'Project Cashflows'!FEW371","v":0},{"$f":"'Project Cashflows'!FEX371","v":0},{"$f":"'Project Cashflows'!FEY371","v":0},{"$f":"'Project Cashflows'!FEZ371","v":0},{"$f":"'Project Cashflows'!FFA371","v":0},{"$f":"'Project Cashflows'!FFB371","v":0},{"$f":"'Project Cashflows'!FFC371","v":0},{"$f":"'Project Cashflows'!FFD371","v":0},{"$f":"'Project Cashflows'!FFE371","v":0},{"$f":"'Project Cashflows'!FFF371","v":0},{"$f":"'Project Cashflows'!FFG371","v":0},{"$f":"'Project Cashflows'!FFH371","v":0},{"$f":"'Project Cashflows'!FFI371","v":0},{"$f":"'Project Cashflows'!FFJ371","v":0},{"$f":"'Project Cashflows'!FFK371","v":0},{"$f":"'Project Cashflows'!FFL371","v":0},{"$f":"'Project Cashflows'!FFM371","v":0},{"$f":"'Project Cashflows'!FFN371","v":0},{"$f":"'Project Cashflows'!FFO371","v":0},{"$f":"'Project Cashflows'!FFP371","v":0},{"$f":"'Project Cashflows'!FFQ371","v":0},{"$f":"'Project Cashflows'!FFR371","v":0},{"$f":"'Project Cashflows'!FFS371","v":0},{"$f":"'Project Cashflows'!FFT371","v":0},{"$f":"'Project Cashflows'!FFU371","v":0},{"$f":"'Project Cashflows'!FFV371","v":0},{"$f":"'Project Cashflows'!FFW371","v":0},{"$f":"'Project Cashflows'!FFX371","v":0},{"$f":"'Project Cashflows'!FFY371","v":0},{"$f":"'Project Cashflows'!FFZ371","v":0},{"$f":"'Project Cashflows'!FGA371","v":0},{"$f":"'Project Cashflows'!FGB371","v":0},{"$f":"'Project Cashflows'!FGC371","v":0},{"$f":"'Project Cashflows'!FGD371","v":0},{"$f":"'Project Cashflows'!FGE371","v":0},{"$f":"'Project Cashflows'!FGF371","v":0},{"$f":"'Project Cashflows'!FGG371","v":0},{"$f":"'Project Cashflows'!FGH371","v":0},{"$f":"'Project Cashflows'!FGI371","v":0},{"$f":"'Project Cashflows'!FGJ371","v":0},{"$f":"'Project Cashflows'!FGK371","v":0},{"$f":"'Project Cashflows'!FGL371","v":0},{"$f":"'Project Cashflows'!FGM371","v":0},{"$f":"'Project Cashflows'!FGN371","v":0},{"$f":"'Project Cashflows'!FGO371","v":0},{"$f":"'Project Cashflows'!FGP371","v":0},{"$f":"'Project Cashflows'!FGQ371","v":0},{"$f":"'Project Cashflows'!FGR371","v":0},{"$f":"'Project Cashflows'!FGS371","v":0},{"$f":"'Project Cashflows'!FGT371","v":0},{"$f":"'Project Cashflows'!FGU371","v":0},{"$f":"'Project Cashflows'!FGV371","v":0},{"$f":"'Project Cashflows'!FGW371","v":0},{"$f":"'Project Cashflows'!FGX371","v":0},{"$f":"'Project Cashflows'!FGY371","v":0},{"$f":"'Project Cashflows'!FGZ371","v":0},{"$f":"'Project Cashflows'!FHA371","v":0},{"$f":"'Project Cashflows'!FHB371","v":0},{"$f":"'Project Cashflows'!FHC371","v":0},{"$f":"'Project Cashflows'!FHD371","v":0},{"$f":"'Project Cashflows'!FHE371","v":0},{"$f":"'Project Cashflows'!FHF371","v":0},{"$f":"'Project Cashflows'!FHG371","v":0},{"$f":"'Project Cashflows'!FHH371","v":0},{"$f":"'Project Cashflows'!FHI371","v":0},{"$f":"'Project Cashflows'!FHJ371","v":0},{"$f":"'Project Cashflows'!FHK371","v":0},{"$f":"'Project Cashflows'!FHL371","v":0},{"$f":"'Project Cashflows'!FHM371","v":0},{"$f":"'Project Cashflows'!FHN371","v":0},{"$f":"'Project Cashflows'!FHO371","v":0},{"$f":"'Project Cashflows'!FHP371","v":0},{"$f":"'Project Cashflows'!FHQ371","v":0},{"$f":"'Project Cashflows'!FHR371","v":0},{"$f":"'Project Cashflows'!FHS371","v":0},{"$f":"'Project Cashflows'!FHT371","v":0},{"$f":"'Project Cashflows'!FHU371","v":0},{"$f":"'Project Cashflows'!FHV371","v":0},{"$f":"'Project Cashflows'!FHW371","v":0},{"$f":"'Project Cashflows'!FHX371","v":0},{"$f":"'Project Cashflows'!FHY371","v":0},{"$f":"'Project Cashflows'!FHZ371","v":0},{"$f":"'Project Cashflows'!FIA371","v":0},{"$f":"'Project Cashflows'!FIB371","v":0},{"$f":"'Project Cashflows'!FIC371","v":0},{"$f":"'Project Cashflows'!FID371","v":0},{"$f":"'Project Cashflows'!FIE371","v":0},{"$f":"'Project Cashflows'!FIF371","v":0},{"$f":"'Project Cashflows'!FIG371","v":0},{"$f":"'Project Cashflows'!FIH371","v":0},{"$f":"'Project Cashflows'!FII371","v":0},{"$f":"'Project Cashflows'!FIJ371","v":0},{"$f":"'Project Cashflows'!FIK371","v":0},{"$f":"'Project Cashflows'!FIL371","v":0},{"$f":"'Project Cashflows'!FIM371","v":0},{"$f":"'Project Cashflows'!FIN371","v":0},{"$f":"'Project Cashflows'!FIO371","v":0},{"$f":"'Project Cashflows'!FIP371","v":0},{"$f":"'Project Cashflows'!FIQ371","v":0},{"$f":"'Project Cashflows'!FIR371","v":0},{"$f":"'Project Cashflows'!FIS371","v":0},{"$f":"'Project Cashflows'!FIT371","v":0},{"$f":"'Project Cashflows'!FIU371","v":0},{"$f":"'Project Cashflows'!FIV371","v":0},{"$f":"'Project Cashflows'!FIW371","v":0},{"$f":"'Project Cashflows'!FIX371","v":0},{"$f":"'Project Cashflows'!FIY371","v":0},{"$f":"'Project Cashflows'!FIZ371","v":0},{"$f":"'Project Cashflows'!FJA371","v":0},{"$f":"'Project Cashflows'!FJB371","v":0},{"$f":"'Project Cashflows'!FJC371","v":0},{"$f":"'Project Cashflows'!FJD371","v":0},{"$f":"'Project Cashflows'!FJE371","v":0},{"$f":"'Project Cashflows'!FJF371","v":0},{"$f":"'Project Cashflows'!FJG371","v":0},{"$f":"'Project Cashflows'!FJH371","v":0},{"$f":"'Project Cashflows'!FJI371","v":0},{"$f":"'Project Cashflows'!FJJ371","v":0},{"$f":"'Project Cashflows'!FJK371","v":0},{"$f":"'Project Cashflows'!FJL371","v":0},{"$f":"'Project Cashflows'!FJM371","v":0},{"$f":"'Project Cashflows'!FJN371","v":0},{"$f":"'Project Cashflows'!FJO371","v":0},{"$f":"'Project Cashflows'!FJP371","v":0},{"$f":"'Project Cashflows'!FJQ371","v":0},{"$f":"'Project Cashflows'!FJR371","v":0},{"$f":"'Project Cashflows'!FJS371","v":0},{"$f":"'Project Cashflows'!FJT371","v":0},{"$f":"'Project Cashflows'!FJU371","v":0},{"$f":"'Project Cashflows'!FJV371","v":0},{"$f":"'Project Cashflows'!FJW371","v":0},{"$f":"'Project Cashflows'!FJX371","v":0},{"$f":"'Project Cashflows'!FJY371","v":0},{"$f":"'Project Cashflows'!FJZ371","v":0},{"$f":"'Project Cashflows'!FKA371","v":0},{"$f":"'Project Cashflows'!FKB371","v":0},{"$f":"'Project Cashflows'!FKC371","v":0},{"$f":"'Project Cashflows'!FKD371","v":0},{"$f":"'Project Cashflows'!FKE371","v":0},{"$f":"'Project Cashflows'!FKF371","v":0},{"$f":"'Project Cashflows'!FKG371","v":0},{"$f":"'Project Cashflows'!FKH371","v":0},{"$f":"'Project Cashflows'!FKI371","v":0},{"$f":"'Project Cashflows'!FKJ371","v":0},{"$f":"'Project Cashflows'!FKK371","v":0},{"$f":"'Project Cashflows'!FKL371","v":0},{"$f":"'Project Cashflows'!FKM371","v":0},{"$f":"'Project Cashflows'!FKN371","v":0},{"$f":"'Project Cashflows'!FKO371","v":0},{"$f":"'Project Cashflows'!FKP371","v":0},{"$f":"'Project Cashflows'!FKQ371","v":0},{"$f":"'Project Cashflows'!FKR371","v":0},{"$f":"'Project Cashflows'!FKS371","v":0},{"$f":"'Project Cashflows'!FKT371","v":0},{"$f":"'Project Cashflows'!FKU371","v":0},{"$f":"'Project Cashflows'!FKV371","v":0},{"$f":"'Project Cashflows'!FKW371","v":0},{"$f":"'Project Cashflows'!FKX371","v":0},{"$f":"'Project Cashflows'!FKY371","v":0},{"$f":"'Project Cashflows'!FKZ371","v":0},{"$f":"'Project Cashflows'!FLA371","v":0},{"$f":"'Project Cashflows'!FLB371","v":0},{"$f":"'Project Cashflows'!FLC371","v":0},{"$f":"'Project Cashflows'!FLD371","v":0},{"$f":"'Project Cashflows'!FLE371","v":0},{"$f":"'Project Cashflows'!FLF371","v":0},{"$f":"'Project Cashflows'!FLG371","v":0},{"$f":"'Project Cashflows'!FLH371","v":0},{"$f":"'Project Cashflows'!FLI371","v":0},{"$f":"'Project Cashflows'!FLJ371","v":0},{"$f":"'Project Cashflows'!FLK371","v":0},{"$f":"'Project Cashflows'!FLL371","v":0},{"$f":"'Project Cashflows'!FLM371","v":0},{"$f":"'Project Cashflows'!FLN371","v":0},{"$f":"'Project Cashflows'!FLO371","v":0},{"$f":"'Project Cashflows'!FLP371","v":0},{"$f":"'Project Cashflows'!FLQ371","v":0},{"$f":"'Project Cashflows'!FLR371","v":0},{"$f":"'Project Cashflows'!FLS371","v":0},{"$f":"'Project Cashflows'!FLT371","v":0},{"$f":"'Project Cashflows'!FLU371","v":0},{"$f":"'Project Cashflows'!FLV371","v":0},{"$f":"'Project Cashflows'!FLW371","v":0},{"$f":"'Project Cashflows'!FLX371","v":0},{"$f":"'Project Cashflows'!FLY371","v":0},{"$f":"'Project Cashflows'!FLZ371","v":0},{"$f":"'Project Cashflows'!FMA371","v":0},{"$f":"'Project Cashflows'!FMB371","v":0},{"$f":"'Project Cashflows'!FMC371","v":0},{"$f":"'Project Cashflows'!FMD371","v":0},{"$f":"'Project Cashflows'!FME371","v":0},{"$f":"'Project Cashflows'!FMF371","v":0},{"$f":"'Project Cashflows'!FMG371","v":0},{"$f":"'Project Cashflows'!FMH371","v":0},{"$f":"'Project Cashflows'!FMI371","v":0},{"$f":"'Project Cashflows'!FMJ371","v":0},{"$f":"'Project Cashflows'!FMK371","v":0},{"$f":"'Project Cashflows'!FML371","v":0},{"$f":"'Project Cashflows'!FMM371","v":0},{"$f":"'Project Cashflows'!FMN371","v":0},{"$f":"'Project Cashflows'!FMO371","v":0},{"$f":"'Project Cashflows'!FMP371","v":0},{"$f":"'Project Cashflows'!FMQ371","v":0},{"$f":"'Project Cashflows'!FMR371","v":0},{"$f":"'Project Cashflows'!FMS371","v":0},{"$f":"'Project Cashflows'!FMT371","v":0},{"$f":"'Project Cashflows'!FMU371","v":0},{"$f":"'Project Cashflows'!FMV371","v":0},{"$f":"'Project Cashflows'!FMW371","v":0},{"$f":"'Project Cashflows'!FMX371","v":0},{"$f":"'Project Cashflows'!FMY371","v":0},{"$f":"'Project Cashflows'!FMZ371","v":0},{"$f":"'Project Cashflows'!FNA371","v":0},{"$f":"'Project Cashflows'!FNB371","v":0},{"$f":"'Project Cashflows'!FNC371","v":0},{"$f":"'Project Cashflows'!FND371","v":0},{"$f":"'Project Cashflows'!FNE371","v":0},{"$f":"'Project Cashflows'!FNF371","v":0},{"$f":"'Project Cashflows'!FNG371","v":0},{"$f":"'Project Cashflows'!FNH371","v":0},{"$f":"'Project Cashflows'!FNI371","v":0},{"$f":"'Project Cashflows'!FNJ371","v":0},{"$f":"'Project Cashflows'!FNK371","v":0},{"$f":"'Project Cashflows'!FNL371","v":0},{"$f":"'Project Cashflows'!FNM371","v":0},{"$f":"'Project Cashflows'!FNN371","v":0},{"$f":"'Project Cashflows'!FNO371","v":0},{"$f":"'Project Cashflows'!FNP371","v":0},{"$f":"'Project Cashflows'!FNQ371","v":0},{"$f":"'Project Cashflows'!FNR371","v":0},{"$f":"'Project Cashflows'!FNS371","v":0},{"$f":"'Project Cashflows'!FNT371","v":0},{"$f":"'Project Cashflows'!FNU371","v":0},{"$f":"'Project Cashflows'!FNV371","v":0},{"$f":"'Project Cashflows'!FNW371","v":0},{"$f":"'Project Cashflows'!FNX371","v":0},{"$f":"'Project Cashflows'!FNY371","v":0},{"$f":"'Project Cashflows'!FNZ371","v":0},{"$f":"'Project Cashflows'!FOA371","v":0},{"$f":"'Project Cashflows'!FOB371","v":0},{"$f":"'Project Cashflows'!FOC371","v":0},{"$f":"'Project Cashflows'!FOD371","v":0},{"$f":"'Project Cashflows'!FOE371","v":0},{"$f":"'Project Cashflows'!FOF371","v":0},{"$f":"'Project Cashflows'!FOG371","v":0},{"$f":"'Project Cashflows'!FOH371","v":0},{"$f":"'Project Cashflows'!FOI371","v":0},{"$f":"'Project Cashflows'!FOJ371","v":0},{"$f":"'Project Cashflows'!FOK371","v":0},{"$f":"'Project Cashflows'!FOL371","v":0},{"$f":"'Project Cashflows'!FOM371","v":0},{"$f":"'Project Cashflows'!FON371","v":0},{"$f":"'Project Cashflows'!FOO371","v":0},{"$f":"'Project Cashflows'!FOP371","v":0},{"$f":"'Project Cashflows'!FOQ371","v":0},{"$f":"'Project Cashflows'!FOR371","v":0},{"$f":"'Project Cashflows'!FOS371","v":0},{"$f":"'Project Cashflows'!FOT371","v":0},{"$f":"'Project Cashflows'!FOU371","v":0},{"$f":"'Project Cashflows'!FOV371","v":0},{"$f":"'Project Cashflows'!FOW371","v":0},{"$f":"'Project Cashflows'!FOX371","v":0},{"$f":"'Project Cashflows'!FOY371","v":0},{"$f":"'Project Cashflows'!FOZ371","v":0},{"$f":"'Project Cashflows'!FPA371","v":0},{"$f":"'Project Cashflows'!FPB371","v":0},{"$f":"'Project Cashflows'!FPC371","v":0},{"$f":"'Project Cashflows'!FPD371","v":0},{"$f":"'Project Cashflows'!FPE371","v":0},{"$f":"'Project Cashflows'!FPF371","v":0},{"$f":"'Project Cashflows'!FPG371","v":0},{"$f":"'Project Cashflows'!FPH371","v":0},{"$f":"'Project Cashflows'!FPI371","v":0},{"$f":"'Project Cashflows'!FPJ371","v":0},{"$f":"'Project Cashflows'!FPK371","v":0},{"$f":"'Project Cashflows'!FPL371","v":0},{"$f":"'Project Cashflows'!FPM371","v":0},{"$f":"'Project Cashflows'!FPN371","v":0},{"$f":"'Project Cashflows'!FPO371","v":0},{"$f":"'Project Cashflows'!FPP371","v":0},{"$f":"'Project Cashflows'!FPQ371","v":0},{"$f":"'Project Cashflows'!FPR371","v":0},{"$f":"'Project Cashflows'!FPS371","v":0},{"$f":"'Project Cashflows'!FPT371","v":0},{"$f":"'Project Cashflows'!FPU371","v":0},{"$f":"'Project Cashflows'!FPV371","v":0},{"$f":"'Project Cashflows'!FPW371","v":0},{"$f":"'Project Cashflows'!FPX371","v":0},{"$f":"'Project Cashflows'!FPY371","v":0},{"$f":"'Project Cashflows'!FPZ371","v":0},{"$f":"'Project Cashflows'!FQA371","v":0},{"$f":"'Project Cashflows'!FQB371","v":0},{"$f":"'Project Cashflows'!FQC371","v":0},{"$f":"'Project Cashflows'!FQD371","v":0},{"$f":"'Project Cashflows'!FQE371","v":0},{"$f":"'Project Cashflows'!FQF371","v":0},{"$f":"'Project Cashflows'!FQG371","v":0},{"$f":"'Project Cashflows'!FQH371","v":0},{"$f":"'Project Cashflows'!FQI371","v":0},{"$f":"'Project Cashflows'!FQJ371","v":0},{"$f":"'Project Cashflows'!FQK371","v":0},{"$f":"'Project Cashflows'!FQL371","v":0},{"$f":"'Project Cashflows'!FQM371","v":0},{"$f":"'Project Cashflows'!FQN371","v":0},{"$f":"'Project Cashflows'!FQO371","v":0},{"$f":"'Project Cashflows'!FQP371","v":0},{"$f":"'Project Cashflows'!FQQ371","v":0},{"$f":"'Project Cashflows'!FQR371","v":0},{"$f":"'Project Cashflows'!FQS371","v":0},{"$f":"'Project Cashflows'!FQT371","v":0},{"$f":"'Project Cashflows'!FQU371","v":0},{"$f":"'Project Cashflows'!FQV371","v":0},{"$f":"'Project Cashflows'!FQW371","v":0},{"$f":"'Project Cashflows'!FQX371","v":0},{"$f":"'Project Cashflows'!FQY371","v":0},{"$f":"'Project Cashflows'!FQZ371","v":0},{"$f":"'Project Cashflows'!FRA371","v":0},{"$f":"'Project Cashflows'!FRB371","v":0},{"$f":"'Project Cashflows'!FRC371","v":0},{"$f":"'Project Cashflows'!FRD371","v":0},{"$f":"'Project Cashflows'!FRE371","v":0},{"$f":"'Project Cashflows'!FRF371","v":0},{"$f":"'Project Cashflows'!FRG371","v":0},{"$f":"'Project Cashflows'!FRH371","v":0},{"$f":"'Project Cashflows'!FRI371","v":0},{"$f":"'Project Cashflows'!FRJ371","v":0},{"$f":"'Project Cashflows'!FRK371","v":0},{"$f":"'Project Cashflows'!FRL371","v":0},{"$f":"'Project Cashflows'!FRM371","v":0},{"$f":"'Project Cashflows'!FRN371","v":0},{"$f":"'Project Cashflows'!FRO371","v":0},{"$f":"'Project Cashflows'!FRP371","v":0},{"$f":"'Project Cashflows'!FRQ371","v":0},{"$f":"'Project Cashflows'!FRR371","v":0},{"$f":"'Project Cashflows'!FRS371","v":0},{"$f":"'Project Cashflows'!FRT371","v":0},{"$f":"'Project Cashflows'!FRU371","v":0},{"$f":"'Project Cashflows'!FRV371","v":0},{"$f":"'Project Cashflows'!FRW371","v":0},{"$f":"'Project Cashflows'!FRX371","v":0},{"$f":"'Project Cashflows'!FRY371","v":0},{"$f":"'Project Cashflows'!FRZ371","v":0},{"$f":"'Project Cashflows'!FSA371","v":0},{"$f":"'Project Cashflows'!FSB371","v":0},{"$f":"'Project Cashflows'!FSC371","v":0},{"$f":"'Project Cashflows'!FSD371","v":0},{"$f":"'Project Cashflows'!FSE371","v":0},{"$f":"'Project Cashflows'!FSF371","v":0},{"$f":"'Project Cashflows'!FSG371","v":0},{"$f":"'Project Cashflows'!FSH371","v":0},{"$f":"'Project Cashflows'!FSI371","v":0},{"$f":"'Project Cashflows'!FSJ371","v":0},{"$f":"'Project Cashflows'!FSK371","v":0},{"$f":"'Project Cashflows'!FSL371","v":0},{"$f":"'Project Cashflows'!FSM371","v":0},{"$f":"'Project Cashflows'!FSN371","v":0},{"$f":"'Project Cashflows'!FSO371","v":0},{"$f":"'Project Cashflows'!FSP371","v":0},{"$f":"'Project Cashflows'!FSQ371","v":0},{"$f":"'Project Cashflows'!FSR371","v":0},{"$f":"'Project Cashflows'!FSS371","v":0},{"$f":"'Project Cashflows'!FST371","v":0},{"$f":"'Project Cashflows'!FSU371","v":0},{"$f":"'Project Cashflows'!FSV371","v":0},{"$f":"'Project Cashflows'!FSW371","v":0},{"$f":"'Project Cashflows'!FSX371","v":0},{"$f":"'Project Cashflows'!FSY371","v":0},{"$f":"'Project Cashflows'!FSZ371","v":0},{"$f":"'Project Cashflows'!FTA371","v":0},{"$f":"'Project Cashflows'!FTB371","v":0},{"$f":"'Project Cashflows'!FTC371","v":0},{"$f":"'Project Cashflows'!FTD371","v":0},{"$f":"'Project Cashflows'!FTE371","v":0},{"$f":"'Project Cashflows'!FTF371","v":0},{"$f":"'Project Cashflows'!FTG371","v":0},{"$f":"'Project Cashflows'!FTH371","v":0},{"$f":"'Project Cashflows'!FTI371","v":0},{"$f":"'Project Cashflows'!FTJ371","v":0},{"$f":"'Project Cashflows'!FTK371","v":0},{"$f":"'Project Cashflows'!FTL371","v":0},{"$f":"'Project Cashflows'!FTM371","v":0},{"$f":"'Project Cashflows'!FTN371","v":0},{"$f":"'Project Cashflows'!FTO371","v":0},{"$f":"'Project Cashflows'!FTP371","v":0},{"$f":"'Project Cashflows'!FTQ371","v":0},{"$f":"'Project Cashflows'!FTR371","v":0},{"$f":"'Project Cashflows'!FTS371","v":0},{"$f":"'Project Cashflows'!FTT371","v":0},{"$f":"'Project Cashflows'!FTU371","v":0},{"$f":"'Project Cashflows'!FTV371","v":0},{"$f":"'Project Cashflows'!FTW371","v":0},{"$f":"'Project Cashflows'!FTX371","v":0},{"$f":"'Project Cashflows'!FTY371","v":0},{"$f":"'Project Cashflows'!FTZ371","v":0},{"$f":"'Project Cashflows'!FUA371","v":0},{"$f":"'Project Cashflows'!FUB371","v":0},{"$f":"'Project Cashflows'!FUC371","v":0},{"$f":"'Project Cashflows'!FUD371","v":0},{"$f":"'Project Cashflows'!FUE371","v":0},{"$f":"'Project Cashflows'!FUF371","v":0},{"$f":"'Project Cashflows'!FUG371","v":0},{"$f":"'Project Cashflows'!FUH371","v":0},{"$f":"'Project Cashflows'!FUI371","v":0},{"$f":"'Project Cashflows'!FUJ371","v":0},{"$f":"'Project Cashflows'!FUK371","v":0},{"$f":"'Project Cashflows'!FUL371","v":0},{"$f":"'Project Cashflows'!FUM371","v":0},{"$f":"'Project Cashflows'!FUN371","v":0},{"$f":"'Project Cashflows'!FUO371","v":0},{"$f":"'Project Cashflows'!FUP371","v":0},{"$f":"'Project Cashflows'!FUQ371","v":0},{"$f":"'Project Cashflows'!FUR371","v":0},{"$f":"'Project Cashflows'!FUS371","v":0},{"$f":"'Project Cashflows'!FUT371","v":0},{"$f":"'Project Cashflows'!FUU371","v":0},{"$f":"'Project Cashflows'!FUV371","v":0},{"$f":"'Project Cashflows'!FUW371","v":0},{"$f":"'Project Cashflows'!FUX371","v":0},{"$f":"'Project Cashflows'!FUY371","v":0},{"$f":"'Project Cashflows'!FUZ371","v":0},{"$f":"'Project Cashflows'!FVA371","v":0},{"$f":"'Project Cashflows'!FVB371","v":0},{"$f":"'Project Cashflows'!FVC371","v":0},{"$f":"'Project Cashflows'!FVD371","v":0},{"$f":"'Project Cashflows'!FVE371","v":0},{"$f":"'Project Cashflows'!FVF371","v":0},{"$f":"'Project Cashflows'!FVG371","v":0},{"$f":"'Project Cashflows'!FVH371","v":0},{"$f":"'Project Cashflows'!FVI371","v":0},{"$f":"'Project Cashflows'!FVJ371","v":0},{"$f":"'Project Cashflows'!FVK371","v":0},{"$f":"'Project Cashflows'!FVL371","v":0},{"$f":"'Project Cashflows'!FVM371","v":0},{"$f":"'Project Cashflows'!FVN371","v":0},{"$f":"'Project Cashflows'!FVO371","v":0},{"$f":"'Project Cashflows'!FVP371","v":0},{"$f":"'Project Cashflows'!FVQ371","v":0},{"$f":"'Project Cashflows'!FVR371","v":0},{"$f":"'Project Cashflows'!FVS371","v":0},{"$f":"'Project Cashflows'!FVT371","v":0},{"$f":"'Project Cashflows'!FVU371","v":0},{"$f":"'Project Cashflows'!FVV371","v":0},{"$f":"'Project Cashflows'!FVW371","v":0},{"$f":"'Project Cashflows'!FVX371","v":0},{"$f":"'Project Cashflows'!FVY371","v":0},{"$f":"'Project Cashflows'!FVZ371","v":0},{"$f":"'Project Cashflows'!FWA371","v":0},{"$f":"'Project Cashflows'!FWB371","v":0},{"$f":"'Project Cashflows'!FWC371","v":0},{"$f":"'Project Cashflows'!FWD371","v":0},{"$f":"'Project Cashflows'!FWE371","v":0},{"$f":"'Project Cashflows'!FWF371","v":0},{"$f":"'Project Cashflows'!FWG371","v":0},{"$f":"'Project Cashflows'!FWH371","v":0},{"$f":"'Project Cashflows'!FWI371","v":0},{"$f":"'Project Cashflows'!FWJ371","v":0},{"$f":"'Project Cashflows'!FWK371","v":0},{"$f":"'Project Cashflows'!FWL371","v":0},{"$f":"'Project Cashflows'!FWM371","v":0},{"$f":"'Project Cashflows'!FWN371","v":0},{"$f":"'Project Cashflows'!FWO371","v":0},{"$f":"'Project Cashflows'!FWP371","v":0},{"$f":"'Project Cashflows'!FWQ371","v":0},{"$f":"'Project Cashflows'!FWR371","v":0},{"$f":"'Project Cashflows'!FWS371","v":0},{"$f":"'Project Cashflows'!FWT371","v":0},{"$f":"'Project Cashflows'!FWU371","v":0},{"$f":"'Project Cashflows'!FWV371","v":0},{"$f":"'Project Cashflows'!FWW371","v":0},{"$f":"'Project Cashflows'!FWX371","v":0},{"$f":"'Project Cashflows'!FWY371","v":0},{"$f":"'Project Cashflows'!FWZ371","v":0},{"$f":"'Project Cashflows'!FXA371","v":0},{"$f":"'Project Cashflows'!FXB371","v":0},{"$f":"'Project Cashflows'!FXC371","v":0},{"$f":"'Project Cashflows'!FXD371","v":0},{"$f":"'Project Cashflows'!FXE371","v":0},{"$f":"'Project Cashflows'!FXF371","v":0},{"$f":"'Project Cashflows'!FXG371","v":0},{"$f":"'Project Cashflows'!FXH371","v":0},{"$f":"'Project Cashflows'!FXI371","v":0},{"$f":"'Project Cashflows'!FXJ371","v":0},{"$f":"'Project Cashflows'!FXK371","v":0},{"$f":"'Project Cashflows'!FXL371","v":0},{"$f":"'Project Cashflows'!FXM371","v":0},{"$f":"'Project Cashflows'!FXN371","v":0},{"$f":"'Project Cashflows'!FXO371","v":0},{"$f":"'Project Cashflows'!FXP371","v":0},{"$f":"'Project Cashflows'!FXQ371","v":0},{"$f":"'Project Cashflows'!FXR371","v":0},{"$f":"'Project Cashflows'!FXS371","v":0},{"$f":"'Project Cashflows'!FXT371","v":0},{"$f":"'Project Cashflows'!FXU371","v":0},{"$f":"'Project Cashflows'!FXV371","v":0},{"$f":"'Project Cashflows'!FXW371","v":0},{"$f":"'Project Cashflows'!FXX371","v":0},{"$f":"'Project Cashflows'!FXY371","v":0},{"$f":"'Project Cashflows'!FXZ371","v":0},{"$f":"'Project Cashflows'!FYA371","v":0},{"$f":"'Project Cashflows'!FYB371","v":0},{"$f":"'Project Cashflows'!FYC371","v":0},{"$f":"'Project Cashflows'!FYD371","v":0},{"$f":"'Project Cashflows'!FYE371","v":0},{"$f":"'Project Cashflows'!FYF371","v":0},{"$f":"'Project Cashflows'!FYG371","v":0},{"$f":"'Project Cashflows'!FYH371","v":0},{"$f":"'Project Cashflows'!FYI371","v":0},{"$f":"'Project Cashflows'!FYJ371","v":0},{"$f":"'Project Cashflows'!FYK371","v":0},{"$f":"'Project Cashflows'!FYL371","v":0},{"$f":"'Project Cashflows'!FYM371","v":0},{"$f":"'Project Cashflows'!FYN371","v":0},{"$f":"'Project Cashflows'!FYO371","v":0},{"$f":"'Project Cashflows'!FYP371","v":0},{"$f":"'Project Cashflows'!FYQ371","v":0},{"$f":"'Project Cashflows'!FYR371","v":0},{"$f":"'Project Cashflows'!FYS371","v":0},{"$f":"'Project Cashflows'!FYT371","v":0},{"$f":"'Project Cashflows'!FYU371","v":0},{"$f":"'Project Cashflows'!FYV371","v":0},{"$f":"'Project Cashflows'!FYW371","v":0},{"$f":"'Project Cashflows'!FYX371","v":0},{"$f":"'Project Cashflows'!FYY371","v":0},{"$f":"'Project Cashflows'!FYZ371","v":0},{"$f":"'Project Cashflows'!FZA371","v":0},{"$f":"'Project Cashflows'!FZB371","v":0},{"$f":"'Project Cashflows'!FZC371","v":0},{"$f":"'Project Cashflows'!FZD371","v":0},{"$f":"'Project Cashflows'!FZE371","v":0},{"$f":"'Project Cashflows'!FZF371","v":0},{"$f":"'Project Cashflows'!FZG371","v":0},{"$f":"'Project Cashflows'!FZH371","v":0},{"$f":"'Project Cashflows'!FZI371","v":0},{"$f":"'Project Cashflows'!FZJ371","v":0},{"$f":"'Project Cashflows'!FZK371","v":0},{"$f":"'Project Cashflows'!FZL371","v":0},{"$f":"'Project Cashflows'!FZM371","v":0},{"$f":"'Project Cashflows'!FZN371","v":0},{"$f":"'Project Cashflows'!FZO371","v":0},{"$f":"'Project Cashflows'!FZP371","v":0},{"$f":"'Project Cashflows'!FZQ371","v":0},{"$f":"'Project Cashflows'!FZR371","v":0},{"$f":"'Project Cashflows'!FZS371","v":0},{"$f":"'Project Cashflows'!FZT371","v":0},{"$f":"'Project Cashflows'!FZU371","v":0},{"$f":"'Project Cashflows'!FZV371","v":0},{"$f":"'Project Cashflows'!FZW371","v":0},{"$f":"'Project Cashflows'!FZX371","v":0},{"$f":"'Project Cashflows'!FZY371","v":0},{"$f":"'Project Cashflows'!FZZ371","v":0},{"$f":"'Project Cashflows'!GAA371","v":0},{"$f":"'Project Cashflows'!GAB371","v":0},{"$f":"'Project Cashflows'!GAC371","v":0},{"$f":"'Project Cashflows'!GAD371","v":0},{"$f":"'Project Cashflows'!GAE371","v":0},{"$f":"'Project Cashflows'!GAF371","v":0},{"$f":"'Project Cashflows'!GAG371","v":0},{"$f":"'Project Cashflows'!GAH371","v":0},{"$f":"'Project Cashflows'!GAI371","v":0},{"$f":"'Project Cashflows'!GAJ371","v":0},{"$f":"'Project Cashflows'!GAK371","v":0},{"$f":"'Project Cashflows'!GAL371","v":0},{"$f":"'Project Cashflows'!GAM371","v":0},{"$f":"'Project Cashflows'!GAN371","v":0},{"$f":"'Project Cashflows'!GAO371","v":0},{"$f":"'Project Cashflows'!GAP371","v":0},{"$f":"'Project Cashflows'!GAQ371","v":0},{"$f":"'Project Cashflows'!GAR371","v":0},{"$f":"'Project Cashflows'!GAS371","v":0},{"$f":"'Project Cashflows'!GAT371","v":0},{"$f":"'Project Cashflows'!GAU371","v":0},{"$f":"'Project Cashflows'!GAV371","v":0},{"$f":"'Project Cashflows'!GAW371","v":0},{"$f":"'Project Cashflows'!GAX371","v":0},{"$f":"'Project Cashflows'!GAY371","v":0},{"$f":"'Project Cashflows'!GAZ371","v":0},{"$f":"'Project Cashflows'!GBA371","v":0},{"$f":"'Project Cashflows'!GBB371","v":0},{"$f":"'Project Cashflows'!GBC371","v":0},{"$f":"'Project Cashflows'!GBD371","v":0},{"$f":"'Project Cashflows'!GBE371","v":0},{"$f":"'Project Cashflows'!GBF371","v":0},{"$f":"'Project Cashflows'!GBG371","v":0},{"$f":"'Project Cashflows'!GBH371","v":0},{"$f":"'Project Cashflows'!GBI371","v":0},{"$f":"'Project Cashflows'!GBJ371","v":0},{"$f":"'Project Cashflows'!GBK371","v":0},{"$f":"'Project Cashflows'!GBL371","v":0},{"$f":"'Project Cashflows'!GBM371","v":0},{"$f":"'Project Cashflows'!GBN371","v":0},{"$f":"'Project Cashflows'!GBO371","v":0},{"$f":"'Project Cashflows'!GBP371","v":0},{"$f":"'Project Cashflows'!GBQ371","v":0},{"$f":"'Project Cashflows'!GBR371","v":0},{"$f":"'Project Cashflows'!GBS371","v":0},{"$f":"'Project Cashflows'!GBT371","v":0},{"$f":"'Project Cashflows'!GBU371","v":0},{"$f":"'Project Cashflows'!GBV371","v":0},{"$f":"'Project Cashflows'!GBW371","v":0},{"$f":"'Project Cashflows'!GBX371","v":0},{"$f":"'Project Cashflows'!GBY371","v":0},{"$f":"'Project Cashflows'!GBZ371","v":0},{"$f":"'Project Cashflows'!GCA371","v":0},{"$f":"'Project Cashflows'!GCB371","v":0},{"$f":"'Project Cashflows'!GCC371","v":0},{"$f":"'Project Cashflows'!GCD371","v":0},{"$f":"'Project Cashflows'!GCE371","v":0},{"$f":"'Project Cashflows'!GCF371","v":0},{"$f":"'Project Cashflows'!GCG371","v":0},{"$f":"'Project Cashflows'!GCH371","v":0},{"$f":"'Project Cashflows'!GCI371","v":0},{"$f":"'Project Cashflows'!GCJ371","v":0},{"$f":"'Project Cashflows'!GCK371","v":0},{"$f":"'Project Cashflows'!GCL371","v":0},{"$f":"'Project Cashflows'!GCM371","v":0},{"$f":"'Project Cashflows'!GCN371","v":0},{"$f":"'Project Cashflows'!GCO371","v":0},{"$f":"'Project Cashflows'!GCP371","v":0},{"$f":"'Project Cashflows'!GCQ371","v":0},{"$f":"'Project Cashflows'!GCR371","v":0},{"$f":"'Project Cashflows'!GCS371","v":0},{"$f":"'Project Cashflows'!GCT371","v":0},{"$f":"'Project Cashflows'!GCU371","v":0},{"$f":"'Project Cashflows'!GCV371","v":0},{"$f":"'Project Cashflows'!GCW371","v":0},{"$f":"'Project Cashflows'!GCX371","v":0},{"$f":"'Project Cashflows'!GCY371","v":0},{"$f":"'Project Cashflows'!GCZ371","v":0},{"$f":"'Project Cashflows'!GDA371","v":0},{"$f":"'Project Cashflows'!GDB371","v":0},{"$f":"'Project Cashflows'!GDC371","v":0},{"$f":"'Project Cashflows'!GDD371","v":0},{"$f":"'Project Cashflows'!GDE371","v":0},{"$f":"'Project Cashflows'!GDF371","v":0},{"$f":"'Project Cashflows'!GDG371","v":0},{"$f":"'Project Cashflows'!GDH371","v":0},{"$f":"'Project Cashflows'!GDI371","v":0},{"$f":"'Project Cashflows'!GDJ371","v":0},{"$f":"'Project Cashflows'!GDK371","v":0},{"$f":"'Project Cashflows'!GDL371","v":0},{"$f":"'Project Cashflows'!GDM371","v":0},{"$f":"'Project Cashflows'!GDN371","v":0},{"$f":"'Project Cashflows'!GDO371","v":0},{"$f":"'Project Cashflows'!GDP371","v":0},{"$f":"'Project Cashflows'!GDQ371","v":0},{"$f":"'Project Cashflows'!GDR371","v":0},{"$f":"'Project Cashflows'!GDS371","v":0},{"$f":"'Project Cashflows'!GDT371","v":0},{"$f":"'Project Cashflows'!GDU371","v":0},{"$f":"'Project Cashflows'!GDV371","v":0},{"$f":"'Project Cashflows'!GDW371","v":0},{"$f":"'Project Cashflows'!GDX371","v":0},{"$f":"'Project Cashflows'!GDY371","v":0},{"$f":"'Project Cashflows'!GDZ371","v":0},{"$f":"'Project Cashflows'!GEA371","v":0},{"$f":"'Project Cashflows'!GEB371","v":0},{"$f":"'Project Cashflows'!GEC371","v":0},{"$f":"'Project Cashflows'!GED371","v":0},{"$f":"'Project Cashflows'!GEE371","v":0},{"$f":"'Project Cashflows'!GEF371","v":0},{"$f":"'Project Cashflows'!GEG371","v":0},{"$f":"'Project Cashflows'!GEH371","v":0},{"$f":"'Project Cashflows'!GEI371","v":0},{"$f":"'Project Cashflows'!GEJ371","v":0},{"$f":"'Project Cashflows'!GEK371","v":0},{"$f":"'Project Cashflows'!GEL371","v":0},{"$f":"'Project Cashflows'!GEM371","v":0},{"$f":"'Project Cashflows'!GEN371","v":0},{"$f":"'Project Cashflows'!GEO371","v":0},{"$f":"'Project Cashflows'!GEP371","v":0},{"$f":"'Project Cashflows'!GEQ371","v":0},{"$f":"'Project Cashflows'!GER371","v":0},{"$f":"'Project Cashflows'!GES371","v":0},{"$f":"'Project Cashflows'!GET371","v":0},{"$f":"'Project Cashflows'!GEU371","v":0},{"$f":"'Project Cashflows'!GEV371","v":0},{"$f":"'Project Cashflows'!GEW371","v":0},{"$f":"'Project Cashflows'!GEX371","v":0},{"$f":"'Project Cashflows'!GEY371","v":0},{"$f":"'Project Cashflows'!GEZ371","v":0},{"$f":"'Project Cashflows'!GFA371","v":0},{"$f":"'Project Cashflows'!GFB371","v":0},{"$f":"'Project Cashflows'!GFC371","v":0},{"$f":"'Project Cashflows'!GFD371","v":0},{"$f":"'Project Cashflows'!GFE371","v":0},{"$f":"'Project Cashflows'!GFF371","v":0},{"$f":"'Project Cashflows'!GFG371","v":0},{"$f":"'Project Cashflows'!GFH371","v":0},{"$f":"'Project Cashflows'!GFI371","v":0},{"$f":"'Project Cashflows'!GFJ371","v":0},{"$f":"'Project Cashflows'!GFK371","v":0},{"$f":"'Project Cashflows'!GFL371","v":0},{"$f":"'Project Cashflows'!GFM371","v":0},{"$f":"'Project Cashflows'!GFN371","v":0},{"$f":"'Project Cashflows'!GFO371","v":0},{"$f":"'Project Cashflows'!GFP371","v":0},{"$f":"'Project Cashflows'!GFQ371","v":0},{"$f":"'Project Cashflows'!GFR371","v":0},{"$f":"'Project Cashflows'!GFS371","v":0},{"$f":"'Project Cashflows'!GFT371","v":0},{"$f":"'Project Cashflows'!GFU371","v":0},{"$f":"'Project Cashflows'!GFV371","v":0},{"$f":"'Project Cashflows'!GFW371","v":0},{"$f":"'Project Cashflows'!GFX371","v":0},{"$f":"'Project Cashflows'!GFY371","v":0},{"$f":"'Project Cashflows'!GFZ371","v":0},{"$f":"'Project Cashflows'!GGA371","v":0},{"$f":"'Project Cashflows'!GGB371","v":0},{"$f":"'Project Cashflows'!GGC371","v":0},{"$f":"'Project Cashflows'!GGD371","v":0},{"$f":"'Project Cashflows'!GGE371","v":0},{"$f":"'Project Cashflows'!GGF371","v":0},{"$f":"'Project Cashflows'!GGG371","v":0},{"$f":"'Project Cashflows'!GGH371","v":0},{"$f":"'Project Cashflows'!GGI371","v":0},{"$f":"'Project Cashflows'!GGJ371","v":0},{"$f":"'Project Cashflows'!GGK371","v":0},{"$f":"'Project Cashflows'!GGL371","v":0},{"$f":"'Project Cashflows'!GGM371","v":0},{"$f":"'Project Cashflows'!GGN371","v":0},{"$f":"'Project Cashflows'!GGO371","v":0},{"$f":"'Project Cashflows'!GGP371","v":0},{"$f":"'Project Cashflows'!GGQ371","v":0},{"$f":"'Project Cashflows'!GGR371","v":0},{"$f":"'Project Cashflows'!GGS371","v":0},{"$f":"'Project Cashflows'!GGT371","v":0},{"$f":"'Project Cashflows'!GGU371","v":0},{"$f":"'Project Cashflows'!GGV371","v":0},{"$f":"'Project Cashflows'!GGW371","v":0},{"$f":"'Project Cashflows'!GGX371","v":0},{"$f":"'Project Cashflows'!GGY371","v":0},{"$f":"'Project Cashflows'!GGZ371","v":0},{"$f":"'Project Cashflows'!GHA371","v":0},{"$f":"'Project Cashflows'!GHB371","v":0},{"$f":"'Project Cashflows'!GHC371","v":0},{"$f":"'Project Cashflows'!GHD371","v":0},{"$f":"'Project Cashflows'!GHE371","v":0},{"$f":"'Project Cashflows'!GHF371","v":0},{"$f":"'Project Cashflows'!GHG371","v":0},{"$f":"'Project Cashflows'!GHH371","v":0},{"$f":"'Project Cashflows'!GHI371","v":0},{"$f":"'Project Cashflows'!GHJ371","v":0},{"$f":"'Project Cashflows'!GHK371","v":0},{"$f":"'Project Cashflows'!GHL371","v":0},{"$f":"'Project Cashflows'!GHM371","v":0},{"$f":"'Project Cashflows'!GHN371","v":0},{"$f":"'Project Cashflows'!GHO371","v":0},{"$f":"'Project Cashflows'!GHP371","v":0},{"$f":"'Project Cashflows'!GHQ371","v":0},{"$f":"'Project Cashflows'!GHR371","v":0},{"$f":"'Project Cashflows'!GHS371","v":0},{"$f":"'Project Cashflows'!GHT371","v":0},{"$f":"'Project Cashflows'!GHU371","v":0},{"$f":"'Project Cashflows'!GHV371","v":0},{"$f":"'Project Cashflows'!GHW371","v":0},{"$f":"'Project Cashflows'!GHX371","v":0},{"$f":"'Project Cashflows'!GHY371","v":0},{"$f":"'Project Cashflows'!GHZ371","v":0},{"$f":"'Project Cashflows'!GIA371","v":0},{"$f":"'Project Cashflows'!GIB371","v":0},{"$f":"'Project Cashflows'!GIC371","v":0},{"$f":"'Project Cashflows'!GID371","v":0},{"$f":"'Project Cashflows'!GIE371","v":0},{"$f":"'Project Cashflows'!GIF371","v":0},{"$f":"'Project Cashflows'!GIG371","v":0},{"$f":"'Project Cashflows'!GIH371","v":0},{"$f":"'Project Cashflows'!GII371","v":0},{"$f":"'Project Cashflows'!GIJ371","v":0},{"$f":"'Project Cashflows'!GIK371","v":0},{"$f":"'Project Cashflows'!GIL371","v":0},{"$f":"'Project Cashflows'!GIM371","v":0},{"$f":"'Project Cashflows'!GIN371","v":0},{"$f":"'Project Cashflows'!GIO371","v":0},{"$f":"'Project Cashflows'!GIP371","v":0},{"$f":"'Project Cashflows'!GIQ371","v":0},{"$f":"'Project Cashflows'!GIR371","v":0},{"$f":"'Project Cashflows'!GIS371","v":0},{"$f":"'Project Cashflows'!GIT371","v":0},{"$f":"'Project Cashflows'!GIU371","v":0},{"$f":"'Project Cashflows'!GIV371","v":0},{"$f":"'Project Cashflows'!GIW371","v":0},{"$f":"'Project Cashflows'!GIX371","v":0},{"$f":"'Project Cashflows'!GIY371","v":0},{"$f":"'Project Cashflows'!GIZ371","v":0},{"$f":"'Project Cashflows'!GJA371","v":0},{"$f":"'Project Cashflows'!GJB371","v":0},{"$f":"'Project Cashflows'!GJC371","v":0},{"$f":"'Project Cashflows'!GJD371","v":0},{"$f":"'Project Cashflows'!GJE371","v":0},{"$f":"'Project Cashflows'!GJF371","v":0},{"$f":"'Project Cashflows'!GJG371","v":0},{"$f":"'Project Cashflows'!GJH371","v":0},{"$f":"'Project Cashflows'!GJI371","v":0},{"$f":"'Project Cashflows'!GJJ371","v":0},{"$f":"'Project Cashflows'!GJK371","v":0},{"$f":"'Project Cashflows'!GJL371","v":0},{"$f":"'Project Cashflows'!GJM371","v":0},{"$f":"'Project Cashflows'!GJN371","v":0},{"$f":"'Project Cashflows'!GJO371","v":0},{"$f":"'Project Cashflows'!GJP371","v":0},{"$f":"'Project Cashflows'!GJQ371","v":0},{"$f":"'Project Cashflows'!GJR371","v":0},{"$f":"'Project Cashflows'!GJS371","v":0},{"$f":"'Project Cashflows'!GJT371","v":0},{"$f":"'Project Cashflows'!GJU371","v":0},{"$f":"'Project Cashflows'!GJV371","v":0},{"$f":"'Project Cashflows'!GJW371","v":0},{"$f":"'Project Cashflows'!GJX371","v":0},{"$f":"'Project Cashflows'!GJY371","v":0},{"$f":"'Project Cashflows'!GJZ371","v":0},{"$f":"'Project Cashflows'!GKA371","v":0},{"$f":"'Project Cashflows'!GKB371","v":0},{"$f":"'Project Cashflows'!GKC371","v":0},{"$f":"'Project Cashflows'!GKD371","v":0},{"$f":"'Project Cashflows'!GKE371","v":0},{"$f":"'Project Cashflows'!GKF371","v":0},{"$f":"'Project Cashflows'!GKG371","v":0},{"$f":"'Project Cashflows'!GKH371","v":0},{"$f":"'Project Cashflows'!GKI371","v":0},{"$f":"'Project Cashflows'!GKJ371","v":0},{"$f":"'Project Cashflows'!GKK371","v":0},{"$f":"'Project Cashflows'!GKL371","v":0},{"$f":"'Project Cashflows'!GKM371","v":0},{"$f":"'Project Cashflows'!GKN371","v":0},{"$f":"'Project Cashflows'!GKO371","v":0},{"$f":"'Project Cashflows'!GKP371","v":0},{"$f":"'Project Cashflows'!GKQ371","v":0},{"$f":"'Project Cashflows'!GKR371","v":0},{"$f":"'Project Cashflows'!GKS371","v":0},{"$f":"'Project Cashflows'!GKT371","v":0},{"$f":"'Project Cashflows'!GKU371","v":0},{"$f":"'Project Cashflows'!GKV371","v":0},{"$f":"'Project Cashflows'!GKW371","v":0},{"$f":"'Project Cashflows'!GKX371","v":0},{"$f":"'Project Cashflows'!GKY371","v":0},{"$f":"'Project Cashflows'!GKZ371","v":0},{"$f":"'Project Cashflows'!GLA371","v":0},{"$f":"'Project Cashflows'!GLB371","v":0},{"$f":"'Project Cashflows'!GLC371","v":0},{"$f":"'Project Cashflows'!GLD371","v":0},{"$f":"'Project Cashflows'!GLE371","v":0},{"$f":"'Project Cashflows'!GLF371","v":0},{"$f":"'Project Cashflows'!GLG371","v":0},{"$f":"'Project Cashflows'!GLH371","v":0},{"$f":"'Project Cashflows'!GLI371","v":0},{"$f":"'Project Cashflows'!GLJ371","v":0},{"$f":"'Project Cashflows'!GLK371","v":0},{"$f":"'Project Cashflows'!GLL371","v":0},{"$f":"'Project Cashflows'!GLM371","v":0},{"$f":"'Project Cashflows'!GLN371","v":0},{"$f":"'Project Cashflows'!GLO371","v":0},{"$f":"'Project Cashflows'!GLP371","v":0},{"$f":"'Project Cashflows'!GLQ371","v":0},{"$f":"'Project Cashflows'!GLR371","v":0},{"$f":"'Project Cashflows'!GLS371","v":0},{"$f":"'Project Cashflows'!GLT371","v":0},{"$f":"'Project Cashflows'!GLU371","v":0},{"$f":"'Project Cashflows'!GLV371","v":0},{"$f":"'Project Cashflows'!GLW371","v":0},{"$f":"'Project Cashflows'!GLX371","v":0},{"$f":"'Project Cashflows'!GLY371","v":0},{"$f":"'Project Cashflows'!GLZ371","v":0},{"$f":"'Project Cashflows'!GMA371","v":0},{"$f":"'Project Cashflows'!GMB371","v":0},{"$f":"'Project Cashflows'!GMC371","v":0},{"$f":"'Project Cashflows'!GMD371","v":0},{"$f":"'Project Cashflows'!GME371","v":0},{"$f":"'Project Cashflows'!GMF371","v":0},{"$f":"'Project Cashflows'!GMG371","v":0},{"$f":"'Project Cashflows'!GMH371","v":0},{"$f":"'Project Cashflows'!GMI371","v":0},{"$f":"'Project Cashflows'!GMJ371","v":0},{"$f":"'Project Cashflows'!GMK371","v":0},{"$f":"'Project Cashflows'!GML371","v":0},{"$f":"'Project Cashflows'!GMM371","v":0},{"$f":"'Project Cashflows'!GMN371","v":0},{"$f":"'Project Cashflows'!GMO371","v":0},{"$f":"'Project Cashflows'!GMP371","v":0},{"$f":"'Project Cashflows'!GMQ371","v":0},{"$f":"'Project Cashflows'!GMR371","v":0},{"$f":"'Project Cashflows'!GMS371","v":0},{"$f":"'Project Cashflows'!GMT371","v":0},{"$f":"'Project Cashflows'!GMU371","v":0},{"$f":"'Project Cashflows'!GMV371","v":0},{"$f":"'Project Cashflows'!GMW371","v":0},{"$f":"'Project Cashflows'!GMX371","v":0},{"$f":"'Project Cashflows'!GMY371","v":0},{"$f":"'Project Cashflows'!GMZ371","v":0},{"$f":"'Project Cashflows'!GNA371","v":0},{"$f":"'Project Cashflows'!GNB371","v":0},{"$f":"'Project Cashflows'!GNC371","v":0},{"$f":"'Project Cashflows'!GND371","v":0},{"$f":"'Project Cashflows'!GNE371","v":0},{"$f":"'Project Cashflows'!GNF371","v":0},{"$f":"'Project Cashflows'!GNG371","v":0},{"$f":"'Project Cashflows'!GNH371","v":0},{"$f":"'Project Cashflows'!GNI371","v":0},{"$f":"'Project Cashflows'!GNJ371","v":0},{"$f":"'Project Cashflows'!GNK371","v":0},{"$f":"'Project Cashflows'!GNL371","v":0},{"$f":"'Project Cashflows'!GNM371","v":0},{"$f":"'Project Cashflows'!GNN371","v":0},{"$f":"'Project Cashflows'!GNO371","v":0},{"$f":"'Project Cashflows'!GNP371","v":0},{"$f":"'Project Cashflows'!GNQ371","v":0},{"$f":"'Project Cashflows'!GNR371","v":0},{"$f":"'Project Cashflows'!GNS371","v":0},{"$f":"'Project Cashflows'!GNT371","v":0},{"$f":"'Project Cashflows'!GNU371","v":0},{"$f":"'Project Cashflows'!GNV371","v":0},{"$f":"'Project Cashflows'!GNW371","v":0},{"$f":"'Project Cashflows'!GNX371","v":0},{"$f":"'Project Cashflows'!GNY371","v":0},{"$f":"'Project Cashflows'!GNZ371","v":0},{"$f":"'Project Cashflows'!GOA371","v":0},{"$f":"'Project Cashflows'!GOB371","v":0},{"$f":"'Project Cashflows'!GOC371","v":0},{"$f":"'Project Cashflows'!GOD371","v":0},{"$f":"'Project Cashflows'!GOE371","v":0},{"$f":"'Project Cashflows'!GOF371","v":0},{"$f":"'Project Cashflows'!GOG371","v":0},{"$f":"'Project Cashflows'!GOH371","v":0},{"$f":"'Project Cashflows'!GOI371","v":0},{"$f":"'Project Cashflows'!GOJ371","v":0},{"$f":"'Project Cashflows'!GOK371","v":0},{"$f":"'Project Cashflows'!GOL371","v":0},{"$f":"'Project Cashflows'!GOM371","v":0},{"$f":"'Project Cashflows'!GON371","v":0},{"$f":"'Project Cashflows'!GOO371","v":0},{"$f":"'Project Cashflows'!GOP371","v":0},{"$f":"'Project Cashflows'!GOQ371","v":0},{"$f":"'Project Cashflows'!GOR371","v":0},{"$f":"'Project Cashflows'!GOS371","v":0},{"$f":"'Project Cashflows'!GOT371","v":0},{"$f":"'Project Cashflows'!GOU371","v":0},{"$f":"'Project Cashflows'!GOV371","v":0},{"$f":"'Project Cashflows'!GOW371","v":0},{"$f":"'Project Cashflows'!GOX371","v":0},{"$f":"'Project Cashflows'!GOY371","v":0},{"$f":"'Project Cashflows'!GOZ371","v":0},{"$f":"'Project Cashflows'!GPA371","v":0},{"$f":"'Project Cashflows'!GPB371","v":0},{"$f":"'Project Cashflows'!GPC371","v":0},{"$f":"'Project Cashflows'!GPD371","v":0},{"$f":"'Project Cashflows'!GPE371","v":0},{"$f":"'Project Cashflows'!GPF371","v":0},{"$f":"'Project Cashflows'!GPG371","v":0},{"$f":"'Project Cashflows'!GPH371","v":0},{"$f":"'Project Cashflows'!GPI371","v":0},{"$f":"'Project Cashflows'!GPJ371","v":0},{"$f":"'Project Cashflows'!GPK371","v":0},{"$f":"'Project Cashflows'!GPL371","v":0},{"$f":"'Project Cashflows'!GPM371","v":0},{"$f":"'Project Cashflows'!GPN371","v":0},{"$f":"'Project Cashflows'!GPO371","v":0},{"$f":"'Project Cashflows'!GPP371","v":0},{"$f":"'Project Cashflows'!GPQ371","v":0},{"$f":"'Project Cashflows'!GPR371","v":0},{"$f":"'Project Cashflows'!GPS371","v":0},{"$f":"'Project Cashflows'!GPT371","v":0},{"$f":"'Project Cashflows'!GPU371","v":0},{"$f":"'Project Cashflows'!GPV371","v":0},{"$f":"'Project Cashflows'!GPW371","v":0},{"$f":"'Project Cashflows'!GPX371","v":0},{"$f":"'Project Cashflows'!GPY371","v":0},{"$f":"'Project Cashflows'!GPZ371","v":0},{"$f":"'Project Cashflows'!GQA371","v":0},{"$f":"'Project Cashflows'!GQB371","v":0},{"$f":"'Project Cashflows'!GQC371","v":0},{"$f":"'Project Cashflows'!GQD371","v":0},{"$f":"'Project Cashflows'!GQE371","v":0},{"$f":"'Project Cashflows'!GQF371","v":0},{"$f":"'Project Cashflows'!GQG371","v":0},{"$f":"'Project Cashflows'!GQH371","v":0},{"$f":"'Project Cashflows'!GQI371","v":0},{"$f":"'Project Cashflows'!GQJ371","v":0},{"$f":"'Project Cashflows'!GQK371","v":0},{"$f":"'Project Cashflows'!GQL371","v":0},{"$f":"'Project Cashflows'!GQM371","v":0},{"$f":"'Project Cashflows'!GQN371","v":0},{"$f":"'Project Cashflows'!GQO371","v":0},{"$f":"'Project Cashflows'!GQP371","v":0},{"$f":"'Project Cashflows'!GQQ371","v":0},{"$f":"'Project Cashflows'!GQR371","v":0},{"$f":"'Project Cashflows'!GQS371","v":0},{"$f":"'Project Cashflows'!GQT371","v":0},{"$f":"'Project Cashflows'!GQU371","v":0},{"$f":"'Project Cashflows'!GQV371","v":0},{"$f":"'Project Cashflows'!GQW371","v":0},{"$f":"'Project Cashflows'!GQX371","v":0},{"$f":"'Project Cashflows'!GQY371","v":0},{"$f":"'Project Cashflows'!GQZ371","v":0},{"$f":"'Project Cashflows'!GRA371","v":0},{"$f":"'Project Cashflows'!GRB371","v":0},{"$f":"'Project Cashflows'!GRC371","v":0},{"$f":"'Project Cashflows'!GRD371","v":0},{"$f":"'Project Cashflows'!GRE371","v":0},{"$f":"'Project Cashflows'!GRF371","v":0},{"$f":"'Project Cashflows'!GRG371","v":0},{"$f":"'Project Cashflows'!GRH371","v":0},{"$f":"'Project Cashflows'!GRI371","v":0},{"$f":"'Project Cashflows'!GRJ371","v":0},{"$f":"'Project Cashflows'!GRK371","v":0},{"$f":"'Project Cashflows'!GRL371","v":0},{"$f":"'Project Cashflows'!GRM371","v":0},{"$f":"'Project Cashflows'!GRN371","v":0},{"$f":"'Project Cashflows'!GRO371","v":0},{"$f":"'Project Cashflows'!GRP371","v":0},{"$f":"'Project Cashflows'!GRQ371","v":0},{"$f":"'Project Cashflows'!GRR371","v":0},{"$f":"'Project Cashflows'!GRS371","v":0},{"$f":"'Project Cashflows'!GRT371","v":0},{"$f":"'Project Cashflows'!GRU371","v":0},{"$f":"'Project Cashflows'!GRV371","v":0},{"$f":"'Project Cashflows'!GRW371","v":0},{"$f":"'Project Cashflows'!GRX371","v":0},{"$f":"'Project Cashflows'!GRY371","v":0},{"$f":"'Project Cashflows'!GRZ371","v":0},{"$f":"'Project Cashflows'!GSA371","v":0},{"$f":"'Project Cashflows'!GSB371","v":0},{"$f":"'Project Cashflows'!GSC371","v":0},{"$f":"'Project Cashflows'!GSD371","v":0},{"$f":"'Project Cashflows'!GSE371","v":0},{"$f":"'Project Cashflows'!GSF371","v":0},{"$f":"'Project Cashflows'!GSG371","v":0},{"$f":"'Project Cashflows'!GSH371","v":0},{"$f":"'Project Cashflows'!GSI371","v":0},{"$f":"'Project Cashflows'!GSJ371","v":0},{"$f":"'Project Cashflows'!GSK371","v":0},{"$f":"'Project Cashflows'!GSL371","v":0},{"$f":"'Project Cashflows'!GSM371","v":0},{"$f":"'Project Cashflows'!GSN371","v":0},{"$f":"'Project Cashflows'!GSO371","v":0},{"$f":"'Project Cashflows'!GSP371","v":0},{"$f":"'Project Cashflows'!GSQ371","v":0},{"$f":"'Project Cashflows'!GSR371","v":0},{"$f":"'Project Cashflows'!GSS371","v":0},{"$f":"'Project Cashflows'!GST371","v":0},{"$f":"'Project Cashflows'!GSU371","v":0},{"$f":"'Project Cashflows'!GSV371","v":0},{"$f":"'Project Cashflows'!GSW371","v":0},{"$f":"'Project Cashflows'!GSX371","v":0},{"$f":"'Project Cashflows'!GSY371","v":0},{"$f":"'Project Cashflows'!GSZ371","v":0},{"$f":"'Project Cashflows'!GTA371","v":0},{"$f":"'Project Cashflows'!GTB371","v":0},{"$f":"'Project Cashflows'!GTC371","v":0},{"$f":"'Project Cashflows'!GTD371","v":0},{"$f":"'Project Cashflows'!GTE371","v":0},{"$f":"'Project Cashflows'!GTF371","v":0},{"$f":"'Project Cashflows'!GTG371","v":0},{"$f":"'Project Cashflows'!GTH371","v":0},{"$f":"'Project Cashflows'!GTI371","v":0},{"$f":"'Project Cashflows'!GTJ371","v":0},{"$f":"'Project Cashflows'!GTK371","v":0},{"$f":"'Project Cashflows'!GTL371","v":0},{"$f":"'Project Cashflows'!GTM371","v":0},{"$f":"'Project Cashflows'!GTN371","v":0},{"$f":"'Project Cashflows'!GTO371","v":0},{"$f":"'Project Cashflows'!GTP371","v":0},{"$f":"'Project Cashflows'!GTQ371","v":0},{"$f":"'Project Cashflows'!GTR371","v":0},{"$f":"'Project Cashflows'!GTS371","v":0},{"$f":"'Project Cashflows'!GTT371","v":0},{"$f":"'Project Cashflows'!GTU371","v":0},{"$f":"'Project Cashflows'!GTV371","v":0},{"$f":"'Project Cashflows'!GTW371","v":0},{"$f":"'Project Cashflows'!GTX371","v":0},{"$f":"'Project Cashflows'!GTY371","v":0},{"$f":"'Project Cashflows'!GTZ371","v":0},{"$f":"'Project Cashflows'!GUA371","v":0},{"$f":"'Project Cashflows'!GUB371","v":0},{"$f":"'Project Cashflows'!GUC371","v":0},{"$f":"'Project Cashflows'!GUD371","v":0},{"$f":"'Project Cashflows'!GUE371","v":0},{"$f":"'Project Cashflows'!GUF371","v":0},{"$f":"'Project Cashflows'!GUG371","v":0},{"$f":"'Project Cashflows'!GUH371","v":0},{"$f":"'Project Cashflows'!GUI371","v":0},{"$f":"'Project Cashflows'!GUJ371","v":0},{"$f":"'Project Cashflows'!GUK371","v":0},{"$f":"'Project Cashflows'!GUL371","v":0},{"$f":"'Project Cashflows'!GUM371","v":0},{"$f":"'Project Cashflows'!GUN371","v":0},{"$f":"'Project Cashflows'!GUO371","v":0},{"$f":"'Project Cashflows'!GUP371","v":0},{"$f":"'Project Cashflows'!GUQ371","v":0},{"$f":"'Project Cashflows'!GUR371","v":0},{"$f":"'Project Cashflows'!GUS371","v":0},{"$f":"'Project Cashflows'!GUT371","v":0},{"$f":"'Project Cashflows'!GUU371","v":0},{"$f":"'Project Cashflows'!GUV371","v":0},{"$f":"'Project Cashflows'!GUW371","v":0},{"$f":"'Project Cashflows'!GUX371","v":0},{"$f":"'Project Cashflows'!GUY371","v":0},{"$f":"'Project Cashflows'!GUZ371","v":0},{"$f":"'Project Cashflows'!GVA371","v":0},{"$f":"'Project Cashflows'!GVB371","v":0},{"$f":"'Project Cashflows'!GVC371","v":0},{"$f":"'Project Cashflows'!GVD371","v":0},{"$f":"'Project Cashflows'!GVE371","v":0},{"$f":"'Project Cashflows'!GVF371","v":0},{"$f":"'Project Cashflows'!GVG371","v":0},{"$f":"'Project Cashflows'!GVH371","v":0},{"$f":"'Project Cashflows'!GVI371","v":0},{"$f":"'Project Cashflows'!GVJ371","v":0},{"$f":"'Project Cashflows'!GVK371","v":0},{"$f":"'Project Cashflows'!GVL371","v":0},{"$f":"'Project Cashflows'!GVM371","v":0},{"$f":"'Project Cashflows'!GVN371","v":0},{"$f":"'Project Cashflows'!GVO371","v":0},{"$f":"'Project Cashflows'!GVP371","v":0},{"$f":"'Project Cashflows'!GVQ371","v":0},{"$f":"'Project Cashflows'!GVR371","v":0},{"$f":"'Project Cashflows'!GVS371","v":0},{"$f":"'Project Cashflows'!GVT371","v":0},{"$f":"'Project Cashflows'!GVU371","v":0},{"$f":"'Project Cashflows'!GVV371","v":0},{"$f":"'Project Cashflows'!GVW371","v":0},{"$f":"'Project Cashflows'!GVX371","v":0},{"$f":"'Project Cashflows'!GVY371","v":0},{"$f":"'Project Cashflows'!GVZ371","v":0},{"$f":"'Project Cashflows'!GWA371","v":0},{"$f":"'Project Cashflows'!GWB371","v":0},{"$f":"'Project Cashflows'!GWC371","v":0},{"$f":"'Project Cashflows'!GWD371","v":0},{"$f":"'Project Cashflows'!GWE371","v":0},{"$f":"'Project Cashflows'!GWF371","v":0},{"$f":"'Project Cashflows'!GWG371","v":0},{"$f":"'Project Cashflows'!GWH371","v":0},{"$f":"'Project Cashflows'!GWI371","v":0},{"$f":"'Project Cashflows'!GWJ371","v":0},{"$f":"'Project Cashflows'!GWK371","v":0},{"$f":"'Project Cashflows'!GWL371","v":0},{"$f":"'Project Cashflows'!GWM371","v":0},{"$f":"'Project Cashflows'!GWN371","v":0},{"$f":"'Project Cashflows'!GWO371","v":0},{"$f":"'Project Cashflows'!GWP371","v":0},{"$f":"'Project Cashflows'!GWQ371","v":0},{"$f":"'Project Cashflows'!GWR371","v":0},{"$f":"'Project Cashflows'!GWS371","v":0},{"$f":"'Project Cashflows'!GWT371","v":0},{"$f":"'Project Cashflows'!GWU371","v":0},{"$f":"'Project Cashflows'!GWV371","v":0},{"$f":"'Project Cashflows'!GWW371","v":0},{"$f":"'Project Cashflows'!GWX371","v":0},{"$f":"'Project Cashflows'!GWY371","v":0},{"$f":"'Project Cashflows'!GWZ371","v":0},{"$f":"'Project Cashflows'!GXA371","v":0},{"$f":"'Project Cashflows'!GXB371","v":0},{"$f":"'Project Cashflows'!GXC371","v":0},{"$f":"'Project Cashflows'!GXD371","v":0},{"$f":"'Project Cashflows'!GXE371","v":0},{"$f":"'Project Cashflows'!GXF371","v":0},{"$f":"'Project Cashflows'!GXG371","v":0},{"$f":"'Project Cashflows'!GXH371","v":0},{"$f":"'Project Cashflows'!GXI371","v":0},{"$f":"'Project Cashflows'!GXJ371","v":0},{"$f":"'Project Cashflows'!GXK371","v":0},{"$f":"'Project Cashflows'!GXL371","v":0},{"$f":"'Project Cashflows'!GXM371","v":0},{"$f":"'Project Cashflows'!GXN371","v":0},{"$f":"'Project Cashflows'!GXO371","v":0},{"$f":"'Project Cashflows'!GXP371","v":0},{"$f":"'Project Cashflows'!GXQ371","v":0},{"$f":"'Project Cashflows'!GXR371","v":0},{"$f":"'Project Cashflows'!GXS371","v":0},{"$f":"'Project Cashflows'!GXT371","v":0},{"$f":"'Project Cashflows'!GXU371","v":0},{"$f":"'Project Cashflows'!GXV371","v":0},{"$f":"'Project Cashflows'!GXW371","v":0},{"$f":"'Project Cashflows'!GXX371","v":0},{"$f":"'Project Cashflows'!GXY371","v":0},{"$f":"'Project Cashflows'!GXZ371","v":0},{"$f":"'Project Cashflows'!GYA371","v":0},{"$f":"'Project Cashflows'!GYB371","v":0},{"$f":"'Project Cashflows'!GYC371","v":0},{"$f":"'Project Cashflows'!GYD371","v":0},{"$f":"'Project Cashflows'!GYE371","v":0},{"$f":"'Project Cashflows'!GYF371","v":0},{"$f":"'Project Cashflows'!GYG371","v":0},{"$f":"'Project Cashflows'!GYH371","v":0},{"$f":"'Project Cashflows'!GYI371","v":0},{"$f":"'Project Cashflows'!GYJ371","v":0},{"$f":"'Project Cashflows'!GYK371","v":0},{"$f":"'Project Cashflows'!GYL371","v":0},{"$f":"'Project Cashflows'!GYM371","v":0},{"$f":"'Project Cashflows'!GYN371","v":0},{"$f":"'Project Cashflows'!GYO371","v":0},{"$f":"'Project Cashflows'!GYP371","v":0},{"$f":"'Project Cashflows'!GYQ371","v":0},{"$f":"'Project Cashflows'!GYR371","v":0},{"$f":"'Project Cashflows'!GYS371","v":0},{"$f":"'Project Cashflows'!GYT371","v":0},{"$f":"'Project Cashflows'!GYU371","v":0},{"$f":"'Project Cashflows'!GYV371","v":0},{"$f":"'Project Cashflows'!GYW371","v":0},{"$f":"'Project Cashflows'!GYX371","v":0},{"$f":"'Project Cashflows'!GYY371","v":0},{"$f":"'Project Cashflows'!GYZ371","v":0},{"$f":"'Project Cashflows'!GZA371","v":0},{"$f":"'Project Cashflows'!GZB371","v":0},{"$f":"'Project Cashflows'!GZC371","v":0},{"$f":"'Project Cashflows'!GZD371","v":0},{"$f":"'Project Cashflows'!GZE371","v":0},{"$f":"'Project Cashflows'!GZF371","v":0},{"$f":"'Project Cashflows'!GZG371","v":0},{"$f":"'Project Cashflows'!GZH371","v":0},{"$f":"'Project Cashflows'!GZI371","v":0},{"$f":"'Project Cashflows'!GZJ371","v":0},{"$f":"'Project Cashflows'!GZK371","v":0},{"$f":"'Project Cashflows'!GZL371","v":0},{"$f":"'Project Cashflows'!GZM371","v":0},{"$f":"'Project Cashflows'!GZN371","v":0},{"$f":"'Project Cashflows'!GZO371","v":0},{"$f":"'Project Cashflows'!GZP371","v":0},{"$f":"'Project Cashflows'!GZQ371","v":0},{"$f":"'Project Cashflows'!GZR371","v":0},{"$f":"'Project Cashflows'!GZS371","v":0},{"$f":"'Project Cashflows'!GZT371","v":0},{"$f":"'Project Cashflows'!GZU371","v":0},{"$f":"'Project Cashflows'!GZV371","v":0},{"$f":"'Project Cashflows'!GZW371","v":0},{"$f":"'Project Cashflows'!GZX371","v":0},{"$f":"'Project Cashflows'!GZY371","v":0},{"$f":"'Project Cashflows'!GZZ371","v":0},{"$f":"'Project Cashflows'!HAA371","v":0},{"$f":"'Project Cashflows'!HAB371","v":0},{"$f":"'Project Cashflows'!HAC371","v":0},{"$f":"'Project Cashflows'!HAD371","v":0},{"$f":"'Project Cashflows'!HAE371","v":0},{"$f":"'Project Cashflows'!HAF371","v":0},{"$f":"'Project Cashflows'!HAG371","v":0},{"$f":"'Project Cashflows'!HAH371","v":0},{"$f":"'Project Cashflows'!HAI371","v":0},{"$f":"'Project Cashflows'!HAJ371","v":0},{"$f":"'Project Cashflows'!HAK371","v":0},{"$f":"'Project Cashflows'!HAL371","v":0},{"$f":"'Project Cashflows'!HAM371","v":0},{"$f":"'Project Cashflows'!HAN371","v":0},{"$f":"'Project Cashflows'!HAO371","v":0},{"$f":"'Project Cashflows'!HAP371","v":0},{"$f":"'Project Cashflows'!HAQ371","v":0},{"$f":"'Project Cashflows'!HAR371","v":0},{"$f":"'Project Cashflows'!HAS371","v":0},{"$f":"'Project Cashflows'!HAT371","v":0},{"$f":"'Project Cashflows'!HAU371","v":0},{"$f":"'Project Cashflows'!HAV371","v":0},{"$f":"'Project Cashflows'!HAW371","v":0},{"$f":"'Project Cashflows'!HAX371","v":0},{"$f":"'Project Cashflows'!HAY371","v":0},{"$f":"'Project Cashflows'!HAZ371","v":0},{"$f":"'Project Cashflows'!HBA371","v":0},{"$f":"'Project Cashflows'!HBB371","v":0},{"$f":"'Project Cashflows'!HBC371","v":0},{"$f":"'Project Cashflows'!HBD371","v":0},{"$f":"'Project Cashflows'!HBE371","v":0},{"$f":"'Project Cashflows'!HBF371","v":0},{"$f":"'Project Cashflows'!HBG371","v":0},{"$f":"'Project Cashflows'!HBH371","v":0},{"$f":"'Project Cashflows'!HBI371","v":0},{"$f":"'Project Cashflows'!HBJ371","v":0},{"$f":"'Project Cashflows'!HBK371","v":0},{"$f":"'Project Cashflows'!HBL371","v":0},{"$f":"'Project Cashflows'!HBM371","v":0},{"$f":"'Project Cashflows'!HBN371","v":0},{"$f":"'Project Cashflows'!HBO371","v":0},{"$f":"'Project Cashflows'!HBP371","v":0},{"$f":"'Project Cashflows'!HBQ371","v":0},{"$f":"'Project Cashflows'!HBR371","v":0},{"$f":"'Project Cashflows'!HBS371","v":0},{"$f":"'Project Cashflows'!HBT371","v":0},{"$f":"'Project Cashflows'!HBU371","v":0},{"$f":"'Project Cashflows'!HBV371","v":0},{"$f":"'Project Cashflows'!HBW371","v":0},{"$f":"'Project Cashflows'!HBX371","v":0},{"$f":"'Project Cashflows'!HBY371","v":0},{"$f":"'Project Cashflows'!HBZ371","v":0},{"$f":"'Project Cashflows'!HCA371","v":0},{"$f":"'Project Cashflows'!HCB371","v":0},{"$f":"'Project Cashflows'!HCC371","v":0},{"$f":"'Project Cashflows'!HCD371","v":0},{"$f":"'Project Cashflows'!HCE371","v":0},{"$f":"'Project Cashflows'!HCF371","v":0},{"$f":"'Project Cashflows'!HCG371","v":0},{"$f":"'Project Cashflows'!HCH371","v":0},{"$f":"'Project Cashflows'!HCI371","v":0},{"$f":"'Project Cashflows'!HCJ371","v":0},{"$f":"'Project Cashflows'!HCK371","v":0},{"$f":"'Project Cashflows'!HCL371","v":0},{"$f":"'Project Cashflows'!HCM371","v":0},{"$f":"'Project Cashflows'!HCN371","v":0},{"$f":"'Project Cashflows'!HCO371","v":0},{"$f":"'Project Cashflows'!HCP371","v":0},{"$f":"'Project Cashflows'!HCQ371","v":0},{"$f":"'Project Cashflows'!HCR371","v":0},{"$f":"'Project Cashflows'!HCS371","v":0},{"$f":"'Project Cashflows'!HCT371","v":0},{"$f":"'Project Cashflows'!HCU371","v":0},{"$f":"'Project Cashflows'!HCV371","v":0},{"$f":"'Project Cashflows'!HCW371","v":0},{"$f":"'Project Cashflows'!HCX371","v":0},{"$f":"'Project Cashflows'!HCY371","v":0},{"$f":"'Project Cashflows'!HCZ371","v":0},{"$f":"'Project Cashflows'!HDA371","v":0},{"$f":"'Project Cashflows'!HDB371","v":0},{"$f":"'Project Cashflows'!HDC371","v":0},{"$f":"'Project Cashflows'!HDD371","v":0},{"$f":"'Project Cashflows'!HDE371","v":0},{"$f":"'Project Cashflows'!HDF371","v":0},{"$f":"'Project Cashflows'!HDG371","v":0},{"$f":"'Project Cashflows'!HDH371","v":0},{"$f":"'Project Cashflows'!HDI371","v":0},{"$f":"'Project Cashflows'!HDJ371","v":0},{"$f":"'Project Cashflows'!HDK371","v":0},{"$f":"'Project Cashflows'!HDL371","v":0},{"$f":"'Project Cashflows'!HDM371","v":0},{"$f":"'Project Cashflows'!HDN371","v":0},{"$f":"'Project Cashflows'!HDO371","v":0},{"$f":"'Project Cashflows'!HDP371","v":0},{"$f":"'Project Cashflows'!HDQ371","v":0},{"$f":"'Project Cashflows'!HDR371","v":0},{"$f":"'Project Cashflows'!HDS371","v":0},{"$f":"'Project Cashflows'!HDT371","v":0},{"$f":"'Project Cashflows'!HDU371","v":0},{"$f":"'Project Cashflows'!HDV371","v":0},{"$f":"'Project Cashflows'!HDW371","v":0},{"$f":"'Project Cashflows'!HDX371","v":0},{"$f":"'Project Cashflows'!HDY371","v":0},{"$f":"'Project Cashflows'!HDZ371","v":0},{"$f":"'Project Cashflows'!HEA371","v":0},{"$f":"'Project Cashflows'!HEB371","v":0},{"$f":"'Project Cashflows'!HEC371","v":0},{"$f":"'Project Cashflows'!HED371","v":0},{"$f":"'Project Cashflows'!HEE371","v":0},{"$f":"'Project Cashflows'!HEF371","v":0},{"$f":"'Project Cashflows'!HEG371","v":0},{"$f":"'Project Cashflows'!HEH371","v":0},{"$f":"'Project Cashflows'!HEI371","v":0},{"$f":"'Project Cashflows'!HEJ371","v":0},{"$f":"'Project Cashflows'!HEK371","v":0},{"$f":"'Project Cashflows'!HEL371","v":0},{"$f":"'Project Cashflows'!HEM371","v":0},{"$f":"'Project Cashflows'!HEN371","v":0},{"$f":"'Project Cashflows'!HEO371","v":0},{"$f":"'Project Cashflows'!HEP371","v":0},{"$f":"'Project Cashflows'!HEQ371","v":0},{"$f":"'Project Cashflows'!HER371","v":0},{"$f":"'Project Cashflows'!HES371","v":0},{"$f":"'Project Cashflows'!HET371","v":0},{"$f":"'Project Cashflows'!HEU371","v":0},{"$f":"'Project Cashflows'!HEV371","v":0},{"$f":"'Project Cashflows'!HEW371","v":0},{"$f":"'Project Cashflows'!HEX371","v":0},{"$f":"'Project Cashflows'!HEY371","v":0},{"$f":"'Project Cashflows'!HEZ371","v":0},{"$f":"'Project Cashflows'!HFA371","v":0},{"$f":"'Project Cashflows'!HFB371","v":0},{"$f":"'Project Cashflows'!HFC371","v":0},{"$f":"'Project Cashflows'!HFD371","v":0},{"$f":"'Project Cashflows'!HFE371","v":0},{"$f":"'Project Cashflows'!HFF371","v":0},{"$f":"'Project Cashflows'!HFG371","v":0},{"$f":"'Project Cashflows'!HFH371","v":0},{"$f":"'Project Cashflows'!HFI371","v":0},{"$f":"'Project Cashflows'!HFJ371","v":0},{"$f":"'Project Cashflows'!HFK371","v":0},{"$f":"'Project Cashflows'!HFL371","v":0},{"$f":"'Project Cashflows'!HFM371","v":0},{"$f":"'Project Cashflows'!HFN371","v":0},{"$f":"'Project Cashflows'!HFO371","v":0},{"$f":"'Project Cashflows'!HFP371","v":0},{"$f":"'Project Cashflows'!HFQ371","v":0},{"$f":"'Project Cashflows'!HFR371","v":0},{"$f":"'Project Cashflows'!HFS371","v":0},{"$f":"'Project Cashflows'!HFT371","v":0},{"$f":"'Project Cashflows'!HFU371","v":0},{"$f":"'Project Cashflows'!HFV371","v":0},{"$f":"'Project Cashflows'!HFW371","v":0},{"$f":"'Project Cashflows'!HFX371","v":0},{"$f":"'Project Cashflows'!HFY371","v":0},{"$f":"'Project Cashflows'!HFZ371","v":0},{"$f":"'Project Cashflows'!HGA371","v":0},{"$f":"'Project Cashflows'!HGB371","v":0},{"$f":"'Project Cashflows'!HGC371","v":0},{"$f":"'Project Cashflows'!HGD371","v":0},{"$f":"'Project Cashflows'!HGE371","v":0},{"$f":"'Project Cashflows'!HGF371","v":0},{"$f":"'Project Cashflows'!HGG371","v":0},{"$f":"'Project Cashflows'!HGH371","v":0},{"$f":"'Project Cashflows'!HGI371","v":0},{"$f":"'Project Cashflows'!HGJ371","v":0},{"$f":"'Project Cashflows'!HGK371","v":0},{"$f":"'Project Cashflows'!HGL371","v":0},{"$f":"'Project Cashflows'!HGM371","v":0},{"$f":"'Project Cashflows'!HGN371","v":0},{"$f":"'Project Cashflows'!HGO371","v":0},{"$f":"'Project Cashflows'!HGP371","v":0},{"$f":"'Project Cashflows'!HGQ371","v":0},{"$f":"'Project Cashflows'!HGR371","v":0},{"$f":"'Project Cashflows'!HGS371","v":0},{"$f":"'Project Cashflows'!HGT371","v":0},{"$f":"'Project Cashflows'!HGU371","v":0},{"$f":"'Project Cashflows'!HGV371","v":0},{"$f":"'Project Cashflows'!HGW371","v":0},{"$f":"'Project Cashflows'!HGX371","v":0},{"$f":"'Project Cashflows'!HGY371","v":0},{"$f":"'Project Cashflows'!HGZ371","v":0},{"$f":"'Project Cashflows'!HHA371","v":0},{"$f":"'Project Cashflows'!HHB371","v":0},{"$f":"'Project Cashflows'!HHC371","v":0},{"$f":"'Project Cashflows'!HHD371","v":0},{"$f":"'Project Cashflows'!HHE371","v":0},{"$f":"'Project Cashflows'!HHF371","v":0},{"$f":"'Project Cashflows'!HHG371","v":0},{"$f":"'Project Cashflows'!HHH371","v":0},{"$f":"'Project Cashflows'!HHI371","v":0},{"$f":"'Project Cashflows'!HHJ371","v":0},{"$f":"'Project Cashflows'!HHK371","v":0},{"$f":"'Project Cashflows'!HHL371","v":0},{"$f":"'Project Cashflows'!HHM371","v":0},{"$f":"'Project Cashflows'!HHN371","v":0},{"$f":"'Project Cashflows'!HHO371","v":0},{"$f":"'Project Cashflows'!HHP371","v":0},{"$f":"'Project Cashflows'!HHQ371","v":0},{"$f":"'Project Cashflows'!HHR371","v":0},{"$f":"'Project Cashflows'!HHS371","v":0},{"$f":"'Project Cashflows'!HHT371","v":0},{"$f":"'Project Cashflows'!HHU371","v":0},{"$f":"'Project Cashflows'!HHV371","v":0},{"$f":"'Project Cashflows'!HHW371","v":0},{"$f":"'Project Cashflows'!HHX371","v":0},{"$f":"'Project Cashflows'!HHY371","v":0},{"$f":"'Project Cashflows'!HHZ371","v":0},{"$f":"'Project Cashflows'!HIA371","v":0},{"$f":"'Project Cashflows'!HIB371","v":0},{"$f":"'Project Cashflows'!HIC371","v":0},{"$f":"'Project Cashflows'!HID371","v":0},{"$f":"'Project Cashflows'!HIE371","v":0},{"$f":"'Project Cashflows'!HIF371","v":0},{"$f":"'Project Cashflows'!HIG371","v":0},{"$f":"'Project Cashflows'!HIH371","v":0},{"$f":"'Project Cashflows'!HII371","v":0},{"$f":"'Project Cashflows'!HIJ371","v":0},{"$f":"'Project Cashflows'!HIK371","v":0},{"$f":"'Project Cashflows'!HIL371","v":0},{"$f":"'Project Cashflows'!HIM371","v":0},{"$f":"'Project Cashflows'!HIN371","v":0},{"$f":"'Project Cashflows'!HIO371","v":0},{"$f":"'Project Cashflows'!HIP371","v":0},{"$f":"'Project Cashflows'!HIQ371","v":0},{"$f":"'Project Cashflows'!HIR371","v":0},{"$f":"'Project Cashflows'!HIS371","v":0},{"$f":"'Project Cashflows'!HIT371","v":0},{"$f":"'Project Cashflows'!HIU371","v":0},{"$f":"'Project Cashflows'!HIV371","v":0},{"$f":"'Project Cashflows'!HIW371","v":0},{"$f":"'Project Cashflows'!HIX371","v":0},{"$f":"'Project Cashflows'!HIY371","v":0},{"$f":"'Project Cashflows'!HIZ371","v":0},{"$f":"'Project Cashflows'!HJA371","v":0},{"$f":"'Project Cashflows'!HJB371","v":0},{"$f":"'Project Cashflows'!HJC371","v":0},{"$f":"'Project Cashflows'!HJD371","v":0},{"$f":"'Project Cashflows'!HJE371","v":0},{"$f":"'Project Cashflows'!HJF371","v":0},{"$f":"'Project Cashflows'!HJG371","v":0},{"$f":"'Project Cashflows'!HJH371","v":0},{"$f":"'Project Cashflows'!HJI371","v":0},{"$f":"'Project Cashflows'!HJJ371","v":0},{"$f":"'Project Cashflows'!HJK371","v":0},{"$f":"'Project Cashflows'!HJL371","v":0},{"$f":"'Project Cashflows'!HJM371","v":0},{"$f":"'Project Cashflows'!HJN371","v":0},{"$f":"'Project Cashflows'!HJO371","v":0},{"$f":"'Project Cashflows'!HJP371","v":0},{"$f":"'Project Cashflows'!HJQ371","v":0},{"$f":"'Project Cashflows'!HJR371","v":0},{"$f":"'Project Cashflows'!HJS371","v":0},{"$f":"'Project Cashflows'!HJT371","v":0},{"$f":"'Project Cashflows'!HJU371","v":0},{"$f":"'Project Cashflows'!HJV371","v":0},{"$f":"'Project Cashflows'!HJW371","v":0},{"$f":"'Project Cashflows'!HJX371","v":0},{"$f":"'Project Cashflows'!HJY371","v":0},{"$f":"'Project Cashflows'!HJZ371","v":0},{"$f":"'Project Cashflows'!HKA371","v":0},{"$f":"'Project Cashflows'!HKB371","v":0},{"$f":"'Project Cashflows'!HKC371","v":0},{"$f":"'Project Cashflows'!HKD371","v":0},{"$f":"'Project Cashflows'!HKE371","v":0},{"$f":"'Project Cashflows'!HKF371","v":0},{"$f":"'Project Cashflows'!HKG371","v":0},{"$f":"'Project Cashflows'!HKH371","v":0},{"$f":"'Project Cashflows'!HKI371","v":0},{"$f":"'Project Cashflows'!HKJ371","v":0},{"$f":"'Project Cashflows'!HKK371","v":0},{"$f":"'Project Cashflows'!HKL371","v":0},{"$f":"'Project Cashflows'!HKM371","v":0},{"$f":"'Project Cashflows'!HKN371","v":0},{"$f":"'Project Cashflows'!HKO371","v":0},{"$f":"'Project Cashflows'!HKP371","v":0},{"$f":"'Project Cashflows'!HKQ371","v":0},{"$f":"'Project Cashflows'!HKR371","v":0},{"$f":"'Project Cashflows'!HKS371","v":0},{"$f":"'Project Cashflows'!HKT371","v":0},{"$f":"'Project Cashflows'!HKU371","v":0},{"$f":"'Project Cashflows'!HKV371","v":0},{"$f":"'Project Cashflows'!HKW371","v":0},{"$f":"'Project Cashflows'!HKX371","v":0},{"$f":"'Project Cashflows'!HKY371","v":0},{"$f":"'Project Cashflows'!HKZ371","v":0},{"$f":"'Project Cashflows'!HLA371","v":0},{"$f":"'Project Cashflows'!HLB371","v":0},{"$f":"'Project Cashflows'!HLC371","v":0},{"$f":"'Project Cashflows'!HLD371","v":0},{"$f":"'Project Cashflows'!HLE371","v":0},{"$f":"'Project Cashflows'!HLF371","v":0},{"$f":"'Project Cashflows'!HLG371","v":0},{"$f":"'Project Cashflows'!HLH371","v":0},{"$f":"'Project Cashflows'!HLI371","v":0},{"$f":"'Project Cashflows'!HLJ371","v":0},{"$f":"'Project Cashflows'!HLK371","v":0},{"$f":"'Project Cashflows'!HLL371","v":0},{"$f":"'Project Cashflows'!HLM371","v":0},{"$f":"'Project Cashflows'!HLN371","v":0},{"$f":"'Project Cashflows'!HLO371","v":0},{"$f":"'Project Cashflows'!HLP371","v":0},{"$f":"'Project Cashflows'!HLQ371","v":0},{"$f":"'Project Cashflows'!HLR371","v":0},{"$f":"'Project Cashflows'!HLS371","v":0},{"$f":"'Project Cashflows'!HLT371","v":0},{"$f":"'Project Cashflows'!HLU371","v":0},{"$f":"'Project Cashflows'!HLV371","v":0},{"$f":"'Project Cashflows'!HLW371","v":0},{"$f":"'Project Cashflows'!HLX371","v":0},{"$f":"'Project Cashflows'!HLY371","v":0},{"$f":"'Project Cashflows'!HLZ371","v":0},{"$f":"'Project Cashflows'!HMA371","v":0},{"$f":"'Project Cashflows'!HMB371","v":0},{"$f":"'Project Cashflows'!HMC371","v":0},{"$f":"'Project Cashflows'!HMD371","v":0},{"$f":"'Project Cashflows'!HME371","v":0},{"$f":"'Project Cashflows'!HMF371","v":0},{"$f":"'Project Cashflows'!HMG371","v":0},{"$f":"'Project Cashflows'!HMH371","v":0},{"$f":"'Project Cashflows'!HMI371","v":0},{"$f":"'Project Cashflows'!HMJ371","v":0},{"$f":"'Project Cashflows'!HMK371","v":0},{"$f":"'Project Cashflows'!HML371","v":0},{"$f":"'Project Cashflows'!HMM371","v":0},{"$f":"'Project Cashflows'!HMN371","v":0},{"$f":"'Project Cashflows'!HMO371","v":0},{"$f":"'Project Cashflows'!HMP371","v":0},{"$f":"'Project Cashflows'!HMQ371","v":0},{"$f":"'Project Cashflows'!HMR371","v":0},{"$f":"'Project Cashflows'!HMS371","v":0},{"$f":"'Project Cashflows'!HMT371","v":0},{"$f":"'Project Cashflows'!HMU371","v":0},{"$f":"'Project Cashflows'!HMV371","v":0},{"$f":"'Project Cashflows'!HMW371","v":0},{"$f":"'Project Cashflows'!HMX371","v":0},{"$f":"'Project Cashflows'!HMY371","v":0},{"$f":"'Project Cashflows'!HMZ371","v":0},{"$f":"'Project Cashflows'!HNA371","v":0},{"$f":"'Project Cashflows'!HNB371","v":0},{"$f":"'Project Cashflows'!HNC371","v":0},{"$f":"'Project Cashflows'!HND371","v":0},{"$f":"'Project Cashflows'!HNE371","v":0},{"$f":"'Project Cashflows'!HNF371","v":0},{"$f":"'Project Cashflows'!HNG371","v":0},{"$f":"'Project Cashflows'!HNH371","v":0},{"$f":"'Project Cashflows'!HNI371","v":0},{"$f":"'Project Cashflows'!HNJ371","v":0},{"$f":"'Project Cashflows'!HNK371","v":0},{"$f":"'Project Cashflows'!HNL371","v":0},{"$f":"'Project Cashflows'!HNM371","v":0},{"$f":"'Project Cashflows'!HNN371","v":0},{"$f":"'Project Cashflows'!HNO371","v":0},{"$f":"'Project Cashflows'!HNP371","v":0},{"$f":"'Project Cashflows'!HNQ371","v":0},{"$f":"'Project Cashflows'!HNR371","v":0},{"$f":"'Project Cashflows'!HNS371","v":0},{"$f":"'Project Cashflows'!HNT371","v":0},{"$f":"'Project Cashflows'!HNU371","v":0},{"$f":"'Project Cashflows'!HNV371","v":0},{"$f":"'Project Cashflows'!HNW371","v":0},{"$f":"'Project Cashflows'!HNX371","v":0},{"$f":"'Project Cashflows'!HNY371","v":0},{"$f":"'Project Cashflows'!HNZ371","v":0},{"$f":"'Project Cashflows'!HOA371","v":0},{"$f":"'Project Cashflows'!HOB371","v":0},{"$f":"'Project Cashflows'!HOC371","v":0},{"$f":"'Project Cashflows'!HOD371","v":0},{"$f":"'Project Cashflows'!HOE371","v":0},{"$f":"'Project Cashflows'!HOF371","v":0},{"$f":"'Project Cashflows'!HOG371","v":0},{"$f":"'Project Cashflows'!HOH371","v":0},{"$f":"'Project Cashflows'!HOI371","v":0},{"$f":"'Project Cashflows'!HOJ371","v":0},{"$f":"'Project Cashflows'!HOK371","v":0},{"$f":"'Project Cashflows'!HOL371","v":0},{"$f":"'Project Cashflows'!HOM371","v":0},{"$f":"'Project Cashflows'!HON371","v":0},{"$f":"'Project Cashflows'!HOO371","v":0},{"$f":"'Project Cashflows'!HOP371","v":0},{"$f":"'Project Cashflows'!HOQ371","v":0},{"$f":"'Project Cashflows'!HOR371","v":0},{"$f":"'Project Cashflows'!HOS371","v":0},{"$f":"'Project Cashflows'!HOT371","v":0},{"$f":"'Project Cashflows'!HOU371","v":0},{"$f":"'Project Cashflows'!HOV371","v":0},{"$f":"'Project Cashflows'!HOW371","v":0},{"$f":"'Project Cashflows'!HOX371","v":0},{"$f":"'Project Cashflows'!HOY371","v":0},{"$f":"'Project Cashflows'!HOZ371","v":0},{"$f":"'Project Cashflows'!HPA371","v":0},{"$f":"'Project Cashflows'!HPB371","v":0},{"$f":"'Project Cashflows'!HPC371","v":0},{"$f":"'Project Cashflows'!HPD371","v":0},{"$f":"'Project Cashflows'!HPE371","v":0},{"$f":"'Project Cashflows'!HPF371","v":0},{"$f":"'Project Cashflows'!HPG371","v":0},{"$f":"'Project Cashflows'!HPH371","v":0},{"$f":"'Project Cashflows'!HPI371","v":0},{"$f":"'Project Cashflows'!HPJ371","v":0},{"$f":"'Project Cashflows'!HPK371","v":0},{"$f":"'Project Cashflows'!HPL371","v":0},{"$f":"'Project Cashflows'!HPM371","v":0},{"$f":"'Project Cashflows'!HPN371","v":0},{"$f":"'Project Cashflows'!HPO371","v":0},{"$f":"'Project Cashflows'!HPP371","v":0},{"$f":"'Project Cashflows'!HPQ371","v":0},{"$f":"'Project Cashflows'!HPR371","v":0},{"$f":"'Project Cashflows'!HPS371","v":0},{"$f":"'Project Cashflows'!HPT371","v":0},{"$f":"'Project Cashflows'!HPU371","v":0},{"$f":"'Project Cashflows'!HPV371","v":0},{"$f":"'Project Cashflows'!HPW371","v":0},{"$f":"'Project Cashflows'!HPX371","v":0},{"$f":"'Project Cashflows'!HPY371","v":0},{"$f":"'Project Cashflows'!HPZ371","v":0},{"$f":"'Project Cashflows'!HQA371","v":0},{"$f":"'Project Cashflows'!HQB371","v":0},{"$f":"'Project Cashflows'!HQC371","v":0},{"$f":"'Project Cashflows'!HQD371","v":0},{"$f":"'Project Cashflows'!HQE371","v":0},{"$f":"'Project Cashflows'!HQF371","v":0},{"$f":"'Project Cashflows'!HQG371","v":0},{"$f":"'Project Cashflows'!HQH371","v":0},{"$f":"'Project Cashflows'!HQI371","v":0},{"$f":"'Project Cashflows'!HQJ371","v":0},{"$f":"'Project Cashflows'!HQK371","v":0},{"$f":"'Project Cashflows'!HQL371","v":0},{"$f":"'Project Cashflows'!HQM371","v":0},{"$f":"'Project Cashflows'!HQN371","v":0},{"$f":"'Project Cashflows'!HQO371","v":0},{"$f":"'Project Cashflows'!HQP371","v":0},{"$f":"'Project Cashflows'!HQQ371","v":0},{"$f":"'Project Cashflows'!HQR371","v":0},{"$f":"'Project Cashflows'!HQS371","v":0},{"$f":"'Project Cashflows'!HQT371","v":0},{"$f":"'Project Cashflows'!HQU371","v":0},{"$f":"'Project Cashflows'!HQV371","v":0},{"$f":"'Project Cashflows'!HQW371","v":0},{"$f":"'Project Cashflows'!HQX371","v":0},{"$f":"'Project Cashflows'!HQY371","v":0},{"$f":"'Project Cashflows'!HQZ371","v":0},{"$f":"'Project Cashflows'!HRA371","v":0},{"$f":"'Project Cashflows'!HRB371","v":0},{"$f":"'Project Cashflows'!HRC371","v":0},{"$f":"'Project Cashflows'!HRD371","v":0},{"$f":"'Project Cashflows'!HRE371","v":0},{"$f":"'Project Cashflows'!HRF371","v":0},{"$f":"'Project Cashflows'!HRG371","v":0},{"$f":"'Project Cashflows'!HRH371","v":0},{"$f":"'Project Cashflows'!HRI371","v":0},{"$f":"'Project Cashflows'!HRJ371","v":0},{"$f":"'Project Cashflows'!HRK371","v":0},{"$f":"'Project Cashflows'!HRL371","v":0},{"$f":"'Project Cashflows'!HRM371","v":0},{"$f":"'Project Cashflows'!HRN371","v":0},{"$f":"'Project Cashflows'!HRO371","v":0},{"$f":"'Project Cashflows'!HRP371","v":0},{"$f":"'Project Cashflows'!HRQ371","v":0},{"$f":"'Project Cashflows'!HRR371","v":0},{"$f":"'Project Cashflows'!HRS371","v":0},{"$f":"'Project Cashflows'!HRT371","v":0},{"$f":"'Project Cashflows'!HRU371","v":0},{"$f":"'Project Cashflows'!HRV371","v":0},{"$f":"'Project Cashflows'!HRW371","v":0},{"$f":"'Project Cashflows'!HRX371","v":0},{"$f":"'Project Cashflows'!HRY371","v":0},{"$f":"'Project Cashflows'!HRZ371","v":0},{"$f":"'Project Cashflows'!HSA371","v":0},{"$f":"'Project Cashflows'!HSB371","v":0},{"$f":"'Project Cashflows'!HSC371","v":0},{"$f":"'Project Cashflows'!HSD371","v":0},{"$f":"'Project Cashflows'!HSE371","v":0},{"$f":"'Project Cashflows'!HSF371","v":0},{"$f":"'Project Cashflows'!HSG371","v":0},{"$f":"'Project Cashflows'!HSH371","v":0},{"$f":"'Project Cashflows'!HSI371","v":0},{"$f":"'Project Cashflows'!HSJ371","v":0},{"$f":"'Project Cashflows'!HSK371","v":0},{"$f":"'Project Cashflows'!HSL371","v":0},{"$f":"'Project Cashflows'!HSM371","v":0},{"$f":"'Project Cashflows'!HSN371","v":0},{"$f":"'Project Cashflows'!HSO371","v":0},{"$f":"'Project Cashflows'!HSP371","v":0},{"$f":"'Project Cashflows'!HSQ371","v":0},{"$f":"'Project Cashflows'!HSR371","v":0},{"$f":"'Project Cashflows'!HSS371","v":0},{"$f":"'Project Cashflows'!HST371","v":0},{"$f":"'Project Cashflows'!HSU371","v":0},{"$f":"'Project Cashflows'!HSV371","v":0},{"$f":"'Project Cashflows'!HSW371","v":0},{"$f":"'Project Cashflows'!HSX371","v":0},{"$f":"'Project Cashflows'!HSY371","v":0},{"$f":"'Project Cashflows'!HSZ371","v":0},{"$f":"'Project Cashflows'!HTA371","v":0},{"$f":"'Project Cashflows'!HTB371","v":0},{"$f":"'Project Cashflows'!HTC371","v":0},{"$f":"'Project Cashflows'!HTD371","v":0},{"$f":"'Project Cashflows'!HTE371","v":0},{"$f":"'Project Cashflows'!HTF371","v":0},{"$f":"'Project Cashflows'!HTG371","v":0},{"$f":"'Project Cashflows'!HTH371","v":0},{"$f":"'Project Cashflows'!HTI371","v":0},{"$f":"'Project Cashflows'!HTJ371","v":0},{"$f":"'Project Cashflows'!HTK371","v":0},{"$f":"'Project Cashflows'!HTL371","v":0},{"$f":"'Project Cashflows'!HTM371","v":0},{"$f":"'Project Cashflows'!HTN371","v":0},{"$f":"'Project Cashflows'!HTO371","v":0},{"$f":"'Project Cashflows'!HTP371","v":0},{"$f":"'Project Cashflows'!HTQ371","v":0},{"$f":"'Project Cashflows'!HTR371","v":0},{"$f":"'Project Cashflows'!HTS371","v":0},{"$f":"'Project Cashflows'!HTT371","v":0},{"$f":"'Project Cashflows'!HTU371","v":0},{"$f":"'Project Cashflows'!HTV371","v":0},{"$f":"'Project Cashflows'!HTW371","v":0},{"$f":"'Project Cashflows'!HTX371","v":0},{"$f":"'Project Cashflows'!HTY371","v":0},{"$f":"'Project Cashflows'!HTZ371","v":0},{"$f":"'Project Cashflows'!HUA371","v":0},{"$f":"'Project Cashflows'!HUB371","v":0},{"$f":"'Project Cashflows'!HUC371","v":0},{"$f":"'Project Cashflows'!HUD371","v":0},{"$f":"'Project Cashflows'!HUE371","v":0},{"$f":"'Project Cashflows'!HUF371","v":0},{"$f":"'Project Cashflows'!HUG371","v":0},{"$f":"'Project Cashflows'!HUH371","v":0},{"$f":"'Project Cashflows'!HUI371","v":0},{"$f":"'Project Cashflows'!HUJ371","v":0},{"$f":"'Project Cashflows'!HUK371","v":0},{"$f":"'Project Cashflows'!HUL371","v":0},{"$f":"'Project Cashflows'!HUM371","v":0},{"$f":"'Project Cashflows'!HUN371","v":0},{"$f":"'Project Cashflows'!HUO371","v":0},{"$f":"'Project Cashflows'!HUP371","v":0},{"$f":"'Project Cashflows'!HUQ371","v":0},{"$f":"'Project Cashflows'!HUR371","v":0},{"$f":"'Project Cashflows'!HUS371","v":0},{"$f":"'Project Cashflows'!HUT371","v":0},{"$f":"'Project Cashflows'!HUU371","v":0},{"$f":"'Project Cashflows'!HUV371","v":0},{"$f":"'Project Cashflows'!HUW371","v":0},{"$f":"'Project Cashflows'!HUX371","v":0},{"$f":"'Project Cashflows'!HUY371","v":0},{"$f":"'Project Cashflows'!HUZ371","v":0},{"$f":"'Project Cashflows'!HVA371","v":0},{"$f":"'Project Cashflows'!HVB371","v":0},{"$f":"'Project Cashflows'!HVC371","v":0},{"$f":"'Project Cashflows'!HVD371","v":0},{"$f":"'Project Cashflows'!HVE371","v":0},{"$f":"'Project Cashflows'!HVF371","v":0},{"$f":"'Project Cashflows'!HVG371","v":0},{"$f":"'Project Cashflows'!HVH371","v":0},{"$f":"'Project Cashflows'!HVI371","v":0},{"$f":"'Project Cashflows'!HVJ371","v":0},{"$f":"'Project Cashflows'!HVK371","v":0},{"$f":"'Project Cashflows'!HVL371","v":0},{"$f":"'Project Cashflows'!HVM371","v":0},{"$f":"'Project Cashflows'!HVN371","v":0},{"$f":"'Project Cashflows'!HVO371","v":0},{"$f":"'Project Cashflows'!HVP371","v":0},{"$f":"'Project Cashflows'!HVQ371","v":0},{"$f":"'Project Cashflows'!HVR371","v":0},{"$f":"'Project Cashflows'!HVS371","v":0},{"$f":"'Project Cashflows'!HVT371","v":0},{"$f":"'Project Cashflows'!HVU371","v":0},{"$f":"'Project Cashflows'!HVV371","v":0},{"$f":"'Project Cashflows'!HVW371","v":0},{"$f":"'Project Cashflows'!HVX371","v":0},{"$f":"'Project Cashflows'!HVY371","v":0},{"$f":"'Project Cashflows'!HVZ371","v":0},{"$f":"'Project Cashflows'!HWA371","v":0},{"$f":"'Project Cashflows'!HWB371","v":0},{"$f":"'Project Cashflows'!HWC371","v":0},{"$f":"'Project Cashflows'!HWD371","v":0},{"$f":"'Project Cashflows'!HWE371","v":0},{"$f":"'Project Cashflows'!HWF371","v":0},{"$f":"'Project Cashflows'!HWG371","v":0},{"$f":"'Project Cashflows'!HWH371","v":0},{"$f":"'Project Cashflows'!HWI371","v":0},{"$f":"'Project Cashflows'!HWJ371","v":0},{"$f":"'Project Cashflows'!HWK371","v":0},{"$f":"'Project Cashflows'!HWL371","v":0},{"$f":"'Project Cashflows'!HWM371","v":0},{"$f":"'Project Cashflows'!HWN371","v":0},{"$f":"'Project Cashflows'!HWO371","v":0},{"$f":"'Project Cashflows'!HWP371","v":0},{"$f":"'Project Cashflows'!HWQ371","v":0},{"$f":"'Project Cashflows'!HWR371","v":0},{"$f":"'Project Cashflows'!HWS371","v":0},{"$f":"'Project Cashflows'!HWT371","v":0},{"$f":"'Project Cashflows'!HWU371","v":0},{"$f":"'Project Cashflows'!HWV371","v":0},{"$f":"'Project Cashflows'!HWW371","v":0},{"$f":"'Project Cashflows'!HWX371","v":0},{"$f":"'Project Cashflows'!HWY371","v":0},{"$f":"'Project Cashflows'!HWZ371","v":0},{"$f":"'Project Cashflows'!HXA371","v":0},{"$f":"'Project Cashflows'!HXB371","v":0},{"$f":"'Project Cashflows'!HXC371","v":0},{"$f":"'Project Cashflows'!HXD371","v":0},{"$f":"'Project Cashflows'!HXE371","v":0},{"$f":"'Project Cashflows'!HXF371","v":0},{"$f":"'Project Cashflows'!HXG371","v":0},{"$f":"'Project Cashflows'!HXH371","v":0},{"$f":"'Project Cashflows'!HXI371","v":0},{"$f":"'Project Cashflows'!HXJ371","v":0},{"$f":"'Project Cashflows'!HXK371","v":0},{"$f":"'Project Cashflows'!HXL371","v":0},{"$f":"'Project Cashflows'!HXM371","v":0},{"$f":"'Project Cashflows'!HXN371","v":0},{"$f":"'Project Cashflows'!HXO371","v":0},{"$f":"'Project Cashflows'!HXP371","v":0},{"$f":"'Project Cashflows'!HXQ371","v":0},{"$f":"'Project Cashflows'!HXR371","v":0},{"$f":"'Project Cashflows'!HXS371","v":0},{"$f":"'Project Cashflows'!HXT371","v":0},{"$f":"'Project Cashflows'!HXU371","v":0},{"$f":"'Project Cashflows'!HXV371","v":0},{"$f":"'Project Cashflows'!HXW371","v":0},{"$f":"'Project Cashflows'!HXX371","v":0},{"$f":"'Project Cashflows'!HXY371","v":0},{"$f":"'Project Cashflows'!HXZ371","v":0},{"$f":"'Project Cashflows'!HYA371","v":0},{"$f":"'Project Cashflows'!HYB371","v":0},{"$f":"'Project Cashflows'!HYC371","v":0},{"$f":"'Project Cashflows'!HYD371","v":0},{"$f":"'Project Cashflows'!HYE371","v":0},{"$f":"'Project Cashflows'!HYF371","v":0},{"$f":"'Project Cashflows'!HYG371","v":0},{"$f":"'Project Cashflows'!HYH371","v":0},{"$f":"'Project Cashflows'!HYI371","v":0},{"$f":"'Project Cashflows'!HYJ371","v":0},{"$f":"'Project Cashflows'!HYK371","v":0},{"$f":"'Project Cashflows'!HYL371","v":0},{"$f":"'Project Cashflows'!HYM371","v":0},{"$f":"'Project Cashflows'!HYN371","v":0},{"$f":"'Project Cashflows'!HYO371","v":0},{"$f":"'Project Cashflows'!HYP371","v":0},{"$f":"'Project Cashflows'!HYQ371","v":0},{"$f":"'Project Cashflows'!HYR371","v":0},{"$f":"'Project Cashflows'!HYS371","v":0},{"$f":"'Project Cashflows'!HYT371","v":0},{"$f":"'Project Cashflows'!HYU371","v":0},{"$f":"'Project Cashflows'!HYV371","v":0},{"$f":"'Project Cashflows'!HYW371","v":0},{"$f":"'Project Cashflows'!HYX371","v":0},{"$f":"'Project Cashflows'!HYY371","v":0},{"$f":"'Project Cashflows'!HYZ371","v":0},{"$f":"'Project Cashflows'!HZA371","v":0},{"$f":"'Project Cashflows'!HZB371","v":0},{"$f":"'Project Cashflows'!HZC371","v":0},{"$f":"'Project Cashflows'!HZD371","v":0},{"$f":"'Project Cashflows'!HZE371","v":0},{"$f":"'Project Cashflows'!HZF371","v":0},{"$f":"'Project Cashflows'!HZG371","v":0},{"$f":"'Project Cashflows'!HZH371","v":0},{"$f":"'Project Cashflows'!HZI371","v":0},{"$f":"'Project Cashflows'!HZJ371","v":0},{"$f":"'Project Cashflows'!HZK371","v":0},{"$f":"'Project Cashflows'!HZL371","v":0},{"$f":"'Project Cashflows'!HZM371","v":0},{"$f":"'Project Cashflows'!HZN371","v":0},{"$f":"'Project Cashflows'!HZO371","v":0},{"$f":"'Project Cashflows'!HZP371","v":0},{"$f":"'Project Cashflows'!HZQ371","v":0},{"$f":"'Project Cashflows'!HZR371","v":0},{"$f":"'Project Cashflows'!HZS371","v":0},{"$f":"'Project Cashflows'!HZT371","v":0},{"$f":"'Project Cashflows'!HZU371","v":0},{"$f":"'Project Cashflows'!HZV371","v":0},{"$f":"'Project Cashflows'!HZW371","v":0},{"$f":"'Project Cashflows'!HZX371","v":0},{"$f":"'Project Cashflows'!HZY371","v":0},{"$f":"'Project Cashflows'!HZZ371","v":0},{"$f":"'Project Cashflows'!IAA371","v":0},{"$f":"'Project Cashflows'!IAB371","v":0},{"$f":"'Project Cashflows'!IAC371","v":0},{"$f":"'Project Cashflows'!IAD371","v":0},{"$f":"'Project Cashflows'!IAE371","v":0},{"$f":"'Project Cashflows'!IAF371","v":0},{"$f":"'Project Cashflows'!IAG371","v":0},{"$f":"'Project Cashflows'!IAH371","v":0},{"$f":"'Project Cashflows'!IAI371","v":0},{"$f":"'Project Cashflows'!IAJ371","v":0},{"$f":"'Project Cashflows'!IAK371","v":0},{"$f":"'Project Cashflows'!IAL371","v":0},{"$f":"'Project Cashflows'!IAM371","v":0},{"$f":"'Project Cashflows'!IAN371","v":0},{"$f":"'Project Cashflows'!IAO371","v":0},{"$f":"'Project Cashflows'!IAP371","v":0},{"$f":"'Project Cashflows'!IAQ371","v":0},{"$f":"'Project Cashflows'!IAR371","v":0},{"$f":"'Project Cashflows'!IAS371","v":0},{"$f":"'Project Cashflows'!IAT371","v":0},{"$f":"'Project Cashflows'!IAU371","v":0},{"$f":"'Project Cashflows'!IAV371","v":0},{"$f":"'Project Cashflows'!IAW371","v":0},{"$f":"'Project Cashflows'!IAX371","v":0},{"$f":"'Project Cashflows'!IAY371","v":0},{"$f":"'Project Cashflows'!IAZ371","v":0},{"$f":"'Project Cashflows'!IBA371","v":0},{"$f":"'Project Cashflows'!IBB371","v":0},{"$f":"'Project Cashflows'!IBC371","v":0},{"$f":"'Project Cashflows'!IBD371","v":0},{"$f":"'Project Cashflows'!IBE371","v":0},{"$f":"'Project Cashflows'!IBF371","v":0},{"$f":"'Project Cashflows'!IBG371","v":0},{"$f":"'Project Cashflows'!IBH371","v":0},{"$f":"'Project Cashflows'!IBI371","v":0},{"$f":"'Project Cashflows'!IBJ371","v":0},{"$f":"'Project Cashflows'!IBK371","v":0},{"$f":"'Project Cashflows'!IBL371","v":0},{"$f":"'Project Cashflows'!IBM371","v":0},{"$f":"'Project Cashflows'!IBN371","v":0},{"$f":"'Project Cashflows'!IBO371","v":0},{"$f":"'Project Cashflows'!IBP371","v":0},{"$f":"'Project Cashflows'!IBQ371","v":0},{"$f":"'Project Cashflows'!IBR371","v":0},{"$f":"'Project Cashflows'!IBS371","v":0},{"$f":"'Project Cashflows'!IBT371","v":0},{"$f":"'Project Cashflows'!IBU371","v":0},{"$f":"'Project Cashflows'!IBV371","v":0},{"$f":"'Project Cashflows'!IBW371","v":0},{"$f":"'Project Cashflows'!IBX371","v":0},{"$f":"'Project Cashflows'!IBY371","v":0},{"$f":"'Project Cashflows'!IBZ371","v":0},{"$f":"'Project Cashflows'!ICA371","v":0},{"$f":"'Project Cashflows'!ICB371","v":0},{"$f":"'Project Cashflows'!ICC371","v":0},{"$f":"'Project Cashflows'!ICD371","v":0},{"$f":"'Project Cashflows'!ICE371","v":0},{"$f":"'Project Cashflows'!ICF371","v":0},{"$f":"'Project Cashflows'!ICG371","v":0},{"$f":"'Project Cashflows'!ICH371","v":0},{"$f":"'Project Cashflows'!ICI371","v":0},{"$f":"'Project Cashflows'!ICJ371","v":0},{"$f":"'Project Cashflows'!ICK371","v":0},{"$f":"'Project Cashflows'!ICL371","v":0},{"$f":"'Project Cashflows'!ICM371","v":0},{"$f":"'Project Cashflows'!ICN371","v":0},{"$f":"'Project Cashflows'!ICO371","v":0},{"$f":"'Project Cashflows'!ICP371","v":0},{"$f":"'Project Cashflows'!ICQ371","v":0},{"$f":"'Project Cashflows'!ICR371","v":0},{"$f":"'Project Cashflows'!ICS371","v":0},{"$f":"'Project Cashflows'!ICT371","v":0},{"$f":"'Project Cashflows'!ICU371","v":0},{"$f":"'Project Cashflows'!ICV371","v":0},{"$f":"'Project Cashflows'!ICW371","v":0},{"$f":"'Project Cashflows'!ICX371","v":0},{"$f":"'Project Cashflows'!ICY371","v":0},{"$f":"'Project Cashflows'!ICZ371","v":0},{"$f":"'Project Cashflows'!IDA371","v":0},{"$f":"'Project Cashflows'!IDB371","v":0},{"$f":"'Project Cashflows'!IDC371","v":0},{"$f":"'Project Cashflows'!IDD371","v":0},{"$f":"'Project Cashflows'!IDE371","v":0},{"$f":"'Project Cashflows'!IDF371","v":0},{"$f":"'Project Cashflows'!IDG371","v":0},{"$f":"'Project Cashflows'!IDH371","v":0},{"$f":"'Project Cashflows'!IDI371","v":0},{"$f":"'Project Cashflows'!IDJ371","v":0},{"$f":"'Project Cashflows'!IDK371","v":0},{"$f":"'Project Cashflows'!IDL371","v":0},{"$f":"'Project Cashflows'!IDM371","v":0},{"$f":"'Project Cashflows'!IDN371","v":0},{"$f":"'Project Cashflows'!IDO371","v":0},{"$f":"'Project Cashflows'!IDP371","v":0},{"$f":"'Project Cashflows'!IDQ371","v":0},{"$f":"'Project Cashflows'!IDR371","v":0},{"$f":"'Project Cashflows'!IDS371","v":0},{"$f":"'Project Cashflows'!IDT371","v":0},{"$f":"'Project Cashflows'!IDU371","v":0},{"$f":"'Project Cashflows'!IDV371","v":0},{"$f":"'Project Cashflows'!IDW371","v":0},{"$f":"'Project Cashflows'!IDX371","v":0},{"$f":"'Project Cashflows'!IDY371","v":0},{"$f":"'Project Cashflows'!IDZ371","v":0},{"$f":"'Project Cashflows'!IEA371","v":0},{"$f":"'Project Cashflows'!IEB371","v":0},{"$f":"'Project Cashflows'!IEC371","v":0},{"$f":"'Project Cashflows'!IED371","v":0},{"$f":"'Project Cashflows'!IEE371","v":0},{"$f":"'Project Cashflows'!IEF371","v":0},{"$f":"'Project Cashflows'!IEG371","v":0},{"$f":"'Project Cashflows'!IEH371","v":0},{"$f":"'Project Cashflows'!IEI371","v":0},{"$f":"'Project Cashflows'!IEJ371","v":0},{"$f":"'Project Cashflows'!IEK371","v":0},{"$f":"'Project Cashflows'!IEL371","v":0},{"$f":"'Project Cashflows'!IEM371","v":0},{"$f":"'Project Cashflows'!IEN371","v":0},{"$f":"'Project Cashflows'!IEO371","v":0},{"$f":"'Project Cashflows'!IEP371","v":0},{"$f":"'Project Cashflows'!IEQ371","v":0},{"$f":"'Project Cashflows'!IER371","v":0},{"$f":"'Project Cashflows'!IES371","v":0},{"$f":"'Project Cashflows'!IET371","v":0},{"$f":"'Project Cashflows'!IEU371","v":0},{"$f":"'Project Cashflows'!IEV371","v":0},{"$f":"'Project Cashflows'!IEW371","v":0},{"$f":"'Project Cashflows'!IEX371","v":0},{"$f":"'Project Cashflows'!IEY371","v":0},{"$f":"'Project Cashflows'!IEZ371","v":0},{"$f":"'Project Cashflows'!IFA371","v":0},{"$f":"'Project Cashflows'!IFB371","v":0},{"$f":"'Project Cashflows'!IFC371","v":0},{"$f":"'Project Cashflows'!IFD371","v":0},{"$f":"'Project Cashflows'!IFE371","v":0},{"$f":"'Project Cashflows'!IFF371","v":0},{"$f":"'Project Cashflows'!IFG371","v":0},{"$f":"'Project Cashflows'!IFH371","v":0},{"$f":"'Project Cashflows'!IFI371","v":0},{"$f":"'Project Cashflows'!IFJ371","v":0},{"$f":"'Project Cashflows'!IFK371","v":0},{"$f":"'Project Cashflows'!IFL371","v":0},{"$f":"'Project Cashflows'!IFM371","v":0},{"$f":"'Project Cashflows'!IFN371","v":0},{"$f":"'Project Cashflows'!IFO371","v":0},{"$f":"'Project Cashflows'!IFP371","v":0},{"$f":"'Project Cashflows'!IFQ371","v":0},{"$f":"'Project Cashflows'!IFR371","v":0},{"$f":"'Project Cashflows'!IFS371","v":0},{"$f":"'Project Cashflows'!IFT371","v":0},{"$f":"'Project Cashflows'!IFU371","v":0},{"$f":"'Project Cashflows'!IFV371","v":0},{"$f":"'Project Cashflows'!IFW371","v":0},{"$f":"'Project Cashflows'!IFX371","v":0},{"$f":"'Project Cashflows'!IFY371","v":0},{"$f":"'Project Cashflows'!IFZ371","v":0},{"$f":"'Project Cashflows'!IGA371","v":0},{"$f":"'Project Cashflows'!IGB371","v":0},{"$f":"'Project Cashflows'!IGC371","v":0},{"$f":"'Project Cashflows'!IGD371","v":0},{"$f":"'Project Cashflows'!IGE371","v":0},{"$f":"'Project Cashflows'!IGF371","v":0},{"$f":"'Project Cashflows'!IGG371","v":0},{"$f":"'Project Cashflows'!IGH371","v":0},{"$f":"'Project Cashflows'!IGI371","v":0},{"$f":"'Project Cashflows'!IGJ371","v":0},{"$f":"'Project Cashflows'!IGK371","v":0},{"$f":"'Project Cashflows'!IGL371","v":0},{"$f":"'Project Cashflows'!IGM371","v":0},{"$f":"'Project Cashflows'!IGN371","v":0},{"$f":"'Project Cashflows'!IGO371","v":0},{"$f":"'Project Cashflows'!IGP371","v":0},{"$f":"'Project Cashflows'!IGQ371","v":0},{"$f":"'Project Cashflows'!IGR371","v":0},{"$f":"'Project Cashflows'!IGS371","v":0},{"$f":"'Project Cashflows'!IGT371","v":0},{"$f":"'Project Cashflows'!IGU371","v":0},{"$f":"'Project Cashflows'!IGV371","v":0},{"$f":"'Project Cashflows'!IGW371","v":0},{"$f":"'Project Cashflows'!IGX371","v":0},{"$f":"'Project Cashflows'!IGY371","v":0},{"$f":"'Project Cashflows'!IGZ371","v":0},{"$f":"'Project Cashflows'!IHA371","v":0},{"$f":"'Project Cashflows'!IHB371","v":0},{"$f":"'Project Cashflows'!IHC371","v":0},{"$f":"'Project Cashflows'!IHD371","v":0},{"$f":"'Project Cashflows'!IHE371","v":0},{"$f":"'Project Cashflows'!IHF371","v":0},{"$f":"'Project Cashflows'!IHG371","v":0},{"$f":"'Project Cashflows'!IHH371","v":0},{"$f":"'Project Cashflows'!IHI371","v":0},{"$f":"'Project Cashflows'!IHJ371","v":0},{"$f":"'Project Cashflows'!IHK371","v":0},{"$f":"'Project Cashflows'!IHL371","v":0},{"$f":"'Project Cashflows'!IHM371","v":0},{"$f":"'Project Cashflows'!IHN371","v":0},{"$f":"'Project Cashflows'!IHO371","v":0},{"$f":"'Project Cashflows'!IHP371","v":0},{"$f":"'Project Cashflows'!IHQ371","v":0},{"$f":"'Project Cashflows'!IHR371","v":0},{"$f":"'Project Cashflows'!IHS371","v":0},{"$f":"'Project Cashflows'!IHT371","v":0},{"$f":"'Project Cashflows'!IHU371","v":0},{"$f":"'Project Cashflows'!IHV371","v":0},{"$f":"'Project Cashflows'!IHW371","v":0},{"$f":"'Project Cashflows'!IHX371","v":0},{"$f":"'Project Cashflows'!IHY371","v":0},{"$f":"'Project Cashflows'!IHZ371","v":0},{"$f":"'Project Cashflows'!IIA371","v":0},{"$f":"'Project Cashflows'!IIB371","v":0},{"$f":"'Project Cashflows'!IIC371","v":0},{"$f":"'Project Cashflows'!IID371","v":0},{"$f":"'Project Cashflows'!IIE371","v":0},{"$f":"'Project Cashflows'!IIF371","v":0},{"$f":"'Project Cashflows'!IIG371","v":0},{"$f":"'Project Cashflows'!IIH371","v":0},{"$f":"'Project Cashflows'!III371","v":0},{"$f":"'Project Cashflows'!IIJ371","v":0},{"$f":"'Project Cashflows'!IIK371","v":0},{"$f":"'Project Cashflows'!IIL371","v":0},{"$f":"'Project Cashflows'!IIM371","v":0},{"$f":"'Project Cashflows'!IIN371","v":0},{"$f":"'Project Cashflows'!IIO371","v":0},{"$f":"'Project Cashflows'!IIP371","v":0},{"$f":"'Project Cashflows'!IIQ371","v":0},{"$f":"'Project Cashflows'!IIR371","v":0},{"$f":"'Project Cashflows'!IIS371","v":0},{"$f":"'Project Cashflows'!IIT371","v":0},{"$f":"'Project Cashflows'!IIU371","v":0},{"$f":"'Project Cashflows'!IIV371","v":0},{"$f":"'Project Cashflows'!IIW371","v":0},{"$f":"'Project Cashflows'!IIX371","v":0},{"$f":"'Project Cashflows'!IIY371","v":0},{"$f":"'Project Cashflows'!IIZ371","v":0},{"$f":"'Project Cashflows'!IJA371","v":0},{"$f":"'Project Cashflows'!IJB371","v":0},{"$f":"'Project Cashflows'!IJC371","v":0},{"$f":"'Project Cashflows'!IJD371","v":0},{"$f":"'Project Cashflows'!IJE371","v":0},{"$f":"'Project Cashflows'!IJF371","v":0},{"$f":"'Project Cashflows'!IJG371","v":0},{"$f":"'Project Cashflows'!IJH371","v":0},{"$f":"'Project Cashflows'!IJI371","v":0},{"$f":"'Project Cashflows'!IJJ371","v":0},{"$f":"'Project Cashflows'!IJK371","v":0},{"$f":"'Project Cashflows'!IJL371","v":0},{"$f":"'Project Cashflows'!IJM371","v":0},{"$f":"'Project Cashflows'!IJN371","v":0},{"$f":"'Project Cashflows'!IJO371","v":0},{"$f":"'Project Cashflows'!IJP371","v":0},{"$f":"'Project Cashflows'!IJQ371","v":0},{"$f":"'Project Cashflows'!IJR371","v":0},{"$f":"'Project Cashflows'!IJS371","v":0},{"$f":"'Project Cashflows'!IJT371","v":0},{"$f":"'Project Cashflows'!IJU371","v":0},{"$f":"'Project Cashflows'!IJV371","v":0},{"$f":"'Project Cashflows'!IJW371","v":0},{"$f":"'Project Cashflows'!IJX371","v":0},{"$f":"'Project Cashflows'!IJY371","v":0},{"$f":"'Project Cashflows'!IJZ371","v":0},{"$f":"'Project Cashflows'!IKA371","v":0},{"$f":"'Project Cashflows'!IKB371","v":0},{"$f":"'Project Cashflows'!IKC371","v":0},{"$f":"'Project Cashflows'!IKD371","v":0},{"$f":"'Project Cashflows'!IKE371","v":0},{"$f":"'Project Cashflows'!IKF371","v":0},{"$f":"'Project Cashflows'!IKG371","v":0},{"$f":"'Project Cashflows'!IKH371","v":0},{"$f":"'Project Cashflows'!IKI371","v":0},{"$f":"'Project Cashflows'!IKJ371","v":0},{"$f":"'Project Cashflows'!IKK371","v":0},{"$f":"'Project Cashflows'!IKL371","v":0},{"$f":"'Project Cashflows'!IKM371","v":0},{"$f":"'Project Cashflows'!IKN371","v":0},{"$f":"'Project Cashflows'!IKO371","v":0},{"$f":"'Project Cashflows'!IKP371","v":0},{"$f":"'Project Cashflows'!IKQ371","v":0},{"$f":"'Project Cashflows'!IKR371","v":0},{"$f":"'Project Cashflows'!IKS371","v":0},{"$f":"'Project Cashflows'!IKT371","v":0},{"$f":"'Project Cashflows'!IKU371","v":0},{"$f":"'Project Cashflows'!IKV371","v":0},{"$f":"'Project Cashflows'!IKW371","v":0},{"$f":"'Project Cashflows'!IKX371","v":0},{"$f":"'Project Cashflows'!IKY371","v":0},{"$f":"'Project Cashflows'!IKZ371","v":0},{"$f":"'Project Cashflows'!ILA371","v":0},{"$f":"'Project Cashflows'!ILB371","v":0},{"$f":"'Project Cashflows'!ILC371","v":0},{"$f":"'Project Cashflows'!ILD371","v":0},{"$f":"'Project Cashflows'!ILE371","v":0},{"$f":"'Project Cashflows'!ILF371","v":0},{"$f":"'Project Cashflows'!ILG371","v":0},{"$f":"'Project Cashflows'!ILH371","v":0},{"$f":"'Project Cashflows'!ILI371","v":0},{"$f":"'Project Cashflows'!ILJ371","v":0},{"$f":"'Project Cashflows'!ILK371","v":0},{"$f":"'Project Cashflows'!ILL371","v":0},{"$f":"'Project Cashflows'!ILM371","v":0},{"$f":"'Project Cashflows'!ILN371","v":0},{"$f":"'Project Cashflows'!ILO371","v":0},{"$f":"'Project Cashflows'!ILP371","v":0},{"$f":"'Project Cashflows'!ILQ371","v":0},{"$f":"'Project Cashflows'!ILR371","v":0},{"$f":"'Project Cashflows'!ILS371","v":0},{"$f":"'Project Cashflows'!ILT371","v":0},{"$f":"'Project Cashflows'!ILU371","v":0},{"$f":"'Project Cashflows'!ILV371","v":0},{"$f":"'Project Cashflows'!ILW371","v":0},{"$f":"'Project Cashflows'!ILX371","v":0},{"$f":"'Project Cashflows'!ILY371","v":0},{"$f":"'Project Cashflows'!ILZ371","v":0},{"$f":"'Project Cashflows'!IMA371","v":0},{"$f":"'Project Cashflows'!IMB371","v":0},{"$f":"'Project Cashflows'!IMC371","v":0},{"$f":"'Project Cashflows'!IMD371","v":0},{"$f":"'Project Cashflows'!IME371","v":0},{"$f":"'Project Cashflows'!IMF371","v":0},{"$f":"'Project Cashflows'!IMG371","v":0},{"$f":"'Project Cashflows'!IMH371","v":0},{"$f":"'Project Cashflows'!IMI371","v":0},{"$f":"'Project Cashflows'!IMJ371","v":0},{"$f":"'Project Cashflows'!IMK371","v":0},{"$f":"'Project Cashflows'!IML371","v":0},{"$f":"'Project Cashflows'!IMM371","v":0},{"$f":"'Project Cashflows'!IMN371","v":0},{"$f":"'Project Cashflows'!IMO371","v":0},{"$f":"'Project Cashflows'!IMP371","v":0},{"$f":"'Project Cashflows'!IMQ371","v":0},{"$f":"'Project Cashflows'!IMR371","v":0},{"$f":"'Project Cashflows'!IMS371","v":0},{"$f":"'Project Cashflows'!IMT371","v":0},{"$f":"'Project Cashflows'!IMU371","v":0},{"$f":"'Project Cashflows'!IMV371","v":0},{"$f":"'Project Cashflows'!IMW371","v":0},{"$f":"'Project Cashflows'!IMX371","v":0},{"$f":"'Project Cashflows'!IMY371","v":0},{"$f":"'Project Cashflows'!IMZ371","v":0},{"$f":"'Project Cashflows'!INA371","v":0},{"$f":"'Project Cashflows'!INB371","v":0},{"$f":"'Project Cashflows'!INC371","v":0},{"$f":"'Project Cashflows'!IND371","v":0},{"$f":"'Project Cashflows'!INE371","v":0},{"$f":"'Project Cashflows'!INF371","v":0},{"$f":"'Project Cashflows'!ING371","v":0},{"$f":"'Project Cashflows'!INH371","v":0},{"$f":"'Project Cashflows'!INI371","v":0},{"$f":"'Project Cashflows'!INJ371","v":0},{"$f":"'Project Cashflows'!INK371","v":0},{"$f":"'Project Cashflows'!INL371","v":0},{"$f":"'Project Cashflows'!INM371","v":0},{"$f":"'Project Cashflows'!INN371","v":0},{"$f":"'Project Cashflows'!INO371","v":0},{"$f":"'Project Cashflows'!INP371","v":0},{"$f":"'Project Cashflows'!INQ371","v":0},{"$f":"'Project Cashflows'!INR371","v":0},{"$f":"'Project Cashflows'!INS371","v":0},{"$f":"'Project Cashflows'!INT371","v":0},{"$f":"'Project Cashflows'!INU371","v":0},{"$f":"'Project Cashflows'!INV371","v":0},{"$f":"'Project Cashflows'!INW371","v":0},{"$f":"'Project Cashflows'!INX371","v":0},{"$f":"'Project Cashflows'!INY371","v":0},{"$f":"'Project Cashflows'!INZ371","v":0},{"$f":"'Project Cashflows'!IOA371","v":0},{"$f":"'Project Cashflows'!IOB371","v":0},{"$f":"'Project Cashflows'!IOC371","v":0},{"$f":"'Project Cashflows'!IOD371","v":0},{"$f":"'Project Cashflows'!IOE371","v":0},{"$f":"'Project Cashflows'!IOF371","v":0},{"$f":"'Project Cashflows'!IOG371","v":0},{"$f":"'Project Cashflows'!IOH371","v":0},{"$f":"'Project Cashflows'!IOI371","v":0},{"$f":"'Project Cashflows'!IOJ371","v":0},{"$f":"'Project Cashflows'!IOK371","v":0},{"$f":"'Project Cashflows'!IOL371","v":0},{"$f":"'Project Cashflows'!IOM371","v":0},{"$f":"'Project Cashflows'!ION371","v":0},{"$f":"'Project Cashflows'!IOO371","v":0},{"$f":"'Project Cashflows'!IOP371","v":0},{"$f":"'Project Cashflows'!IOQ371","v":0},{"$f":"'Project Cashflows'!IOR371","v":0},{"$f":"'Project Cashflows'!IOS371","v":0},{"$f":"'Project Cashflows'!IOT371","v":0},{"$f":"'Project Cashflows'!IOU371","v":0},{"$f":"'Project Cashflows'!IOV371","v":0},{"$f":"'Project Cashflows'!IOW371","v":0},{"$f":"'Project Cashflows'!IOX371","v":0},{"$f":"'Project Cashflows'!IOY371","v":0},{"$f":"'Project Cashflows'!IOZ371","v":0},{"$f":"'Project Cashflows'!IPA371","v":0},{"$f":"'Project Cashflows'!IPB371","v":0},{"$f":"'Project Cashflows'!IPC371","v":0},{"$f":"'Project Cashflows'!IPD371","v":0},{"$f":"'Project Cashflows'!IPE371","v":0},{"$f":"'Project Cashflows'!IPF371","v":0},{"$f":"'Project Cashflows'!IPG371","v":0},{"$f":"'Project Cashflows'!IPH371","v":0},{"$f":"'Project Cashflows'!IPI371","v":0},{"$f":"'Project Cashflows'!IPJ371","v":0},{"$f":"'Project Cashflows'!IPK371","v":0},{"$f":"'Project Cashflows'!IPL371","v":0},{"$f":"'Project Cashflows'!IPM371","v":0},{"$f":"'Project Cashflows'!IPN371","v":0},{"$f":"'Project Cashflows'!IPO371","v":0},{"$f":"'Project Cashflows'!IPP371","v":0},{"$f":"'Project Cashflows'!IPQ371","v":0},{"$f":"'Project Cashflows'!IPR371","v":0},{"$f":"'Project Cashflows'!IPS371","v":0},{"$f":"'Project Cashflows'!IPT371","v":0},{"$f":"'Project Cashflows'!IPU371","v":0},{"$f":"'Project Cashflows'!IPV371","v":0},{"$f":"'Project Cashflows'!IPW371","v":0},{"$f":"'Project Cashflows'!IPX371","v":0},{"$f":"'Project Cashflows'!IPY371","v":0},{"$f":"'Project Cashflows'!IPZ371","v":0},{"$f":"'Project Cashflows'!IQA371","v":0},{"$f":"'Project Cashflows'!IQB371","v":0},{"$f":"'Project Cashflows'!IQC371","v":0},{"$f":"'Project Cashflows'!IQD371","v":0},{"$f":"'Project Cashflows'!IQE371","v":0},{"$f":"'Project Cashflows'!IQF371","v":0},{"$f":"'Project Cashflows'!IQG371","v":0},{"$f":"'Project Cashflows'!IQH371","v":0},{"$f":"'Project Cashflows'!IQI371","v":0},{"$f":"'Project Cashflows'!IQJ371","v":0},{"$f":"'Project Cashflows'!IQK371","v":0},{"$f":"'Project Cashflows'!IQL371","v":0},{"$f":"'Project Cashflows'!IQM371","v":0},{"$f":"'Project Cashflows'!IQN371","v":0},{"$f":"'Project Cashflows'!IQO371","v":0},{"$f":"'Project Cashflows'!IQP371","v":0},{"$f":"'Project Cashflows'!IQQ371","v":0},{"$f":"'Project Cashflows'!IQR371","v":0},{"$f":"'Project Cashflows'!IQS371","v":0},{"$f":"'Project Cashflows'!IQT371","v":0},{"$f":"'Project Cashflows'!IQU371","v":0},{"$f":"'Project Cashflows'!IQV371","v":0},{"$f":"'Project Cashflows'!IQW371","v":0},{"$f":"'Project Cashflows'!IQX371","v":0},{"$f":"'Project Cashflows'!IQY371","v":0},{"$f":"'Project Cashflows'!IQZ371","v":0},{"$f":"'Project Cashflows'!IRA371","v":0},{"$f":"'Project Cashflows'!IRB371","v":0},{"$f":"'Project Cashflows'!IRC371","v":0},{"$f":"'Project Cashflows'!IRD371","v":0},{"$f":"'Project Cashflows'!IRE371","v":0},{"$f":"'Project Cashflows'!IRF371","v":0},{"$f":"'Project Cashflows'!IRG371","v":0},{"$f":"'Project Cashflows'!IRH371","v":0},{"$f":"'Project Cashflows'!IRI371","v":0},{"$f":"'Project Cashflows'!IRJ371","v":0},{"$f":"'Project Cashflows'!IRK371","v":0},{"$f":"'Project Cashflows'!IRL371","v":0},{"$f":"'Project Cashflows'!IRM371","v":0},{"$f":"'Project Cashflows'!IRN371","v":0},{"$f":"'Project Cashflows'!IRO371","v":0},{"$f":"'Project Cashflows'!IRP371","v":0},{"$f":"'Project Cashflows'!IRQ371","v":0},{"$f":"'Project Cashflows'!IRR371","v":0},{"$f":"'Project Cashflows'!IRS371","v":0},{"$f":"'Project Cashflows'!IRT371","v":0},{"$f":"'Project Cashflows'!IRU371","v":0},{"$f":"'Project Cashflows'!IRV371","v":0},{"$f":"'Project Cashflows'!IRW371","v":0},{"$f":"'Project Cashflows'!IRX371","v":0},{"$f":"'Project Cashflows'!IRY371","v":0},{"$f":"'Project Cashflows'!IRZ371","v":0},{"$f":"'Project Cashflows'!ISA371","v":0},{"$f":"'Project Cashflows'!ISB371","v":0},{"$f":"'Project Cashflows'!ISC371","v":0},{"$f":"'Project Cashflows'!ISD371","v":0},{"$f":"'Project Cashflows'!ISE371","v":0},{"$f":"'Project Cashflows'!ISF371","v":0},{"$f":"'Project Cashflows'!ISG371","v":0},{"$f":"'Project Cashflows'!ISH371","v":0},{"$f":"'Project Cashflows'!ISI371","v":0},{"$f":"'Project Cashflows'!ISJ371","v":0},{"$f":"'Project Cashflows'!ISK371","v":0},{"$f":"'Project Cashflows'!ISL371","v":0},{"$f":"'Project Cashflows'!ISM371","v":0},{"$f":"'Project Cashflows'!ISN371","v":0},{"$f":"'Project Cashflows'!ISO371","v":0},{"$f":"'Project Cashflows'!ISP371","v":0},{"$f":"'Project Cashflows'!ISQ371","v":0},{"$f":"'Project Cashflows'!ISR371","v":0},{"$f":"'Project Cashflows'!ISS371","v":0},{"$f":"'Project Cashflows'!IST371","v":0},{"$f":"'Project Cashflows'!ISU371","v":0},{"$f":"'Project Cashflows'!ISV371","v":0},{"$f":"'Project Cashflows'!ISW371","v":0},{"$f":"'Project Cashflows'!ISX371","v":0},{"$f":"'Project Cashflows'!ISY371","v":0},{"$f":"'Project Cashflows'!ISZ371","v":0},{"$f":"'Project Cashflows'!ITA371","v":0},{"$f":"'Project Cashflows'!ITB371","v":0},{"$f":"'Project Cashflows'!ITC371","v":0},{"$f":"'Project Cashflows'!ITD371","v":0},{"$f":"'Project Cashflows'!ITE371","v":0},{"$f":"'Project Cashflows'!ITF371","v":0},{"$f":"'Project Cashflows'!ITG371","v":0},{"$f":"'Project Cashflows'!ITH371","v":0},{"$f":"'Project Cashflows'!ITI371","v":0},{"$f":"'Project Cashflows'!ITJ371","v":0},{"$f":"'Project Cashflows'!ITK371","v":0},{"$f":"'Project Cashflows'!ITL371","v":0},{"$f":"'Project Cashflows'!ITM371","v":0},{"$f":"'Project Cashflows'!ITN371","v":0},{"$f":"'Project Cashflows'!ITO371","v":0},{"$f":"'Project Cashflows'!ITP371","v":0},{"$f":"'Project Cashflows'!ITQ371","v":0},{"$f":"'Project Cashflows'!ITR371","v":0},{"$f":"'Project Cashflows'!ITS371","v":0},{"$f":"'Project Cashflows'!ITT371","v":0},{"$f":"'Project Cashflows'!ITU371","v":0},{"$f":"'Project Cashflows'!ITV371","v":0},{"$f":"'Project Cashflows'!ITW371","v":0},{"$f":"'Project Cashflows'!ITX371","v":0},{"$f":"'Project Cashflows'!ITY371","v":0},{"$f":"'Project Cashflows'!ITZ371","v":0},{"$f":"'Project Cashflows'!IUA371","v":0},{"$f":"'Project Cashflows'!IUB371","v":0},{"$f":"'Project Cashflows'!IUC371","v":0},{"$f":"'Project Cashflows'!IUD371","v":0},{"$f":"'Project Cashflows'!IUE371","v":0},{"$f":"'Project Cashflows'!IUF371","v":0},{"$f":"'Project Cashflows'!IUG371","v":0},{"$f":"'Project Cashflows'!IUH371","v":0},{"$f":"'Project Cashflows'!IUI371","v":0},{"$f":"'Project Cashflows'!IUJ371","v":0},{"$f":"'Project Cashflows'!IUK371","v":0},{"$f":"'Project Cashflows'!IUL371","v":0},{"$f":"'Project Cashflows'!IUM371","v":0},{"$f":"'Project Cashflows'!IUN371","v":0},{"$f":"'Project Cashflows'!IUO371","v":0},{"$f":"'Project Cashflows'!IUP371","v":0},{"$f":"'Project Cashflows'!IUQ371","v":0},{"$f":"'Project Cashflows'!IUR371","v":0},{"$f":"'Project Cashflows'!IUS371","v":0},{"$f":"'Project Cashflows'!IUT371","v":0},{"$f":"'Project Cashflows'!IUU371","v":0},{"$f":"'Project Cashflows'!IUV371","v":0},{"$f":"'Project Cashflows'!IUW371","v":0},{"$f":"'Project Cashflows'!IUX371","v":0},{"$f":"'Project Cashflows'!IUY371","v":0},{"$f":"'Project Cashflows'!IUZ371","v":0},{"$f":"'Project Cashflows'!IVA371","v":0},{"$f":"'Project Cashflows'!IVB371","v":0},{"$f":"'Project Cashflows'!IVC371","v":0},{"$f":"'Project Cashflows'!IVD371","v":0},{"$f":"'Project Cashflows'!IVE371","v":0},{"$f":"'Project Cashflows'!IVF371","v":0},{"$f":"'Project Cashflows'!IVG371","v":0},{"$f":"'Project Cashflows'!IVH371","v":0},{"$f":"'Project Cashflows'!IVI371","v":0},{"$f":"'Project Cashflows'!IVJ371","v":0},{"$f":"'Project Cashflows'!IVK371","v":0},{"$f":"'Project Cashflows'!IVL371","v":0},{"$f":"'Project Cashflows'!IVM371","v":0},{"$f":"'Project Cashflows'!IVN371","v":0},{"$f":"'Project Cashflows'!IVO371","v":0},{"$f":"'Project Cashflows'!IVP371","v":0},{"$f":"'Project Cashflows'!IVQ371","v":0},{"$f":"'Project Cashflows'!IVR371","v":0},{"$f":"'Project Cashflows'!IVS371","v":0},{"$f":"'Project Cashflows'!IVT371","v":0},{"$f":"'Project Cashflows'!IVU371","v":0},{"$f":"'Project Cashflows'!IVV371","v":0},{"$f":"'Project Cashflows'!IVW371","v":0},{"$f":"'Project Cashflows'!IVX371","v":0},{"$f":"'Project Cashflows'!IVY371","v":0},{"$f":"'Project Cashflows'!IVZ371","v":0},{"$f":"'Project Cashflows'!IWA371","v":0},{"$f":"'Project Cashflows'!IWB371","v":0},{"$f":"'Project Cashflows'!IWC371","v":0},{"$f":"'Project Cashflows'!IWD371","v":0},{"$f":"'Project Cashflows'!IWE371","v":0},{"$f":"'Project Cashflows'!IWF371","v":0},{"$f":"'Project Cashflows'!IWG371","v":0},{"$f":"'Project Cashflows'!IWH371","v":0},{"$f":"'Project Cashflows'!IWI371","v":0},{"$f":"'Project Cashflows'!IWJ371","v":0},{"$f":"'Project Cashflows'!IWK371","v":0},{"$f":"'Project Cashflows'!IWL371","v":0},{"$f":"'Project Cashflows'!IWM371","v":0},{"$f":"'Project Cashflows'!IWN371","v":0},{"$f":"'Project Cashflows'!IWO371","v":0},{"$f":"'Project Cashflows'!IWP371","v":0},{"$f":"'Project Cashflows'!IWQ371","v":0},{"$f":"'Project Cashflows'!IWR371","v":0},{"$f":"'Project Cashflows'!IWS371","v":0},{"$f":"'Project Cashflows'!IWT371","v":0},{"$f":"'Project Cashflows'!IWU371","v":0},{"$f":"'Project Cashflows'!IWV371","v":0},{"$f":"'Project Cashflows'!IWW371","v":0},{"$f":"'Project Cashflows'!IWX371","v":0},{"$f":"'Project Cashflows'!IWY371","v":0},{"$f":"'Project Cashflows'!IWZ371","v":0},{"$f":"'Project Cashflows'!IXA371","v":0},{"$f":"'Project Cashflows'!IXB371","v":0},{"$f":"'Project Cashflows'!IXC371","v":0},{"$f":"'Project Cashflows'!IXD371","v":0},{"$f":"'Project Cashflows'!IXE371","v":0},{"$f":"'Project Cashflows'!IXF371","v":0},{"$f":"'Project Cashflows'!IXG371","v":0},{"$f":"'Project Cashflows'!IXH371","v":0},{"$f":"'Project Cashflows'!IXI371","v":0},{"$f":"'Project Cashflows'!IXJ371","v":0},{"$f":"'Project Cashflows'!IXK371","v":0},{"$f":"'Project Cashflows'!IXL371","v":0},{"$f":"'Project Cashflows'!IXM371","v":0},{"$f":"'Project Cashflows'!IXN371","v":0},{"$f":"'Project Cashflows'!IXO371","v":0},{"$f":"'Project Cashflows'!IXP371","v":0},{"$f":"'Project Cashflows'!IXQ371","v":0},{"$f":"'Project Cashflows'!IXR371","v":0},{"$f":"'Project Cashflows'!IXS371","v":0},{"$f":"'Project Cashflows'!IXT371","v":0},{"$f":"'Project Cashflows'!IXU371","v":0},{"$f":"'Project Cashflows'!IXV371","v":0},{"$f":"'Project Cashflows'!IXW371","v":0},{"$f":"'Project Cashflows'!IXX371","v":0},{"$f":"'Project Cashflows'!IXY371","v":0},{"$f":"'Project Cashflows'!IXZ371","v":0},{"$f":"'Project Cashflows'!IYA371","v":0},{"$f":"'Project Cashflows'!IYB371","v":0},{"$f":"'Project Cashflows'!IYC371","v":0},{"$f":"'Project Cashflows'!IYD371","v":0},{"$f":"'Project Cashflows'!IYE371","v":0},{"$f":"'Project Cashflows'!IYF371","v":0},{"$f":"'Project Cashflows'!IYG371","v":0},{"$f":"'Project Cashflows'!IYH371","v":0},{"$f":"'Project Cashflows'!IYI371","v":0},{"$f":"'Project Cashflows'!IYJ371","v":0},{"$f":"'Project Cashflows'!IYK371","v":0},{"$f":"'Project Cashflows'!IYL371","v":0},{"$f":"'Project Cashflows'!IYM371","v":0},{"$f":"'Project Cashflows'!IYN371","v":0},{"$f":"'Project Cashflows'!IYO371","v":0},{"$f":"'Project Cashflows'!IYP371","v":0},{"$f":"'Project Cashflows'!IYQ371","v":0},{"$f":"'Project Cashflows'!IYR371","v":0},{"$f":"'Project Cashflows'!IYS371","v":0},{"$f":"'Project Cashflows'!IYT371","v":0},{"$f":"'Project Cashflows'!IYU371","v":0},{"$f":"'Project Cashflows'!IYV371","v":0},{"$f":"'Project Cashflows'!IYW371","v":0},{"$f":"'Project Cashflows'!IYX371","v":0},{"$f":"'Project Cashflows'!IYY371","v":0},{"$f":"'Project Cashflows'!IYZ371","v":0},{"$f":"'Project Cashflows'!IZA371","v":0},{"$f":"'Project Cashflows'!IZB371","v":0},{"$f":"'Project Cashflows'!IZC371","v":0},{"$f":"'Project Cashflows'!IZD371","v":0},{"$f":"'Project Cashflows'!IZE371","v":0},{"$f":"'Project Cashflows'!IZF371","v":0},{"$f":"'Project Cashflows'!IZG371","v":0},{"$f":"'Project Cashflows'!IZH371","v":0},{"$f":"'Project Cashflows'!IZI371","v":0},{"$f":"'Project Cashflows'!IZJ371","v":0},{"$f":"'Project Cashflows'!IZK371","v":0},{"$f":"'Project Cashflows'!IZL371","v":0},{"$f":"'Project Cashflows'!IZM371","v":0},{"$f":"'Project Cashflows'!IZN371","v":0},{"$f":"'Project Cashflows'!IZO371","v":0},{"$f":"'Project Cashflows'!IZP371","v":0},{"$f":"'Project Cashflows'!IZQ371","v":0},{"$f":"'Project Cashflows'!IZR371","v":0},{"$f":"'Project Cashflows'!IZS371","v":0},{"$f":"'Project Cashflows'!IZT371","v":0},{"$f":"'Project Cashflows'!IZU371","v":0},{"$f":"'Project Cashflows'!IZV371","v":0},{"$f":"'Project Cashflows'!IZW371","v":0},{"$f":"'Project Cashflows'!IZX371","v":0},{"$f":"'Project Cashflows'!IZY371","v":0},{"$f":"'Project Cashflows'!IZZ371","v":0},{"$f":"'Project Cashflows'!JAA371","v":0},{"$f":"'Project Cashflows'!JAB371","v":0},{"$f":"'Project Cashflows'!JAC371","v":0},{"$f":"'Project Cashflows'!JAD371","v":0},{"$f":"'Project Cashflows'!JAE371","v":0},{"$f":"'Project Cashflows'!JAF371","v":0},{"$f":"'Project Cashflows'!JAG371","v":0},{"$f":"'Project Cashflows'!JAH371","v":0},{"$f":"'Project Cashflows'!JAI371","v":0},{"$f":"'Project Cashflows'!JAJ371","v":0},{"$f":"'Project Cashflows'!JAK371","v":0},{"$f":"'Project Cashflows'!JAL371","v":0},{"$f":"'Project Cashflows'!JAM371","v":0},{"$f":"'Project Cashflows'!JAN371","v":0},{"$f":"'Project Cashflows'!JAO371","v":0},{"$f":"'Project Cashflows'!JAP371","v":0},{"$f":"'Project Cashflows'!JAQ371","v":0},{"$f":"'Project Cashflows'!JAR371","v":0},{"$f":"'Project Cashflows'!JAS371","v":0},{"$f":"'Project Cashflows'!JAT371","v":0},{"$f":"'Project Cashflows'!JAU371","v":0},{"$f":"'Project Cashflows'!JAV371","v":0},{"$f":"'Project Cashflows'!JAW371","v":0},{"$f":"'Project Cashflows'!JAX371","v":0},{"$f":"'Project Cashflows'!JAY371","v":0},{"$f":"'Project Cashflows'!JAZ371","v":0},{"$f":"'Project Cashflows'!JBA371","v":0},{"$f":"'Project Cashflows'!JBB371","v":0},{"$f":"'Project Cashflows'!JBC371","v":0},{"$f":"'Project Cashflows'!JBD371","v":0},{"$f":"'Project Cashflows'!JBE371","v":0},{"$f":"'Project Cashflows'!JBF371","v":0},{"$f":"'Project Cashflows'!JBG371","v":0},{"$f":"'Project Cashflows'!JBH371","v":0},{"$f":"'Project Cashflows'!JBI371","v":0},{"$f":"'Project Cashflows'!JBJ371","v":0},{"$f":"'Project Cashflows'!JBK371","v":0},{"$f":"'Project Cashflows'!JBL371","v":0},{"$f":"'Project Cashflows'!JBM371","v":0},{"$f":"'Project Cashflows'!JBN371","v":0},{"$f":"'Project Cashflows'!JBO371","v":0},{"$f":"'Project Cashflows'!JBP371","v":0},{"$f":"'Project Cashflows'!JBQ371","v":0},{"$f":"'Project Cashflows'!JBR371","v":0},{"$f":"'Project Cashflows'!JBS371","v":0},{"$f":"'Project Cashflows'!JBT371","v":0},{"$f":"'Project Cashflows'!JBU371","v":0},{"$f":"'Project Cashflows'!JBV371","v":0},{"$f":"'Project Cashflows'!JBW371","v":0},{"$f":"'Project Cashflows'!JBX371","v":0},{"$f":"'Project Cashflows'!JBY371","v":0},{"$f":"'Project Cashflows'!JBZ371","v":0},{"$f":"'Project Cashflows'!JCA371","v":0},{"$f":"'Project Cashflows'!JCB371","v":0},{"$f":"'Project Cashflows'!JCC371","v":0},{"$f":"'Project Cashflows'!JCD371","v":0},{"$f":"'Project Cashflows'!JCE371","v":0},{"$f":"'Project Cashflows'!JCF371","v":0},{"$f":"'Project Cashflows'!JCG371","v":0},{"$f":"'Project Cashflows'!JCH371","v":0},{"$f":"'Project Cashflows'!JCI371","v":0},{"$f":"'Project Cashflows'!JCJ371","v":0},{"$f":"'Project Cashflows'!JCK371","v":0},{"$f":"'Project Cashflows'!JCL371","v":0},{"$f":"'Project Cashflows'!JCM371","v":0},{"$f":"'Project Cashflows'!JCN371","v":0},{"$f":"'Project Cashflows'!JCO371","v":0},{"$f":"'Project Cashflows'!JCP371","v":0},{"$f":"'Project Cashflows'!JCQ371","v":0},{"$f":"'Project Cashflows'!JCR371","v":0},{"$f":"'Project Cashflows'!JCS371","v":0},{"$f":"'Project Cashflows'!JCT371","v":0},{"$f":"'Project Cashflows'!JCU371","v":0},{"$f":"'Project Cashflows'!JCV371","v":0},{"$f":"'Project Cashflows'!JCW371","v":0},{"$f":"'Project Cashflows'!JCX371","v":0},{"$f":"'Project Cashflows'!JCY371","v":0},{"$f":"'Project Cashflows'!JCZ371","v":0},{"$f":"'Project Cashflows'!JDA371","v":0},{"$f":"'Project Cashflows'!JDB371","v":0},{"$f":"'Project Cashflows'!JDC371","v":0},{"$f":"'Project Cashflows'!JDD371","v":0},{"$f":"'Project Cashflows'!JDE371","v":0},{"$f":"'Project Cashflows'!JDF371","v":0},{"$f":"'Project Cashflows'!JDG371","v":0},{"$f":"'Project Cashflows'!JDH371","v":0},{"$f":"'Project Cashflows'!JDI371","v":0},{"$f":"'Project Cashflows'!JDJ371","v":0},{"$f":"'Project Cashflows'!JDK371","v":0},{"$f":"'Project Cashflows'!JDL371","v":0},{"$f":"'Project Cashflows'!JDM371","v":0},{"$f":"'Project Cashflows'!JDN371","v":0},{"$f":"'Project Cashflows'!JDO371","v":0},{"$f":"'Project Cashflows'!JDP371","v":0},{"$f":"'Project Cashflows'!JDQ371","v":0},{"$f":"'Project Cashflows'!JDR371","v":0},{"$f":"'Project Cashflows'!JDS371","v":0},{"$f":"'Project Cashflows'!JDT371","v":0},{"$f":"'Project Cashflows'!JDU371","v":0},{"$f":"'Project Cashflows'!JDV371","v":0},{"$f":"'Project Cashflows'!JDW371","v":0},{"$f":"'Project Cashflows'!JDX371","v":0},{"$f":"'Project Cashflows'!JDY371","v":0},{"$f":"'Project Cashflows'!JDZ371","v":0},{"$f":"'Project Cashflows'!JEA371","v":0},{"$f":"'Project Cashflows'!JEB371","v":0},{"$f":"'Project Cashflows'!JEC371","v":0},{"$f":"'Project Cashflows'!JED371","v":0},{"$f":"'Project Cashflows'!JEE371","v":0},{"$f":"'Project Cashflows'!JEF371","v":0},{"$f":"'Project Cashflows'!JEG371","v":0},{"$f":"'Project Cashflows'!JEH371","v":0},{"$f":"'Project Cashflows'!JEI371","v":0},{"$f":"'Project Cashflows'!JEJ371","v":0},{"$f":"'Project Cashflows'!JEK371","v":0},{"$f":"'Project Cashflows'!JEL371","v":0},{"$f":"'Project Cashflows'!JEM371","v":0},{"$f":"'Project Cashflows'!JEN371","v":0},{"$f":"'Project Cashflows'!JEO371","v":0},{"$f":"'Project Cashflows'!JEP371","v":0},{"$f":"'Project Cashflows'!JEQ371","v":0},{"$f":"'Project Cashflows'!JER371","v":0},{"$f":"'Project Cashflows'!JES371","v":0},{"$f":"'Project Cashflows'!JET371","v":0},{"$f":"'Project Cashflows'!JEU371","v":0},{"$f":"'Project Cashflows'!JEV371","v":0},{"$f":"'Project Cashflows'!JEW371","v":0},{"$f":"'Project Cashflows'!JEX371","v":0},{"$f":"'Project Cashflows'!JEY371","v":0},{"$f":"'Project Cashflows'!JEZ371","v":0},{"$f":"'Project Cashflows'!JFA371","v":0},{"$f":"'Project Cashflows'!JFB371","v":0},{"$f":"'Project Cashflows'!JFC371","v":0},{"$f":"'Project Cashflows'!JFD371","v":0},{"$f":"'Project Cashflows'!JFE371","v":0},{"$f":"'Project Cashflows'!JFF371","v":0},{"$f":"'Project Cashflows'!JFG371","v":0},{"$f":"'Project Cashflows'!JFH371","v":0},{"$f":"'Project Cashflows'!JFI371","v":0},{"$f":"'Project Cashflows'!JFJ371","v":0},{"$f":"'Project Cashflows'!JFK371","v":0},{"$f":"'Project Cashflows'!JFL371","v":0},{"$f":"'Project Cashflows'!JFM371","v":0},{"$f":"'Project Cashflows'!JFN371","v":0},{"$f":"'Project Cashflows'!JFO371","v":0},{"$f":"'Project Cashflows'!JFP371","v":0},{"$f":"'Project Cashflows'!JFQ371","v":0},{"$f":"'Project Cashflows'!JFR371","v":0},{"$f":"'Project Cashflows'!JFS371","v":0},{"$f":"'Project Cashflows'!JFT371","v":0},{"$f":"'Project Cashflows'!JFU371","v":0},{"$f":"'Project Cashflows'!JFV371","v":0},{"$f":"'Project Cashflows'!JFW371","v":0},{"$f":"'Project Cashflows'!JFX371","v":0},{"$f":"'Project Cashflows'!JFY371","v":0},{"$f":"'Project Cashflows'!JFZ371","v":0},{"$f":"'Project Cashflows'!JGA371","v":0},{"$f":"'Project Cashflows'!JGB371","v":0},{"$f":"'Project Cashflows'!JGC371","v":0},{"$f":"'Project Cashflows'!JGD371","v":0},{"$f":"'Project Cashflows'!JGE371","v":0},{"$f":"'Project Cashflows'!JGF371","v":0},{"$f":"'Project Cashflows'!JGG371","v":0},{"$f":"'Project Cashflows'!JGH371","v":0},{"$f":"'Project Cashflows'!JGI371","v":0},{"$f":"'Project Cashflows'!JGJ371","v":0},{"$f":"'Project Cashflows'!JGK371","v":0},{"$f":"'Project Cashflows'!JGL371","v":0},{"$f":"'Project Cashflows'!JGM371","v":0},{"$f":"'Project Cashflows'!JGN371","v":0},{"$f":"'Project Cashflows'!JGO371","v":0},{"$f":"'Project Cashflows'!JGP371","v":0},{"$f":"'Project Cashflows'!JGQ371","v":0},{"$f":"'Project Cashflows'!JGR371","v":0},{"$f":"'Project Cashflows'!JGS371","v":0},{"$f":"'Project Cashflows'!JGT371","v":0},{"$f":"'Project Cashflows'!JGU371","v":0},{"$f":"'Project Cashflows'!JGV371","v":0},{"$f":"'Project Cashflows'!JGW371","v":0},{"$f":"'Project Cashflows'!JGX371","v":0},{"$f":"'Project Cashflows'!JGY371","v":0},{"$f":"'Project Cashflows'!JGZ371","v":0},{"$f":"'Project Cashflows'!JHA371","v":0},{"$f":"'Project Cashflows'!JHB371","v":0},{"$f":"'Project Cashflows'!JHC371","v":0},{"$f":"'Project Cashflows'!JHD371","v":0},{"$f":"'Project Cashflows'!JHE371","v":0},{"$f":"'Project Cashflows'!JHF371","v":0},{"$f":"'Project Cashflows'!JHG371","v":0},{"$f":"'Project Cashflows'!JHH371","v":0},{"$f":"'Project Cashflows'!JHI371","v":0},{"$f":"'Project Cashflows'!JHJ371","v":0},{"$f":"'Project Cashflows'!JHK371","v":0},{"$f":"'Project Cashflows'!JHL371","v":0},{"$f":"'Project Cashflows'!JHM371","v":0},{"$f":"'Project Cashflows'!JHN371","v":0},{"$f":"'Project Cashflows'!JHO371","v":0},{"$f":"'Project Cashflows'!JHP371","v":0},{"$f":"'Project Cashflows'!JHQ371","v":0},{"$f":"'Project Cashflows'!JHR371","v":0},{"$f":"'Project Cashflows'!JHS371","v":0},{"$f":"'Project Cashflows'!JHT371","v":0},{"$f":"'Project Cashflows'!JHU371","v":0},{"$f":"'Project Cashflows'!JHV371","v":0},{"$f":"'Project Cashflows'!JHW371","v":0},{"$f":"'Project Cashflows'!JHX371","v":0},{"$f":"'Project Cashflows'!JHY371","v":0},{"$f":"'Project Cashflows'!JHZ371","v":0},{"$f":"'Project Cashflows'!JIA371","v":0},{"$f":"'Project Cashflows'!JIB371","v":0},{"$f":"'Project Cashflows'!JIC371","v":0},{"$f":"'Project Cashflows'!JID371","v":0},{"$f":"'Project Cashflows'!JIE371","v":0},{"$f":"'Project Cashflows'!JIF371","v":0},{"$f":"'Project Cashflows'!JIG371","v":0},{"$f":"'Project Cashflows'!JIH371","v":0},{"$f":"'Project Cashflows'!JII371","v":0},{"$f":"'Project Cashflows'!JIJ371","v":0},{"$f":"'Project Cashflows'!JIK371","v":0},{"$f":"'Project Cashflows'!JIL371","v":0},{"$f":"'Project Cashflows'!JIM371","v":0},{"$f":"'Project Cashflows'!JIN371","v":0},{"$f":"'Project Cashflows'!JIO371","v":0},{"$f":"'Project Cashflows'!JIP371","v":0},{"$f":"'Project Cashflows'!JIQ371","v":0},{"$f":"'Project Cashflows'!JIR371","v":0},{"$f":"'Project Cashflows'!JIS371","v":0},{"$f":"'Project Cashflows'!JIT371","v":0},{"$f":"'Project Cashflows'!JIU371","v":0},{"$f":"'Project Cashflows'!JIV371","v":0},{"$f":"'Project Cashflows'!JIW371","v":0},{"$f":"'Project Cashflows'!JIX371","v":0},{"$f":"'Project Cashflows'!JIY371","v":0},{"$f":"'Project Cashflows'!JIZ371","v":0},{"$f":"'Project Cashflows'!JJA371","v":0},{"$f":"'Project Cashflows'!JJB371","v":0},{"$f":"'Project Cashflows'!JJC371","v":0},{"$f":"'Project Cashflows'!JJD371","v":0},{"$f":"'Project Cashflows'!JJE371","v":0},{"$f":"'Project Cashflows'!JJF371","v":0},{"$f":"'Project Cashflows'!JJG371","v":0},{"$f":"'Project Cashflows'!JJH371","v":0},{"$f":"'Project Cashflows'!JJI371","v":0},{"$f":"'Project Cashflows'!JJJ371","v":0},{"$f":"'Project Cashflows'!JJK371","v":0},{"$f":"'Project Cashflows'!JJL371","v":0},{"$f":"'Project Cashflows'!JJM371","v":0},{"$f":"'Project Cashflows'!JJN371","v":0},{"$f":"'Project Cashflows'!JJO371","v":0},{"$f":"'Project Cashflows'!JJP371","v":0},{"$f":"'Project Cashflows'!JJQ371","v":0},{"$f":"'Project Cashflows'!JJR371","v":0},{"$f":"'Project Cashflows'!JJS371","v":0},{"$f":"'Project Cashflows'!JJT371","v":0},{"$f":"'Project Cashflows'!JJU371","v":0},{"$f":"'Project Cashflows'!JJV371","v":0},{"$f":"'Project Cashflows'!JJW371","v":0},{"$f":"'Project Cashflows'!JJX371","v":0},{"$f":"'Project Cashflows'!JJY371","v":0},{"$f":"'Project Cashflows'!JJZ371","v":0},{"$f":"'Project Cashflows'!JKA371","v":0},{"$f":"'Project Cashflows'!JKB371","v":0},{"$f":"'Project Cashflows'!JKC371","v":0},{"$f":"'Project Cashflows'!JKD371","v":0},{"$f":"'Project Cashflows'!JKE371","v":0},{"$f":"'Project Cashflows'!JKF371","v":0},{"$f":"'Project Cashflows'!JKG371","v":0},{"$f":"'Project Cashflows'!JKH371","v":0},{"$f":"'Project Cashflows'!JKI371","v":0},{"$f":"'Project Cashflows'!JKJ371","v":0},{"$f":"'Project Cashflows'!JKK371","v":0},{"$f":"'Project Cashflows'!JKL371","v":0},{"$f":"'Project Cashflows'!JKM371","v":0},{"$f":"'Project Cashflows'!JKN371","v":0},{"$f":"'Project Cashflows'!JKO371","v":0},{"$f":"'Project Cashflows'!JKP371","v":0},{"$f":"'Project Cashflows'!JKQ371","v":0},{"$f":"'Project Cashflows'!JKR371","v":0},{"$f":"'Project Cashflows'!JKS371","v":0},{"$f":"'Project Cashflows'!JKT371","v":0},{"$f":"'Project Cashflows'!JKU371","v":0},{"$f":"'Project Cashflows'!JKV371","v":0},{"$f":"'Project Cashflows'!JKW371","v":0},{"$f":"'Project Cashflows'!JKX371","v":0},{"$f":"'Project Cashflows'!JKY371","v":0},{"$f":"'Project Cashflows'!JKZ371","v":0},{"$f":"'Project Cashflows'!JLA371","v":0},{"$f":"'Project Cashflows'!JLB371","v":0},{"$f":"'Project Cashflows'!JLC371","v":0},{"$f":"'Project Cashflows'!JLD371","v":0},{"$f":"'Project Cashflows'!JLE371","v":0},{"$f":"'Project Cashflows'!JLF371","v":0},{"$f":"'Project Cashflows'!JLG371","v":0},{"$f":"'Project Cashflows'!JLH371","v":0},{"$f":"'Project Cashflows'!JLI371","v":0},{"$f":"'Project Cashflows'!JLJ371","v":0},{"$f":"'Project Cashflows'!JLK371","v":0},{"$f":"'Project Cashflows'!JLL371","v":0},{"$f":"'Project Cashflows'!JLM371","v":0},{"$f":"'Project Cashflows'!JLN371","v":0},{"$f":"'Project Cashflows'!JLO371","v":0},{"$f":"'Project Cashflows'!JLP371","v":0},{"$f":"'Project Cashflows'!JLQ371","v":0},{"$f":"'Project Cashflows'!JLR371","v":0},{"$f":"'Project Cashflows'!JLS371","v":0},{"$f":"'Project Cashflows'!JLT371","v":0},{"$f":"'Project Cashflows'!JLU371","v":0},{"$f":"'Project Cashflows'!JLV371","v":0},{"$f":"'Project Cashflows'!JLW371","v":0},{"$f":"'Project Cashflows'!JLX371","v":0},{"$f":"'Project Cashflows'!JLY371","v":0},{"$f":"'Project Cashflows'!JLZ371","v":0},{"$f":"'Project Cashflows'!JMA371","v":0},{"$f":"'Project Cashflows'!JMB371","v":0},{"$f":"'Project Cashflows'!JMC371","v":0},{"$f":"'Project Cashflows'!JMD371","v":0},{"$f":"'Project Cashflows'!JME371","v":0},{"$f":"'Project Cashflows'!JMF371","v":0},{"$f":"'Project Cashflows'!JMG371","v":0},{"$f":"'Project Cashflows'!JMH371","v":0},{"$f":"'Project Cashflows'!JMI371","v":0},{"$f":"'Project Cashflows'!JMJ371","v":0},{"$f":"'Project Cashflows'!JMK371","v":0},{"$f":"'Project Cashflows'!JML371","v":0},{"$f":"'Project Cashflows'!JMM371","v":0},{"$f":"'Project Cashflows'!JMN371","v":0},{"$f":"'Project Cashflows'!JMO371","v":0},{"$f":"'Project Cashflows'!JMP371","v":0},{"$f":"'Project Cashflows'!JMQ371","v":0},{"$f":"'Project Cashflows'!JMR371","v":0},{"$f":"'Project Cashflows'!JMS371","v":0},{"$f":"'Project Cashflows'!JMT371","v":0},{"$f":"'Project Cashflows'!JMU371","v":0},{"$f":"'Project Cashflows'!JMV371","v":0},{"$f":"'Project Cashflows'!JMW371","v":0},{"$f":"'Project Cashflows'!JMX371","v":0},{"$f":"'Project Cashflows'!JMY371","v":0},{"$f":"'Project Cashflows'!JMZ371","v":0},{"$f":"'Project Cashflows'!JNA371","v":0},{"$f":"'Project Cashflows'!JNB371","v":0},{"$f":"'Project Cashflows'!JNC371","v":0},{"$f":"'Project Cashflows'!JND371","v":0},{"$f":"'Project Cashflows'!JNE371","v":0},{"$f":"'Project Cashflows'!JNF371","v":0},{"$f":"'Project Cashflows'!JNG371","v":0},{"$f":"'Project Cashflows'!JNH371","v":0},{"$f":"'Project Cashflows'!JNI371","v":0},{"$f":"'Project Cashflows'!JNJ371","v":0},{"$f":"'Project Cashflows'!JNK371","v":0},{"$f":"'Project Cashflows'!JNL371","v":0},{"$f":"'Project Cashflows'!JNM371","v":0},{"$f":"'Project Cashflows'!JNN371","v":0},{"$f":"'Project Cashflows'!JNO371","v":0},{"$f":"'Project Cashflows'!JNP371","v":0},{"$f":"'Project Cashflows'!JNQ371","v":0},{"$f":"'Project Cashflows'!JNR371","v":0},{"$f":"'Project Cashflows'!JNS371","v":0},{"$f":"'Project Cashflows'!JNT371","v":0},{"$f":"'Project Cashflows'!JNU371","v":0},{"$f":"'Project Cashflows'!JNV371","v":0},{"$f":"'Project Cashflows'!JNW371","v":0},{"$f":"'Project Cashflows'!JNX371","v":0},{"$f":"'Project Cashflows'!JNY371","v":0},{"$f":"'Project Cashflows'!JNZ371","v":0},{"$f":"'Project Cashflows'!JOA371","v":0},{"$f":"'Project Cashflows'!JOB371","v":0},{"$f":"'Project Cashflows'!JOC371","v":0},{"$f":"'Project Cashflows'!JOD371","v":0},{"$f":"'Project Cashflows'!JOE371","v":0},{"$f":"'Project Cashflows'!JOF371","v":0},{"$f":"'Project Cashflows'!JOG371","v":0},{"$f":"'Project Cashflows'!JOH371","v":0},{"$f":"'Project Cashflows'!JOI371","v":0},{"$f":"'Project Cashflows'!JOJ371","v":0},{"$f":"'Project Cashflows'!JOK371","v":0},{"$f":"'Project Cashflows'!JOL371","v":0},{"$f":"'Project Cashflows'!JOM371","v":0},{"$f":"'Project Cashflows'!JON371","v":0},{"$f":"'Project Cashflows'!JOO371","v":0},{"$f":"'Project Cashflows'!JOP371","v":0},{"$f":"'Project Cashflows'!JOQ371","v":0},{"$f":"'Project Cashflows'!JOR371","v":0},{"$f":"'Project Cashflows'!JOS371","v":0},{"$f":"'Project Cashflows'!JOT371","v":0},{"$f":"'Project Cashflows'!JOU371","v":0},{"$f":"'Project Cashflows'!JOV371","v":0},{"$f":"'Project Cashflows'!JOW371","v":0},{"$f":"'Project Cashflows'!JOX371","v":0},{"$f":"'Project Cashflows'!JOY371","v":0},{"$f":"'Project Cashflows'!JOZ371","v":0},{"$f":"'Project Cashflows'!JPA371","v":0},{"$f":"'Project Cashflows'!JPB371","v":0},{"$f":"'Project Cashflows'!JPC371","v":0},{"$f":"'Project Cashflows'!JPD371","v":0},{"$f":"'Project Cashflows'!JPE371","v":0},{"$f":"'Project Cashflows'!JPF371","v":0},{"$f":"'Project Cashflows'!JPG371","v":0},{"$f":"'Project Cashflows'!JPH371","v":0},{"$f":"'Project Cashflows'!JPI371","v":0},{"$f":"'Project Cashflows'!JPJ371","v":0},{"$f":"'Project Cashflows'!JPK371","v":0},{"$f":"'Project Cashflows'!JPL371","v":0},{"$f":"'Project Cashflows'!JPM371","v":0},{"$f":"'Project Cashflows'!JPN371","v":0},{"$f":"'Project Cashflows'!JPO371","v":0},{"$f":"'Project Cashflows'!JPP371","v":0},{"$f":"'Project Cashflows'!JPQ371","v":0},{"$f":"'Project Cashflows'!JPR371","v":0},{"$f":"'Project Cashflows'!JPS371","v":0},{"$f":"'Project Cashflows'!JPT371","v":0},{"$f":"'Project Cashflows'!JPU371","v":0},{"$f":"'Project Cashflows'!JPV371","v":0},{"$f":"'Project Cashflows'!JPW371","v":0},{"$f":"'Project Cashflows'!JPX371","v":0},{"$f":"'Project Cashflows'!JPY371","v":0},{"$f":"'Project Cashflows'!JPZ371","v":0},{"$f":"'Project Cashflows'!JQA371","v":0},{"$f":"'Project Cashflows'!JQB371","v":0},{"$f":"'Project Cashflows'!JQC371","v":0},{"$f":"'Project Cashflows'!JQD371","v":0},{"$f":"'Project Cashflows'!JQE371","v":0},{"$f":"'Project Cashflows'!JQF371","v":0},{"$f":"'Project Cashflows'!JQG371","v":0},{"$f":"'Project Cashflows'!JQH371","v":0},{"$f":"'Project Cashflows'!JQI371","v":0},{"$f":"'Project Cashflows'!JQJ371","v":0},{"$f":"'Project Cashflows'!JQK371","v":0},{"$f":"'Project Cashflows'!JQL371","v":0},{"$f":"'Project Cashflows'!JQM371","v":0},{"$f":"'Project Cashflows'!JQN371","v":0},{"$f":"'Project Cashflows'!JQO371","v":0},{"$f":"'Project Cashflows'!JQP371","v":0},{"$f":"'Project Cashflows'!JQQ371","v":0},{"$f":"'Project Cashflows'!JQR371","v":0},{"$f":"'Project Cashflows'!JQS371","v":0},{"$f":"'Project Cashflows'!JQT371","v":0},{"$f":"'Project Cashflows'!JQU371","v":0},{"$f":"'Project Cashflows'!JQV371","v":0},{"$f":"'Project Cashflows'!JQW371","v":0},{"$f":"'Project Cashflows'!JQX371","v":0},{"$f":"'Project Cashflows'!JQY371","v":0},{"$f":"'Project Cashflows'!JQZ371","v":0},{"$f":"'Project Cashflows'!JRA371","v":0},{"$f":"'Project Cashflows'!JRB371","v":0},{"$f":"'Project Cashflows'!JRC371","v":0},{"$f":"'Project Cashflows'!JRD371","v":0},{"$f":"'Project Cashflows'!JRE371","v":0},{"$f":"'Project Cashflows'!JRF371","v":0},{"$f":"'Project Cashflows'!JRG371","v":0},{"$f":"'Project Cashflows'!JRH371","v":0},{"$f":"'Project Cashflows'!JRI371","v":0},{"$f":"'Project Cashflows'!JRJ371","v":0},{"$f":"'Project Cashflows'!JRK371","v":0},{"$f":"'Project Cashflows'!JRL371","v":0},{"$f":"'Project Cashflows'!JRM371","v":0},{"$f":"'Project Cashflows'!JRN371","v":0},{"$f":"'Project Cashflows'!JRO371","v":0},{"$f":"'Project Cashflows'!JRP371","v":0},{"$f":"'Project Cashflows'!JRQ371","v":0},{"$f":"'Project Cashflows'!JRR371","v":0},{"$f":"'Project Cashflows'!JRS371","v":0},{"$f":"'Project Cashflows'!JRT371","v":0},{"$f":"'Project Cashflows'!JRU371","v":0},{"$f":"'Project Cashflows'!JRV371","v":0},{"$f":"'Project Cashflows'!JRW371","v":0},{"$f":"'Project Cashflows'!JRX371","v":0},{"$f":"'Project Cashflows'!JRY371","v":0},{"$f":"'Project Cashflows'!JRZ371","v":0},{"$f":"'Project Cashflows'!JSA371","v":0},{"$f":"'Project Cashflows'!JSB371","v":0},{"$f":"'Project Cashflows'!JSC371","v":0},{"$f":"'Project Cashflows'!JSD371","v":0},{"$f":"'Project Cashflows'!JSE371","v":0},{"$f":"'Project Cashflows'!JSF371","v":0},{"$f":"'Project Cashflows'!JSG371","v":0},{"$f":"'Project Cashflows'!JSH371","v":0},{"$f":"'Project Cashflows'!JSI371","v":0},{"$f":"'Project Cashflows'!JSJ371","v":0},{"$f":"'Project Cashflows'!JSK371","v":0},{"$f":"'Project Cashflows'!JSL371","v":0},{"$f":"'Project Cashflows'!JSM371","v":0},{"$f":"'Project Cashflows'!JSN371","v":0},{"$f":"'Project Cashflows'!JSO371","v":0},{"$f":"'Project Cashflows'!JSP371","v":0},{"$f":"'Project Cashflows'!JSQ371","v":0},{"$f":"'Project Cashflows'!JSR371","v":0},{"$f":"'Project Cashflows'!JSS371","v":0},{"$f":"'Project Cashflows'!JST371","v":0},{"$f":"'Project Cashflows'!JSU371","v":0},{"$f":"'Project Cashflows'!JSV371","v":0},{"$f":"'Project Cashflows'!JSW371","v":0},{"$f":"'Project Cashflows'!JSX371","v":0},{"$f":"'Project Cashflows'!JSY371","v":0},{"$f":"'Project Cashflows'!JSZ371","v":0},{"$f":"'Project Cashflows'!JTA371","v":0},{"$f":"'Project Cashflows'!JTB371","v":0},{"$f":"'Project Cashflows'!JTC371","v":0},{"$f":"'Project Cashflows'!JTD371","v":0},{"$f":"'Project Cashflows'!JTE371","v":0},{"$f":"'Project Cashflows'!JTF371","v":0},{"$f":"'Project Cashflows'!JTG371","v":0},{"$f":"'Project Cashflows'!JTH371","v":0},{"$f":"'Project Cashflows'!JTI371","v":0},{"$f":"'Project Cashflows'!JTJ371","v":0},{"$f":"'Project Cashflows'!JTK371","v":0},{"$f":"'Project Cashflows'!JTL371","v":0},{"$f":"'Project Cashflows'!JTM371","v":0},{"$f":"'Project Cashflows'!JTN371","v":0},{"$f":"'Project Cashflows'!JTO371","v":0},{"$f":"'Project Cashflows'!JTP371","v":0},{"$f":"'Project Cashflows'!JTQ371","v":0},{"$f":"'Project Cashflows'!JTR371","v":0},{"$f":"'Project Cashflows'!JTS371","v":0},{"$f":"'Project Cashflows'!JTT371","v":0},{"$f":"'Project Cashflows'!JTU371","v":0},{"$f":"'Project Cashflows'!JTV371","v":0},{"$f":"'Project Cashflows'!JTW371","v":0},{"$f":"'Project Cashflows'!JTX371","v":0},{"$f":"'Project Cashflows'!JTY371","v":0},{"$f":"'Project Cashflows'!JTZ371","v":0},{"$f":"'Project Cashflows'!JUA371","v":0},{"$f":"'Project Cashflows'!JUB371","v":0},{"$f":"'Project Cashflows'!JUC371","v":0},{"$f":"'Project Cashflows'!JUD371","v":0},{"$f":"'Project Cashflows'!JUE371","v":0},{"$f":"'Project Cashflows'!JUF371","v":0},{"$f":"'Project Cashflows'!JUG371","v":0},{"$f":"'Project Cashflows'!JUH371","v":0},{"$f":"'Project Cashflows'!JUI371","v":0},{"$f":"'Project Cashflows'!JUJ371","v":0},{"$f":"'Project Cashflows'!JUK371","v":0},{"$f":"'Project Cashflows'!JUL371","v":0},{"$f":"'Project Cashflows'!JUM371","v":0},{"$f":"'Project Cashflows'!JUN371","v":0},{"$f":"'Project Cashflows'!JUO371","v":0},{"$f":"'Project Cashflows'!JUP371","v":0},{"$f":"'Project Cashflows'!JUQ371","v":0},{"$f":"'Project Cashflows'!JUR371","v":0},{"$f":"'Project Cashflows'!JUS371","v":0},{"$f":"'Project Cashflows'!JUT371","v":0},{"$f":"'Project Cashflows'!JUU371","v":0},{"$f":"'Project Cashflows'!JUV371","v":0},{"$f":"'Project Cashflows'!JUW371","v":0},{"$f":"'Project Cashflows'!JUX371","v":0},{"$f":"'Project Cashflows'!JUY371","v":0},{"$f":"'Project Cashflows'!JUZ371","v":0},{"$f":"'Project Cashflows'!JVA371","v":0},{"$f":"'Project Cashflows'!JVB371","v":0},{"$f":"'Project Cashflows'!JVC371","v":0},{"$f":"'Project Cashflows'!JVD371","v":0},{"$f":"'Project Cashflows'!JVE371","v":0},{"$f":"'Project Cashflows'!JVF371","v":0},{"$f":"'Project Cashflows'!JVG371","v":0},{"$f":"'Project Cashflows'!JVH371","v":0},{"$f":"'Project Cashflows'!JVI371","v":0},{"$f":"'Project Cashflows'!JVJ371","v":0},{"$f":"'Project Cashflows'!JVK371","v":0},{"$f":"'Project Cashflows'!JVL371","v":0},{"$f":"'Project Cashflows'!JVM371","v":0},{"$f":"'Project Cashflows'!JVN371","v":0},{"$f":"'Project Cashflows'!JVO371","v":0},{"$f":"'Project Cashflows'!JVP371","v":0},{"$f":"'Project Cashflows'!JVQ371","v":0},{"$f":"'Project Cashflows'!JVR371","v":0},{"$f":"'Project Cashflows'!JVS371","v":0},{"$f":"'Project Cashflows'!JVT371","v":0},{"$f":"'Project Cashflows'!JVU371","v":0},{"$f":"'Project Cashflows'!JVV371","v":0},{"$f":"'Project Cashflows'!JVW371","v":0},{"$f":"'Project Cashflows'!JVX371","v":0},{"$f":"'Project Cashflows'!JVY371","v":0},{"$f":"'Project Cashflows'!JVZ371","v":0},{"$f":"'Project Cashflows'!JWA371","v":0},{"$f":"'Project Cashflows'!JWB371","v":0},{"$f":"'Project Cashflows'!JWC371","v":0},{"$f":"'Project Cashflows'!JWD371","v":0},{"$f":"'Project Cashflows'!JWE371","v":0},{"$f":"'Project Cashflows'!JWF371","v":0},{"$f":"'Project Cashflows'!JWG371","v":0},{"$f":"'Project Cashflows'!JWH371","v":0},{"$f":"'Project Cashflows'!JWI371","v":0},{"$f":"'Project Cashflows'!JWJ371","v":0},{"$f":"'Project Cashflows'!JWK371","v":0},{"$f":"'Project Cashflows'!JWL371","v":0},{"$f":"'Project Cashflows'!JWM371","v":0},{"$f":"'Project Cashflows'!JWN371","v":0},{"$f":"'Project Cashflows'!JWO371","v":0},{"$f":"'Project Cashflows'!JWP371","v":0},{"$f":"'Project Cashflows'!JWQ371","v":0},{"$f":"'Project Cashflows'!JWR371","v":0},{"$f":"'Project Cashflows'!JWS371","v":0},{"$f":"'Project Cashflows'!JWT371","v":0},{"$f":"'Project Cashflows'!JWU371","v":0},{"$f":"'Project Cashflows'!JWV371","v":0},{"$f":"'Project Cashflows'!JWW371","v":0},{"$f":"'Project Cashflows'!JWX371","v":0},{"$f":"'Project Cashflows'!JWY371","v":0},{"$f":"'Project Cashflows'!JWZ371","v":0},{"$f":"'Project Cashflows'!JXA371","v":0},{"$f":"'Project Cashflows'!JXB371","v":0},{"$f":"'Project Cashflows'!JXC371","v":0},{"$f":"'Project Cashflows'!JXD371","v":0},{"$f":"'Project Cashflows'!JXE371","v":0},{"$f":"'Project Cashflows'!JXF371","v":0},{"$f":"'Project Cashflows'!JXG371","v":0},{"$f":"'Project Cashflows'!JXH371","v":0},{"$f":"'Project Cashflows'!JXI371","v":0},{"$f":"'Project Cashflows'!JXJ371","v":0},{"$f":"'Project Cashflows'!JXK371","v":0},{"$f":"'Project Cashflows'!JXL371","v":0},{"$f":"'Project Cashflows'!JXM371","v":0},{"$f":"'Project Cashflows'!JXN371","v":0},{"$f":"'Project Cashflows'!JXO371","v":0},{"$f":"'Project Cashflows'!JXP371","v":0},{"$f":"'Project Cashflows'!JXQ371","v":0},{"$f":"'Project Cashflows'!JXR371","v":0},{"$f":"'Project Cashflows'!JXS371","v":0},{"$f":"'Project Cashflows'!JXT371","v":0},{"$f":"'Project Cashflows'!JXU371","v":0},{"$f":"'Project Cashflows'!JXV371","v":0},{"$f":"'Project Cashflows'!JXW371","v":0},{"$f":"'Project Cashflows'!JXX371","v":0},{"$f":"'Project Cashflows'!JXY371","v":0},{"$f":"'Project Cashflows'!JXZ371","v":0},{"$f":"'Project Cashflows'!JYA371","v":0},{"$f":"'Project Cashflows'!JYB371","v":0},{"$f":"'Project Cashflows'!JYC371","v":0},{"$f":"'Project Cashflows'!JYD371","v":0},{"$f":"'Project Cashflows'!JYE371","v":0},{"$f":"'Project Cashflows'!JYF371","v":0},{"$f":"'Project Cashflows'!JYG371","v":0},{"$f":"'Project Cashflows'!JYH371","v":0},{"$f":"'Project Cashflows'!JYI371","v":0},{"$f":"'Project Cashflows'!JYJ371","v":0},{"$f":"'Project Cashflows'!JYK371","v":0},{"$f":"'Project Cashflows'!JYL371","v":0},{"$f":"'Project Cashflows'!JYM371","v":0},{"$f":"'Project Cashflows'!JYN371","v":0},{"$f":"'Project Cashflows'!JYO371","v":0},{"$f":"'Project Cashflows'!JYP371","v":0},{"$f":"'Project Cashflows'!JYQ371","v":0},{"$f":"'Project Cashflows'!JYR371","v":0},{"$f":"'Project Cashflows'!JYS371","v":0},{"$f":"'Project Cashflows'!JYT371","v":0},{"$f":"'Project Cashflows'!JYU371","v":0},{"$f":"'Project Cashflows'!JYV371","v":0},{"$f":"'Project Cashflows'!JYW371","v":0},{"$f":"'Project Cashflows'!JYX371","v":0},{"$f":"'Project Cashflows'!JYY371","v":0},{"$f":"'Project Cashflows'!JYZ371","v":0},{"$f":"'Project Cashflows'!JZA371","v":0},{"$f":"'Project Cashflows'!JZB371","v":0},{"$f":"'Project Cashflows'!JZC371","v":0},{"$f":"'Project Cashflows'!JZD371","v":0},{"$f":"'Project Cashflows'!JZE371","v":0},{"$f":"'Project Cashflows'!JZF371","v":0},{"$f":"'Project Cashflows'!JZG371","v":0},{"$f":"'Project Cashflows'!JZH371","v":0},{"$f":"'Project Cashflows'!JZI371","v":0},{"$f":"'Project Cashflows'!JZJ371","v":0},{"$f":"'Project Cashflows'!JZK371","v":0},{"$f":"'Project Cashflows'!JZL371","v":0},{"$f":"'Project Cashflows'!JZM371","v":0},{"$f":"'Project Cashflows'!JZN371","v":0},{"$f":"'Project Cashflows'!JZO371","v":0},{"$f":"'Project Cashflows'!JZP371","v":0},{"$f":"'Project Cashflows'!JZQ371","v":0},{"$f":"'Project Cashflows'!JZR371","v":0},{"$f":"'Project Cashflows'!JZS371","v":0},{"$f":"'Project Cashflows'!JZT371","v":0},{"$f":"'Project Cashflows'!JZU371","v":0},{"$f":"'Project Cashflows'!JZV371","v":0},{"$f":"'Project Cashflows'!JZW371","v":0},{"$f":"'Project Cashflows'!JZX371","v":0},{"$f":"'Project Cashflows'!JZY371","v":0},{"$f":"'Project Cashflows'!JZZ371","v":0},{"$f":"'Project Cashflows'!KAA371","v":0},{"$f":"'Project Cashflows'!KAB371","v":0},{"$f":"'Project Cashflows'!KAC371","v":0},{"$f":"'Project Cashflows'!KAD371","v":0},{"$f":"'Project Cashflows'!KAE371","v":0},{"$f":"'Project Cashflows'!KAF371","v":0},{"$f":"'Project Cashflows'!KAG371","v":0},{"$f":"'Project Cashflows'!KAH371","v":0},{"$f":"'Project Cashflows'!KAI371","v":0},{"$f":"'Project Cashflows'!KAJ371","v":0},{"$f":"'Project Cashflows'!KAK371","v":0},{"$f":"'Project Cashflows'!KAL371","v":0},{"$f":"'Project Cashflows'!KAM371","v":0},{"$f":"'Project Cashflows'!KAN371","v":0},{"$f":"'Project Cashflows'!KAO371","v":0},{"$f":"'Project Cashflows'!KAP371","v":0},{"$f":"'Project Cashflows'!KAQ371","v":0},{"$f":"'Project Cashflows'!KAR371","v":0},{"$f":"'Project Cashflows'!KAS371","v":0},{"$f":"'Project Cashflows'!KAT371","v":0},{"$f":"'Project Cashflows'!KAU371","v":0},{"$f":"'Project Cashflows'!KAV371","v":0},{"$f":"'Project Cashflows'!KAW371","v":0},{"$f":"'Project Cashflows'!KAX371","v":0},{"$f":"'Project Cashflows'!KAY371","v":0},{"$f":"'Project Cashflows'!KAZ371","v":0},{"$f":"'Project Cashflows'!KBA371","v":0},{"$f":"'Project Cashflows'!KBB371","v":0},{"$f":"'Project Cashflows'!KBC371","v":0},{"$f":"'Project Cashflows'!KBD371","v":0},{"$f":"'Project Cashflows'!KBE371","v":0},{"$f":"'Project Cashflows'!KBF371","v":0},{"$f":"'Project Cashflows'!KBG371","v":0},{"$f":"'Project Cashflows'!KBH371","v":0},{"$f":"'Project Cashflows'!KBI371","v":0},{"$f":"'Project Cashflows'!KBJ371","v":0},{"$f":"'Project Cashflows'!KBK371","v":0},{"$f":"'Project Cashflows'!KBL371","v":0},{"$f":"'Project Cashflows'!KBM371","v":0},{"$f":"'Project Cashflows'!KBN371","v":0},{"$f":"'Project Cashflows'!KBO371","v":0},{"$f":"'Project Cashflows'!KBP371","v":0},{"$f":"'Project Cashflows'!KBQ371","v":0},{"$f":"'Project Cashflows'!KBR371","v":0},{"$f":"'Project Cashflows'!KBS371","v":0},{"$f":"'Project Cashflows'!KBT371","v":0},{"$f":"'Project Cashflows'!KBU371","v":0},{"$f":"'Project Cashflows'!KBV371","v":0},{"$f":"'Project Cashflows'!KBW371","v":0},{"$f":"'Project Cashflows'!KBX371","v":0},{"$f":"'Project Cashflows'!KBY371","v":0},{"$f":"'Project Cashflows'!KBZ371","v":0},{"$f":"'Project Cashflows'!KCA371","v":0},{"$f":"'Project Cashflows'!KCB371","v":0},{"$f":"'Project Cashflows'!KCC371","v":0},{"$f":"'Project Cashflows'!KCD371","v":0},{"$f":"'Project Cashflows'!KCE371","v":0},{"$f":"'Project Cashflows'!KCF371","v":0},{"$f":"'Project Cashflows'!KCG371","v":0},{"$f":"'Project Cashflows'!KCH371","v":0},{"$f":"'Project Cashflows'!KCI371","v":0},{"$f":"'Project Cashflows'!KCJ371","v":0},{"$f":"'Project Cashflows'!KCK371","v":0},{"$f":"'Project Cashflows'!KCL371","v":0},{"$f":"'Project Cashflows'!KCM371","v":0},{"$f":"'Project Cashflows'!KCN371","v":0},{"$f":"'Project Cashflows'!KCO371","v":0},{"$f":"'Project Cashflows'!KCP371","v":0},{"$f":"'Project Cashflows'!KCQ371","v":0},{"$f":"'Project Cashflows'!KCR371","v":0},{"$f":"'Project Cashflows'!KCS371","v":0},{"$f":"'Project Cashflows'!KCT371","v":0},{"$f":"'Project Cashflows'!KCU371","v":0},{"$f":"'Project Cashflows'!KCV371","v":0},{"$f":"'Project Cashflows'!KCW371","v":0},{"$f":"'Project Cashflows'!KCX371","v":0},{"$f":"'Project Cashflows'!KCY371","v":0},{"$f":"'Project Cashflows'!KCZ371","v":0},{"$f":"'Project Cashflows'!KDA371","v":0},{"$f":"'Project Cashflows'!KDB371","v":0},{"$f":"'Project Cashflows'!KDC371","v":0},{"$f":"'Project Cashflows'!KDD371","v":0},{"$f":"'Project Cashflows'!KDE371","v":0},{"$f":"'Project Cashflows'!KDF371","v":0},{"$f":"'Project Cashflows'!KDG371","v":0},{"$f":"'Project Cashflows'!KDH371","v":0},{"$f":"'Project Cashflows'!KDI371","v":0},{"$f":"'Project Cashflows'!KDJ371","v":0},{"$f":"'Project Cashflows'!KDK371","v":0},{"$f":"'Project Cashflows'!KDL371","v":0},{"$f":"'Project Cashflows'!KDM371","v":0},{"$f":"'Project Cashflows'!KDN371","v":0},{"$f":"'Project Cashflows'!KDO371","v":0},{"$f":"'Project Cashflows'!KDP371","v":0},{"$f":"'Project Cashflows'!KDQ371","v":0},{"$f":"'Project Cashflows'!KDR371","v":0},{"$f":"'Project Cashflows'!KDS371","v":0},{"$f":"'Project Cashflows'!KDT371","v":0},{"$f":"'Project Cashflows'!KDU371","v":0},{"$f":"'Project Cashflows'!KDV371","v":0},{"$f":"'Project Cashflows'!KDW371","v":0},{"$f":"'Project Cashflows'!KDX371","v":0},{"$f":"'Project Cashflows'!KDY371","v":0},{"$f":"'Project Cashflows'!KDZ371","v":0},{"$f":"'Project Cashflows'!KEA371","v":0},{"$f":"'Project Cashflows'!KEB371","v":0},{"$f":"'Project Cashflows'!KEC371","v":0},{"$f":"'Project Cashflows'!KED371","v":0},{"$f":"'Project Cashflows'!KEE371","v":0},{"$f":"'Project Cashflows'!KEF371","v":0},{"$f":"'Project Cashflows'!KEG371","v":0},{"$f":"'Project Cashflows'!KEH371","v":0},{"$f":"'Project Cashflows'!KEI371","v":0},{"$f":"'Project Cashflows'!KEJ371","v":0},{"$f":"'Project Cashflows'!KEK371","v":0},{"$f":"'Project Cashflows'!KEL371","v":0},{"$f":"'Project Cashflows'!KEM371","v":0},{"$f":"'Project Cashflows'!KEN371","v":0},{"$f":"'Project Cashflows'!KEO371","v":0},{"$f":"'Project Cashflows'!KEP371","v":0},{"$f":"'Project Cashflows'!KEQ371","v":0},{"$f":"'Project Cashflows'!KER371","v":0},{"$f":"'Project Cashflows'!KES371","v":0},{"$f":"'Project Cashflows'!KET371","v":0},{"$f":"'Project Cashflows'!KEU371","v":0},{"$f":"'Project Cashflows'!KEV371","v":0},{"$f":"'Project Cashflows'!KEW371","v":0},{"$f":"'Project Cashflows'!KEX371","v":0},{"$f":"'Project Cashflows'!KEY371","v":0},{"$f":"'Project Cashflows'!KEZ371","v":0},{"$f":"'Project Cashflows'!KFA371","v":0},{"$f":"'Project Cashflows'!KFB371","v":0},{"$f":"'Project Cashflows'!KFC371","v":0},{"$f":"'Project Cashflows'!KFD371","v":0},{"$f":"'Project Cashflows'!KFE371","v":0},{"$f":"'Project Cashflows'!KFF371","v":0},{"$f":"'Project Cashflows'!KFG371","v":0},{"$f":"'Project Cashflows'!KFH371","v":0},{"$f":"'Project Cashflows'!KFI371","v":0},{"$f":"'Project Cashflows'!KFJ371","v":0},{"$f":"'Project Cashflows'!KFK371","v":0},{"$f":"'Project Cashflows'!KFL371","v":0},{"$f":"'Project Cashflows'!KFM371","v":0},{"$f":"'Project Cashflows'!KFN371","v":0},{"$f":"'Project Cashflows'!KFO371","v":0},{"$f":"'Project Cashflows'!KFP371","v":0},{"$f":"'Project Cashflows'!KFQ371","v":0},{"$f":"'Project Cashflows'!KFR371","v":0},{"$f":"'Project Cashflows'!KFS371","v":0},{"$f":"'Project Cashflows'!KFT371","v":0},{"$f":"'Project Cashflows'!KFU371","v":0},{"$f":"'Project Cashflows'!KFV371","v":0},{"$f":"'Project Cashflows'!KFW371","v":0},{"$f":"'Project Cashflows'!KFX371","v":0},{"$f":"'Project Cashflows'!KFY371","v":0},{"$f":"'Project Cashflows'!KFZ371","v":0},{"$f":"'Project Cashflows'!KGA371","v":0},{"$f":"'Project Cashflows'!KGB371","v":0},{"$f":"'Project Cashflows'!KGC371","v":0},{"$f":"'Project Cashflows'!KGD371","v":0},{"$f":"'Project Cashflows'!KGE371","v":0},{"$f":"'Project Cashflows'!KGF371","v":0},{"$f":"'Project Cashflows'!KGG371","v":0},{"$f":"'Project Cashflows'!KGH371","v":0},{"$f":"'Project Cashflows'!KGI371","v":0},{"$f":"'Project Cashflows'!KGJ371","v":0},{"$f":"'Project Cashflows'!KGK371","v":0},{"$f":"'Project Cashflows'!KGL371","v":0},{"$f":"'Project Cashflows'!KGM371","v":0},{"$f":"'Project Cashflows'!KGN371","v":0},{"$f":"'Project Cashflows'!KGO371","v":0},{"$f":"'Project Cashflows'!KGP371","v":0},{"$f":"'Project Cashflows'!KGQ371","v":0},{"$f":"'Project Cashflows'!KGR371","v":0},{"$f":"'Project Cashflows'!KGS371","v":0},{"$f":"'Project Cashflows'!KGT371","v":0},{"$f":"'Project Cashflows'!KGU371","v":0},{"$f":"'Project Cashflows'!KGV371","v":0},{"$f":"'Project Cashflows'!KGW371","v":0},{"$f":"'Project Cashflows'!KGX371","v":0},{"$f":"'Project Cashflows'!KGY371","v":0},{"$f":"'Project Cashflows'!KGZ371","v":0},{"$f":"'Project Cashflows'!KHA371","v":0},{"$f":"'Project Cashflows'!KHB371","v":0},{"$f":"'Project Cashflows'!KHC371","v":0},{"$f":"'Project Cashflows'!KHD371","v":0},{"$f":"'Project Cashflows'!KHE371","v":0},{"$f":"'Project Cashflows'!KHF371","v":0},{"$f":"'Project Cashflows'!KHG371","v":0},{"$f":"'Project Cashflows'!KHH371","v":0},{"$f":"'Project Cashflows'!KHI371","v":0},{"$f":"'Project Cashflows'!KHJ371","v":0},{"$f":"'Project Cashflows'!KHK371","v":0},{"$f":"'Project Cashflows'!KHL371","v":0},{"$f":"'Project Cashflows'!KHM371","v":0},{"$f":"'Project Cashflows'!KHN371","v":0},{"$f":"'Project Cashflows'!KHO371","v":0},{"$f":"'Project Cashflows'!KHP371","v":0},{"$f":"'Project Cashflows'!KHQ371","v":0},{"$f":"'Project Cashflows'!KHR371","v":0},{"$f":"'Project Cashflows'!KHS371","v":0},{"$f":"'Project Cashflows'!KHT371","v":0},{"$f":"'Project Cashflows'!KHU371","v":0},{"$f":"'Project Cashflows'!KHV371","v":0},{"$f":"'Project Cashflows'!KHW371","v":0},{"$f":"'Project Cashflows'!KHX371","v":0},{"$f":"'Project Cashflows'!KHY371","v":0},{"$f":"'Project Cashflows'!KHZ371","v":0},{"$f":"'Project Cashflows'!KIA371","v":0},{"$f":"'Project Cashflows'!KIB371","v":0},{"$f":"'Project Cashflows'!KIC371","v":0},{"$f":"'Project Cashflows'!KID371","v":0},{"$f":"'Project Cashflows'!KIE371","v":0},{"$f":"'Project Cashflows'!KIF371","v":0},{"$f":"'Project Cashflows'!KIG371","v":0},{"$f":"'Project Cashflows'!KIH371","v":0},{"$f":"'Project Cashflows'!KII371","v":0},{"$f":"'Project Cashflows'!KIJ371","v":0},{"$f":"'Project Cashflows'!KIK371","v":0},{"$f":"'Project Cashflows'!KIL371","v":0},{"$f":"'Project Cashflows'!KIM371","v":0},{"$f":"'Project Cashflows'!KIN371","v":0},{"$f":"'Project Cashflows'!KIO371","v":0},{"$f":"'Project Cashflows'!KIP371","v":0},{"$f":"'Project Cashflows'!KIQ371","v":0},{"$f":"'Project Cashflows'!KIR371","v":0},{"$f":"'Project Cashflows'!KIS371","v":0},{"$f":"'Project Cashflows'!KIT371","v":0},{"$f":"'Project Cashflows'!KIU371","v":0},{"$f":"'Project Cashflows'!KIV371","v":0},{"$f":"'Project Cashflows'!KIW371","v":0},{"$f":"'Project Cashflows'!KIX371","v":0},{"$f":"'Project Cashflows'!KIY371","v":0},{"$f":"'Project Cashflows'!KIZ371","v":0},{"$f":"'Project Cashflows'!KJA371","v":0},{"$f":"'Project Cashflows'!KJB371","v":0},{"$f":"'Project Cashflows'!KJC371","v":0},{"$f":"'Project Cashflows'!KJD371","v":0},{"$f":"'Project Cashflows'!KJE371","v":0},{"$f":"'Project Cashflows'!KJF371","v":0},{"$f":"'Project Cashflows'!KJG371","v":0},{"$f":"'Project Cashflows'!KJH371","v":0},{"$f":"'Project Cashflows'!KJI371","v":0},{"$f":"'Project Cashflows'!KJJ371","v":0},{"$f":"'Project Cashflows'!KJK371","v":0},{"$f":"'Project Cashflows'!KJL371","v":0},{"$f":"'Project Cashflows'!KJM371","v":0},{"$f":"'Project Cashflows'!KJN371","v":0},{"$f":"'Project Cashflows'!KJO371","v":0},{"$f":"'Project Cashflows'!KJP371","v":0},{"$f":"'Project Cashflows'!KJQ371","v":0},{"$f":"'Project Cashflows'!KJR371","v":0},{"$f":"'Project Cashflows'!KJS371","v":0},{"$f":"'Project Cashflows'!KJT371","v":0},{"$f":"'Project Cashflows'!KJU371","v":0},{"$f":"'Project Cashflows'!KJV371","v":0},{"$f":"'Project Cashflows'!KJW371","v":0},{"$f":"'Project Cashflows'!KJX371","v":0},{"$f":"'Project Cashflows'!KJY371","v":0},{"$f":"'Project Cashflows'!KJZ371","v":0},{"$f":"'Project Cashflows'!KKA371","v":0},{"$f":"'Project Cashflows'!KKB371","v":0},{"$f":"'Project Cashflows'!KKC371","v":0},{"$f":"'Project Cashflows'!KKD371","v":0},{"$f":"'Project Cashflows'!KKE371","v":0},{"$f":"'Project Cashflows'!KKF371","v":0},{"$f":"'Project Cashflows'!KKG371","v":0},{"$f":"'Project Cashflows'!KKH371","v":0},{"$f":"'Project Cashflows'!KKI371","v":0},{"$f":"'Project Cashflows'!KKJ371","v":0},{"$f":"'Project Cashflows'!KKK371","v":0},{"$f":"'Project Cashflows'!KKL371","v":0},{"$f":"'Project Cashflows'!KKM371","v":0},{"$f":"'Project Cashflows'!KKN371","v":0},{"$f":"'Project Cashflows'!KKO371","v":0},{"$f":"'Project Cashflows'!KKP371","v":0},{"$f":"'Project Cashflows'!KKQ371","v":0},{"$f":"'Project Cashflows'!KKR371","v":0},{"$f":"'Project Cashflows'!KKS371","v":0},{"$f":"'Project Cashflows'!KKT371","v":0},{"$f":"'Project Cashflows'!KKU371","v":0},{"$f":"'Project Cashflows'!KKV371","v":0},{"$f":"'Project Cashflows'!KKW371","v":0},{"$f":"'Project Cashflows'!KKX371","v":0},{"$f":"'Project Cashflows'!KKY371","v":0},{"$f":"'Project Cashflows'!KKZ371","v":0},{"$f":"'Project Cashflows'!KLA371","v":0},{"$f":"'Project Cashflows'!KLB371","v":0},{"$f":"'Project Cashflows'!KLC371","v":0},{"$f":"'Project Cashflows'!KLD371","v":0},{"$f":"'Project Cashflows'!KLE371","v":0},{"$f":"'Project Cashflows'!KLF371","v":0},{"$f":"'Project Cashflows'!KLG371","v":0},{"$f":"'Project Cashflows'!KLH371","v":0},{"$f":"'Project Cashflows'!KLI371","v":0},{"$f":"'Project Cashflows'!KLJ371","v":0},{"$f":"'Project Cashflows'!KLK371","v":0},{"$f":"'Project Cashflows'!KLL371","v":0},{"$f":"'Project Cashflows'!KLM371","v":0},{"$f":"'Project Cashflows'!KLN371","v":0},{"$f":"'Project Cashflows'!KLO371","v":0},{"$f":"'Project Cashflows'!KLP371","v":0},{"$f":"'Project Cashflows'!KLQ371","v":0},{"$f":"'Project Cashflows'!KLR371","v":0},{"$f":"'Project Cashflows'!KLS371","v":0},{"$f":"'Project Cashflows'!KLT371","v":0},{"$f":"'Project Cashflows'!KLU371","v":0},{"$f":"'Project Cashflows'!KLV371","v":0},{"$f":"'Project Cashflows'!KLW371","v":0},{"$f":"'Project Cashflows'!KLX371","v":0},{"$f":"'Project Cashflows'!KLY371","v":0},{"$f":"'Project Cashflows'!KLZ371","v":0},{"$f":"'Project Cashflows'!KMA371","v":0},{"$f":"'Project Cashflows'!KMB371","v":0},{"$f":"'Project Cashflows'!KMC371","v":0},{"$f":"'Project Cashflows'!KMD371","v":0},{"$f":"'Project Cashflows'!KME371","v":0},{"$f":"'Project Cashflows'!KMF371","v":0},{"$f":"'Project Cashflows'!KMG371","v":0},{"$f":"'Project Cashflows'!KMH371","v":0},{"$f":"'Project Cashflows'!KMI371","v":0},{"$f":"'Project Cashflows'!KMJ371","v":0},{"$f":"'Project Cashflows'!KMK371","v":0},{"$f":"'Project Cashflows'!KML371","v":0},{"$f":"'Project Cashflows'!KMM371","v":0},{"$f":"'Project Cashflows'!KMN371","v":0},{"$f":"'Project Cashflows'!KMO371","v":0},{"$f":"'Project Cashflows'!KMP371","v":0},{"$f":"'Project Cashflows'!KMQ371","v":0},{"$f":"'Project Cashflows'!KMR371","v":0},{"$f":"'Project Cashflows'!KMS371","v":0},{"$f":"'Project Cashflows'!KMT371","v":0},{"$f":"'Project Cashflows'!KMU371","v":0},{"$f":"'Project Cashflows'!KMV371","v":0},{"$f":"'Project Cashflows'!KMW371","v":0},{"$f":"'Project Cashflows'!KMX371","v":0},{"$f":"'Project Cashflows'!KMY371","v":0},{"$f":"'Project Cashflows'!KMZ371","v":0},{"$f":"'Project Cashflows'!KNA371","v":0},{"$f":"'Project Cashflows'!KNB371","v":0},{"$f":"'Project Cashflows'!KNC371","v":0},{"$f":"'Project Cashflows'!KND371","v":0},{"$f":"'Project Cashflows'!KNE371","v":0},{"$f":"'Project Cashflows'!KNF371","v":0},{"$f":"'Project Cashflows'!KNG371","v":0},{"$f":"'Project Cashflows'!KNH371","v":0},{"$f":"'Project Cashflows'!KNI371","v":0},{"$f":"'Project Cashflows'!KNJ371","v":0},{"$f":"'Project Cashflows'!KNK371","v":0},{"$f":"'Project Cashflows'!KNL371","v":0},{"$f":"'Project Cashflows'!KNM371","v":0},{"$f":"'Project Cashflows'!KNN371","v":0},{"$f":"'Project Cashflows'!KNO371","v":0},{"$f":"'Project Cashflows'!KNP371","v":0},{"$f":"'Project Cashflows'!KNQ371","v":0},{"$f":"'Project Cashflows'!KNR371","v":0},{"$f":"'Project Cashflows'!KNS371","v":0},{"$f":"'Project Cashflows'!KNT371","v":0},{"$f":"'Project Cashflows'!KNU371","v":0},{"$f":"'Project Cashflows'!KNV371","v":0},{"$f":"'Project Cashflows'!KNW371","v":0},{"$f":"'Project Cashflows'!KNX371","v":0},{"$f":"'Project Cashflows'!KNY371","v":0},{"$f":"'Project Cashflows'!KNZ371","v":0},{"$f":"'Project Cashflows'!KOA371","v":0},{"$f":"'Project Cashflows'!KOB371","v":0},{"$f":"'Project Cashflows'!KOC371","v":0},{"$f":"'Project Cashflows'!KOD371","v":0},{"$f":"'Project Cashflows'!KOE371","v":0},{"$f":"'Project Cashflows'!KOF371","v":0},{"$f":"'Project Cashflows'!KOG371","v":0},{"$f":"'Project Cashflows'!KOH371","v":0},{"$f":"'Project Cashflows'!KOI371","v":0},{"$f":"'Project Cashflows'!KOJ371","v":0},{"$f":"'Project Cashflows'!KOK371","v":0},{"$f":"'Project Cashflows'!KOL371","v":0},{"$f":"'Project Cashflows'!KOM371","v":0},{"$f":"'Project Cashflows'!KON371","v":0},{"$f":"'Project Cashflows'!KOO371","v":0},{"$f":"'Project Cashflows'!KOP371","v":0},{"$f":"'Project Cashflows'!KOQ371","v":0},{"$f":"'Project Cashflows'!KOR371","v":0},{"$f":"'Project Cashflows'!KOS371","v":0},{"$f":"'Project Cashflows'!KOT371","v":0},{"$f":"'Project Cashflows'!KOU371","v":0},{"$f":"'Project Cashflows'!KOV371","v":0},{"$f":"'Project Cashflows'!KOW371","v":0},{"$f":"'Project Cashflows'!KOX371","v":0},{"$f":"'Project Cashflows'!KOY371","v":0},{"$f":"'Project Cashflows'!KOZ371","v":0},{"$f":"'Project Cashflows'!KPA371","v":0},{"$f":"'Project Cashflows'!KPB371","v":0},{"$f":"'Project Cashflows'!KPC371","v":0},{"$f":"'Project Cashflows'!KPD371","v":0},{"$f":"'Project Cashflows'!KPE371","v":0},{"$f":"'Project Cashflows'!KPF371","v":0},{"$f":"'Project Cashflows'!KPG371","v":0},{"$f":"'Project Cashflows'!KPH371","v":0},{"$f":"'Project Cashflows'!KPI371","v":0},{"$f":"'Project Cashflows'!KPJ371","v":0},{"$f":"'Project Cashflows'!KPK371","v":0},{"$f":"'Project Cashflows'!KPL371","v":0},{"$f":"'Project Cashflows'!KPM371","v":0},{"$f":"'Project Cashflows'!KPN371","v":0},{"$f":"'Project Cashflows'!KPO371","v":0},{"$f":"'Project Cashflows'!KPP371","v":0},{"$f":"'Project Cashflows'!KPQ371","v":0},{"$f":"'Project Cashflows'!KPR371","v":0},{"$f":"'Project Cashflows'!KPS371","v":0},{"$f":"'Project Cashflows'!KPT371","v":0},{"$f":"'Project Cashflows'!KPU371","v":0},{"$f":"'Project Cashflows'!KPV371","v":0},{"$f":"'Project Cashflows'!KPW371","v":0},{"$f":"'Project Cashflows'!KPX371","v":0},{"$f":"'Project Cashflows'!KPY371","v":0},{"$f":"'Project Cashflows'!KPZ371","v":0},{"$f":"'Project Cashflows'!KQA371","v":0},{"$f":"'Project Cashflows'!KQB371","v":0},{"$f":"'Project Cashflows'!KQC371","v":0},{"$f":"'Project Cashflows'!KQD371","v":0},{"$f":"'Project Cashflows'!KQE371","v":0},{"$f":"'Project Cashflows'!KQF371","v":0},{"$f":"'Project Cashflows'!KQG371","v":0},{"$f":"'Project Cashflows'!KQH371","v":0},{"$f":"'Project Cashflows'!KQI371","v":0},{"$f":"'Project Cashflows'!KQJ371","v":0},{"$f":"'Project Cashflows'!KQK371","v":0},{"$f":"'Project Cashflows'!KQL371","v":0},{"$f":"'Project Cashflows'!KQM371","v":0},{"$f":"'Project Cashflows'!KQN371","v":0},{"$f":"'Project Cashflows'!KQO371","v":0},{"$f":"'Project Cashflows'!KQP371","v":0},{"$f":"'Project Cashflows'!KQQ371","v":0},{"$f":"'Project Cashflows'!KQR371","v":0},{"$f":"'Project Cashflows'!KQS371","v":0},{"$f":"'Project Cashflows'!KQT371","v":0},{"$f":"'Project Cashflows'!KQU371","v":0},{"$f":"'Project Cashflows'!KQV371","v":0},{"$f":"'Project Cashflows'!KQW371","v":0},{"$f":"'Project Cashflows'!KQX371","v":0},{"$f":"'Project Cashflows'!KQY371","v":0},{"$f":"'Project Cashflows'!KQZ371","v":0},{"$f":"'Project Cashflows'!KRA371","v":0},{"$f":"'Project Cashflows'!KRB371","v":0},{"$f":"'Project Cashflows'!KRC371","v":0},{"$f":"'Project Cashflows'!KRD371","v":0},{"$f":"'Project Cashflows'!KRE371","v":0},{"$f":"'Project Cashflows'!KRF371","v":0},{"$f":"'Project Cashflows'!KRG371","v":0},{"$f":"'Project Cashflows'!KRH371","v":0},{"$f":"'Project Cashflows'!KRI371","v":0},{"$f":"'Project Cashflows'!KRJ371","v":0},{"$f":"'Project Cashflows'!KRK371","v":0},{"$f":"'Project Cashflows'!KRL371","v":0},{"$f":"'Project Cashflows'!KRM371","v":0},{"$f":"'Project Cashflows'!KRN371","v":0},{"$f":"'Project Cashflows'!KRO371","v":0},{"$f":"'Project Cashflows'!KRP371","v":0},{"$f":"'Project Cashflows'!KRQ371","v":0},{"$f":"'Project Cashflows'!KRR371","v":0},{"$f":"'Project Cashflows'!KRS371","v":0},{"$f":"'Project Cashflows'!KRT371","v":0},{"$f":"'Project Cashflows'!KRU371","v":0},{"$f":"'Project Cashflows'!KRV371","v":0},{"$f":"'Project Cashflows'!KRW371","v":0},{"$f":"'Project Cashflows'!KRX371","v":0},{"$f":"'Project Cashflows'!KRY371","v":0},{"$f":"'Project Cashflows'!KRZ371","v":0},{"$f":"'Project Cashflows'!KSA371","v":0},{"$f":"'Project Cashflows'!KSB371","v":0},{"$f":"'Project Cashflows'!KSC371","v":0},{"$f":"'Project Cashflows'!KSD371","v":0},{"$f":"'Project Cashflows'!KSE371","v":0},{"$f":"'Project Cashflows'!KSF371","v":0},{"$f":"'Project Cashflows'!KSG371","v":0},{"$f":"'Project Cashflows'!KSH371","v":0},{"$f":"'Project Cashflows'!KSI371","v":0},{"$f":"'Project Cashflows'!KSJ371","v":0},{"$f":"'Project Cashflows'!KSK371","v":0},{"$f":"'Project Cashflows'!KSL371","v":0},{"$f":"'Project Cashflows'!KSM371","v":0},{"$f":"'Project Cashflows'!KSN371","v":0},{"$f":"'Project Cashflows'!KSO371","v":0},{"$f":"'Project Cashflows'!KSP371","v":0},{"$f":"'Project Cashflows'!KSQ371","v":0},{"$f":"'Project Cashflows'!KSR371","v":0},{"$f":"'Project Cashflows'!KSS371","v":0},{"$f":"'Project Cashflows'!KST371","v":0},{"$f":"'Project Cashflows'!KSU371","v":0},{"$f":"'Project Cashflows'!KSV371","v":0},{"$f":"'Project Cashflows'!KSW371","v":0},{"$f":"'Project Cashflows'!KSX371","v":0},{"$f":"'Project Cashflows'!KSY371","v":0},{"$f":"'Project Cashflows'!KSZ371","v":0},{"$f":"'Project Cashflows'!KTA371","v":0},{"$f":"'Project Cashflows'!KTB371","v":0},{"$f":"'Project Cashflows'!KTC371","v":0},{"$f":"'Project Cashflows'!KTD371","v":0},{"$f":"'Project Cashflows'!KTE371","v":0},{"$f":"'Project Cashflows'!KTF371","v":0},{"$f":"'Project Cashflows'!KTG371","v":0},{"$f":"'Project Cashflows'!KTH371","v":0},{"$f":"'Project Cashflows'!KTI371","v":0},{"$f":"'Project Cashflows'!KTJ371","v":0},{"$f":"'Project Cashflows'!KTK371","v":0},{"$f":"'Project Cashflows'!KTL371","v":0},{"$f":"'Project Cashflows'!KTM371","v":0},{"$f":"'Project Cashflows'!KTN371","v":0},{"$f":"'Project Cashflows'!KTO371","v":0},{"$f":"'Project Cashflows'!KTP371","v":0},{"$f":"'Project Cashflows'!KTQ371","v":0},{"$f":"'Project Cashflows'!KTR371","v":0},{"$f":"'Project Cashflows'!KTS371","v":0},{"$f":"'Project Cashflows'!KTT371","v":0},{"$f":"'Project Cashflows'!KTU371","v":0},{"$f":"'Project Cashflows'!KTV371","v":0},{"$f":"'Project Cashflows'!KTW371","v":0},{"$f":"'Project Cashflows'!KTX371","v":0},{"$f":"'Project Cashflows'!KTY371","v":0},{"$f":"'Project Cashflows'!KTZ371","v":0},{"$f":"'Project Cashflows'!KUA371","v":0},{"$f":"'Project Cashflows'!KUB371","v":0},{"$f":"'Project Cashflows'!KUC371","v":0},{"$f":"'Project Cashflows'!KUD371","v":0},{"$f":"'Project Cashflows'!KUE371","v":0},{"$f":"'Project Cashflows'!KUF371","v":0},{"$f":"'Project Cashflows'!KUG371","v":0},{"$f":"'Project Cashflows'!KUH371","v":0},{"$f":"'Project Cashflows'!KUI371","v":0},{"$f":"'Project Cashflows'!KUJ371","v":0},{"$f":"'Project Cashflows'!KUK371","v":0},{"$f":"'Project Cashflows'!KUL371","v":0},{"$f":"'Project Cashflows'!KUM371","v":0},{"$f":"'Project Cashflows'!KUN371","v":0},{"$f":"'Project Cashflows'!KUO371","v":0},{"$f":"'Project Cashflows'!KUP371","v":0},{"$f":"'Project Cashflows'!KUQ371","v":0},{"$f":"'Project Cashflows'!KUR371","v":0},{"$f":"'Project Cashflows'!KUS371","v":0},{"$f":"'Project Cashflows'!KUT371","v":0},{"$f":"'Project Cashflows'!KUU371","v":0},{"$f":"'Project Cashflows'!KUV371","v":0},{"$f":"'Project Cashflows'!KUW371","v":0},{"$f":"'Project Cashflows'!KUX371","v":0},{"$f":"'Project Cashflows'!KUY371","v":0},{"$f":"'Project Cashflows'!KUZ371","v":0},{"$f":"'Project Cashflows'!KVA371","v":0},{"$f":"'Project Cashflows'!KVB371","v":0},{"$f":"'Project Cashflows'!KVC371","v":0},{"$f":"'Project Cashflows'!KVD371","v":0},{"$f":"'Project Cashflows'!KVE371","v":0},{"$f":"'Project Cashflows'!KVF371","v":0},{"$f":"'Project Cashflows'!KVG371","v":0},{"$f":"'Project Cashflows'!KVH371","v":0},{"$f":"'Project Cashflows'!KVI371","v":0},{"$f":"'Project Cashflows'!KVJ371","v":0},{"$f":"'Project Cashflows'!KVK371","v":0},{"$f":"'Project Cashflows'!KVL371","v":0},{"$f":"'Project Cashflows'!KVM371","v":0},{"$f":"'Project Cashflows'!KVN371","v":0},{"$f":"'Project Cashflows'!KVO371","v":0},{"$f":"'Project Cashflows'!KVP371","v":0},{"$f":"'Project Cashflows'!KVQ371","v":0},{"$f":"'Project Cashflows'!KVR371","v":0},{"$f":"'Project Cashflows'!KVS371","v":0},{"$f":"'Project Cashflows'!KVT371","v":0},{"$f":"'Project Cashflows'!KVU371","v":0},{"$f":"'Project Cashflows'!KVV371","v":0},{"$f":"'Project Cashflows'!KVW371","v":0},{"$f":"'Project Cashflows'!KVX371","v":0},{"$f":"'Project Cashflows'!KVY371","v":0},{"$f":"'Project Cashflows'!KVZ371","v":0},{"$f":"'Project Cashflows'!KWA371","v":0},{"$f":"'Project Cashflows'!KWB371","v":0},{"$f":"'Project Cashflows'!KWC371","v":0},{"$f":"'Project Cashflows'!KWD371","v":0},{"$f":"'Project Cashflows'!KWE371","v":0},{"$f":"'Project Cashflows'!KWF371","v":0},{"$f":"'Project Cashflows'!KWG371","v":0},{"$f":"'Project Cashflows'!KWH371","v":0},{"$f":"'Project Cashflows'!KWI371","v":0},{"$f":"'Project Cashflows'!KWJ371","v":0},{"$f":"'Project Cashflows'!KWK371","v":0},{"$f":"'Project Cashflows'!KWL371","v":0},{"$f":"'Project Cashflows'!KWM371","v":0},{"$f":"'Project Cashflows'!KWN371","v":0},{"$f":"'Project Cashflows'!KWO371","v":0},{"$f":"'Project Cashflows'!KWP371","v":0},{"$f":"'Project Cashflows'!KWQ371","v":0},{"$f":"'Project Cashflows'!KWR371","v":0},{"$f":"'Project Cashflows'!KWS371","v":0},{"$f":"'Project Cashflows'!KWT371","v":0},{"$f":"'Project Cashflows'!KWU371","v":0},{"$f":"'Project Cashflows'!KWV371","v":0},{"$f":"'Project Cashflows'!KWW371","v":0},{"$f":"'Project Cashflows'!KWX371","v":0},{"$f":"'Project Cashflows'!KWY371","v":0},{"$f":"'Project Cashflows'!KWZ371","v":0},{"$f":"'Project Cashflows'!KXA371","v":0},{"$f":"'Project Cashflows'!KXB371","v":0},{"$f":"'Project Cashflows'!KXC371","v":0},{"$f":"'Project Cashflows'!KXD371","v":0},{"$f":"'Project Cashflows'!KXE371","v":0},{"$f":"'Project Cashflows'!KXF371","v":0},{"$f":"'Project Cashflows'!KXG371","v":0},{"$f":"'Project Cashflows'!KXH371","v":0},{"$f":"'Project Cashflows'!KXI371","v":0},{"$f":"'Project Cashflows'!KXJ371","v":0},{"$f":"'Project Cashflows'!KXK371","v":0},{"$f":"'Project Cashflows'!KXL371","v":0},{"$f":"'Project Cashflows'!KXM371","v":0},{"$f":"'Project Cashflows'!KXN371","v":0},{"$f":"'Project Cashflows'!KXO371","v":0},{"$f":"'Project Cashflows'!KXP371","v":0},{"$f":"'Project Cashflows'!KXQ371","v":0},{"$f":"'Project Cashflows'!KXR371","v":0},{"$f":"'Project Cashflows'!KXS371","v":0},{"$f":"'Project Cashflows'!KXT371","v":0},{"$f":"'Project Cashflows'!KXU371","v":0},{"$f":"'Project Cashflows'!KXV371","v":0},{"$f":"'Project Cashflows'!KXW371","v":0},{"$f":"'Project Cashflows'!KXX371","v":0},{"$f":"'Project Cashflows'!KXY371","v":0},{"$f":"'Project Cashflows'!KXZ371","v":0},{"$f":"'Project Cashflows'!KYA371","v":0},{"$f":"'Project Cashflows'!KYB371","v":0},{"$f":"'Project Cashflows'!KYC371","v":0},{"$f":"'Project Cashflows'!KYD371","v":0},{"$f":"'Project Cashflows'!KYE371","v":0},{"$f":"'Project Cashflows'!KYF371","v":0},{"$f":"'Project Cashflows'!KYG371","v":0},{"$f":"'Project Cashflows'!KYH371","v":0},{"$f":"'Project Cashflows'!KYI371","v":0},{"$f":"'Project Cashflows'!KYJ371","v":0},{"$f":"'Project Cashflows'!KYK371","v":0},{"$f":"'Project Cashflows'!KYL371","v":0},{"$f":"'Project Cashflows'!KYM371","v":0},{"$f":"'Project Cashflows'!KYN371","v":0},{"$f":"'Project Cashflows'!KYO371","v":0},{"$f":"'Project Cashflows'!KYP371","v":0},{"$f":"'Project Cashflows'!KYQ371","v":0},{"$f":"'Project Cashflows'!KYR371","v":0},{"$f":"'Project Cashflows'!KYS371","v":0},{"$f":"'Project Cashflows'!KYT371","v":0},{"$f":"'Project Cashflows'!KYU371","v":0},{"$f":"'Project Cashflows'!KYV371","v":0},{"$f":"'Project Cashflows'!KYW371","v":0},{"$f":"'Project Cashflows'!KYX371","v":0},{"$f":"'Project Cashflows'!KYY371","v":0},{"$f":"'Project Cashflows'!KYZ371","v":0},{"$f":"'Project Cashflows'!KZA371","v":0},{"$f":"'Project Cashflows'!KZB371","v":0},{"$f":"'Project Cashflows'!KZC371","v":0},{"$f":"'Project Cashflows'!KZD371","v":0},{"$f":"'Project Cashflows'!KZE371","v":0},{"$f":"'Project Cashflows'!KZF371","v":0},{"$f":"'Project Cashflows'!KZG371","v":0},{"$f":"'Project Cashflows'!KZH371","v":0},{"$f":"'Project Cashflows'!KZI371","v":0},{"$f":"'Project Cashflows'!KZJ371","v":0},{"$f":"'Project Cashflows'!KZK371","v":0},{"$f":"'Project Cashflows'!KZL371","v":0},{"$f":"'Project Cashflows'!KZM371","v":0},{"$f":"'Project Cashflows'!KZN371","v":0},{"$f":"'Project Cashflows'!KZO371","v":0},{"$f":"'Project Cashflows'!KZP371","v":0},{"$f":"'Project Cashflows'!KZQ371","v":0},{"$f":"'Project Cashflows'!KZR371","v":0},{"$f":"'Project Cashflows'!KZS371","v":0},{"$f":"'Project Cashflows'!KZT371","v":0},{"$f":"'Project Cashflows'!KZU371","v":0},{"$f":"'Project Cashflows'!KZV371","v":0},{"$f":"'Project Cashflows'!KZW371","v":0},{"$f":"'Project Cashflows'!KZX371","v":0},{"$f":"'Project Cashflows'!KZY371","v":0},{"$f":"'Project Cashflows'!KZZ371","v":0},{"$f":"'Project Cashflows'!LAA371","v":0},{"$f":"'Project Cashflows'!LAB371","v":0},{"$f":"'Project Cashflows'!LAC371","v":0},{"$f":"'Project Cashflows'!LAD371","v":0},{"$f":"'Project Cashflows'!LAE371","v":0},{"$f":"'Project Cashflows'!LAF371","v":0},{"$f":"'Project Cashflows'!LAG371","v":0},{"$f":"'Project Cashflows'!LAH371","v":0},{"$f":"'Project Cashflows'!LAI371","v":0},{"$f":"'Project Cashflows'!LAJ371","v":0},{"$f":"'Project Cashflows'!LAK371","v":0},{"$f":"'Project Cashflows'!LAL371","v":0},{"$f":"'Project Cashflows'!LAM371","v":0},{"$f":"'Project Cashflows'!LAN371","v":0},{"$f":"'Project Cashflows'!LAO371","v":0},{"$f":"'Project Cashflows'!LAP371","v":0},{"$f":"'Project Cashflows'!LAQ371","v":0},{"$f":"'Project Cashflows'!LAR371","v":0},{"$f":"'Project Cashflows'!LAS371","v":0},{"$f":"'Project Cashflows'!LAT371","v":0},{"$f":"'Project Cashflows'!LAU371","v":0},{"$f":"'Project Cashflows'!LAV371","v":0},{"$f":"'Project Cashflows'!LAW371","v":0},{"$f":"'Project Cashflows'!LAX371","v":0},{"$f":"'Project Cashflows'!LAY371","v":0},{"$f":"'Project Cashflows'!LAZ371","v":0},{"$f":"'Project Cashflows'!LBA371","v":0},{"$f":"'Project Cashflows'!LBB371","v":0},{"$f":"'Project Cashflows'!LBC371","v":0},{"$f":"'Project Cashflows'!LBD371","v":0},{"$f":"'Project Cashflows'!LBE371","v":0},{"$f":"'Project Cashflows'!LBF371","v":0},{"$f":"'Project Cashflows'!LBG371","v":0},{"$f":"'Project Cashflows'!LBH371","v":0},{"$f":"'Project Cashflows'!LBI371","v":0},{"$f":"'Project Cashflows'!LBJ371","v":0},{"$f":"'Project Cashflows'!LBK371","v":0},{"$f":"'Project Cashflows'!LBL371","v":0},{"$f":"'Project Cashflows'!LBM371","v":0},{"$f":"'Project Cashflows'!LBN371","v":0},{"$f":"'Project Cashflows'!LBO371","v":0},{"$f":"'Project Cashflows'!LBP371","v":0},{"$f":"'Project Cashflows'!LBQ371","v":0},{"$f":"'Project Cashflows'!LBR371","v":0},{"$f":"'Project Cashflows'!LBS371","v":0},{"$f":"'Project Cashflows'!LBT371","v":0},{"$f":"'Project Cashflows'!LBU371","v":0},{"$f":"'Project Cashflows'!LBV371","v":0},{"$f":"'Project Cashflows'!LBW371","v":0},{"$f":"'Project Cashflows'!LBX371","v":0},{"$f":"'Project Cashflows'!LBY371","v":0},{"$f":"'Project Cashflows'!LBZ371","v":0},{"$f":"'Project Cashflows'!LCA371","v":0},{"$f":"'Project Cashflows'!LCB371","v":0},{"$f":"'Project Cashflows'!LCC371","v":0},{"$f":"'Project Cashflows'!LCD371","v":0},{"$f":"'Project Cashflows'!LCE371","v":0},{"$f":"'Project Cashflows'!LCF371","v":0},{"$f":"'Project Cashflows'!LCG371","v":0},{"$f":"'Project Cashflows'!LCH371","v":0},{"$f":"'Project Cashflows'!LCI371","v":0},{"$f":"'Project Cashflows'!LCJ371","v":0},{"$f":"'Project Cashflows'!LCK371","v":0},{"$f":"'Project Cashflows'!LCL371","v":0},{"$f":"'Project Cashflows'!LCM371","v":0},{"$f":"'Project Cashflows'!LCN371","v":0},{"$f":"'Project Cashflows'!LCO371","v":0},{"$f":"'Project Cashflows'!LCP371","v":0},{"$f":"'Project Cashflows'!LCQ371","v":0},{"$f":"'Project Cashflows'!LCR371","v":0},{"$f":"'Project Cashflows'!LCS371","v":0},{"$f":"'Project Cashflows'!LCT371","v":0},{"$f":"'Project Cashflows'!LCU371","v":0},{"$f":"'Project Cashflows'!LCV371","v":0},{"$f":"'Project Cashflows'!LCW371","v":0},{"$f":"'Project Cashflows'!LCX371","v":0},{"$f":"'Project Cashflows'!LCY371","v":0},{"$f":"'Project Cashflows'!LCZ371","v":0},{"$f":"'Project Cashflows'!LDA371","v":0},{"$f":"'Project Cashflows'!LDB371","v":0},{"$f":"'Project Cashflows'!LDC371","v":0},{"$f":"'Project Cashflows'!LDD371","v":0},{"$f":"'Project Cashflows'!LDE371","v":0},{"$f":"'Project Cashflows'!LDF371","v":0},{"$f":"'Project Cashflows'!LDG371","v":0},{"$f":"'Project Cashflows'!LDH371","v":0},{"$f":"'Project Cashflows'!LDI371","v":0},{"$f":"'Project Cashflows'!LDJ371","v":0},{"$f":"'Project Cashflows'!LDK371","v":0},{"$f":"'Project Cashflows'!LDL371","v":0},{"$f":"'Project Cashflows'!LDM371","v":0},{"$f":"'Project Cashflows'!LDN371","v":0},{"$f":"'Project Cashflows'!LDO371","v":0},{"$f":"'Project Cashflows'!LDP371","v":0},{"$f":"'Project Cashflows'!LDQ371","v":0},{"$f":"'Project Cashflows'!LDR371","v":0},{"$f":"'Project Cashflows'!LDS371","v":0},{"$f":"'Project Cashflows'!LDT371","v":0},{"$f":"'Project Cashflows'!LDU371","v":0},{"$f":"'Project Cashflows'!LDV371","v":0},{"$f":"'Project Cashflows'!LDW371","v":0},{"$f":"'Project Cashflows'!LDX371","v":0},{"$f":"'Project Cashflows'!LDY371","v":0},{"$f":"'Project Cashflows'!LDZ371","v":0},{"$f":"'Project Cashflows'!LEA371","v":0},{"$f":"'Project Cashflows'!LEB371","v":0},{"$f":"'Project Cashflows'!LEC371","v":0},{"$f":"'Project Cashflows'!LED371","v":0},{"$f":"'Project Cashflows'!LEE371","v":0},{"$f":"'Project Cashflows'!LEF371","v":0},{"$f":"'Project Cashflows'!LEG371","v":0},{"$f":"'Project Cashflows'!LEH371","v":0},{"$f":"'Project Cashflows'!LEI371","v":0},{"$f":"'Project Cashflows'!LEJ371","v":0},{"$f":"'Project Cashflows'!LEK371","v":0},{"$f":"'Project Cashflows'!LEL371","v":0},{"$f":"'Project Cashflows'!LEM371","v":0},{"$f":"'Project Cashflows'!LEN371","v":0},{"$f":"'Project Cashflows'!LEO371","v":0},{"$f":"'Project Cashflows'!LEP371","v":0},{"$f":"'Project Cashflows'!LEQ371","v":0},{"$f":"'Project Cashflows'!LER371","v":0},{"$f":"'Project Cashflows'!LES371","v":0},{"$f":"'Project Cashflows'!LET371","v":0},{"$f":"'Project Cashflows'!LEU371","v":0},{"$f":"'Project Cashflows'!LEV371","v":0},{"$f":"'Project Cashflows'!LEW371","v":0},{"$f":"'Project Cashflows'!LEX371","v":0},{"$f":"'Project Cashflows'!LEY371","v":0},{"$f":"'Project Cashflows'!LEZ371","v":0},{"$f":"'Project Cashflows'!LFA371","v":0},{"$f":"'Project Cashflows'!LFB371","v":0},{"$f":"'Project Cashflows'!LFC371","v":0},{"$f":"'Project Cashflows'!LFD371","v":0},{"$f":"'Project Cashflows'!LFE371","v":0},{"$f":"'Project Cashflows'!LFF371","v":0},{"$f":"'Project Cashflows'!LFG371","v":0},{"$f":"'Project Cashflows'!LFH371","v":0},{"$f":"'Project Cashflows'!LFI371","v":0},{"$f":"'Project Cashflows'!LFJ371","v":0},{"$f":"'Project Cashflows'!LFK371","v":0},{"$f":"'Project Cashflows'!LFL371","v":0},{"$f":"'Project Cashflows'!LFM371","v":0},{"$f":"'Project Cashflows'!LFN371","v":0},{"$f":"'Project Cashflows'!LFO371","v":0},{"$f":"'Project Cashflows'!LFP371","v":0},{"$f":"'Project Cashflows'!LFQ371","v":0},{"$f":"'Project Cashflows'!LFR371","v":0},{"$f":"'Project Cashflows'!LFS371","v":0},{"$f":"'Project Cashflows'!LFT371","v":0},{"$f":"'Project Cashflows'!LFU371","v":0},{"$f":"'Project Cashflows'!LFV371","v":0},{"$f":"'Project Cashflows'!LFW371","v":0},{"$f":"'Project Cashflows'!LFX371","v":0},{"$f":"'Project Cashflows'!LFY371","v":0},{"$f":"'Project Cashflows'!LFZ371","v":0},{"$f":"'Project Cashflows'!LGA371","v":0},{"$f":"'Project Cashflows'!LGB371","v":0},{"$f":"'Project Cashflows'!LGC371","v":0},{"$f":"'Project Cashflows'!LGD371","v":0},{"$f":"'Project Cashflows'!LGE371","v":0},{"$f":"'Project Cashflows'!LGF371","v":0},{"$f":"'Project Cashflows'!LGG371","v":0},{"$f":"'Project Cashflows'!LGH371","v":0},{"$f":"'Project Cashflows'!LGI371","v":0},{"$f":"'Project Cashflows'!LGJ371","v":0},{"$f":"'Project Cashflows'!LGK371","v":0},{"$f":"'Project Cashflows'!LGL371","v":0},{"$f":"'Project Cashflows'!LGM371","v":0},{"$f":"'Project Cashflows'!LGN371","v":0},{"$f":"'Project Cashflows'!LGO371","v":0},{"$f":"'Project Cashflows'!LGP371","v":0},{"$f":"'Project Cashflows'!LGQ371","v":0},{"$f":"'Project Cashflows'!LGR371","v":0},{"$f":"'Project Cashflows'!LGS371","v":0},{"$f":"'Project Cashflows'!LGT371","v":0},{"$f":"'Project Cashflows'!LGU371","v":0},{"$f":"'Project Cashflows'!LGV371","v":0},{"$f":"'Project Cashflows'!LGW371","v":0},{"$f":"'Project Cashflows'!LGX371","v":0},{"$f":"'Project Cashflows'!LGY371","v":0},{"$f":"'Project Cashflows'!LGZ371","v":0},{"$f":"'Project Cashflows'!LHA371","v":0},{"$f":"'Project Cashflows'!LHB371","v":0},{"$f":"'Project Cashflows'!LHC371","v":0},{"$f":"'Project Cashflows'!LHD371","v":0},{"$f":"'Project Cashflows'!LHE371","v":0},{"$f":"'Project Cashflows'!LHF371","v":0},{"$f":"'Project Cashflows'!LHG371","v":0},{"$f":"'Project Cashflows'!LHH371","v":0},{"$f":"'Project Cashflows'!LHI371","v":0},{"$f":"'Project Cashflows'!LHJ371","v":0},{"$f":"'Project Cashflows'!LHK371","v":0},{"$f":"'Project Cashflows'!LHL371","v":0},{"$f":"'Project Cashflows'!LHM371","v":0},{"$f":"'Project Cashflows'!LHN371","v":0},{"$f":"'Project Cashflows'!LHO371","v":0},{"$f":"'Project Cashflows'!LHP371","v":0},{"$f":"'Project Cashflows'!LHQ371","v":0},{"$f":"'Project Cashflows'!LHR371","v":0},{"$f":"'Project Cashflows'!LHS371","v":0},{"$f":"'Project Cashflows'!LHT371","v":0},{"$f":"'Project Cashflows'!LHU371","v":0},{"$f":"'Project Cashflows'!LHV371","v":0},{"$f":"'Project Cashflows'!LHW371","v":0},{"$f":"'Project Cashflows'!LHX371","v":0},{"$f":"'Project Cashflows'!LHY371","v":0},{"$f":"'Project Cashflows'!LHZ371","v":0},{"$f":"'Project Cashflows'!LIA371","v":0},{"$f":"'Project Cashflows'!LIB371","v":0},{"$f":"'Project Cashflows'!LIC371","v":0},{"$f":"'Project Cashflows'!LID371","v":0},{"$f":"'Project Cashflows'!LIE371","v":0},{"$f":"'Project Cashflows'!LIF371","v":0},{"$f":"'Project Cashflows'!LIG371","v":0},{"$f":"'Project Cashflows'!LIH371","v":0},{"$f":"'Project Cashflows'!LII371","v":0},{"$f":"'Project Cashflows'!LIJ371","v":0},{"$f":"'Project Cashflows'!LIK371","v":0},{"$f":"'Project Cashflows'!LIL371","v":0},{"$f":"'Project Cashflows'!LIM371","v":0},{"$f":"'Project Cashflows'!LIN371","v":0},{"$f":"'Project Cashflows'!LIO371","v":0},{"$f":"'Project Cashflows'!LIP371","v":0},{"$f":"'Project Cashflows'!LIQ371","v":0},{"$f":"'Project Cashflows'!LIR371","v":0},{"$f":"'Project Cashflows'!LIS371","v":0},{"$f":"'Project Cashflows'!LIT371","v":0},{"$f":"'Project Cashflows'!LIU371","v":0},{"$f":"'Project Cashflows'!LIV371","v":0},{"$f":"'Project Cashflows'!LIW371","v":0},{"$f":"'Project Cashflows'!LIX371","v":0},{"$f":"'Project Cashflows'!LIY371","v":0},{"$f":"'Project Cashflows'!LIZ371","v":0},{"$f":"'Project Cashflows'!LJA371","v":0},{"$f":"'Project Cashflows'!LJB371","v":0},{"$f":"'Project Cashflows'!LJC371","v":0},{"$f":"'Project Cashflows'!LJD371","v":0},{"$f":"'Project Cashflows'!LJE371","v":0},{"$f":"'Project Cashflows'!LJF371","v":0},{"$f":"'Project Cashflows'!LJG371","v":0},{"$f":"'Project Cashflows'!LJH371","v":0},{"$f":"'Project Cashflows'!LJI371","v":0},{"$f":"'Project Cashflows'!LJJ371","v":0},{"$f":"'Project Cashflows'!LJK371","v":0},{"$f":"'Project Cashflows'!LJL371","v":0},{"$f":"'Project Cashflows'!LJM371","v":0},{"$f":"'Project Cashflows'!LJN371","v":0},{"$f":"'Project Cashflows'!LJO371","v":0},{"$f":"'Project Cashflows'!LJP371","v":0},{"$f":"'Project Cashflows'!LJQ371","v":0},{"$f":"'Project Cashflows'!LJR371","v":0},{"$f":"'Project Cashflows'!LJS371","v":0},{"$f":"'Project Cashflows'!LJT371","v":0},{"$f":"'Project Cashflows'!LJU371","v":0},{"$f":"'Project Cashflows'!LJV371","v":0},{"$f":"'Project Cashflows'!LJW371","v":0},{"$f":"'Project Cashflows'!LJX371","v":0},{"$f":"'Project Cashflows'!LJY371","v":0},{"$f":"'Project Cashflows'!LJZ371","v":0},{"$f":"'Project Cashflows'!LKA371","v":0},{"$f":"'Project Cashflows'!LKB371","v":0},{"$f":"'Project Cashflows'!LKC371","v":0},{"$f":"'Project Cashflows'!LKD371","v":0},{"$f":"'Project Cashflows'!LKE371","v":0},{"$f":"'Project Cashflows'!LKF371","v":0},{"$f":"'Project Cashflows'!LKG371","v":0},{"$f":"'Project Cashflows'!LKH371","v":0},{"$f":"'Project Cashflows'!LKI371","v":0},{"$f":"'Project Cashflows'!LKJ371","v":0},{"$f":"'Project Cashflows'!LKK371","v":0},{"$f":"'Project Cashflows'!LKL371","v":0},{"$f":"'Project Cashflows'!LKM371","v":0},{"$f":"'Project Cashflows'!LKN371","v":0},{"$f":"'Project Cashflows'!LKO371","v":0},{"$f":"'Project Cashflows'!LKP371","v":0},{"$f":"'Project Cashflows'!LKQ371","v":0},{"$f":"'Project Cashflows'!LKR371","v":0},{"$f":"'Project Cashflows'!LKS371","v":0},{"$f":"'Project Cashflows'!LKT371","v":0},{"$f":"'Project Cashflows'!LKU371","v":0},{"$f":"'Project Cashflows'!LKV371","v":0},{"$f":"'Project Cashflows'!LKW371","v":0},{"$f":"'Project Cashflows'!LKX371","v":0},{"$f":"'Project Cashflows'!LKY371","v":0},{"$f":"'Project Cashflows'!LKZ371","v":0},{"$f":"'Project Cashflows'!LLA371","v":0},{"$f":"'Project Cashflows'!LLB371","v":0},{"$f":"'Project Cashflows'!LLC371","v":0},{"$f":"'Project Cashflows'!LLD371","v":0},{"$f":"'Project Cashflows'!LLE371","v":0},{"$f":"'Project Cashflows'!LLF371","v":0},{"$f":"'Project Cashflows'!LLG371","v":0},{"$f":"'Project Cashflows'!LLH371","v":0},{"$f":"'Project Cashflows'!LLI371","v":0},{"$f":"'Project Cashflows'!LLJ371","v":0},{"$f":"'Project Cashflows'!LLK371","v":0},{"$f":"'Project Cashflows'!LLL371","v":0},{"$f":"'Project Cashflows'!LLM371","v":0},{"$f":"'Project Cashflows'!LLN371","v":0},{"$f":"'Project Cashflows'!LLO371","v":0},{"$f":"'Project Cashflows'!LLP371","v":0},{"$f":"'Project Cashflows'!LLQ371","v":0},{"$f":"'Project Cashflows'!LLR371","v":0},{"$f":"'Project Cashflows'!LLS371","v":0},{"$f":"'Project Cashflows'!LLT371","v":0},{"$f":"'Project Cashflows'!LLU371","v":0},{"$f":"'Project Cashflows'!LLV371","v":0},{"$f":"'Project Cashflows'!LLW371","v":0},{"$f":"'Project Cashflows'!LLX371","v":0},{"$f":"'Project Cashflows'!LLY371","v":0},{"$f":"'Project Cashflows'!LLZ371","v":0},{"$f":"'Project Cashflows'!LMA371","v":0},{"$f":"'Project Cashflows'!LMB371","v":0},{"$f":"'Project Cashflows'!LMC371","v":0},{"$f":"'Project Cashflows'!LMD371","v":0},{"$f":"'Project Cashflows'!LME371","v":0},{"$f":"'Project Cashflows'!LMF371","v":0},{"$f":"'Project Cashflows'!LMG371","v":0},{"$f":"'Project Cashflows'!LMH371","v":0},{"$f":"'Project Cashflows'!LMI371","v":0},{"$f":"'Project Cashflows'!LMJ371","v":0},{"$f":"'Project Cashflows'!LMK371","v":0},{"$f":"'Project Cashflows'!LML371","v":0},{"$f":"'Project Cashflows'!LMM371","v":0},{"$f":"'Project Cashflows'!LMN371","v":0},{"$f":"'Project Cashflows'!LMO371","v":0},{"$f":"'Project Cashflows'!LMP371","v":0},{"$f":"'Project Cashflows'!LMQ371","v":0},{"$f":"'Project Cashflows'!LMR371","v":0},{"$f":"'Project Cashflows'!LMS371","v":0},{"$f":"'Project Cashflows'!LMT371","v":0},{"$f":"'Project Cashflows'!LMU371","v":0},{"$f":"'Project Cashflows'!LMV371","v":0},{"$f":"'Project Cashflows'!LMW371","v":0},{"$f":"'Project Cashflows'!LMX371","v":0},{"$f":"'Project Cashflows'!LMY371","v":0},{"$f":"'Project Cashflows'!LMZ371","v":0},{"$f":"'Project Cashflows'!LNA371","v":0},{"$f":"'Project Cashflows'!LNB371","v":0},{"$f":"'Project Cashflows'!LNC371","v":0},{"$f":"'Project Cashflows'!LND371","v":0},{"$f":"'Project Cashflows'!LNE371","v":0},{"$f":"'Project Cashflows'!LNF371","v":0},{"$f":"'Project Cashflows'!LNG371","v":0},{"$f":"'Project Cashflows'!LNH371","v":0},{"$f":"'Project Cashflows'!LNI371","v":0},{"$f":"'Project Cashflows'!LNJ371","v":0},{"$f":"'Project Cashflows'!LNK371","v":0},{"$f":"'Project Cashflows'!LNL371","v":0},{"$f":"'Project Cashflows'!LNM371","v":0},{"$f":"'Project Cashflows'!LNN371","v":0},{"$f":"'Project Cashflows'!LNO371","v":0},{"$f":"'Project Cashflows'!LNP371","v":0},{"$f":"'Project Cashflows'!LNQ371","v":0},{"$f":"'Project Cashflows'!LNR371","v":0},{"$f":"'Project Cashflows'!LNS371","v":0},{"$f":"'Project Cashflows'!LNT371","v":0},{"$f":"'Project Cashflows'!LNU371","v":0},{"$f":"'Project Cashflows'!LNV371","v":0},{"$f":"'Project Cashflows'!LNW371","v":0},{"$f":"'Project Cashflows'!LNX371","v":0},{"$f":"'Project Cashflows'!LNY371","v":0},{"$f":"'Project Cashflows'!LNZ371","v":0},{"$f":"'Project Cashflows'!LOA371","v":0},{"$f":"'Project Cashflows'!LOB371","v":0},{"$f":"'Project Cashflows'!LOC371","v":0},{"$f":"'Project Cashflows'!LOD371","v":0},{"$f":"'Project Cashflows'!LOE371","v":0},{"$f":"'Project Cashflows'!LOF371","v":0},{"$f":"'Project Cashflows'!LOG371","v":0},{"$f":"'Project Cashflows'!LOH371","v":0},{"$f":"'Project Cashflows'!LOI371","v":0},{"$f":"'Project Cashflows'!LOJ371","v":0},{"$f":"'Project Cashflows'!LOK371","v":0},{"$f":"'Project Cashflows'!LOL371","v":0},{"$f":"'Project Cashflows'!LOM371","v":0},{"$f":"'Project Cashflows'!LON371","v":0},{"$f":"'Project Cashflows'!LOO371","v":0},{"$f":"'Project Cashflows'!LOP371","v":0},{"$f":"'Project Cashflows'!LOQ371","v":0},{"$f":"'Project Cashflows'!LOR371","v":0},{"$f":"'Project Cashflows'!LOS371","v":0},{"$f":"'Project Cashflows'!LOT371","v":0},{"$f":"'Project Cashflows'!LOU371","v":0},{"$f":"'Project Cashflows'!LOV371","v":0},{"$f":"'Project Cashflows'!LOW371","v":0},{"$f":"'Project Cashflows'!LOX371","v":0},{"$f":"'Project Cashflows'!LOY371","v":0},{"$f":"'Project Cashflows'!LOZ371","v":0},{"$f":"'Project Cashflows'!LPA371","v":0},{"$f":"'Project Cashflows'!LPB371","v":0},{"$f":"'Project Cashflows'!LPC371","v":0},{"$f":"'Project Cashflows'!LPD371","v":0},{"$f":"'Project Cashflows'!LPE371","v":0},{"$f":"'Project Cashflows'!LPF371","v":0},{"$f":"'Project Cashflows'!LPG371","v":0},{"$f":"'Project Cashflows'!LPH371","v":0},{"$f":"'Project Cashflows'!LPI371","v":0},{"$f":"'Project Cashflows'!LPJ371","v":0},{"$f":"'Project Cashflows'!LPK371","v":0},{"$f":"'Project Cashflows'!LPL371","v":0},{"$f":"'Project Cashflows'!LPM371","v":0},{"$f":"'Project Cashflows'!LPN371","v":0},{"$f":"'Project Cashflows'!LPO371","v":0},{"$f":"'Project Cashflows'!LPP371","v":0},{"$f":"'Project Cashflows'!LPQ371","v":0},{"$f":"'Project Cashflows'!LPR371","v":0},{"$f":"'Project Cashflows'!LPS371","v":0},{"$f":"'Project Cashflows'!LPT371","v":0},{"$f":"'Project Cashflows'!LPU371","v":0},{"$f":"'Project Cashflows'!LPV371","v":0},{"$f":"'Project Cashflows'!LPW371","v":0},{"$f":"'Project Cashflows'!LPX371","v":0},{"$f":"'Project Cashflows'!LPY371","v":0},{"$f":"'Project Cashflows'!LPZ371","v":0},{"$f":"'Project Cashflows'!LQA371","v":0},{"$f":"'Project Cashflows'!LQB371","v":0},{"$f":"'Project Cashflows'!LQC371","v":0},{"$f":"'Project Cashflows'!LQD371","v":0},{"$f":"'Project Cashflows'!LQE371","v":0},{"$f":"'Project Cashflows'!LQF371","v":0},{"$f":"'Project Cashflows'!LQG371","v":0},{"$f":"'Project Cashflows'!LQH371","v":0},{"$f":"'Project Cashflows'!LQI371","v":0},{"$f":"'Project Cashflows'!LQJ371","v":0},{"$f":"'Project Cashflows'!LQK371","v":0},{"$f":"'Project Cashflows'!LQL371","v":0},{"$f":"'Project Cashflows'!LQM371","v":0},{"$f":"'Project Cashflows'!LQN371","v":0},{"$f":"'Project Cashflows'!LQO371","v":0},{"$f":"'Project Cashflows'!LQP371","v":0},{"$f":"'Project Cashflows'!LQQ371","v":0},{"$f":"'Project Cashflows'!LQR371","v":0},{"$f":"'Project Cashflows'!LQS371","v":0},{"$f":"'Project Cashflows'!LQT371","v":0},{"$f":"'Project Cashflows'!LQU371","v":0},{"$f":"'Project Cashflows'!LQV371","v":0},{"$f":"'Project Cashflows'!LQW371","v":0},{"$f":"'Project Cashflows'!LQX371","v":0},{"$f":"'Project Cashflows'!LQY371","v":0},{"$f":"'Project Cashflows'!LQZ371","v":0},{"$f":"'Project Cashflows'!LRA371","v":0},{"$f":"'Project Cashflows'!LRB371","v":0},{"$f":"'Project Cashflows'!LRC371","v":0},{"$f":"'Project Cashflows'!LRD371","v":0},{"$f":"'Project Cashflows'!LRE371","v":0},{"$f":"'Project Cashflows'!LRF371","v":0},{"$f":"'Project Cashflows'!LRG371","v":0},{"$f":"'Project Cashflows'!LRH371","v":0},{"$f":"'Project Cashflows'!LRI371","v":0},{"$f":"'Project Cashflows'!LRJ371","v":0},{"$f":"'Project Cashflows'!LRK371","v":0},{"$f":"'Project Cashflows'!LRL371","v":0},{"$f":"'Project Cashflows'!LRM371","v":0},{"$f":"'Project Cashflows'!LRN371","v":0},{"$f":"'Project Cashflows'!LRO371","v":0},{"$f":"'Project Cashflows'!LRP371","v":0},{"$f":"'Project Cashflows'!LRQ371","v":0},{"$f":"'Project Cashflows'!LRR371","v":0},{"$f":"'Project Cashflows'!LRS371","v":0},{"$f":"'Project Cashflows'!LRT371","v":0},{"$f":"'Project Cashflows'!LRU371","v":0},{"$f":"'Project Cashflows'!LRV371","v":0},{"$f":"'Project Cashflows'!LRW371","v":0},{"$f":"'Project Cashflows'!LRX371","v":0},{"$f":"'Project Cashflows'!LRY371","v":0},{"$f":"'Project Cashflows'!LRZ371","v":0},{"$f":"'Project Cashflows'!LSA371","v":0},{"$f":"'Project Cashflows'!LSB371","v":0},{"$f":"'Project Cashflows'!LSC371","v":0},{"$f":"'Project Cashflows'!LSD371","v":0},{"$f":"'Project Cashflows'!LSE371","v":0},{"$f":"'Project Cashflows'!LSF371","v":0},{"$f":"'Project Cashflows'!LSG371","v":0},{"$f":"'Project Cashflows'!LSH371","v":0},{"$f":"'Project Cashflows'!LSI371","v":0},{"$f":"'Project Cashflows'!LSJ371","v":0},{"$f":"'Project Cashflows'!LSK371","v":0},{"$f":"'Project Cashflows'!LSL371","v":0},{"$f":"'Project Cashflows'!LSM371","v":0},{"$f":"'Project Cashflows'!LSN371","v":0},{"$f":"'Project Cashflows'!LSO371","v":0},{"$f":"'Project Cashflows'!LSP371","v":0},{"$f":"'Project Cashflows'!LSQ371","v":0},{"$f":"'Project Cashflows'!LSR371","v":0},{"$f":"'Project Cashflows'!LSS371","v":0},{"$f":"'Project Cashflows'!LST371","v":0},{"$f":"'Project Cashflows'!LSU371","v":0},{"$f":"'Project Cashflows'!LSV371","v":0},{"$f":"'Project Cashflows'!LSW371","v":0},{"$f":"'Project Cashflows'!LSX371","v":0},{"$f":"'Project Cashflows'!LSY371","v":0},{"$f":"'Project Cashflows'!LSZ371","v":0},{"$f":"'Project Cashflows'!LTA371","v":0},{"$f":"'Project Cashflows'!LTB371","v":0},{"$f":"'Project Cashflows'!LTC371","v":0},{"$f":"'Project Cashflows'!LTD371","v":0},{"$f":"'Project Cashflows'!LTE371","v":0},{"$f":"'Project Cashflows'!LTF371","v":0},{"$f":"'Project Cashflows'!LTG371","v":0},{"$f":"'Project Cashflows'!LTH371","v":0},{"$f":"'Project Cashflows'!LTI371","v":0},{"$f":"'Project Cashflows'!LTJ371","v":0},{"$f":"'Project Cashflows'!LTK371","v":0},{"$f":"'Project Cashflows'!LTL371","v":0},{"$f":"'Project Cashflows'!LTM371","v":0},{"$f":"'Project Cashflows'!LTN371","v":0},{"$f":"'Project Cashflows'!LTO371","v":0},{"$f":"'Project Cashflows'!LTP371","v":0},{"$f":"'Project Cashflows'!LTQ371","v":0},{"$f":"'Project Cashflows'!LTR371","v":0},{"$f":"'Project Cashflows'!LTS371","v":0},{"$f":"'Project Cashflows'!LTT371","v":0},{"$f":"'Project Cashflows'!LTU371","v":0},{"$f":"'Project Cashflows'!LTV371","v":0},{"$f":"'Project Cashflows'!LTW371","v":0},{"$f":"'Project Cashflows'!LTX371","v":0},{"$f":"'Project Cashflows'!LTY371","v":0},{"$f":"'Project Cashflows'!LTZ371","v":0},{"$f":"'Project Cashflows'!LUA371","v":0},{"$f":"'Project Cashflows'!LUB371","v":0},{"$f":"'Project Cashflows'!LUC371","v":0},{"$f":"'Project Cashflows'!LUD371","v":0},{"$f":"'Project Cashflows'!LUE371","v":0},{"$f":"'Project Cashflows'!LUF371","v":0},{"$f":"'Project Cashflows'!LUG371","v":0},{"$f":"'Project Cashflows'!LUH371","v":0},{"$f":"'Project Cashflows'!LUI371","v":0},{"$f":"'Project Cashflows'!LUJ371","v":0},{"$f":"'Project Cashflows'!LUK371","v":0},{"$f":"'Project Cashflows'!LUL371","v":0},{"$f":"'Project Cashflows'!LUM371","v":0},{"$f":"'Project Cashflows'!LUN371","v":0},{"$f":"'Project Cashflows'!LUO371","v":0},{"$f":"'Project Cashflows'!LUP371","v":0},{"$f":"'Project Cashflows'!LUQ371","v":0},{"$f":"'Project Cashflows'!LUR371","v":0},{"$f":"'Project Cashflows'!LUS371","v":0},{"$f":"'Project Cashflows'!LUT371","v":0},{"$f":"'Project Cashflows'!LUU371","v":0},{"$f":"'Project Cashflows'!LUV371","v":0},{"$f":"'Project Cashflows'!LUW371","v":0},{"$f":"'Project Cashflows'!LUX371","v":0},{"$f":"'Project Cashflows'!LUY371","v":0},{"$f":"'Project Cashflows'!LUZ371","v":0},{"$f":"'Project Cashflows'!LVA371","v":0},{"$f":"'Project Cashflows'!LVB371","v":0},{"$f":"'Project Cashflows'!LVC371","v":0},{"$f":"'Project Cashflows'!LVD371","v":0},{"$f":"'Project Cashflows'!LVE371","v":0},{"$f":"'Project Cashflows'!LVF371","v":0},{"$f":"'Project Cashflows'!LVG371","v":0},{"$f":"'Project Cashflows'!LVH371","v":0},{"$f":"'Project Cashflows'!LVI371","v":0},{"$f":"'Project Cashflows'!LVJ371","v":0},{"$f":"'Project Cashflows'!LVK371","v":0},{"$f":"'Project Cashflows'!LVL371","v":0},{"$f":"'Project Cashflows'!LVM371","v":0},{"$f":"'Project Cashflows'!LVN371","v":0},{"$f":"'Project Cashflows'!LVO371","v":0},{"$f":"'Project Cashflows'!LVP371","v":0},{"$f":"'Project Cashflows'!LVQ371","v":0},{"$f":"'Project Cashflows'!LVR371","v":0},{"$f":"'Project Cashflows'!LVS371","v":0},{"$f":"'Project Cashflows'!LVT371","v":0},{"$f":"'Project Cashflows'!LVU371","v":0},{"$f":"'Project Cashflows'!LVV371","v":0},{"$f":"'Project Cashflows'!LVW371","v":0},{"$f":"'Project Cashflows'!LVX371","v":0},{"$f":"'Project Cashflows'!LVY371","v":0},{"$f":"'Project Cashflows'!LVZ371","v":0},{"$f":"'Project Cashflows'!LWA371","v":0},{"$f":"'Project Cashflows'!LWB371","v":0},{"$f":"'Project Cashflows'!LWC371","v":0},{"$f":"'Project Cashflows'!LWD371","v":0},{"$f":"'Project Cashflows'!LWE371","v":0},{"$f":"'Project Cashflows'!LWF371","v":0},{"$f":"'Project Cashflows'!LWG371","v":0},{"$f":"'Project Cashflows'!LWH371","v":0},{"$f":"'Project Cashflows'!LWI371","v":0},{"$f":"'Project Cashflows'!LWJ371","v":0},{"$f":"'Project Cashflows'!LWK371","v":0},{"$f":"'Project Cashflows'!LWL371","v":0},{"$f":"'Project Cashflows'!LWM371","v":0},{"$f":"'Project Cashflows'!LWN371","v":0},{"$f":"'Project Cashflows'!LWO371","v":0},{"$f":"'Project Cashflows'!LWP371","v":0},{"$f":"'Project Cashflows'!LWQ371","v":0},{"$f":"'Project Cashflows'!LWR371","v":0},{"$f":"'Project Cashflows'!LWS371","v":0},{"$f":"'Project Cashflows'!LWT371","v":0},{"$f":"'Project Cashflows'!LWU371","v":0},{"$f":"'Project Cashflows'!LWV371","v":0},{"$f":"'Project Cashflows'!LWW371","v":0},{"$f":"'Project Cashflows'!LWX371","v":0},{"$f":"'Project Cashflows'!LWY371","v":0},{"$f":"'Project Cashflows'!LWZ371","v":0},{"$f":"'Project Cashflows'!LXA371","v":0},{"$f":"'Project Cashflows'!LXB371","v":0},{"$f":"'Project Cashflows'!LXC371","v":0},{"$f":"'Project Cashflows'!LXD371","v":0},{"$f":"'Project Cashflows'!LXE371","v":0},{"$f":"'Project Cashflows'!LXF371","v":0},{"$f":"'Project Cashflows'!LXG371","v":0},{"$f":"'Project Cashflows'!LXH371","v":0},{"$f":"'Project Cashflows'!LXI371","v":0},{"$f":"'Project Cashflows'!LXJ371","v":0},{"$f":"'Project Cashflows'!LXK371","v":0},{"$f":"'Project Cashflows'!LXL371","v":0},{"$f":"'Project Cashflows'!LXM371","v":0},{"$f":"'Project Cashflows'!LXN371","v":0},{"$f":"'Project Cashflows'!LXO371","v":0},{"$f":"'Project Cashflows'!LXP371","v":0},{"$f":"'Project Cashflows'!LXQ371","v":0},{"$f":"'Project Cashflows'!LXR371","v":0},{"$f":"'Project Cashflows'!LXS371","v":0},{"$f":"'Project Cashflows'!LXT371","v":0},{"$f":"'Project Cashflows'!LXU371","v":0},{"$f":"'Project Cashflows'!LXV371","v":0},{"$f":"'Project Cashflows'!LXW371","v":0},{"$f":"'Project Cashflows'!LXX371","v":0},{"$f":"'Project Cashflows'!LXY371","v":0},{"$f":"'Project Cashflows'!LXZ371","v":0},{"$f":"'Project Cashflows'!LYA371","v":0},{"$f":"'Project Cashflows'!LYB371","v":0},{"$f":"'Project Cashflows'!LYC371","v":0},{"$f":"'Project Cashflows'!LYD371","v":0},{"$f":"'Project Cashflows'!LYE371","v":0},{"$f":"'Project Cashflows'!LYF371","v":0},{"$f":"'Project Cashflows'!LYG371","v":0},{"$f":"'Project Cashflows'!LYH371","v":0},{"$f":"'Project Cashflows'!LYI371","v":0},{"$f":"'Project Cashflows'!LYJ371","v":0},{"$f":"'Project Cashflows'!LYK371","v":0},{"$f":"'Project Cashflows'!LYL371","v":0},{"$f":"'Project Cashflows'!LYM371","v":0},{"$f":"'Project Cashflows'!LYN371","v":0},{"$f":"'Project Cashflows'!LYO371","v":0},{"$f":"'Project Cashflows'!LYP371","v":0},{"$f":"'Project Cashflows'!LYQ371","v":0},{"$f":"'Project Cashflows'!LYR371","v":0},{"$f":"'Project Cashflows'!LYS371","v":0},{"$f":"'Project Cashflows'!LYT371","v":0},{"$f":"'Project Cashflows'!LYU371","v":0},{"$f":"'Project Cashflows'!LYV371","v":0},{"$f":"'Project Cashflows'!LYW371","v":0},{"$f":"'Project Cashflows'!LYX371","v":0},{"$f":"'Project Cashflows'!LYY371","v":0},{"$f":"'Project Cashflows'!LYZ371","v":0},{"$f":"'Project Cashflows'!LZA371","v":0},{"$f":"'Project Cashflows'!LZB371","v":0},{"$f":"'Project Cashflows'!LZC371","v":0},{"$f":"'Project Cashflows'!LZD371","v":0},{"$f":"'Project Cashflows'!LZE371","v":0},{"$f":"'Project Cashflows'!LZF371","v":0},{"$f":"'Project Cashflows'!LZG371","v":0},{"$f":"'Project Cashflows'!LZH371","v":0},{"$f":"'Project Cashflows'!LZI371","v":0},{"$f":"'Project Cashflows'!LZJ371","v":0},{"$f":"'Project Cashflows'!LZK371","v":0},{"$f":"'Project Cashflows'!LZL371","v":0},{"$f":"'Project Cashflows'!LZM371","v":0},{"$f":"'Project Cashflows'!LZN371","v":0},{"$f":"'Project Cashflows'!LZO371","v":0},{"$f":"'Project Cashflows'!LZP371","v":0},{"$f":"'Project Cashflows'!LZQ371","v":0},{"$f":"'Project Cashflows'!LZR371","v":0},{"$f":"'Project Cashflows'!LZS371","v":0},{"$f":"'Project Cashflows'!LZT371","v":0},{"$f":"'Project Cashflows'!LZU371","v":0},{"$f":"'Project Cashflows'!LZV371","v":0},{"$f":"'Project Cashflows'!LZW371","v":0},{"$f":"'Project Cashflows'!LZX371","v":0},{"$f":"'Project Cashflows'!LZY371","v":0},{"$f":"'Project Cashflows'!LZZ371","v":0},{"$f":"'Project Cashflows'!MAA371","v":0},{"$f":"'Project Cashflows'!MAB371","v":0},{"$f":"'Project Cashflows'!MAC371","v":0},{"$f":"'Project Cashflows'!MAD371","v":0},{"$f":"'Project Cashflows'!MAE371","v":0},{"$f":"'Project Cashflows'!MAF371","v":0},{"$f":"'Project Cashflows'!MAG371","v":0},{"$f":"'Project Cashflows'!MAH371","v":0},{"$f":"'Project Cashflows'!MAI371","v":0},{"$f":"'Project Cashflows'!MAJ371","v":0},{"$f":"'Project Cashflows'!MAK371","v":0},{"$f":"'Project Cashflows'!MAL371","v":0},{"$f":"'Project Cashflows'!MAM371","v":0},{"$f":"'Project Cashflows'!MAN371","v":0},{"$f":"'Project Cashflows'!MAO371","v":0},{"$f":"'Project Cashflows'!MAP371","v":0},{"$f":"'Project Cashflows'!MAQ371","v":0},{"$f":"'Project Cashflows'!MAR371","v":0},{"$f":"'Project Cashflows'!MAS371","v":0},{"$f":"'Project Cashflows'!MAT371","v":0},{"$f":"'Project Cashflows'!MAU371","v":0},{"$f":"'Project Cashflows'!MAV371","v":0},{"$f":"'Project Cashflows'!MAW371","v":0},{"$f":"'Project Cashflows'!MAX371","v":0},{"$f":"'Project Cashflows'!MAY371","v":0},{"$f":"'Project Cashflows'!MAZ371","v":0},{"$f":"'Project Cashflows'!MBA371","v":0},{"$f":"'Project Cashflows'!MBB371","v":0},{"$f":"'Project Cashflows'!MBC371","v":0},{"$f":"'Project Cashflows'!MBD371","v":0},{"$f":"'Project Cashflows'!MBE371","v":0},{"$f":"'Project Cashflows'!MBF371","v":0},{"$f":"'Project Cashflows'!MBG371","v":0},{"$f":"'Project Cashflows'!MBH371","v":0},{"$f":"'Project Cashflows'!MBI371","v":0},{"$f":"'Project Cashflows'!MBJ371","v":0},{"$f":"'Project Cashflows'!MBK371","v":0},{"$f":"'Project Cashflows'!MBL371","v":0},{"$f":"'Project Cashflows'!MBM371","v":0},{"$f":"'Project Cashflows'!MBN371","v":0},{"$f":"'Project Cashflows'!MBO371","v":0},{"$f":"'Project Cashflows'!MBP371","v":0},{"$f":"'Project Cashflows'!MBQ371","v":0},{"$f":"'Project Cashflows'!MBR371","v":0},{"$f":"'Project Cashflows'!MBS371","v":0},{"$f":"'Project Cashflows'!MBT371","v":0},{"$f":"'Project Cashflows'!MBU371","v":0},{"$f":"'Project Cashflows'!MBV371","v":0},{"$f":"'Project Cashflows'!MBW371","v":0},{"$f":"'Project Cashflows'!MBX371","v":0},{"$f":"'Project Cashflows'!MBY371","v":0},{"$f":"'Project Cashflows'!MBZ371","v":0},{"$f":"'Project Cashflows'!MCA371","v":0},{"$f":"'Project Cashflows'!MCB371","v":0},{"$f":"'Project Cashflows'!MCC371","v":0},{"$f":"'Project Cashflows'!MCD371","v":0},{"$f":"'Project Cashflows'!MCE371","v":0},{"$f":"'Project Cashflows'!MCF371","v":0},{"$f":"'Project Cashflows'!MCG371","v":0},{"$f":"'Project Cashflows'!MCH371","v":0},{"$f":"'Project Cashflows'!MCI371","v":0},{"$f":"'Project Cashflows'!MCJ371","v":0},{"$f":"'Project Cashflows'!MCK371","v":0},{"$f":"'Project Cashflows'!MCL371","v":0},{"$f":"'Project Cashflows'!MCM371","v":0},{"$f":"'Project Cashflows'!MCN371","v":0},{"$f":"'Project Cashflows'!MCO371","v":0},{"$f":"'Project Cashflows'!MCP371","v":0},{"$f":"'Project Cashflows'!MCQ371","v":0},{"$f":"'Project Cashflows'!MCR371","v":0},{"$f":"'Project Cashflows'!MCS371","v":0},{"$f":"'Project Cashflows'!MCT371","v":0},{"$f":"'Project Cashflows'!MCU371","v":0},{"$f":"'Project Cashflows'!MCV371","v":0},{"$f":"'Project Cashflows'!MCW371","v":0},{"$f":"'Project Cashflows'!MCX371","v":0},{"$f":"'Project Cashflows'!MCY371","v":0},{"$f":"'Project Cashflows'!MCZ371","v":0},{"$f":"'Project Cashflows'!MDA371","v":0},{"$f":"'Project Cashflows'!MDB371","v":0},{"$f":"'Project Cashflows'!MDC371","v":0},{"$f":"'Project Cashflows'!MDD371","v":0},{"$f":"'Project Cashflows'!MDE371","v":0},{"$f":"'Project Cashflows'!MDF371","v":0},{"$f":"'Project Cashflows'!MDG371","v":0},{"$f":"'Project Cashflows'!MDH371","v":0},{"$f":"'Project Cashflows'!MDI371","v":0},{"$f":"'Project Cashflows'!MDJ371","v":0},{"$f":"'Project Cashflows'!MDK371","v":0},{"$f":"'Project Cashflows'!MDL371","v":0},{"$f":"'Project Cashflows'!MDM371","v":0},{"$f":"'Project Cashflows'!MDN371","v":0},{"$f":"'Project Cashflows'!MDO371","v":0},{"$f":"'Project Cashflows'!MDP371","v":0},{"$f":"'Project Cashflows'!MDQ371","v":0},{"$f":"'Project Cashflows'!MDR371","v":0},{"$f":"'Project Cashflows'!MDS371","v":0},{"$f":"'Project Cashflows'!MDT371","v":0},{"$f":"'Project Cashflows'!MDU371","v":0},{"$f":"'Project Cashflows'!MDV371","v":0},{"$f":"'Project Cashflows'!MDW371","v":0},{"$f":"'Project Cashflows'!MDX371","v":0},{"$f":"'Project Cashflows'!MDY371","v":0},{"$f":"'Project Cashflows'!MDZ371","v":0},{"$f":"'Project Cashflows'!MEA371","v":0},{"$f":"'Project Cashflows'!MEB371","v":0},{"$f":"'Project Cashflows'!MEC371","v":0},{"$f":"'Project Cashflows'!MED371","v":0},{"$f":"'Project Cashflows'!MEE371","v":0},{"$f":"'Project Cashflows'!MEF371","v":0},{"$f":"'Project Cashflows'!MEG371","v":0},{"$f":"'Project Cashflows'!MEH371","v":0},{"$f":"'Project Cashflows'!MEI371","v":0},{"$f":"'Project Cashflows'!MEJ371","v":0},{"$f":"'Project Cashflows'!MEK371","v":0},{"$f":"'Project Cashflows'!MEL371","v":0},{"$f":"'Project Cashflows'!MEM371","v":0},{"$f":"'Project Cashflows'!MEN371","v":0},{"$f":"'Project Cashflows'!MEO371","v":0},{"$f":"'Project Cashflows'!MEP371","v":0},{"$f":"'Project Cashflows'!MEQ371","v":0},{"$f":"'Project Cashflows'!MER371","v":0},{"$f":"'Project Cashflows'!MES371","v":0},{"$f":"'Project Cashflows'!MET371","v":0},{"$f":"'Project Cashflows'!MEU371","v":0},{"$f":"'Project Cashflows'!MEV371","v":0},{"$f":"'Project Cashflows'!MEW371","v":0},{"$f":"'Project Cashflows'!MEX371","v":0},{"$f":"'Project Cashflows'!MEY371","v":0},{"$f":"'Project Cashflows'!MEZ371","v":0},{"$f":"'Project Cashflows'!MFA371","v":0},{"$f":"'Project Cashflows'!MFB371","v":0},{"$f":"'Project Cashflows'!MFC371","v":0},{"$f":"'Project Cashflows'!MFD371","v":0},{"$f":"'Project Cashflows'!MFE371","v":0},{"$f":"'Project Cashflows'!MFF371","v":0},{"$f":"'Project Cashflows'!MFG371","v":0},{"$f":"'Project Cashflows'!MFH371","v":0},{"$f":"'Project Cashflows'!MFI371","v":0},{"$f":"'Project Cashflows'!MFJ371","v":0},{"$f":"'Project Cashflows'!MFK371","v":0},{"$f":"'Project Cashflows'!MFL371","v":0},{"$f":"'Project Cashflows'!MFM371","v":0},{"$f":"'Project Cashflows'!MFN371","v":0},{"$f":"'Project Cashflows'!MFO371","v":0},{"$f":"'Project Cashflows'!MFP371","v":0},{"$f":"'Project Cashflows'!MFQ371","v":0},{"$f":"'Project Cashflows'!MFR371","v":0},{"$f":"'Project Cashflows'!MFS371","v":0},{"$f":"'Project Cashflows'!MFT371","v":0},{"$f":"'Project Cashflows'!MFU371","v":0},{"$f":"'Project Cashflows'!MFV371","v":0},{"$f":"'Project Cashflows'!MFW371","v":0},{"$f":"'Project Cashflows'!MFX371","v":0},{"$f":"'Project Cashflows'!MFY371","v":0},{"$f":"'Project Cashflows'!MFZ371","v":0},{"$f":"'Project Cashflows'!MGA371","v":0},{"$f":"'Project Cashflows'!MGB371","v":0},{"$f":"'Project Cashflows'!MGC371","v":0},{"$f":"'Project Cashflows'!MGD371","v":0},{"$f":"'Project Cashflows'!MGE371","v":0},{"$f":"'Project Cashflows'!MGF371","v":0},{"$f":"'Project Cashflows'!MGG371","v":0},{"$f":"'Project Cashflows'!MGH371","v":0},{"$f":"'Project Cashflows'!MGI371","v":0},{"$f":"'Project Cashflows'!MGJ371","v":0},{"$f":"'Project Cashflows'!MGK371","v":0},{"$f":"'Project Cashflows'!MGL371","v":0},{"$f":"'Project Cashflows'!MGM371","v":0},{"$f":"'Project Cashflows'!MGN371","v":0},{"$f":"'Project Cashflows'!MGO371","v":0},{"$f":"'Project Cashflows'!MGP371","v":0},{"$f":"'Project Cashflows'!MGQ371","v":0},{"$f":"'Project Cashflows'!MGR371","v":0},{"$f":"'Project Cashflows'!MGS371","v":0},{"$f":"'Project Cashflows'!MGT371","v":0},{"$f":"'Project Cashflows'!MGU371","v":0},{"$f":"'Project Cashflows'!MGV371","v":0},{"$f":"'Project Cashflows'!MGW371","v":0},{"$f":"'Project Cashflows'!MGX371","v":0},{"$f":"'Project Cashflows'!MGY371","v":0},{"$f":"'Project Cashflows'!MGZ371","v":0},{"$f":"'Project Cashflows'!MHA371","v":0},{"$f":"'Project Cashflows'!MHB371","v":0},{"$f":"'Project Cashflows'!MHC371","v":0},{"$f":"'Project Cashflows'!MHD371","v":0},{"$f":"'Project Cashflows'!MHE371","v":0},{"$f":"'Project Cashflows'!MHF371","v":0},{"$f":"'Project Cashflows'!MHG371","v":0},{"$f":"'Project Cashflows'!MHH371","v":0},{"$f":"'Project Cashflows'!MHI371","v":0},{"$f":"'Project Cashflows'!MHJ371","v":0},{"$f":"'Project Cashflows'!MHK371","v":0},{"$f":"'Project Cashflows'!MHL371","v":0},{"$f":"'Project Cashflows'!MHM371","v":0},{"$f":"'Project Cashflows'!MHN371","v":0},{"$f":"'Project Cashflows'!MHO371","v":0},{"$f":"'Project Cashflows'!MHP371","v":0},{"$f":"'Project Cashflows'!MHQ371","v":0},{"$f":"'Project Cashflows'!MHR371","v":0},{"$f":"'Project Cashflows'!MHS371","v":0},{"$f":"'Project Cashflows'!MHT371","v":0},{"$f":"'Project Cashflows'!MHU371","v":0},{"$f":"'Project Cashflows'!MHV371","v":0},{"$f":"'Project Cashflows'!MHW371","v":0},{"$f":"'Project Cashflows'!MHX371","v":0},{"$f":"'Project Cashflows'!MHY371","v":0},{"$f":"'Project Cashflows'!MHZ371","v":0},{"$f":"'Project Cashflows'!MIA371","v":0},{"$f":"'Project Cashflows'!MIB371","v":0},{"$f":"'Project Cashflows'!MIC371","v":0},{"$f":"'Project Cashflows'!MID371","v":0},{"$f":"'Project Cashflows'!MIE371","v":0},{"$f":"'Project Cashflows'!MIF371","v":0},{"$f":"'Project Cashflows'!MIG371","v":0},{"$f":"'Project Cashflows'!MIH371","v":0},{"$f":"'Project Cashflows'!MII371","v":0},{"$f":"'Project Cashflows'!MIJ371","v":0},{"$f":"'Project Cashflows'!MIK371","v":0},{"$f":"'Project Cashflows'!MIL371","v":0},{"$f":"'Project Cashflows'!MIM371","v":0},{"$f":"'Project Cashflows'!MIN371","v":0},{"$f":"'Project Cashflows'!MIO371","v":0},{"$f":"'Project Cashflows'!MIP371","v":0},{"$f":"'Project Cashflows'!MIQ371","v":0},{"$f":"'Project Cashflows'!MIR371","v":0},{"$f":"'Project Cashflows'!MIS371","v":0},{"$f":"'Project Cashflows'!MIT371","v":0},{"$f":"'Project Cashflows'!MIU371","v":0},{"$f":"'Project Cashflows'!MIV371","v":0},{"$f":"'Project Cashflows'!MIW371","v":0},{"$f":"'Project Cashflows'!MIX371","v":0},{"$f":"'Project Cashflows'!MIY371","v":0},{"$f":"'Project Cashflows'!MIZ371","v":0},{"$f":"'Project Cashflows'!MJA371","v":0},{"$f":"'Project Cashflows'!MJB371","v":0},{"$f":"'Project Cashflows'!MJC371","v":0},{"$f":"'Project Cashflows'!MJD371","v":0},{"$f":"'Project Cashflows'!MJE371","v":0},{"$f":"'Project Cashflows'!MJF371","v":0},{"$f":"'Project Cashflows'!MJG371","v":0},{"$f":"'Project Cashflows'!MJH371","v":0},{"$f":"'Project Cashflows'!MJI371","v":0},{"$f":"'Project Cashflows'!MJJ371","v":0},{"$f":"'Project Cashflows'!MJK371","v":0},{"$f":"'Project Cashflows'!MJL371","v":0},{"$f":"'Project Cashflows'!MJM371","v":0},{"$f":"'Project Cashflows'!MJN371","v":0},{"$f":"'Project Cashflows'!MJO371","v":0},{"$f":"'Project Cashflows'!MJP371","v":0},{"$f":"'Project Cashflows'!MJQ371","v":0},{"$f":"'Project Cashflows'!MJR371","v":0},{"$f":"'Project Cashflows'!MJS371","v":0},{"$f":"'Project Cashflows'!MJT371","v":0},{"$f":"'Project Cashflows'!MJU371","v":0},{"$f":"'Project Cashflows'!MJV371","v":0},{"$f":"'Project Cashflows'!MJW371","v":0},{"$f":"'Project Cashflows'!MJX371","v":0},{"$f":"'Project Cashflows'!MJY371","v":0},{"$f":"'Project Cashflows'!MJZ371","v":0},{"$f":"'Project Cashflows'!MKA371","v":0},{"$f":"'Project Cashflows'!MKB371","v":0},{"$f":"'Project Cashflows'!MKC371","v":0},{"$f":"'Project Cashflows'!MKD371","v":0},{"$f":"'Project Cashflows'!MKE371","v":0},{"$f":"'Project Cashflows'!MKF371","v":0},{"$f":"'Project Cashflows'!MKG371","v":0},{"$f":"'Project Cashflows'!MKH371","v":0},{"$f":"'Project Cashflows'!MKI371","v":0},{"$f":"'Project Cashflows'!MKJ371","v":0},{"$f":"'Project Cashflows'!MKK371","v":0},{"$f":"'Project Cashflows'!MKL371","v":0},{"$f":"'Project Cashflows'!MKM371","v":0},{"$f":"'Project Cashflows'!MKN371","v":0},{"$f":"'Project Cashflows'!MKO371","v":0},{"$f":"'Project Cashflows'!MKP371","v":0},{"$f":"'Project Cashflows'!MKQ371","v":0},{"$f":"'Project Cashflows'!MKR371","v":0},{"$f":"'Project Cashflows'!MKS371","v":0},{"$f":"'Project Cashflows'!MKT371","v":0},{"$f":"'Project Cashflows'!MKU371","v":0},{"$f":"'Project Cashflows'!MKV371","v":0},{"$f":"'Project Cashflows'!MKW371","v":0},{"$f":"'Project Cashflows'!MKX371","v":0},{"$f":"'Project Cashflows'!MKY371","v":0},{"$f":"'Project Cashflows'!MKZ371","v":0},{"$f":"'Project Cashflows'!MLA371","v":0},{"$f":"'Project Cashflows'!MLB371","v":0},{"$f":"'Project Cashflows'!MLC371","v":0},{"$f":"'Project Cashflows'!MLD371","v":0},{"$f":"'Project Cashflows'!MLE371","v":0},{"$f":"'Project Cashflows'!MLF371","v":0},{"$f":"'Project Cashflows'!MLG371","v":0},{"$f":"'Project Cashflows'!MLH371","v":0},{"$f":"'Project Cashflows'!MLI371","v":0},{"$f":"'Project Cashflows'!MLJ371","v":0},{"$f":"'Project Cashflows'!MLK371","v":0},{"$f":"'Project Cashflows'!MLL371","v":0},{"$f":"'Project Cashflows'!MLM371","v":0},{"$f":"'Project Cashflows'!MLN371","v":0},{"$f":"'Project Cashflows'!MLO371","v":0},{"$f":"'Project Cashflows'!MLP371","v":0},{"$f":"'Project Cashflows'!MLQ371","v":0},{"$f":"'Project Cashflows'!MLR371","v":0},{"$f":"'Project Cashflows'!MLS371","v":0},{"$f":"'Project Cashflows'!MLT371","v":0},{"$f":"'Project Cashflows'!MLU371","v":0},{"$f":"'Project Cashflows'!MLV371","v":0},{"$f":"'Project Cashflows'!MLW371","v":0},{"$f":"'Project Cashflows'!MLX371","v":0},{"$f":"'Project Cashflows'!MLY371","v":0},{"$f":"'Project Cashflows'!MLZ371","v":0},{"$f":"'Project Cashflows'!MMA371","v":0},{"$f":"'Project Cashflows'!MMB371","v":0},{"$f":"'Project Cashflows'!MMC371","v":0},{"$f":"'Project Cashflows'!MMD371","v":0},{"$f":"'Project Cashflows'!MME371","v":0},{"$f":"'Project Cashflows'!MMF371","v":0},{"$f":"'Project Cashflows'!MMG371","v":0},{"$f":"'Project Cashflows'!MMH371","v":0},{"$f":"'Project Cashflows'!MMI371","v":0},{"$f":"'Project Cashflows'!MMJ371","v":0},{"$f":"'Project Cashflows'!MMK371","v":0},{"$f":"'Project Cashflows'!MML371","v":0},{"$f":"'Project Cashflows'!MMM371","v":0},{"$f":"'Project Cashflows'!MMN371","v":0},{"$f":"'Project Cashflows'!MMO371","v":0},{"$f":"'Project Cashflows'!MMP371","v":0},{"$f":"'Project Cashflows'!MMQ371","v":0},{"$f":"'Project Cashflows'!MMR371","v":0},{"$f":"'Project Cashflows'!MMS371","v":0},{"$f":"'Project Cashflows'!MMT371","v":0},{"$f":"'Project Cashflows'!MMU371","v":0},{"$f":"'Project Cashflows'!MMV371","v":0},{"$f":"'Project Cashflows'!MMW371","v":0},{"$f":"'Project Cashflows'!MMX371","v":0},{"$f":"'Project Cashflows'!MMY371","v":0},{"$f":"'Project Cashflows'!MMZ371","v":0},{"$f":"'Project Cashflows'!MNA371","v":0},{"$f":"'Project Cashflows'!MNB371","v":0},{"$f":"'Project Cashflows'!MNC371","v":0},{"$f":"'Project Cashflows'!MND371","v":0},{"$f":"'Project Cashflows'!MNE371","v":0},{"$f":"'Project Cashflows'!MNF371","v":0},{"$f":"'Project Cashflows'!MNG371","v":0},{"$f":"'Project Cashflows'!MNH371","v":0},{"$f":"'Project Cashflows'!MNI371","v":0},{"$f":"'Project Cashflows'!MNJ371","v":0},{"$f":"'Project Cashflows'!MNK371","v":0},{"$f":"'Project Cashflows'!MNL371","v":0},{"$f":"'Project Cashflows'!MNM371","v":0},{"$f":"'Project Cashflows'!MNN371","v":0},{"$f":"'Project Cashflows'!MNO371","v":0},{"$f":"'Project Cashflows'!MNP371","v":0},{"$f":"'Project Cashflows'!MNQ371","v":0},{"$f":"'Project Cashflows'!MNR371","v":0},{"$f":"'Project Cashflows'!MNS371","v":0},{"$f":"'Project Cashflows'!MNT371","v":0},{"$f":"'Project Cashflows'!MNU371","v":0},{"$f":"'Project Cashflows'!MNV371","v":0},{"$f":"'Project Cashflows'!MNW371","v":0},{"$f":"'Project Cashflows'!MNX371","v":0},{"$f":"'Project Cashflows'!MNY371","v":0},{"$f":"'Project Cashflows'!MNZ371","v":0},{"$f":"'Project Cashflows'!MOA371","v":0},{"$f":"'Project Cashflows'!MOB371","v":0},{"$f":"'Project Cashflows'!MOC371","v":0},{"$f":"'Project Cashflows'!MOD371","v":0},{"$f":"'Project Cashflows'!MOE371","v":0},{"$f":"'Project Cashflows'!MOF371","v":0},{"$f":"'Project Cashflows'!MOG371","v":0},{"$f":"'Project Cashflows'!MOH371","v":0},{"$f":"'Project Cashflows'!MOI371","v":0},{"$f":"'Project Cashflows'!MOJ371","v":0},{"$f":"'Project Cashflows'!MOK371","v":0},{"$f":"'Project Cashflows'!MOL371","v":0},{"$f":"'Project Cashflows'!MOM371","v":0},{"$f":"'Project Cashflows'!MON371","v":0},{"$f":"'Project Cashflows'!MOO371","v":0},{"$f":"'Project Cashflows'!MOP371","v":0},{"$f":"'Project Cashflows'!MOQ371","v":0},{"$f":"'Project Cashflows'!MOR371","v":0},{"$f":"'Project Cashflows'!MOS371","v":0},{"$f":"'Project Cashflows'!MOT371","v":0},{"$f":"'Project Cashflows'!MOU371","v":0},{"$f":"'Project Cashflows'!MOV371","v":0},{"$f":"'Project Cashflows'!MOW371","v":0},{"$f":"'Project Cashflows'!MOX371","v":0},{"$f":"'Project Cashflows'!MOY371","v":0},{"$f":"'Project Cashflows'!MOZ371","v":0},{"$f":"'Project Cashflows'!MPA371","v":0},{"$f":"'Project Cashflows'!MPB371","v":0},{"$f":"'Project Cashflows'!MPC371","v":0},{"$f":"'Project Cashflows'!MPD371","v":0},{"$f":"'Project Cashflows'!MPE371","v":0},{"$f":"'Project Cashflows'!MPF371","v":0},{"$f":"'Project Cashflows'!MPG371","v":0},{"$f":"'Project Cashflows'!MPH371","v":0},{"$f":"'Project Cashflows'!MPI371","v":0},{"$f":"'Project Cashflows'!MPJ371","v":0},{"$f":"'Project Cashflows'!MPK371","v":0},{"$f":"'Project Cashflows'!MPL371","v":0},{"$f":"'Project Cashflows'!MPM371","v":0},{"$f":"'Project Cashflows'!MPN371","v":0},{"$f":"'Project Cashflows'!MPO371","v":0},{"$f":"'Project Cashflows'!MPP371","v":0},{"$f":"'Project Cashflows'!MPQ371","v":0},{"$f":"'Project Cashflows'!MPR371","v":0},{"$f":"'Project Cashflows'!MPS371","v":0},{"$f":"'Project Cashflows'!MPT371","v":0},{"$f":"'Project Cashflows'!MPU371","v":0},{"$f":"'Project Cashflows'!MPV371","v":0},{"$f":"'Project Cashflows'!MPW371","v":0},{"$f":"'Project Cashflows'!MPX371","v":0},{"$f":"'Project Cashflows'!MPY371","v":0},{"$f":"'Project Cashflows'!MPZ371","v":0},{"$f":"'Project Cashflows'!MQA371","v":0},{"$f":"'Project Cashflows'!MQB371","v":0},{"$f":"'Project Cashflows'!MQC371","v":0},{"$f":"'Project Cashflows'!MQD371","v":0},{"$f":"'Project Cashflows'!MQE371","v":0},{"$f":"'Project Cashflows'!MQF371","v":0},{"$f":"'Project Cashflows'!MQG371","v":0},{"$f":"'Project Cashflows'!MQH371","v":0},{"$f":"'Project Cashflows'!MQI371","v":0},{"$f":"'Project Cashflows'!MQJ371","v":0},{"$f":"'Project Cashflows'!MQK371","v":0},{"$f":"'Project Cashflows'!MQL371","v":0},{"$f":"'Project Cashflows'!MQM371","v":0},{"$f":"'Project Cashflows'!MQN371","v":0},{"$f":"'Project Cashflows'!MQO371","v":0},{"$f":"'Project Cashflows'!MQP371","v":0},{"$f":"'Project Cashflows'!MQQ371","v":0},{"$f":"'Project Cashflows'!MQR371","v":0},{"$f":"'Project Cashflows'!MQS371","v":0},{"$f":"'Project Cashflows'!MQT371","v":0},{"$f":"'Project Cashflows'!MQU371","v":0},{"$f":"'Project Cashflows'!MQV371","v":0},{"$f":"'Project Cashflows'!MQW371","v":0},{"$f":"'Project Cashflows'!MQX371","v":0},{"$f":"'Project Cashflows'!MQY371","v":0},{"$f":"'Project Cashflows'!MQZ371","v":0},{"$f":"'Project Cashflows'!MRA371","v":0},{"$f":"'Project Cashflows'!MRB371","v":0},{"$f":"'Project Cashflows'!MRC371","v":0},{"$f":"'Project Cashflows'!MRD371","v":0},{"$f":"'Project Cashflows'!MRE371","v":0},{"$f":"'Project Cashflows'!MRF371","v":0},{"$f":"'Project Cashflows'!MRG371","v":0},{"$f":"'Project Cashflows'!MRH371","v":0},{"$f":"'Project Cashflows'!MRI371","v":0},{"$f":"'Project Cashflows'!MRJ371","v":0},{"$f":"'Project Cashflows'!MRK371","v":0},{"$f":"'Project Cashflows'!MRL371","v":0},{"$f":"'Project Cashflows'!MRM371","v":0},{"$f":"'Project Cashflows'!MRN371","v":0},{"$f":"'Project Cashflows'!MRO371","v":0},{"$f":"'Project Cashflows'!MRP371","v":0},{"$f":"'Project Cashflows'!MRQ371","v":0},{"$f":"'Project Cashflows'!MRR371","v":0},{"$f":"'Project Cashflows'!MRS371","v":0},{"$f":"'Project Cashflows'!MRT371","v":0},{"$f":"'Project Cashflows'!MRU371","v":0},{"$f":"'Project Cashflows'!MRV371","v":0},{"$f":"'Project Cashflows'!MRW371","v":0},{"$f":"'Project Cashflows'!MRX371","v":0},{"$f":"'Project Cashflows'!MRY371","v":0},{"$f":"'Project Cashflows'!MRZ371","v":0},{"$f":"'Project Cashflows'!MSA371","v":0},{"$f":"'Project Cashflows'!MSB371","v":0},{"$f":"'Project Cashflows'!MSC371","v":0},{"$f":"'Project Cashflows'!MSD371","v":0},{"$f":"'Project Cashflows'!MSE371","v":0},{"$f":"'Project Cashflows'!MSF371","v":0},{"$f":"'Project Cashflows'!MSG371","v":0},{"$f":"'Project Cashflows'!MSH371","v":0},{"$f":"'Project Cashflows'!MSI371","v":0},{"$f":"'Project Cashflows'!MSJ371","v":0},{"$f":"'Project Cashflows'!MSK371","v":0},{"$f":"'Project Cashflows'!MSL371","v":0},{"$f":"'Project Cashflows'!MSM371","v":0},{"$f":"'Project Cashflows'!MSN371","v":0},{"$f":"'Project Cashflows'!MSO371","v":0},{"$f":"'Project Cashflows'!MSP371","v":0},{"$f":"'Project Cashflows'!MSQ371","v":0},{"$f":"'Project Cashflows'!MSR371","v":0},{"$f":"'Project Cashflows'!MSS371","v":0},{"$f":"'Project Cashflows'!MST371","v":0},{"$f":"'Project Cashflows'!MSU371","v":0},{"$f":"'Project Cashflows'!MSV371","v":0},{"$f":"'Project Cashflows'!MSW371","v":0},{"$f":"'Project Cashflows'!MSX371","v":0},{"$f":"'Project Cashflows'!MSY371","v":0},{"$f":"'Project Cashflows'!MSZ371","v":0},{"$f":"'Project Cashflows'!MTA371","v":0},{"$f":"'Project Cashflows'!MTB371","v":0},{"$f":"'Project Cashflows'!MTC371","v":0},{"$f":"'Project Cashflows'!MTD371","v":0},{"$f":"'Project Cashflows'!MTE371","v":0},{"$f":"'Project Cashflows'!MTF371","v":0},{"$f":"'Project Cashflows'!MTG371","v":0},{"$f":"'Project Cashflows'!MTH371","v":0},{"$f":"'Project Cashflows'!MTI371","v":0},{"$f":"'Project Cashflows'!MTJ371","v":0},{"$f":"'Project Cashflows'!MTK371","v":0},{"$f":"'Project Cashflows'!MTL371","v":0},{"$f":"'Project Cashflows'!MTM371","v":0},{"$f":"'Project Cashflows'!MTN371","v":0},{"$f":"'Project Cashflows'!MTO371","v":0},{"$f":"'Project Cashflows'!MTP371","v":0},{"$f":"'Project Cashflows'!MTQ371","v":0},{"$f":"'Project Cashflows'!MTR371","v":0},{"$f":"'Project Cashflows'!MTS371","v":0},{"$f":"'Project Cashflows'!MTT371","v":0},{"$f":"'Project Cashflows'!MTU371","v":0},{"$f":"'Project Cashflows'!MTV371","v":0},{"$f":"'Project Cashflows'!MTW371","v":0},{"$f":"'Project Cashflows'!MTX371","v":0},{"$f":"'Project Cashflows'!MTY371","v":0},{"$f":"'Project Cashflows'!MTZ371","v":0},{"$f":"'Project Cashflows'!MUA371","v":0},{"$f":"'Project Cashflows'!MUB371","v":0},{"$f":"'Project Cashflows'!MUC371","v":0},{"$f":"'Project Cashflows'!MUD371","v":0},{"$f":"'Project Cashflows'!MUE371","v":0},{"$f":"'Project Cashflows'!MUF371","v":0},{"$f":"'Project Cashflows'!MUG371","v":0},{"$f":"'Project Cashflows'!MUH371","v":0},{"$f":"'Project Cashflows'!MUI371","v":0},{"$f":"'Project Cashflows'!MUJ371","v":0},{"$f":"'Project Cashflows'!MUK371","v":0},{"$f":"'Project Cashflows'!MUL371","v":0},{"$f":"'Project Cashflows'!MUM371","v":0},{"$f":"'Project Cashflows'!MUN371","v":0},{"$f":"'Project Cashflows'!MUO371","v":0},{"$f":"'Project Cashflows'!MUP371","v":0},{"$f":"'Project Cashflows'!MUQ371","v":0},{"$f":"'Project Cashflows'!MUR371","v":0},{"$f":"'Project Cashflows'!MUS371","v":0},{"$f":"'Project Cashflows'!MUT371","v":0},{"$f":"'Project Cashflows'!MUU371","v":0},{"$f":"'Project Cashflows'!MUV371","v":0},{"$f":"'Project Cashflows'!MUW371","v":0},{"$f":"'Project Cashflows'!MUX371","v":0},{"$f":"'Project Cashflows'!MUY371","v":0},{"$f":"'Project Cashflows'!MUZ371","v":0},{"$f":"'Project Cashflows'!MVA371","v":0},{"$f":"'Project Cashflows'!MVB371","v":0},{"$f":"'Project Cashflows'!MVC371","v":0},{"$f":"'Project Cashflows'!MVD371","v":0},{"$f":"'Project Cashflows'!MVE371","v":0},{"$f":"'Project Cashflows'!MVF371","v":0},{"$f":"'Project Cashflows'!MVG371","v":0},{"$f":"'Project Cashflows'!MVH371","v":0},{"$f":"'Project Cashflows'!MVI371","v":0},{"$f":"'Project Cashflows'!MVJ371","v":0},{"$f":"'Project Cashflows'!MVK371","v":0},{"$f":"'Project Cashflows'!MVL371","v":0},{"$f":"'Project Cashflows'!MVM371","v":0},{"$f":"'Project Cashflows'!MVN371","v":0},{"$f":"'Project Cashflows'!MVO371","v":0},{"$f":"'Project Cashflows'!MVP371","v":0},{"$f":"'Project Cashflows'!MVQ371","v":0},{"$f":"'Project Cashflows'!MVR371","v":0},{"$f":"'Project Cashflows'!MVS371","v":0},{"$f":"'Project Cashflows'!MVT371","v":0},{"$f":"'Project Cashflows'!MVU371","v":0},{"$f":"'Project Cashflows'!MVV371","v":0},{"$f":"'Project Cashflows'!MVW371","v":0},{"$f":"'Project Cashflows'!MVX371","v":0},{"$f":"'Project Cashflows'!MVY371","v":0},{"$f":"'Project Cashflows'!MVZ371","v":0},{"$f":"'Project Cashflows'!MWA371","v":0},{"$f":"'Project Cashflows'!MWB371","v":0},{"$f":"'Project Cashflows'!MWC371","v":0},{"$f":"'Project Cashflows'!MWD371","v":0},{"$f":"'Project Cashflows'!MWE371","v":0},{"$f":"'Project Cashflows'!MWF371","v":0},{"$f":"'Project Cashflows'!MWG371","v":0},{"$f":"'Project Cashflows'!MWH371","v":0},{"$f":"'Project Cashflows'!MWI371","v":0},{"$f":"'Project Cashflows'!MWJ371","v":0},{"$f":"'Project Cashflows'!MWK371","v":0},{"$f":"'Project Cashflows'!MWL371","v":0},{"$f":"'Project Cashflows'!MWM371","v":0},{"$f":"'Project Cashflows'!MWN371","v":0},{"$f":"'Project Cashflows'!MWO371","v":0},{"$f":"'Project Cashflows'!MWP371","v":0},{"$f":"'Project Cashflows'!MWQ371","v":0},{"$f":"'Project Cashflows'!MWR371","v":0},{"$f":"'Project Cashflows'!MWS371","v":0},{"$f":"'Project Cashflows'!MWT371","v":0},{"$f":"'Project Cashflows'!MWU371","v":0},{"$f":"'Project Cashflows'!MWV371","v":0},{"$f":"'Project Cashflows'!MWW371","v":0},{"$f":"'Project Cashflows'!MWX371","v":0},{"$f":"'Project Cashflows'!MWY371","v":0},{"$f":"'Project Cashflows'!MWZ371","v":0},{"$f":"'Project Cashflows'!MXA371","v":0},{"$f":"'Project Cashflows'!MXB371","v":0},{"$f":"'Project Cashflows'!MXC371","v":0},{"$f":"'Project Cashflows'!MXD371","v":0},{"$f":"'Project Cashflows'!MXE371","v":0},{"$f":"'Project Cashflows'!MXF371","v":0},{"$f":"'Project Cashflows'!MXG371","v":0},{"$f":"'Project Cashflows'!MXH371","v":0},{"$f":"'Project Cashflows'!MXI371","v":0},{"$f":"'Project Cashflows'!MXJ371","v":0},{"$f":"'Project Cashflows'!MXK371","v":0},{"$f":"'Project Cashflows'!MXL371","v":0},{"$f":"'Project Cashflows'!MXM371","v":0},{"$f":"'Project Cashflows'!MXN371","v":0},{"$f":"'Project Cashflows'!MXO371","v":0},{"$f":"'Project Cashflows'!MXP371","v":0},{"$f":"'Project Cashflows'!MXQ371","v":0},{"$f":"'Project Cashflows'!MXR371","v":0},{"$f":"'Project Cashflows'!MXS371","v":0},{"$f":"'Project Cashflows'!MXT371","v":0},{"$f":"'Project Cashflows'!MXU371","v":0},{"$f":"'Project Cashflows'!MXV371","v":0},{"$f":"'Project Cashflows'!MXW371","v":0},{"$f":"'Project Cashflows'!MXX371","v":0},{"$f":"'Project Cashflows'!MXY371","v":0},{"$f":"'Project Cashflows'!MXZ371","v":0},{"$f":"'Project Cashflows'!MYA371","v":0},{"$f":"'Project Cashflows'!MYB371","v":0},{"$f":"'Project Cashflows'!MYC371","v":0},{"$f":"'Project Cashflows'!MYD371","v":0},{"$f":"'Project Cashflows'!MYE371","v":0},{"$f":"'Project Cashflows'!MYF371","v":0},{"$f":"'Project Cashflows'!MYG371","v":0},{"$f":"'Project Cashflows'!MYH371","v":0},{"$f":"'Project Cashflows'!MYI371","v":0},{"$f":"'Project Cashflows'!MYJ371","v":0},{"$f":"'Project Cashflows'!MYK371","v":0},{"$f":"'Project Cashflows'!MYL371","v":0},{"$f":"'Project Cashflows'!MYM371","v":0},{"$f":"'Project Cashflows'!MYN371","v":0},{"$f":"'Project Cashflows'!MYO371","v":0},{"$f":"'Project Cashflows'!MYP371","v":0},{"$f":"'Project Cashflows'!MYQ371","v":0},{"$f":"'Project Cashflows'!MYR371","v":0},{"$f":"'Project Cashflows'!MYS371","v":0},{"$f":"'Project Cashflows'!MYT371","v":0},{"$f":"'Project Cashflows'!MYU371","v":0},{"$f":"'Project Cashflows'!MYV371","v":0},{"$f":"'Project Cashflows'!MYW371","v":0},{"$f":"'Project Cashflows'!MYX371","v":0},{"$f":"'Project Cashflows'!MYY371","v":0},{"$f":"'Project Cashflows'!MYZ371","v":0},{"$f":"'Project Cashflows'!MZA371","v":0},{"$f":"'Project Cashflows'!MZB371","v":0},{"$f":"'Project Cashflows'!MZC371","v":0},{"$f":"'Project Cashflows'!MZD371","v":0},{"$f":"'Project Cashflows'!MZE371","v":0},{"$f":"'Project Cashflows'!MZF371","v":0},{"$f":"'Project Cashflows'!MZG371","v":0},{"$f":"'Project Cashflows'!MZH371","v":0},{"$f":"'Project Cashflows'!MZI371","v":0},{"$f":"'Project Cashflows'!MZJ371","v":0},{"$f":"'Project Cashflows'!MZK371","v":0},{"$f":"'Project Cashflows'!MZL371","v":0},{"$f":"'Project Cashflows'!MZM371","v":0},{"$f":"'Project Cashflows'!MZN371","v":0},{"$f":"'Project Cashflows'!MZO371","v":0},{"$f":"'Project Cashflows'!MZP371","v":0},{"$f":"'Project Cashflows'!MZQ371","v":0},{"$f":"'Project Cashflows'!MZR371","v":0},{"$f":"'Project Cashflows'!MZS371","v":0},{"$f":"'Project Cashflows'!MZT371","v":0},{"$f":"'Project Cashflows'!MZU371","v":0},{"$f":"'Project Cashflows'!MZV371","v":0},{"$f":"'Project Cashflows'!MZW371","v":0},{"$f":"'Project Cashflows'!MZX371","v":0},{"$f":"'Project Cashflows'!MZY371","v":0},{"$f":"'Project Cashflows'!MZZ371","v":0},{"$f":"'Project Cashflows'!NAA371","v":0},{"$f":"'Project Cashflows'!NAB371","v":0},{"$f":"'Project Cashflows'!NAC371","v":0},{"$f":"'Project Cashflows'!NAD371","v":0},{"$f":"'Project Cashflows'!NAE371","v":0},{"$f":"'Project Cashflows'!NAF371","v":0},{"$f":"'Project Cashflows'!NAG371","v":0},{"$f":"'Project Cashflows'!NAH371","v":0},{"$f":"'Project Cashflows'!NAI371","v":0},{"$f":"'Project Cashflows'!NAJ371","v":0},{"$f":"'Project Cashflows'!NAK371","v":0},{"$f":"'Project Cashflows'!NAL371","v":0},{"$f":"'Project Cashflows'!NAM371","v":0},{"$f":"'Project Cashflows'!NAN371","v":0},{"$f":"'Project Cashflows'!NAO371","v":0},{"$f":"'Project Cashflows'!NAP371","v":0},{"$f":"'Project Cashflows'!NAQ371","v":0},{"$f":"'Project Cashflows'!NAR371","v":0},{"$f":"'Project Cashflows'!NAS371","v":0},{"$f":"'Project Cashflows'!NAT371","v":0},{"$f":"'Project Cashflows'!NAU371","v":0},{"$f":"'Project Cashflows'!NAV371","v":0},{"$f":"'Project Cashflows'!NAW371","v":0},{"$f":"'Project Cashflows'!NAX371","v":0},{"$f":"'Project Cashflows'!NAY371","v":0},{"$f":"'Project Cashflows'!NAZ371","v":0},{"$f":"'Project Cashflows'!NBA371","v":0},{"$f":"'Project Cashflows'!NBB371","v":0},{"$f":"'Project Cashflows'!NBC371","v":0},{"$f":"'Project Cashflows'!NBD371","v":0},{"$f":"'Project Cashflows'!NBE371","v":0},{"$f":"'Project Cashflows'!NBF371","v":0},{"$f":"'Project Cashflows'!NBG371","v":0},{"$f":"'Project Cashflows'!NBH371","v":0},{"$f":"'Project Cashflows'!NBI371","v":0},{"$f":"'Project Cashflows'!NBJ371","v":0},{"$f":"'Project Cashflows'!NBK371","v":0},{"$f":"'Project Cashflows'!NBL371","v":0},{"$f":"'Project Cashflows'!NBM371","v":0},{"$f":"'Project Cashflows'!NBN371","v":0},{"$f":"'Project Cashflows'!NBO371","v":0},{"$f":"'Project Cashflows'!NBP371","v":0},{"$f":"'Project Cashflows'!NBQ371","v":0},{"$f":"'Project Cashflows'!NBR371","v":0},{"$f":"'Project Cashflows'!NBS371","v":0},{"$f":"'Project Cashflows'!NBT371","v":0},{"$f":"'Project Cashflows'!NBU371","v":0},{"$f":"'Project Cashflows'!NBV371","v":0},{"$f":"'Project Cashflows'!NBW371","v":0},{"$f":"'Project Cashflows'!NBX371","v":0},{"$f":"'Project Cashflows'!NBY371","v":0},{"$f":"'Project Cashflows'!NBZ371","v":0},{"$f":"'Project Cashflows'!NCA371","v":0},{"$f":"'Project Cashflows'!NCB371","v":0},{"$f":"'Project Cashflows'!NCC371","v":0},{"$f":"'Project Cashflows'!NCD371","v":0},{"$f":"'Project Cashflows'!NCE371","v":0},{"$f":"'Project Cashflows'!NCF371","v":0},{"$f":"'Project Cashflows'!NCG371","v":0},{"$f":"'Project Cashflows'!NCH371","v":0},{"$f":"'Project Cashflows'!NCI371","v":0},{"$f":"'Project Cashflows'!NCJ371","v":0},{"$f":"'Project Cashflows'!NCK371","v":0},{"$f":"'Project Cashflows'!NCL371","v":0},{"$f":"'Project Cashflows'!NCM371","v":0},{"$f":"'Project Cashflows'!NCN371","v":0},{"$f":"'Project Cashflows'!NCO371","v":0},{"$f":"'Project Cashflows'!NCP371","v":0},{"$f":"'Project Cashflows'!NCQ371","v":0},{"$f":"'Project Cashflows'!NCR371","v":0},{"$f":"'Project Cashflows'!NCS371","v":0},{"$f":"'Project Cashflows'!NCT371","v":0},{"$f":"'Project Cashflows'!NCU371","v":0},{"$f":"'Project Cashflows'!NCV371","v":0},{"$f":"'Project Cashflows'!NCW371","v":0},{"$f":"'Project Cashflows'!NCX371","v":0},{"$f":"'Project Cashflows'!NCY371","v":0},{"$f":"'Project Cashflows'!NCZ371","v":0},{"$f":"'Project Cashflows'!NDA371","v":0},{"$f":"'Project Cashflows'!NDB371","v":0},{"$f":"'Project Cashflows'!NDC371","v":0},{"$f":"'Project Cashflows'!NDD371","v":0},{"$f":"'Project Cashflows'!NDE371","v":0},{"$f":"'Project Cashflows'!NDF371","v":0},{"$f":"'Project Cashflows'!NDG371","v":0},{"$f":"'Project Cashflows'!NDH371","v":0},{"$f":"'Project Cashflows'!NDI371","v":0},{"$f":"'Project Cashflows'!NDJ371","v":0},{"$f":"'Project Cashflows'!NDK371","v":0},{"$f":"'Project Cashflows'!NDL371","v":0},{"$f":"'Project Cashflows'!NDM371","v":0},{"$f":"'Project Cashflows'!NDN371","v":0},{"$f":"'Project Cashflows'!NDO371","v":0},{"$f":"'Project Cashflows'!NDP371","v":0},{"$f":"'Project Cashflows'!NDQ371","v":0},{"$f":"'Project Cashflows'!NDR371","v":0},{"$f":"'Project Cashflows'!NDS371","v":0},{"$f":"'Project Cashflows'!NDT371","v":0},{"$f":"'Project Cashflows'!NDU371","v":0},{"$f":"'Project Cashflows'!NDV371","v":0},{"$f":"'Project Cashflows'!NDW371","v":0},{"$f":"'Project Cashflows'!NDX371","v":0},{"$f":"'Project Cashflows'!NDY371","v":0},{"$f":"'Project Cashflows'!NDZ371","v":0},{"$f":"'Project Cashflows'!NEA371","v":0},{"$f":"'Project Cashflows'!NEB371","v":0},{"$f":"'Project Cashflows'!NEC371","v":0},{"$f":"'Project Cashflows'!NED371","v":0},{"$f":"'Project Cashflows'!NEE371","v":0},{"$f":"'Project Cashflows'!NEF371","v":0},{"$f":"'Project Cashflows'!NEG371","v":0},{"$f":"'Project Cashflows'!NEH371","v":0},{"$f":"'Project Cashflows'!NEI371","v":0},{"$f":"'Project Cashflows'!NEJ371","v":0},{"$f":"'Project Cashflows'!NEK371","v":0},{"$f":"'Project Cashflows'!NEL371","v":0},{"$f":"'Project Cashflows'!NEM371","v":0},{"$f":"'Project Cashflows'!NEN371","v":0},{"$f":"'Project Cashflows'!NEO371","v":0},{"$f":"'Project Cashflows'!NEP371","v":0},{"$f":"'Project Cashflows'!NEQ371","v":0},{"$f":"'Project Cashflows'!NER371","v":0},{"$f":"'Project Cashflows'!NES371","v":0},{"$f":"'Project Cashflows'!NET371","v":0},{"$f":"'Project Cashflows'!NEU371","v":0},{"$f":"'Project Cashflows'!NEV371","v":0},{"$f":"'Project Cashflows'!NEW371","v":0},{"$f":"'Project Cashflows'!NEX371","v":0},{"$f":"'Project Cashflows'!NEY371","v":0},{"$f":"'Project Cashflows'!NEZ371","v":0},{"$f":"'Project Cashflows'!NFA371","v":0},{"$f":"'Project Cashflows'!NFB371","v":0},{"$f":"'Project Cashflows'!NFC371","v":0},{"$f":"'Project Cashflows'!NFD371","v":0},{"$f":"'Project Cashflows'!NFE371","v":0},{"$f":"'Project Cashflows'!NFF371","v":0},{"$f":"'Project Cashflows'!NFG371","v":0},{"$f":"'Project Cashflows'!NFH371","v":0},{"$f":"'Project Cashflows'!NFI371","v":0},{"$f":"'Project Cashflows'!NFJ371","v":0},{"$f":"'Project Cashflows'!NFK371","v":0},{"$f":"'Project Cashflows'!NFL371","v":0},{"$f":"'Project Cashflows'!NFM371","v":0},{"$f":"'Project Cashflows'!NFN371","v":0},{"$f":"'Project Cashflows'!NFO371","v":0},{"$f":"'Project Cashflows'!NFP371","v":0},{"$f":"'Project Cashflows'!NFQ371","v":0},{"$f":"'Project Cashflows'!NFR371","v":0},{"$f":"'Project Cashflows'!NFS371","v":0},{"$f":"'Project Cashflows'!NFT371","v":0},{"$f":"'Project Cashflows'!NFU371","v":0},{"$f":"'Project Cashflows'!NFV371","v":0},{"$f":"'Project Cashflows'!NFW371","v":0},{"$f":"'Project Cashflows'!NFX371","v":0},{"$f":"'Project Cashflows'!NFY371","v":0},{"$f":"'Project Cashflows'!NFZ371","v":0},{"$f":"'Project Cashflows'!NGA371","v":0},{"$f":"'Project Cashflows'!NGB371","v":0},{"$f":"'Project Cashflows'!NGC371","v":0},{"$f":"'Project Cashflows'!NGD371","v":0},{"$f":"'Project Cashflows'!NGE371","v":0},{"$f":"'Project Cashflows'!NGF371","v":0},{"$f":"'Project Cashflows'!NGG371","v":0},{"$f":"'Project Cashflows'!NGH371","v":0},{"$f":"'Project Cashflows'!NGI371","v":0},{"$f":"'Project Cashflows'!NGJ371","v":0},{"$f":"'Project Cashflows'!NGK371","v":0},{"$f":"'Project Cashflows'!NGL371","v":0},{"$f":"'Project Cashflows'!NGM371","v":0},{"$f":"'Project Cashflows'!NGN371","v":0},{"$f":"'Project Cashflows'!NGO371","v":0},{"$f":"'Project Cashflows'!NGP371","v":0},{"$f":"'Project Cashflows'!NGQ371","v":0},{"$f":"'Project Cashflows'!NGR371","v":0},{"$f":"'Project Cashflows'!NGS371","v":0},{"$f":"'Project Cashflows'!NGT371","v":0},{"$f":"'Project Cashflows'!NGU371","v":0},{"$f":"'Project Cashflows'!NGV371","v":0},{"$f":"'Project Cashflows'!NGW371","v":0},{"$f":"'Project Cashflows'!NGX371","v":0},{"$f":"'Project Cashflows'!NGY371","v":0},{"$f":"'Project Cashflows'!NGZ371","v":0},{"$f":"'Project Cashflows'!NHA371","v":0},{"$f":"'Project Cashflows'!NHB371","v":0},{"$f":"'Project Cashflows'!NHC371","v":0},{"$f":"'Project Cashflows'!NHD371","v":0},{"$f":"'Project Cashflows'!NHE371","v":0},{"$f":"'Project Cashflows'!NHF371","v":0},{"$f":"'Project Cashflows'!NHG371","v":0},{"$f":"'Project Cashflows'!NHH371","v":0},{"$f":"'Project Cashflows'!NHI371","v":0},{"$f":"'Project Cashflows'!NHJ371","v":0},{"$f":"'Project Cashflows'!NHK371","v":0},{"$f":"'Project Cashflows'!NHL371","v":0},{"$f":"'Project Cashflows'!NHM371","v":0},{"$f":"'Project Cashflows'!NHN371","v":0},{"$f":"'Project Cashflows'!NHO371","v":0},{"$f":"'Project Cashflows'!NHP371","v":0},{"$f":"'Project Cashflows'!NHQ371","v":0},{"$f":"'Project Cashflows'!NHR371","v":0},{"$f":"'Project Cashflows'!NHS371","v":0},{"$f":"'Project Cashflows'!NHT371","v":0},{"$f":"'Project Cashflows'!NHU371","v":0},{"$f":"'Project Cashflows'!NHV371","v":0},{"$f":"'Project Cashflows'!NHW371","v":0},{"$f":"'Project Cashflows'!NHX371","v":0},{"$f":"'Project Cashflows'!NHY371","v":0},{"$f":"'Project Cashflows'!NHZ371","v":0},{"$f":"'Project Cashflows'!NIA371","v":0},{"$f":"'Project Cashflows'!NIB371","v":0},{"$f":"'Project Cashflows'!NIC371","v":0},{"$f":"'Project Cashflows'!NID371","v":0},{"$f":"'Project Cashflows'!NIE371","v":0},{"$f":"'Project Cashflows'!NIF371","v":0},{"$f":"'Project Cashflows'!NIG371","v":0},{"$f":"'Project Cashflows'!NIH371","v":0},{"$f":"'Project Cashflows'!NII371","v":0},{"$f":"'Project Cashflows'!NIJ371","v":0},{"$f":"'Project Cashflows'!NIK371","v":0},{"$f":"'Project Cashflows'!NIL371","v":0},{"$f":"'Project Cashflows'!NIM371","v":0},{"$f":"'Project Cashflows'!NIN371","v":0},{"$f":"'Project Cashflows'!NIO371","v":0},{"$f":"'Project Cashflows'!NIP371","v":0},{"$f":"'Project Cashflows'!NIQ371","v":0},{"$f":"'Project Cashflows'!NIR371","v":0},{"$f":"'Project Cashflows'!NIS371","v":0},{"$f":"'Project Cashflows'!NIT371","v":0},{"$f":"'Project Cashflows'!NIU371","v":0},{"$f":"'Project Cashflows'!NIV371","v":0},{"$f":"'Project Cashflows'!NIW371","v":0},{"$f":"'Project Cashflows'!NIX371","v":0},{"$f":"'Project Cashflows'!NIY371","v":0},{"$f":"'Project Cashflows'!NIZ371","v":0},{"$f":"'Project Cashflows'!NJA371","v":0},{"$f":"'Project Cashflows'!NJB371","v":0},{"$f":"'Project Cashflows'!NJC371","v":0},{"$f":"'Project Cashflows'!NJD371","v":0},{"$f":"'Project Cashflows'!NJE371","v":0},{"$f":"'Project Cashflows'!NJF371","v":0},{"$f":"'Project Cashflows'!NJG371","v":0},{"$f":"'Project Cashflows'!NJH371","v":0},{"$f":"'Project Cashflows'!NJI371","v":0},{"$f":"'Project Cashflows'!NJJ371","v":0},{"$f":"'Project Cashflows'!NJK371","v":0},{"$f":"'Project Cashflows'!NJL371","v":0},{"$f":"'Project Cashflows'!NJM371","v":0},{"$f":"'Project Cashflows'!NJN371","v":0},{"$f":"'Project Cashflows'!NJO371","v":0},{"$f":"'Project Cashflows'!NJP371","v":0},{"$f":"'Project Cashflows'!NJQ371","v":0},{"$f":"'Project Cashflows'!NJR371","v":0},{"$f":"'Project Cashflows'!NJS371","v":0},{"$f":"'Project Cashflows'!NJT371","v":0},{"$f":"'Project Cashflows'!NJU371","v":0},{"$f":"'Project Cashflows'!NJV371","v":0},{"$f":"'Project Cashflows'!NJW371","v":0},{"$f":"'Project Cashflows'!NJX371","v":0},{"$f":"'Project Cashflows'!NJY371","v":0},{"$f":"'Project Cashflows'!NJZ371","v":0},{"$f":"'Project Cashflows'!NKA371","v":0},{"$f":"'Project Cashflows'!NKB371","v":0},{"$f":"'Project Cashflows'!NKC371","v":0},{"$f":"'Project Cashflows'!NKD371","v":0},{"$f":"'Project Cashflows'!NKE371","v":0},{"$f":"'Project Cashflows'!NKF371","v":0},{"$f":"'Project Cashflows'!NKG371","v":0},{"$f":"'Project Cashflows'!NKH371","v":0},{"$f":"'Project Cashflows'!NKI371","v":0},{"$f":"'Project Cashflows'!NKJ371","v":0},{"$f":"'Project Cashflows'!NKK371","v":0},{"$f":"'Project Cashflows'!NKL371","v":0},{"$f":"'Project Cashflows'!NKM371","v":0},{"$f":"'Project Cashflows'!NKN371","v":0},{"$f":"'Project Cashflows'!NKO371","v":0},{"$f":"'Project Cashflows'!NKP371","v":0},{"$f":"'Project Cashflows'!NKQ371","v":0},{"$f":"'Project Cashflows'!NKR371","v":0},{"$f":"'Project Cashflows'!NKS371","v":0},{"$f":"'Project Cashflows'!NKT371","v":0},{"$f":"'Project Cashflows'!NKU371","v":0},{"$f":"'Project Cashflows'!NKV371","v":0},{"$f":"'Project Cashflows'!NKW371","v":0},{"$f":"'Project Cashflows'!NKX371","v":0},{"$f":"'Project Cashflows'!NKY371","v":0},{"$f":"'Project Cashflows'!NKZ371","v":0},{"$f":"'Project Cashflows'!NLA371","v":0},{"$f":"'Project Cashflows'!NLB371","v":0},{"$f":"'Project Cashflows'!NLC371","v":0},{"$f":"'Project Cashflows'!NLD371","v":0},{"$f":"'Project Cashflows'!NLE371","v":0},{"$f":"'Project Cashflows'!NLF371","v":0},{"$f":"'Project Cashflows'!NLG371","v":0},{"$f":"'Project Cashflows'!NLH371","v":0},{"$f":"'Project Cashflows'!NLI371","v":0},{"$f":"'Project Cashflows'!NLJ371","v":0},{"$f":"'Project Cashflows'!NLK371","v":0},{"$f":"'Project Cashflows'!NLL371","v":0},{"$f":"'Project Cashflows'!NLM371","v":0},{"$f":"'Project Cashflows'!NLN371","v":0},{"$f":"'Project Cashflows'!NLO371","v":0},{"$f":"'Project Cashflows'!NLP371","v":0},{"$f":"'Project Cashflows'!NLQ371","v":0},{"$f":"'Project Cashflows'!NLR371","v":0},{"$f":"'Project Cashflows'!NLS371","v":0},{"$f":"'Project Cashflows'!NLT371","v":0},{"$f":"'Project Cashflows'!NLU371","v":0},{"$f":"'Project Cashflows'!NLV371","v":0},{"$f":"'Project Cashflows'!NLW371","v":0},{"$f":"'Project Cashflows'!NLX371","v":0},{"$f":"'Project Cashflows'!NLY371","v":0},{"$f":"'Project Cashflows'!NLZ371","v":0},{"$f":"'Project Cashflows'!NMA371","v":0},{"$f":"'Project Cashflows'!NMB371","v":0},{"$f":"'Project Cashflows'!NMC371","v":0},{"$f":"'Project Cashflows'!NMD371","v":0},{"$f":"'Project Cashflows'!NME371","v":0},{"$f":"'Project Cashflows'!NMF371","v":0},{"$f":"'Project Cashflows'!NMG371","v":0},{"$f":"'Project Cashflows'!NMH371","v":0},{"$f":"'Project Cashflows'!NMI371","v":0},{"$f":"'Project Cashflows'!NMJ371","v":0},{"$f":"'Project Cashflows'!NMK371","v":0},{"$f":"'Project Cashflows'!NML371","v":0},{"$f":"'Project Cashflows'!NMM371","v":0},{"$f":"'Project Cashflows'!NMN371","v":0},{"$f":"'Project Cashflows'!NMO371","v":0},{"$f":"'Project Cashflows'!NMP371","v":0},{"$f":"'Project Cashflows'!NMQ371","v":0},{"$f":"'Project Cashflows'!NMR371","v":0},{"$f":"'Project Cashflows'!NMS371","v":0},{"$f":"'Project Cashflows'!NMT371","v":0},{"$f":"'Project Cashflows'!NMU371","v":0},{"$f":"'Project Cashflows'!NMV371","v":0},{"$f":"'Project Cashflows'!NMW371","v":0},{"$f":"'Project Cashflows'!NMX371","v":0},{"$f":"'Project Cashflows'!NMY371","v":0},{"$f":"'Project Cashflows'!NMZ371","v":0},{"$f":"'Project Cashflows'!NNA371","v":0},{"$f":"'Project Cashflows'!NNB371","v":0},{"$f":"'Project Cashflows'!NNC371","v":0},{"$f":"'Project Cashflows'!NND371","v":0},{"$f":"'Project Cashflows'!NNE371","v":0},{"$f":"'Project Cashflows'!NNF371","v":0},{"$f":"'Project Cashflows'!NNG371","v":0},{"$f":"'Project Cashflows'!NNH371","v":0},{"$f":"'Project Cashflows'!NNI371","v":0},{"$f":"'Project Cashflows'!NNJ371","v":0},{"$f":"'Project Cashflows'!NNK371","v":0},{"$f":"'Project Cashflows'!NNL371","v":0},{"$f":"'Project Cashflows'!NNM371","v":0},{"$f":"'Project Cashflows'!NNN371","v":0},{"$f":"'Project Cashflows'!NNO371","v":0},{"$f":"'Project Cashflows'!NNP371","v":0},{"$f":"'Project Cashflows'!NNQ371","v":0},{"$f":"'Project Cashflows'!NNR371","v":0},{"$f":"'Project Cashflows'!NNS371","v":0},{"$f":"'Project Cashflows'!NNT371","v":0},{"$f":"'Project Cashflows'!NNU371","v":0},{"$f":"'Project Cashflows'!NNV371","v":0},{"$f":"'Project Cashflows'!NNW371","v":0},{"$f":"'Project Cashflows'!NNX371","v":0},{"$f":"'Project Cashflows'!NNY371","v":0},{"$f":"'Project Cashflows'!NNZ371","v":0},{"$f":"'Project Cashflows'!NOA371","v":0},{"$f":"'Project Cashflows'!NOB371","v":0},{"$f":"'Project Cashflows'!NOC371","v":0},{"$f":"'Project Cashflows'!NOD371","v":0},{"$f":"'Project Cashflows'!NOE371","v":0},{"$f":"'Project Cashflows'!NOF371","v":0},{"$f":"'Project Cashflows'!NOG371","v":0},{"$f":"'Project Cashflows'!NOH371","v":0},{"$f":"'Project Cashflows'!NOI371","v":0},{"$f":"'Project Cashflows'!NOJ371","v":0},{"$f":"'Project Cashflows'!NOK371","v":0},{"$f":"'Project Cashflows'!NOL371","v":0},{"$f":"'Project Cashflows'!NOM371","v":0},{"$f":"'Project Cashflows'!NON371","v":0},{"$f":"'Project Cashflows'!NOO371","v":0},{"$f":"'Project Cashflows'!NOP371","v":0},{"$f":"'Project Cashflows'!NOQ371","v":0},{"$f":"'Project Cashflows'!NOR371","v":0},{"$f":"'Project Cashflows'!NOS371","v":0},{"$f":"'Project Cashflows'!NOT371","v":0},{"$f":"'Project Cashflows'!NOU371","v":0},{"$f":"'Project Cashflows'!NOV371","v":0},{"$f":"'Project Cashflows'!NOW371","v":0},{"$f":"'Project Cashflows'!NOX371","v":0},{"$f":"'Project Cashflows'!NOY371","v":0},{"$f":"'Project Cashflows'!NOZ371","v":0},{"$f":"'Project Cashflows'!NPA371","v":0},{"$f":"'Project Cashflows'!NPB371","v":0},{"$f":"'Project Cashflows'!NPC371","v":0},{"$f":"'Project Cashflows'!NPD371","v":0},{"$f":"'Project Cashflows'!NPE371","v":0},{"$f":"'Project Cashflows'!NPF371","v":0},{"$f":"'Project Cashflows'!NPG371","v":0},{"$f":"'Project Cashflows'!NPH371","v":0},{"$f":"'Project Cashflows'!NPI371","v":0},{"$f":"'Project Cashflows'!NPJ371","v":0},{"$f":"'Project Cashflows'!NPK371","v":0},{"$f":"'Project Cashflows'!NPL371","v":0},{"$f":"'Project Cashflows'!NPM371","v":0},{"$f":"'Project Cashflows'!NPN371","v":0},{"$f":"'Project Cashflows'!NPO371","v":0},{"$f":"'Project Cashflows'!NPP371","v":0},{"$f":"'Project Cashflows'!NPQ371","v":0},{"$f":"'Project Cashflows'!NPR371","v":0},{"$f":"'Project Cashflows'!NPS371","v":0},{"$f":"'Project Cashflows'!NPT371","v":0},{"$f":"'Project Cashflows'!NPU371","v":0},{"$f":"'Project Cashflows'!NPV371","v":0},{"$f":"'Project Cashflows'!NPW371","v":0},{"$f":"'Project Cashflows'!NPX371","v":0},{"$f":"'Project Cashflows'!NPY371","v":0},{"$f":"'Project Cashflows'!NPZ371","v":0},{"$f":"'Project Cashflows'!NQA371","v":0},{"$f":"'Project Cashflows'!NQB371","v":0},{"$f":"'Project Cashflows'!NQC371","v":0},{"$f":"'Project Cashflows'!NQD371","v":0},{"$f":"'Project Cashflows'!NQE371","v":0},{"$f":"'Project Cashflows'!NQF371","v":0},{"$f":"'Project Cashflows'!NQG371","v":0},{"$f":"'Project Cashflows'!NQH371","v":0},{"$f":"'Project Cashflows'!NQI371","v":0},{"$f":"'Project Cashflows'!NQJ371","v":0},{"$f":"'Project Cashflows'!NQK371","v":0},{"$f":"'Project Cashflows'!NQL371","v":0},{"$f":"'Project Cashflows'!NQM371","v":0},{"$f":"'Project Cashflows'!NQN371","v":0},{"$f":"'Project Cashflows'!NQO371","v":0},{"$f":"'Project Cashflows'!NQP371","v":0},{"$f":"'Project Cashflows'!NQQ371","v":0},{"$f":"'Project Cashflows'!NQR371","v":0},{"$f":"'Project Cashflows'!NQS371","v":0},{"$f":"'Project Cashflows'!NQT371","v":0},{"$f":"'Project Cashflows'!NQU371","v":0},{"$f":"'Project Cashflows'!NQV371","v":0},{"$f":"'Project Cashflows'!NQW371","v":0},{"$f":"'Project Cashflows'!NQX371","v":0},{"$f":"'Project Cashflows'!NQY371","v":0},{"$f":"'Project Cashflows'!NQZ371","v":0},{"$f":"'Project Cashflows'!NRA371","v":0},{"$f":"'Project Cashflows'!NRB371","v":0},{"$f":"'Project Cashflows'!NRC371","v":0},{"$f":"'Project Cashflows'!NRD371","v":0},{"$f":"'Project Cashflows'!NRE371","v":0},{"$f":"'Project Cashflows'!NRF371","v":0},{"$f":"'Project Cashflows'!NRG371","v":0},{"$f":"'Project Cashflows'!NRH371","v":0},{"$f":"'Project Cashflows'!NRI371","v":0},{"$f":"'Project Cashflows'!NRJ371","v":0},{"$f":"'Project Cashflows'!NRK371","v":0},{"$f":"'Project Cashflows'!NRL371","v":0},{"$f":"'Project Cashflows'!NRM371","v":0},{"$f":"'Project Cashflows'!NRN371","v":0},{"$f":"'Project Cashflows'!NRO371","v":0},{"$f":"'Project Cashflows'!NRP371","v":0},{"$f":"'Project Cashflows'!NRQ371","v":0},{"$f":"'Project Cashflows'!NRR371","v":0},{"$f":"'Project Cashflows'!NRS371","v":0},{"$f":"'Project Cashflows'!NRT371","v":0},{"$f":"'Project Cashflows'!NRU371","v":0},{"$f":"'Project Cashflows'!NRV371","v":0},{"$f":"'Project Cashflows'!NRW371","v":0},{"$f":"'Project Cashflows'!NRX371","v":0},{"$f":"'Project Cashflows'!NRY371","v":0},{"$f":"'Project Cashflows'!NRZ371","v":0},{"$f":"'Project Cashflows'!NSA371","v":0},{"$f":"'Project Cashflows'!NSB371","v":0},{"$f":"'Project Cashflows'!NSC371","v":0},{"$f":"'Project Cashflows'!NSD371","v":0},{"$f":"'Project Cashflows'!NSE371","v":0},{"$f":"'Project Cashflows'!NSF371","v":0},{"$f":"'Project Cashflows'!NSG371","v":0},{"$f":"'Project Cashflows'!NSH371","v":0},{"$f":"'Project Cashflows'!NSI371","v":0},{"$f":"'Project Cashflows'!NSJ371","v":0},{"$f":"'Project Cashflows'!NSK371","v":0},{"$f":"'Project Cashflows'!NSL371","v":0},{"$f":"'Project Cashflows'!NSM371","v":0},{"$f":"'Project Cashflows'!NSN371","v":0},{"$f":"'Project Cashflows'!NSO371","v":0},{"$f":"'Project Cashflows'!NSP371","v":0},{"$f":"'Project Cashflows'!NSQ371","v":0},{"$f":"'Project Cashflows'!NSR371","v":0},{"$f":"'Project Cashflows'!NSS371","v":0},{"$f":"'Project Cashflows'!NST371","v":0},{"$f":"'Project Cashflows'!NSU371","v":0},{"$f":"'Project Cashflows'!NSV371","v":0},{"$f":"'Project Cashflows'!NSW371","v":0},{"$f":"'Project Cashflows'!NSX371","v":0},{"$f":"'Project Cashflows'!NSY371","v":0},{"$f":"'Project Cashflows'!NSZ371","v":0},{"$f":"'Project Cashflows'!NTA371","v":0},{"$f":"'Project Cashflows'!NTB371","v":0},{"$f":"'Project Cashflows'!NTC371","v":0},{"$f":"'Project Cashflows'!NTD371","v":0},{"$f":"'Project Cashflows'!NTE371","v":0},{"$f":"'Project Cashflows'!NTF371","v":0},{"$f":"'Project Cashflows'!NTG371","v":0},{"$f":"'Project Cashflows'!NTH371","v":0},{"$f":"'Project Cashflows'!NTI371","v":0},{"$f":"'Project Cashflows'!NTJ371","v":0},{"$f":"'Project Cashflows'!NTK371","v":0},{"$f":"'Project Cashflows'!NTL371","v":0},{"$f":"'Project Cashflows'!NTM371","v":0},{"$f":"'Project Cashflows'!NTN371","v":0},{"$f":"'Project Cashflows'!NTO371","v":0},{"$f":"'Project Cashflows'!NTP371","v":0},{"$f":"'Project Cashflows'!NTQ371","v":0},{"$f":"'Project Cashflows'!NTR371","v":0},{"$f":"'Project Cashflows'!NTS371","v":0},{"$f":"'Project Cashflows'!NTT371","v":0},{"$f":"'Project Cashflows'!NTU371","v":0},{"$f":"'Project Cashflows'!NTV371","v":0},{"$f":"'Project Cashflows'!NTW371","v":0},{"$f":"'Project Cashflows'!NTX371","v":0},{"$f":"'Project Cashflows'!NTY371","v":0},{"$f":"'Project Cashflows'!NTZ371","v":0},{"$f":"'Project Cashflows'!NUA371","v":0},{"$f":"'Project Cashflows'!NUB371","v":0},{"$f":"'Project Cashflows'!NUC371","v":0},{"$f":"'Project Cashflows'!NUD371","v":0},{"$f":"'Project Cashflows'!NUE371","v":0},{"$f":"'Project Cashflows'!NUF371","v":0},{"$f":"'Project Cashflows'!NUG371","v":0},{"$f":"'Project Cashflows'!NUH371","v":0},{"$f":"'Project Cashflows'!NUI371","v":0},{"$f":"'Project Cashflows'!NUJ371","v":0},{"$f":"'Project Cashflows'!NUK371","v":0},{"$f":"'Project Cashflows'!NUL371","v":0},{"$f":"'Project Cashflows'!NUM371","v":0},{"$f":"'Project Cashflows'!NUN371","v":0},{"$f":"'Project Cashflows'!NUO371","v":0},{"$f":"'Project Cashflows'!NUP371","v":0},{"$f":"'Project Cashflows'!NUQ371","v":0},{"$f":"'Project Cashflows'!NUR371","v":0},{"$f":"'Project Cashflows'!NUS371","v":0},{"$f":"'Project Cashflows'!NUT371","v":0},{"$f":"'Project Cashflows'!NUU371","v":0},{"$f":"'Project Cashflows'!NUV371","v":0},{"$f":"'Project Cashflows'!NUW371","v":0},{"$f":"'Project Cashflows'!NUX371","v":0},{"$f":"'Project Cashflows'!NUY371","v":0},{"$f":"'Project Cashflows'!NUZ371","v":0},{"$f":"'Project Cashflows'!NVA371","v":0},{"$f":"'Project Cashflows'!NVB371","v":0},{"$f":"'Project Cashflows'!NVC371","v":0},{"$f":"'Project Cashflows'!NVD371","v":0},{"$f":"'Project Cashflows'!NVE371","v":0},{"$f":"'Project Cashflows'!NVF371","v":0},{"$f":"'Project Cashflows'!NVG371","v":0},{"$f":"'Project Cashflows'!NVH371","v":0},{"$f":"'Project Cashflows'!NVI371","v":0},{"$f":"'Project Cashflows'!NVJ371","v":0},{"$f":"'Project Cashflows'!NVK371","v":0},{"$f":"'Project Cashflows'!NVL371","v":0},{"$f":"'Project Cashflows'!NVM371","v":0},{"$f":"'Project Cashflows'!NVN371","v":0},{"$f":"'Project Cashflows'!NVO371","v":0},{"$f":"'Project Cashflows'!NVP371","v":0},{"$f":"'Project Cashflows'!NVQ371","v":0},{"$f":"'Project Cashflows'!NVR371","v":0},{"$f":"'Project Cashflows'!NVS371","v":0},{"$f":"'Project Cashflows'!NVT371","v":0},{"$f":"'Project Cashflows'!NVU371","v":0},{"$f":"'Project Cashflows'!NVV371","v":0},{"$f":"'Project Cashflows'!NVW371","v":0},{"$f":"'Project Cashflows'!NVX371","v":0},{"$f":"'Project Cashflows'!NVY371","v":0},{"$f":"'Project Cashflows'!NVZ371","v":0},{"$f":"'Project Cashflows'!NWA371","v":0},{"$f":"'Project Cashflows'!NWB371","v":0},{"$f":"'Project Cashflows'!NWC371","v":0},{"$f":"'Project Cashflows'!NWD371","v":0},{"$f":"'Project Cashflows'!NWE371","v":0},{"$f":"'Project Cashflows'!NWF371","v":0},{"$f":"'Project Cashflows'!NWG371","v":0},{"$f":"'Project Cashflows'!NWH371","v":0},{"$f":"'Project Cashflows'!NWI371","v":0},{"$f":"'Project Cashflows'!NWJ371","v":0},{"$f":"'Project Cashflows'!NWK371","v":0},{"$f":"'Project Cashflows'!NWL371","v":0},{"$f":"'Project Cashflows'!NWM371","v":0},{"$f":"'Project Cashflows'!NWN371","v":0},{"$f":"'Project Cashflows'!NWO371","v":0},{"$f":"'Project Cashflows'!NWP371","v":0},{"$f":"'Project Cashflows'!NWQ371","v":0},{"$f":"'Project Cashflows'!NWR371","v":0},{"$f":"'Project Cashflows'!NWS371","v":0},{"$f":"'Project Cashflows'!NWT371","v":0},{"$f":"'Project Cashflows'!NWU371","v":0},{"$f":"'Project Cashflows'!NWV371","v":0},{"$f":"'Project Cashflows'!NWW371","v":0},{"$f":"'Project Cashflows'!NWX371","v":0},{"$f":"'Project Cashflows'!NWY371","v":0},{"$f":"'Project Cashflows'!NWZ371","v":0},{"$f":"'Project Cashflows'!NXA371","v":0},{"$f":"'Project Cashflows'!NXB371","v":0},{"$f":"'Project Cashflows'!NXC371","v":0},{"$f":"'Project Cashflows'!NXD371","v":0},{"$f":"'Project Cashflows'!NXE371","v":0},{"$f":"'Project Cashflows'!NXF371","v":0},{"$f":"'Project Cashflows'!NXG371","v":0},{"$f":"'Project Cashflows'!NXH371","v":0},{"$f":"'Project Cashflows'!NXI371","v":0},{"$f":"'Project Cashflows'!NXJ371","v":0},{"$f":"'Project Cashflows'!NXK371","v":0},{"$f":"'Project Cashflows'!NXL371","v":0},{"$f":"'Project Cashflows'!NXM371","v":0},{"$f":"'Project Cashflows'!NXN371","v":0},{"$f":"'Project Cashflows'!NXO371","v":0},{"$f":"'Project Cashflows'!NXP371","v":0},{"$f":"'Project Cashflows'!NXQ371","v":0},{"$f":"'Project Cashflows'!NXR371","v":0},{"$f":"'Project Cashflows'!NXS371","v":0},{"$f":"'Project Cashflows'!NXT371","v":0},{"$f":"'Project Cashflows'!NXU371","v":0},{"$f":"'Project Cashflows'!NXV371","v":0},{"$f":"'Project Cashflows'!NXW371","v":0},{"$f":"'Project Cashflows'!NXX371","v":0},{"$f":"'Project Cashflows'!NXY371","v":0},{"$f":"'Project Cashflows'!NXZ371","v":0},{"$f":"'Project Cashflows'!NYA371","v":0},{"$f":"'Project Cashflows'!NYB371","v":0},{"$f":"'Project Cashflows'!NYC371","v":0},{"$f":"'Project Cashflows'!NYD371","v":0},{"$f":"'Project Cashflows'!NYE371","v":0},{"$f":"'Project Cashflows'!NYF371","v":0},{"$f":"'Project Cashflows'!NYG371","v":0},{"$f":"'Project Cashflows'!NYH371","v":0},{"$f":"'Project Cashflows'!NYI371","v":0},{"$f":"'Project Cashflows'!NYJ371","v":0},{"$f":"'Project Cashflows'!NYK371","v":0},{"$f":"'Project Cashflows'!NYL371","v":0},{"$f":"'Project Cashflows'!NYM371","v":0},{"$f":"'Project Cashflows'!NYN371","v":0},{"$f":"'Project Cashflows'!NYO371","v":0},{"$f":"'Project Cashflows'!NYP371","v":0},{"$f":"'Project Cashflows'!NYQ371","v":0},{"$f":"'Project Cashflows'!NYR371","v":0},{"$f":"'Project Cashflows'!NYS371","v":0},{"$f":"'Project Cashflows'!NYT371","v":0},{"$f":"'Project Cashflows'!NYU371","v":0},{"$f":"'Project Cashflows'!NYV371","v":0},{"$f":"'Project Cashflows'!NYW371","v":0},{"$f":"'Project Cashflows'!NYX371","v":0},{"$f":"'Project Cashflows'!NYY371","v":0},{"$f":"'Project Cashflows'!NYZ371","v":0},{"$f":"'Project Cashflows'!NZA371","v":0},{"$f":"'Project Cashflows'!NZB371","v":0},{"$f":"'Project Cashflows'!NZC371","v":0},{"$f":"'Project Cashflows'!NZD371","v":0},{"$f":"'Project Cashflows'!NZE371","v":0},{"$f":"'Project Cashflows'!NZF371","v":0},{"$f":"'Project Cashflows'!NZG371","v":0},{"$f":"'Project Cashflows'!NZH371","v":0},{"$f":"'Project Cashflows'!NZI371","v":0},{"$f":"'Project Cashflows'!NZJ371","v":0},{"$f":"'Project Cashflows'!NZK371","v":0},{"$f":"'Project Cashflows'!NZL371","v":0},{"$f":"'Project Cashflows'!NZM371","v":0},{"$f":"'Project Cashflows'!NZN371","v":0},{"$f":"'Project Cashflows'!NZO371","v":0},{"$f":"'Project Cashflows'!NZP371","v":0},{"$f":"'Project Cashflows'!NZQ371","v":0},{"$f":"'Project Cashflows'!NZR371","v":0},{"$f":"'Project Cashflows'!NZS371","v":0},{"$f":"'Project Cashflows'!NZT371","v":0},{"$f":"'Project Cashflows'!NZU371","v":0},{"$f":"'Project Cashflows'!NZV371","v":0},{"$f":"'Project Cashflows'!NZW371","v":0},{"$f":"'Project Cashflows'!NZX371","v":0},{"$f":"'Project Cashflows'!NZY371","v":0},{"$f":"'Project Cashflows'!NZZ371","v":0},{"$f":"'Project Cashflows'!OAA371","v":0},{"$f":"'Project Cashflows'!OAB371","v":0},{"$f":"'Project Cashflows'!OAC371","v":0},{"$f":"'Project Cashflows'!OAD371","v":0},{"$f":"'Project Cashflows'!OAE371","v":0},{"$f":"'Project Cashflows'!OAF371","v":0},{"$f":"'Project Cashflows'!OAG371","v":0},{"$f":"'Project Cashflows'!OAH371","v":0},{"$f":"'Project Cashflows'!OAI371","v":0},{"$f":"'Project Cashflows'!OAJ371","v":0},{"$f":"'Project Cashflows'!OAK371","v":0},{"$f":"'Project Cashflows'!OAL371","v":0},{"$f":"'Project Cashflows'!OAM371","v":0},{"$f":"'Project Cashflows'!OAN371","v":0},{"$f":"'Project Cashflows'!OAO371","v":0},{"$f":"'Project Cashflows'!OAP371","v":0},{"$f":"'Project Cashflows'!OAQ371","v":0},{"$f":"'Project Cashflows'!OAR371","v":0},{"$f":"'Project Cashflows'!OAS371","v":0},{"$f":"'Project Cashflows'!OAT371","v":0},{"$f":"'Project Cashflows'!OAU371","v":0},{"$f":"'Project Cashflows'!OAV371","v":0},{"$f":"'Project Cashflows'!OAW371","v":0},{"$f":"'Project Cashflows'!OAX371","v":0},{"$f":"'Project Cashflows'!OAY371","v":0},{"$f":"'Project Cashflows'!OAZ371","v":0},{"$f":"'Project Cashflows'!OBA371","v":0},{"$f":"'Project Cashflows'!OBB371","v":0},{"$f":"'Project Cashflows'!OBC371","v":0},{"$f":"'Project Cashflows'!OBD371","v":0},{"$f":"'Project Cashflows'!OBE371","v":0},{"$f":"'Project Cashflows'!OBF371","v":0},{"$f":"'Project Cashflows'!OBG371","v":0},{"$f":"'Project Cashflows'!OBH371","v":0},{"$f":"'Project Cashflows'!OBI371","v":0},{"$f":"'Project Cashflows'!OBJ371","v":0},{"$f":"'Project Cashflows'!OBK371","v":0},{"$f":"'Project Cashflows'!OBL371","v":0},{"$f":"'Project Cashflows'!OBM371","v":0},{"$f":"'Project Cashflows'!OBN371","v":0},{"$f":"'Project Cashflows'!OBO371","v":0},{"$f":"'Project Cashflows'!OBP371","v":0},{"$f":"'Project Cashflows'!OBQ371","v":0},{"$f":"'Project Cashflows'!OBR371","v":0},{"$f":"'Project Cashflows'!OBS371","v":0},{"$f":"'Project Cashflows'!OBT371","v":0},{"$f":"'Project Cashflows'!OBU371","v":0},{"$f":"'Project Cashflows'!OBV371","v":0},{"$f":"'Project Cashflows'!OBW371","v":0},{"$f":"'Project Cashflows'!OBX371","v":0},{"$f":"'Project Cashflows'!OBY371","v":0},{"$f":"'Project Cashflows'!OBZ371","v":0},{"$f":"'Project Cashflows'!OCA371","v":0},{"$f":"'Project Cashflows'!OCB371","v":0},{"$f":"'Project Cashflows'!OCC371","v":0},{"$f":"'Project Cashflows'!OCD371","v":0},{"$f":"'Project Cashflows'!OCE371","v":0},{"$f":"'Project Cashflows'!OCF371","v":0},{"$f":"'Project Cashflows'!OCG371","v":0},{"$f":"'Project Cashflows'!OCH371","v":0},{"$f":"'Project Cashflows'!OCI371","v":0},{"$f":"'Project Cashflows'!OCJ371","v":0},{"$f":"'Project Cashflows'!OCK371","v":0},{"$f":"'Project Cashflows'!OCL371","v":0},{"$f":"'Project Cashflows'!OCM371","v":0},{"$f":"'Project Cashflows'!OCN371","v":0},{"$f":"'Project Cashflows'!OCO371","v":0},{"$f":"'Project Cashflows'!OCP371","v":0},{"$f":"'Project Cashflows'!OCQ371","v":0},{"$f":"'Project Cashflows'!OCR371","v":0},{"$f":"'Project Cashflows'!OCS371","v":0},{"$f":"'Project Cashflows'!OCT371","v":0},{"$f":"'Project Cashflows'!OCU371","v":0},{"$f":"'Project Cashflows'!OCV371","v":0},{"$f":"'Project Cashflows'!OCW371","v":0},{"$f":"'Project Cashflows'!OCX371","v":0},{"$f":"'Project Cashflows'!OCY371","v":0},{"$f":"'Project Cashflows'!OCZ371","v":0},{"$f":"'Project Cashflows'!ODA371","v":0},{"$f":"'Project Cashflows'!ODB371","v":0},{"$f":"'Project Cashflows'!ODC371","v":0},{"$f":"'Project Cashflows'!ODD371","v":0},{"$f":"'Project Cashflows'!ODE371","v":0},{"$f":"'Project Cashflows'!ODF371","v":0},{"$f":"'Project Cashflows'!ODG371","v":0},{"$f":"'Project Cashflows'!ODH371","v":0},{"$f":"'Project Cashflows'!ODI371","v":0},{"$f":"'Project Cashflows'!ODJ371","v":0},{"$f":"'Project Cashflows'!ODK371","v":0},{"$f":"'Project Cashflows'!ODL371","v":0},{"$f":"'Project Cashflows'!ODM371","v":0},{"$f":"'Project Cashflows'!ODN371","v":0},{"$f":"'Project Cashflows'!ODO371","v":0},{"$f":"'Project Cashflows'!ODP371","v":0},{"$f":"'Project Cashflows'!ODQ371","v":0},{"$f":"'Project Cashflows'!ODR371","v":0},{"$f":"'Project Cashflows'!ODS371","v":0},{"$f":"'Project Cashflows'!ODT371","v":0},{"$f":"'Project Cashflows'!ODU371","v":0},{"$f":"'Project Cashflows'!ODV371","v":0},{"$f":"'Project Cashflows'!ODW371","v":0},{"$f":"'Project Cashflows'!ODX371","v":0},{"$f":"'Project Cashflows'!ODY371","v":0},{"$f":"'Project Cashflows'!ODZ371","v":0},{"$f":"'Project Cashflows'!OEA371","v":0},{"$f":"'Project Cashflows'!OEB371","v":0},{"$f":"'Project Cashflows'!OEC371","v":0},{"$f":"'Project Cashflows'!OED371","v":0},{"$f":"'Project Cashflows'!OEE371","v":0},{"$f":"'Project Cashflows'!OEF371","v":0},{"$f":"'Project Cashflows'!OEG371","v":0},{"$f":"'Project Cashflows'!OEH371","v":0},{"$f":"'Project Cashflows'!OEI371","v":0},{"$f":"'Project Cashflows'!OEJ371","v":0},{"$f":"'Project Cashflows'!OEK371","v":0},{"$f":"'Project Cashflows'!OEL371","v":0},{"$f":"'Project Cashflows'!OEM371","v":0},{"$f":"'Project Cashflows'!OEN371","v":0},{"$f":"'Project Cashflows'!OEO371","v":0},{"$f":"'Project Cashflows'!OEP371","v":0},{"$f":"'Project Cashflows'!OEQ371","v":0},{"$f":"'Project Cashflows'!OER371","v":0},{"$f":"'Project Cashflows'!OES371","v":0},{"$f":"'Project Cashflows'!OET371","v":0},{"$f":"'Project Cashflows'!OEU371","v":0},{"$f":"'Project Cashflows'!OEV371","v":0},{"$f":"'Project Cashflows'!OEW371","v":0},{"$f":"'Project Cashflows'!OEX371","v":0},{"$f":"'Project Cashflows'!OEY371","v":0},{"$f":"'Project Cashflows'!OEZ371","v":0},{"$f":"'Project Cashflows'!OFA371","v":0},{"$f":"'Project Cashflows'!OFB371","v":0},{"$f":"'Project Cashflows'!OFC371","v":0},{"$f":"'Project Cashflows'!OFD371","v":0},{"$f":"'Project Cashflows'!OFE371","v":0},{"$f":"'Project Cashflows'!OFF371","v":0},{"$f":"'Project Cashflows'!OFG371","v":0},{"$f":"'Project Cashflows'!OFH371","v":0},{"$f":"'Project Cashflows'!OFI371","v":0},{"$f":"'Project Cashflows'!OFJ371","v":0},{"$f":"'Project Cashflows'!OFK371","v":0},{"$f":"'Project Cashflows'!OFL371","v":0},{"$f":"'Project Cashflows'!OFM371","v":0},{"$f":"'Project Cashflows'!OFN371","v":0},{"$f":"'Project Cashflows'!OFO371","v":0},{"$f":"'Project Cashflows'!OFP371","v":0},{"$f":"'Project Cashflows'!OFQ371","v":0},{"$f":"'Project Cashflows'!OFR371","v":0},{"$f":"'Project Cashflows'!OFS371","v":0},{"$f":"'Project Cashflows'!OFT371","v":0},{"$f":"'Project Cashflows'!OFU371","v":0},{"$f":"'Project Cashflows'!OFV371","v":0},{"$f":"'Project Cashflows'!OFW371","v":0},{"$f":"'Project Cashflows'!OFX371","v":0},{"$f":"'Project Cashflows'!OFY371","v":0},{"$f":"'Project Cashflows'!OFZ371","v":0},{"$f":"'Project Cashflows'!OGA371","v":0},{"$f":"'Project Cashflows'!OGB371","v":0},{"$f":"'Project Cashflows'!OGC371","v":0},{"$f":"'Project Cashflows'!OGD371","v":0},{"$f":"'Project Cashflows'!OGE371","v":0},{"$f":"'Project Cashflows'!OGF371","v":0},{"$f":"'Project Cashflows'!OGG371","v":0},{"$f":"'Project Cashflows'!OGH371","v":0},{"$f":"'Project Cashflows'!OGI371","v":0},{"$f":"'Project Cashflows'!OGJ371","v":0},{"$f":"'Project Cashflows'!OGK371","v":0},{"$f":"'Project Cashflows'!OGL371","v":0},{"$f":"'Project Cashflows'!OGM371","v":0},{"$f":"'Project Cashflows'!OGN371","v":0},{"$f":"'Project Cashflows'!OGO371","v":0},{"$f":"'Project Cashflows'!OGP371","v":0},{"$f":"'Project Cashflows'!OGQ371","v":0},{"$f":"'Project Cashflows'!OGR371","v":0},{"$f":"'Project Cashflows'!OGS371","v":0},{"$f":"'Project Cashflows'!OGT371","v":0},{"$f":"'Project Cashflows'!OGU371","v":0},{"$f":"'Project Cashflows'!OGV371","v":0},{"$f":"'Project Cashflows'!OGW371","v":0},{"$f":"'Project Cashflows'!OGX371","v":0},{"$f":"'Project Cashflows'!OGY371","v":0},{"$f":"'Project Cashflows'!OGZ371","v":0},{"$f":"'Project Cashflows'!OHA371","v":0},{"$f":"'Project Cashflows'!OHB371","v":0},{"$f":"'Project Cashflows'!OHC371","v":0},{"$f":"'Project Cashflows'!OHD371","v":0},{"$f":"'Project Cashflows'!OHE371","v":0},{"$f":"'Project Cashflows'!OHF371","v":0},{"$f":"'Project Cashflows'!OHG371","v":0},{"$f":"'Project Cashflows'!OHH371","v":0},{"$f":"'Project Cashflows'!OHI371","v":0},{"$f":"'Project Cashflows'!OHJ371","v":0},{"$f":"'Project Cashflows'!OHK371","v":0},{"$f":"'Project Cashflows'!OHL371","v":0},{"$f":"'Project Cashflows'!OHM371","v":0},{"$f":"'Project Cashflows'!OHN371","v":0},{"$f":"'Project Cashflows'!OHO371","v":0},{"$f":"'Project Cashflows'!OHP371","v":0},{"$f":"'Project Cashflows'!OHQ371","v":0},{"$f":"'Project Cashflows'!OHR371","v":0},{"$f":"'Project Cashflows'!OHS371","v":0},{"$f":"'Project Cashflows'!OHT371","v":0},{"$f":"'Project Cashflows'!OHU371","v":0},{"$f":"'Project Cashflows'!OHV371","v":0},{"$f":"'Project Cashflows'!OHW371","v":0},{"$f":"'Project Cashflows'!OHX371","v":0},{"$f":"'Project Cashflows'!OHY371","v":0},{"$f":"'Project Cashflows'!OHZ371","v":0},{"$f":"'Project Cashflows'!OIA371","v":0},{"$f":"'Project Cashflows'!OIB371","v":0},{"$f":"'Project Cashflows'!OIC371","v":0},{"$f":"'Project Cashflows'!OID371","v":0},{"$f":"'Project Cashflows'!OIE371","v":0},{"$f":"'Project Cashflows'!OIF371","v":0},{"$f":"'Project Cashflows'!OIG371","v":0},{"$f":"'Project Cashflows'!OIH371","v":0},{"$f":"'Project Cashflows'!OII371","v":0},{"$f":"'Project Cashflows'!OIJ371","v":0},{"$f":"'Project Cashflows'!OIK371","v":0},{"$f":"'Project Cashflows'!OIL371","v":0},{"$f":"'Project Cashflows'!OIM371","v":0},{"$f":"'Project Cashflows'!OIN371","v":0},{"$f":"'Project Cashflows'!OIO371","v":0},{"$f":"'Project Cashflows'!OIP371","v":0},{"$f":"'Project Cashflows'!OIQ371","v":0},{"$f":"'Project Cashflows'!OIR371","v":0},{"$f":"'Project Cashflows'!OIS371","v":0},{"$f":"'Project Cashflows'!OIT371","v":0},{"$f":"'Project Cashflows'!OIU371","v":0},{"$f":"'Project Cashflows'!OIV371","v":0},{"$f":"'Project Cashflows'!OIW371","v":0},{"$f":"'Project Cashflows'!OIX371","v":0},{"$f":"'Project Cashflows'!OIY371","v":0},{"$f":"'Project Cashflows'!OIZ371","v":0},{"$f":"'Project Cashflows'!OJA371","v":0},{"$f":"'Project Cashflows'!OJB371","v":0},{"$f":"'Project Cashflows'!OJC371","v":0},{"$f":"'Project Cashflows'!OJD371","v":0},{"$f":"'Project Cashflows'!OJE371","v":0},{"$f":"'Project Cashflows'!OJF371","v":0},{"$f":"'Project Cashflows'!OJG371","v":0},{"$f":"'Project Cashflows'!OJH371","v":0},{"$f":"'Project Cashflows'!OJI371","v":0},{"$f":"'Project Cashflows'!OJJ371","v":0},{"$f":"'Project Cashflows'!OJK371","v":0},{"$f":"'Project Cashflows'!OJL371","v":0},{"$f":"'Project Cashflows'!OJM371","v":0},{"$f":"'Project Cashflows'!OJN371","v":0},{"$f":"'Project Cashflows'!OJO371","v":0},{"$f":"'Project Cashflows'!OJP371","v":0},{"$f":"'Project Cashflows'!OJQ371","v":0},{"$f":"'Project Cashflows'!OJR371","v":0},{"$f":"'Project Cashflows'!OJS371","v":0},{"$f":"'Project Cashflows'!OJT371","v":0},{"$f":"'Project Cashflows'!OJU371","v":0},{"$f":"'Project Cashflows'!OJV371","v":0},{"$f":"'Project Cashflows'!OJW371","v":0},{"$f":"'Project Cashflows'!OJX371","v":0},{"$f":"'Project Cashflows'!OJY371","v":0},{"$f":"'Project Cashflows'!OJZ371","v":0},{"$f":"'Project Cashflows'!OKA371","v":0},{"$f":"'Project Cashflows'!OKB371","v":0},{"$f":"'Project Cashflows'!OKC371","v":0},{"$f":"'Project Cashflows'!OKD371","v":0},{"$f":"'Project Cashflows'!OKE371","v":0},{"$f":"'Project Cashflows'!OKF371","v":0},{"$f":"'Project Cashflows'!OKG371","v":0},{"$f":"'Project Cashflows'!OKH371","v":0},{"$f":"'Project Cashflows'!OKI371","v":0},{"$f":"'Project Cashflows'!OKJ371","v":0},{"$f":"'Project Cashflows'!OKK371","v":0},{"$f":"'Project Cashflows'!OKL371","v":0},{"$f":"'Project Cashflows'!OKM371","v":0},{"$f":"'Project Cashflows'!OKN371","v":0},{"$f":"'Project Cashflows'!OKO371","v":0},{"$f":"'Project Cashflows'!OKP371","v":0},{"$f":"'Project Cashflows'!OKQ371","v":0},{"$f":"'Project Cashflows'!OKR371","v":0},{"$f":"'Project Cashflows'!OKS371","v":0},{"$f":"'Project Cashflows'!OKT371","v":0},{"$f":"'Project Cashflows'!OKU371","v":0},{"$f":"'Project Cashflows'!OKV371","v":0},{"$f":"'Project Cashflows'!OKW371","v":0},{"$f":"'Project Cashflows'!OKX371","v":0},{"$f":"'Project Cashflows'!OKY371","v":0},{"$f":"'Project Cashflows'!OKZ371","v":0},{"$f":"'Project Cashflows'!OLA371","v":0},{"$f":"'Project Cashflows'!OLB371","v":0},{"$f":"'Project Cashflows'!OLC371","v":0},{"$f":"'Project Cashflows'!OLD371","v":0},{"$f":"'Project Cashflows'!OLE371","v":0},{"$f":"'Project Cashflows'!OLF371","v":0},{"$f":"'Project Cashflows'!OLG371","v":0},{"$f":"'Project Cashflows'!OLH371","v":0},{"$f":"'Project Cashflows'!OLI371","v":0},{"$f":"'Project Cashflows'!OLJ371","v":0},{"$f":"'Project Cashflows'!OLK371","v":0},{"$f":"'Project Cashflows'!OLL371","v":0},{"$f":"'Project Cashflows'!OLM371","v":0},{"$f":"'Project Cashflows'!OLN371","v":0},{"$f":"'Project Cashflows'!OLO371","v":0},{"$f":"'Project Cashflows'!OLP371","v":0},{"$f":"'Project Cashflows'!OLQ371","v":0},{"$f":"'Project Cashflows'!OLR371","v":0},{"$f":"'Project Cashflows'!OLS371","v":0},{"$f":"'Project Cashflows'!OLT371","v":0},{"$f":"'Project Cashflows'!OLU371","v":0},{"$f":"'Project Cashflows'!OLV371","v":0},{"$f":"'Project Cashflows'!OLW371","v":0},{"$f":"'Project Cashflows'!OLX371","v":0},{"$f":"'Project Cashflows'!OLY371","v":0},{"$f":"'Project Cashflows'!OLZ371","v":0},{"$f":"'Project Cashflows'!OMA371","v":0},{"$f":"'Project Cashflows'!OMB371","v":0},{"$f":"'Project Cashflows'!OMC371","v":0},{"$f":"'Project Cashflows'!OMD371","v":0},{"$f":"'Project Cashflows'!OME371","v":0},{"$f":"'Project Cashflows'!OMF371","v":0},{"$f":"'Project Cashflows'!OMG371","v":0},{"$f":"'Project Cashflows'!OMH371","v":0},{"$f":"'Project Cashflows'!OMI371","v":0},{"$f":"'Project Cashflows'!OMJ371","v":0},{"$f":"'Project Cashflows'!OMK371","v":0},{"$f":"'Project Cashflows'!OML371","v":0},{"$f":"'Project Cashflows'!OMM371","v":0},{"$f":"'Project Cashflows'!OMN371","v":0},{"$f":"'Project Cashflows'!OMO371","v":0},{"$f":"'Project Cashflows'!OMP371","v":0},{"$f":"'Project Cashflows'!OMQ371","v":0},{"$f":"'Project Cashflows'!OMR371","v":0},{"$f":"'Project Cashflows'!OMS371","v":0},{"$f":"'Project Cashflows'!OMT371","v":0},{"$f":"'Project Cashflows'!OMU371","v":0},{"$f":"'Project Cashflows'!OMV371","v":0},{"$f":"'Project Cashflows'!OMW371","v":0},{"$f":"'Project Cashflows'!OMX371","v":0},{"$f":"'Project Cashflows'!OMY371","v":0},{"$f":"'Project Cashflows'!OMZ371","v":0},{"$f":"'Project Cashflows'!ONA371","v":0},{"$f":"'Project Cashflows'!ONB371","v":0},{"$f":"'Project Cashflows'!ONC371","v":0},{"$f":"'Project Cashflows'!OND371","v":0},{"$f":"'Project Cashflows'!ONE371","v":0},{"$f":"'Project Cashflows'!ONF371","v":0},{"$f":"'Project Cashflows'!ONG371","v":0},{"$f":"'Project Cashflows'!ONH371","v":0},{"$f":"'Project Cashflows'!ONI371","v":0},{"$f":"'Project Cashflows'!ONJ371","v":0},{"$f":"'Project Cashflows'!ONK371","v":0},{"$f":"'Project Cashflows'!ONL371","v":0},{"$f":"'Project Cashflows'!ONM371","v":0},{"$f":"'Project Cashflows'!ONN371","v":0},{"$f":"'Project Cashflows'!ONO371","v":0},{"$f":"'Project Cashflows'!ONP371","v":0},{"$f":"'Project Cashflows'!ONQ371","v":0},{"$f":"'Project Cashflows'!ONR371","v":0},{"$f":"'Project Cashflows'!ONS371","v":0},{"$f":"'Project Cashflows'!ONT371","v":0},{"$f":"'Project Cashflows'!ONU371","v":0},{"$f":"'Project Cashflows'!ONV371","v":0},{"$f":"'Project Cashflows'!ONW371","v":0},{"$f":"'Project Cashflows'!ONX371","v":0},{"$f":"'Project Cashflows'!ONY371","v":0},{"$f":"'Project Cashflows'!ONZ371","v":0},{"$f":"'Project Cashflows'!OOA371","v":0},{"$f":"'Project Cashflows'!OOB371","v":0},{"$f":"'Project Cashflows'!OOC371","v":0},{"$f":"'Project Cashflows'!OOD371","v":0},{"$f":"'Project Cashflows'!OOE371","v":0},{"$f":"'Project Cashflows'!OOF371","v":0},{"$f":"'Project Cashflows'!OOG371","v":0},{"$f":"'Project Cashflows'!OOH371","v":0},{"$f":"'Project Cashflows'!OOI371","v":0},{"$f":"'Project Cashflows'!OOJ371","v":0},{"$f":"'Project Cashflows'!OOK371","v":0},{"$f":"'Project Cashflows'!OOL371","v":0},{"$f":"'Project Cashflows'!OOM371","v":0},{"$f":"'Project Cashflows'!OON371","v":0},{"$f":"'Project Cashflows'!OOO371","v":0},{"$f":"'Project Cashflows'!OOP371","v":0},{"$f":"'Project Cashflows'!OOQ371","v":0},{"$f":"'Project Cashflows'!OOR371","v":0},{"$f":"'Project Cashflows'!OOS371","v":0},{"$f":"'Project Cashflows'!OOT371","v":0},{"$f":"'Project Cashflows'!OOU371","v":0},{"$f":"'Project Cashflows'!OOV371","v":0},{"$f":"'Project Cashflows'!OOW371","v":0},{"$f":"'Project Cashflows'!OOX371","v":0},{"$f":"'Project Cashflows'!OOY371","v":0},{"$f":"'Project Cashflows'!OOZ371","v":0},{"$f":"'Project Cashflows'!OPA371","v":0},{"$f":"'Project Cashflows'!OPB371","v":0},{"$f":"'Project Cashflows'!OPC371","v":0},{"$f":"'Project Cashflows'!OPD371","v":0},{"$f":"'Project Cashflows'!OPE371","v":0},{"$f":"'Project Cashflows'!OPF371","v":0},{"$f":"'Project Cashflows'!OPG371","v":0},{"$f":"'Project Cashflows'!OPH371","v":0},{"$f":"'Project Cashflows'!OPI371","v":0},{"$f":"'Project Cashflows'!OPJ371","v":0},{"$f":"'Project Cashflows'!OPK371","v":0},{"$f":"'Project Cashflows'!OPL371","v":0},{"$f":"'Project Cashflows'!OPM371","v":0},{"$f":"'Project Cashflows'!OPN371","v":0},{"$f":"'Project Cashflows'!OPO371","v":0},{"$f":"'Project Cashflows'!OPP371","v":0},{"$f":"'Project Cashflows'!OPQ371","v":0},{"$f":"'Project Cashflows'!OPR371","v":0},{"$f":"'Project Cashflows'!OPS371","v":0},{"$f":"'Project Cashflows'!OPT371","v":0},{"$f":"'Project Cashflows'!OPU371","v":0},{"$f":"'Project Cashflows'!OPV371","v":0},{"$f":"'Project Cashflows'!OPW371","v":0},{"$f":"'Project Cashflows'!OPX371","v":0},{"$f":"'Project Cashflows'!OPY371","v":0},{"$f":"'Project Cashflows'!OPZ371","v":0},{"$f":"'Project Cashflows'!OQA371","v":0},{"$f":"'Project Cashflows'!OQB371","v":0},{"$f":"'Project Cashflows'!OQC371","v":0},{"$f":"'Project Cashflows'!OQD371","v":0},{"$f":"'Project Cashflows'!OQE371","v":0},{"$f":"'Project Cashflows'!OQF371","v":0},{"$f":"'Project Cashflows'!OQG371","v":0},{"$f":"'Project Cashflows'!OQH371","v":0},{"$f":"'Project Cashflows'!OQI371","v":0},{"$f":"'Project Cashflows'!OQJ371","v":0},{"$f":"'Project Cashflows'!OQK371","v":0},{"$f":"'Project Cashflows'!OQL371","v":0},{"$f":"'Project Cashflows'!OQM371","v":0},{"$f":"'Project Cashflows'!OQN371","v":0},{"$f":"'Project Cashflows'!OQO371","v":0},{"$f":"'Project Cashflows'!OQP371","v":0},{"$f":"'Project Cashflows'!OQQ371","v":0},{"$f":"'Project Cashflows'!OQR371","v":0},{"$f":"'Project Cashflows'!OQS371","v":0},{"$f":"'Project Cashflows'!OQT371","v":0},{"$f":"'Project Cashflows'!OQU371","v":0},{"$f":"'Project Cashflows'!OQV371","v":0},{"$f":"'Project Cashflows'!OQW371","v":0},{"$f":"'Project Cashflows'!OQX371","v":0},{"$f":"'Project Cashflows'!OQY371","v":0},{"$f":"'Project Cashflows'!OQZ371","v":0},{"$f":"'Project Cashflows'!ORA371","v":0},{"$f":"'Project Cashflows'!ORB371","v":0},{"$f":"'Project Cashflows'!ORC371","v":0},{"$f":"'Project Cashflows'!ORD371","v":0},{"$f":"'Project Cashflows'!ORE371","v":0},{"$f":"'Project Cashflows'!ORF371","v":0},{"$f":"'Project Cashflows'!ORG371","v":0},{"$f":"'Project Cashflows'!ORH371","v":0},{"$f":"'Project Cashflows'!ORI371","v":0},{"$f":"'Project Cashflows'!ORJ371","v":0},{"$f":"'Project Cashflows'!ORK371","v":0},{"$f":"'Project Cashflows'!ORL371","v":0},{"$f":"'Project Cashflows'!ORM371","v":0},{"$f":"'Project Cashflows'!ORN371","v":0},{"$f":"'Project Cashflows'!ORO371","v":0},{"$f":"'Project Cashflows'!ORP371","v":0},{"$f":"'Project Cashflows'!ORQ371","v":0},{"$f":"'Project Cashflows'!ORR371","v":0},{"$f":"'Project Cashflows'!ORS371","v":0},{"$f":"'Project Cashflows'!ORT371","v":0},{"$f":"'Project Cashflows'!ORU371","v":0},{"$f":"'Project Cashflows'!ORV371","v":0},{"$f":"'Project Cashflows'!ORW371","v":0},{"$f":"'Project Cashflows'!ORX371","v":0},{"$f":"'Project Cashflows'!ORY371","v":0},{"$f":"'Project Cashflows'!ORZ371","v":0},{"$f":"'Project Cashflows'!OSA371","v":0},{"$f":"'Project Cashflows'!OSB371","v":0},{"$f":"'Project Cashflows'!OSC371","v":0},{"$f":"'Project Cashflows'!OSD371","v":0},{"$f":"'Project Cashflows'!OSE371","v":0},{"$f":"'Project Cashflows'!OSF371","v":0},{"$f":"'Project Cashflows'!OSG371","v":0},{"$f":"'Project Cashflows'!OSH371","v":0},{"$f":"'Project Cashflows'!OSI371","v":0},{"$f":"'Project Cashflows'!OSJ371","v":0},{"$f":"'Project Cashflows'!OSK371","v":0},{"$f":"'Project Cashflows'!OSL371","v":0},{"$f":"'Project Cashflows'!OSM371","v":0},{"$f":"'Project Cashflows'!OSN371","v":0},{"$f":"'Project Cashflows'!OSO371","v":0},{"$f":"'Project Cashflows'!OSP371","v":0},{"$f":"'Project Cashflows'!OSQ371","v":0},{"$f":"'Project Cashflows'!OSR371","v":0},{"$f":"'Project Cashflows'!OSS371","v":0},{"$f":"'Project Cashflows'!OST371","v":0},{"$f":"'Project Cashflows'!OSU371","v":0},{"$f":"'Project Cashflows'!OSV371","v":0},{"$f":"'Project Cashflows'!OSW371","v":0},{"$f":"'Project Cashflows'!OSX371","v":0},{"$f":"'Project Cashflows'!OSY371","v":0},{"$f":"'Project Cashflows'!OSZ371","v":0},{"$f":"'Project Cashflows'!OTA371","v":0},{"$f":"'Project Cashflows'!OTB371","v":0},{"$f":"'Project Cashflows'!OTC371","v":0},{"$f":"'Project Cashflows'!OTD371","v":0},{"$f":"'Project Cashflows'!OTE371","v":0},{"$f":"'Project Cashflows'!OTF371","v":0},{"$f":"'Project Cashflows'!OTG371","v":0},{"$f":"'Project Cashflows'!OTH371","v":0},{"$f":"'Project Cashflows'!OTI371","v":0},{"$f":"'Project Cashflows'!OTJ371","v":0},{"$f":"'Project Cashflows'!OTK371","v":0},{"$f":"'Project Cashflows'!OTL371","v":0},{"$f":"'Project Cashflows'!OTM371","v":0},{"$f":"'Project Cashflows'!OTN371","v":0},{"$f":"'Project Cashflows'!OTO371","v":0},{"$f":"'Project Cashflows'!OTP371","v":0},{"$f":"'Project Cashflows'!OTQ371","v":0},{"$f":"'Project Cashflows'!OTR371","v":0},{"$f":"'Project Cashflows'!OTS371","v":0},{"$f":"'Project Cashflows'!OTT371","v":0},{"$f":"'Project Cashflows'!OTU371","v":0},{"$f":"'Project Cashflows'!OTV371","v":0},{"$f":"'Project Cashflows'!OTW371","v":0},{"$f":"'Project Cashflows'!OTX371","v":0},{"$f":"'Project Cashflows'!OTY371","v":0},{"$f":"'Project Cashflows'!OTZ371","v":0},{"$f":"'Project Cashflows'!OUA371","v":0},{"$f":"'Project Cashflows'!OUB371","v":0},{"$f":"'Project Cashflows'!OUC371","v":0},{"$f":"'Project Cashflows'!OUD371","v":0},{"$f":"'Project Cashflows'!OUE371","v":0},{"$f":"'Project Cashflows'!OUF371","v":0},{"$f":"'Project Cashflows'!OUG371","v":0},{"$f":"'Project Cashflows'!OUH371","v":0},{"$f":"'Project Cashflows'!OUI371","v":0},{"$f":"'Project Cashflows'!OUJ371","v":0},{"$f":"'Project Cashflows'!OUK371","v":0},{"$f":"'Project Cashflows'!OUL371","v":0},{"$f":"'Project Cashflows'!OUM371","v":0},{"$f":"'Project Cashflows'!OUN371","v":0},{"$f":"'Project Cashflows'!OUO371","v":0},{"$f":"'Project Cashflows'!OUP371","v":0},{"$f":"'Project Cashflows'!OUQ371","v":0},{"$f":"'Project Cashflows'!OUR371","v":0},{"$f":"'Project Cashflows'!OUS371","v":0},{"$f":"'Project Cashflows'!OUT371","v":0},{"$f":"'Project Cashflows'!OUU371","v":0},{"$f":"'Project Cashflows'!OUV371","v":0},{"$f":"'Project Cashflows'!OUW371","v":0},{"$f":"'Project Cashflows'!OUX371","v":0},{"$f":"'Project Cashflows'!OUY371","v":0},{"$f":"'Project Cashflows'!OUZ371","v":0},{"$f":"'Project Cashflows'!OVA371","v":0},{"$f":"'Project Cashflows'!OVB371","v":0},{"$f":"'Project Cashflows'!OVC371","v":0},{"$f":"'Project Cashflows'!OVD371","v":0},{"$f":"'Project Cashflows'!OVE371","v":0},{"$f":"'Project Cashflows'!OVF371","v":0},{"$f":"'Project Cashflows'!OVG371","v":0},{"$f":"'Project Cashflows'!OVH371","v":0},{"$f":"'Project Cashflows'!OVI371","v":0},{"$f":"'Project Cashflows'!OVJ371","v":0},{"$f":"'Project Cashflows'!OVK371","v":0},{"$f":"'Project Cashflows'!OVL371","v":0},{"$f":"'Project Cashflows'!OVM371","v":0},{"$f":"'Project Cashflows'!OVN371","v":0},{"$f":"'Project Cashflows'!OVO371","v":0},{"$f":"'Project Cashflows'!OVP371","v":0},{"$f":"'Project Cashflows'!OVQ371","v":0},{"$f":"'Project Cashflows'!OVR371","v":0},{"$f":"'Project Cashflows'!OVS371","v":0},{"$f":"'Project Cashflows'!OVT371","v":0},{"$f":"'Project Cashflows'!OVU371","v":0},{"$f":"'Project Cashflows'!OVV371","v":0},{"$f":"'Project Cashflows'!OVW371","v":0},{"$f":"'Project Cashflows'!OVX371","v":0},{"$f":"'Project Cashflows'!OVY371","v":0},{"$f":"'Project Cashflows'!OVZ371","v":0},{"$f":"'Project Cashflows'!OWA371","v":0},{"$f":"'Project Cashflows'!OWB371","v":0},{"$f":"'Project Cashflows'!OWC371","v":0},{"$f":"'Project Cashflows'!OWD371","v":0},{"$f":"'Project Cashflows'!OWE371","v":0},{"$f":"'Project Cashflows'!OWF371","v":0},{"$f":"'Project Cashflows'!OWG371","v":0},{"$f":"'Project Cashflows'!OWH371","v":0},{"$f":"'Project Cashflows'!OWI371","v":0},{"$f":"'Project Cashflows'!OWJ371","v":0},{"$f":"'Project Cashflows'!OWK371","v":0},{"$f":"'Project Cashflows'!OWL371","v":0},{"$f":"'Project Cashflows'!OWM371","v":0},{"$f":"'Project Cashflows'!OWN371","v":0},{"$f":"'Project Cashflows'!OWO371","v":0},{"$f":"'Project Cashflows'!OWP371","v":0},{"$f":"'Project Cashflows'!OWQ371","v":0},{"$f":"'Project Cashflows'!OWR371","v":0},{"$f":"'Project Cashflows'!OWS371","v":0},{"$f":"'Project Cashflows'!OWT371","v":0},{"$f":"'Project Cashflows'!OWU371","v":0},{"$f":"'Project Cashflows'!OWV371","v":0},{"$f":"'Project Cashflows'!OWW371","v":0},{"$f":"'Project Cashflows'!OWX371","v":0},{"$f":"'Project Cashflows'!OWY371","v":0},{"$f":"'Project Cashflows'!OWZ371","v":0},{"$f":"'Project Cashflows'!OXA371","v":0},{"$f":"'Project Cashflows'!OXB371","v":0},{"$f":"'Project Cashflows'!OXC371","v":0},{"$f":"'Project Cashflows'!OXD371","v":0},{"$f":"'Project Cashflows'!OXE371","v":0},{"$f":"'Project Cashflows'!OXF371","v":0},{"$f":"'Project Cashflows'!OXG371","v":0},{"$f":"'Project Cashflows'!OXH371","v":0},{"$f":"'Project Cashflows'!OXI371","v":0},{"$f":"'Project Cashflows'!OXJ371","v":0},{"$f":"'Project Cashflows'!OXK371","v":0},{"$f":"'Project Cashflows'!OXL371","v":0},{"$f":"'Project Cashflows'!OXM371","v":0},{"$f":"'Project Cashflows'!OXN371","v":0},{"$f":"'Project Cashflows'!OXO371","v":0},{"$f":"'Project Cashflows'!OXP371","v":0},{"$f":"'Project Cashflows'!OXQ371","v":0},{"$f":"'Project Cashflows'!OXR371","v":0},{"$f":"'Project Cashflows'!OXS371","v":0},{"$f":"'Project Cashflows'!OXT371","v":0},{"$f":"'Project Cashflows'!OXU371","v":0},{"$f":"'Project Cashflows'!OXV371","v":0},{"$f":"'Project Cashflows'!OXW371","v":0},{"$f":"'Project Cashflows'!OXX371","v":0},{"$f":"'Project Cashflows'!OXY371","v":0},{"$f":"'Project Cashflows'!OXZ371","v":0},{"$f":"'Project Cashflows'!OYA371","v":0},{"$f":"'Project Cashflows'!OYB371","v":0},{"$f":"'Project Cashflows'!OYC371","v":0},{"$f":"'Project Cashflows'!OYD371","v":0},{"$f":"'Project Cashflows'!OYE371","v":0},{"$f":"'Project Cashflows'!OYF371","v":0},{"$f":"'Project Cashflows'!OYG371","v":0},{"$f":"'Project Cashflows'!OYH371","v":0},{"$f":"'Project Cashflows'!OYI371","v":0},{"$f":"'Project Cashflows'!OYJ371","v":0},{"$f":"'Project Cashflows'!OYK371","v":0},{"$f":"'Project Cashflows'!OYL371","v":0},{"$f":"'Project Cashflows'!OYM371","v":0},{"$f":"'Project Cashflows'!OYN371","v":0},{"$f":"'Project Cashflows'!OYO371","v":0},{"$f":"'Project Cashflows'!OYP371","v":0},{"$f":"'Project Cashflows'!OYQ371","v":0},{"$f":"'Project Cashflows'!OYR371","v":0},{"$f":"'Project Cashflows'!OYS371","v":0},{"$f":"'Project Cashflows'!OYT371","v":0},{"$f":"'Project Cashflows'!OYU371","v":0},{"$f":"'Project Cashflows'!OYV371","v":0},{"$f":"'Project Cashflows'!OYW371","v":0},{"$f":"'Project Cashflows'!OYX371","v":0},{"$f":"'Project Cashflows'!OYY371","v":0},{"$f":"'Project Cashflows'!OYZ371","v":0},{"$f":"'Project Cashflows'!OZA371","v":0},{"$f":"'Project Cashflows'!OZB371","v":0},{"$f":"'Project Cashflows'!OZC371","v":0},{"$f":"'Project Cashflows'!OZD371","v":0},{"$f":"'Project Cashflows'!OZE371","v":0},{"$f":"'Project Cashflows'!OZF371","v":0},{"$f":"'Project Cashflows'!OZG371","v":0},{"$f":"'Project Cashflows'!OZH371","v":0},{"$f":"'Project Cashflows'!OZI371","v":0},{"$f":"'Project Cashflows'!OZJ371","v":0},{"$f":"'Project Cashflows'!OZK371","v":0},{"$f":"'Project Cashflows'!OZL371","v":0},{"$f":"'Project Cashflows'!OZM371","v":0},{"$f":"'Project Cashflows'!OZN371","v":0},{"$f":"'Project Cashflows'!OZO371","v":0},{"$f":"'Project Cashflows'!OZP371","v":0},{"$f":"'Project Cashflows'!OZQ371","v":0},{"$f":"'Project Cashflows'!OZR371","v":0},{"$f":"'Project Cashflows'!OZS371","v":0},{"$f":"'Project Cashflows'!OZT371","v":0},{"$f":"'Project Cashflows'!OZU371","v":0},{"$f":"'Project Cashflows'!OZV371","v":0},{"$f":"'Project Cashflows'!OZW371","v":0},{"$f":"'Project Cashflows'!OZX371","v":0},{"$f":"'Project Cashflows'!OZY371","v":0},{"$f":"'Project Cashflows'!OZZ371","v":0},{"$f":"'Project Cashflows'!PAA371","v":0},{"$f":"'Project Cashflows'!PAB371","v":0},{"$f":"'Project Cashflows'!PAC371","v":0},{"$f":"'Project Cashflows'!PAD371","v":0},{"$f":"'Project Cashflows'!PAE371","v":0},{"$f":"'Project Cashflows'!PAF371","v":0},{"$f":"'Project Cashflows'!PAG371","v":0},{"$f":"'Project Cashflows'!PAH371","v":0},{"$f":"'Project Cashflows'!PAI371","v":0},{"$f":"'Project Cashflows'!PAJ371","v":0},{"$f":"'Project Cashflows'!PAK371","v":0},{"$f":"'Project Cashflows'!PAL371","v":0},{"$f":"'Project Cashflows'!PAM371","v":0},{"$f":"'Project Cashflows'!PAN371","v":0},{"$f":"'Project Cashflows'!PAO371","v":0},{"$f":"'Project Cashflows'!PAP371","v":0},{"$f":"'Project Cashflows'!PAQ371","v":0},{"$f":"'Project Cashflows'!PAR371","v":0},{"$f":"'Project Cashflows'!PAS371","v":0},{"$f":"'Project Cashflows'!PAT371","v":0},{"$f":"'Project Cashflows'!PAU371","v":0},{"$f":"'Project Cashflows'!PAV371","v":0},{"$f":"'Project Cashflows'!PAW371","v":0},{"$f":"'Project Cashflows'!PAX371","v":0},{"$f":"'Project Cashflows'!PAY371","v":0},{"$f":"'Project Cashflows'!PAZ371","v":0},{"$f":"'Project Cashflows'!PBA371","v":0},{"$f":"'Project Cashflows'!PBB371","v":0},{"$f":"'Project Cashflows'!PBC371","v":0},{"$f":"'Project Cashflows'!PBD371","v":0},{"$f":"'Project Cashflows'!PBE371","v":0},{"$f":"'Project Cashflows'!PBF371","v":0},{"$f":"'Project Cashflows'!PBG371","v":0},{"$f":"'Project Cashflows'!PBH371","v":0},{"$f":"'Project Cashflows'!PBI371","v":0},{"$f":"'Project Cashflows'!PBJ371","v":0},{"$f":"'Project Cashflows'!PBK371","v":0},{"$f":"'Project Cashflows'!PBL371","v":0},{"$f":"'Project Cashflows'!PBM371","v":0},{"$f":"'Project Cashflows'!PBN371","v":0},{"$f":"'Project Cashflows'!PBO371","v":0},{"$f":"'Project Cashflows'!PBP371","v":0},{"$f":"'Project Cashflows'!PBQ371","v":0},{"$f":"'Project Cashflows'!PBR371","v":0},{"$f":"'Project Cashflows'!PBS371","v":0},{"$f":"'Project Cashflows'!PBT371","v":0},{"$f":"'Project Cashflows'!PBU371","v":0},{"$f":"'Project Cashflows'!PBV371","v":0},{"$f":"'Project Cashflows'!PBW371","v":0},{"$f":"'Project Cashflows'!PBX371","v":0},{"$f":"'Project Cashflows'!PBY371","v":0},{"$f":"'Project Cashflows'!PBZ371","v":0},{"$f":"'Project Cashflows'!PCA371","v":0},{"$f":"'Project Cashflows'!PCB371","v":0},{"$f":"'Project Cashflows'!PCC371","v":0},{"$f":"'Project Cashflows'!PCD371","v":0},{"$f":"'Project Cashflows'!PCE371","v":0},{"$f":"'Project Cashflows'!PCF371","v":0},{"$f":"'Project Cashflows'!PCG371","v":0},{"$f":"'Project Cashflows'!PCH371","v":0},{"$f":"'Project Cashflows'!PCI371","v":0},{"$f":"'Project Cashflows'!PCJ371","v":0},{"$f":"'Project Cashflows'!PCK371","v":0},{"$f":"'Project Cashflows'!PCL371","v":0},{"$f":"'Project Cashflows'!PCM371","v":0},{"$f":"'Project Cashflows'!PCN371","v":0},{"$f":"'Project Cashflows'!PCO371","v":0},{"$f":"'Project Cashflows'!PCP371","v":0},{"$f":"'Project Cashflows'!PCQ371","v":0},{"$f":"'Project Cashflows'!PCR371","v":0},{"$f":"'Project Cashflows'!PCS371","v":0},{"$f":"'Project Cashflows'!PCT371","v":0},{"$f":"'Project Cashflows'!PCU371","v":0},{"$f":"'Project Cashflows'!PCV371","v":0},{"$f":"'Project Cashflows'!PCW371","v":0},{"$f":"'Project Cashflows'!PCX371","v":0},{"$f":"'Project Cashflows'!PCY371","v":0},{"$f":"'Project Cashflows'!PCZ371","v":0},{"$f":"'Project Cashflows'!PDA371","v":0},{"$f":"'Project Cashflows'!PDB371","v":0},{"$f":"'Project Cashflows'!PDC371","v":0},{"$f":"'Project Cashflows'!PDD371","v":0},{"$f":"'Project Cashflows'!PDE371","v":0},{"$f":"'Project Cashflows'!PDF371","v":0},{"$f":"'Project Cashflows'!PDG371","v":0},{"$f":"'Project Cashflows'!PDH371","v":0},{"$f":"'Project Cashflows'!PDI371","v":0},{"$f":"'Project Cashflows'!PDJ371","v":0},{"$f":"'Project Cashflows'!PDK371","v":0},{"$f":"'Project Cashflows'!PDL371","v":0},{"$f":"'Project Cashflows'!PDM371","v":0},{"$f":"'Project Cashflows'!PDN371","v":0},{"$f":"'Project Cashflows'!PDO371","v":0},{"$f":"'Project Cashflows'!PDP371","v":0},{"$f":"'Project Cashflows'!PDQ371","v":0},{"$f":"'Project Cashflows'!PDR371","v":0},{"$f":"'Project Cashflows'!PDS371","v":0},{"$f":"'Project Cashflows'!PDT371","v":0},{"$f":"'Project Cashflows'!PDU371","v":0},{"$f":"'Project Cashflows'!PDV371","v":0},{"$f":"'Project Cashflows'!PDW371","v":0},{"$f":"'Project Cashflows'!PDX371","v":0},{"$f":"'Project Cashflows'!PDY371","v":0},{"$f":"'Project Cashflows'!PDZ371","v":0},{"$f":"'Project Cashflows'!PEA371","v":0},{"$f":"'Project Cashflows'!PEB371","v":0},{"$f":"'Project Cashflows'!PEC371","v":0},{"$f":"'Project Cashflows'!PED371","v":0},{"$f":"'Project Cashflows'!PEE371","v":0},{"$f":"'Project Cashflows'!PEF371","v":0},{"$f":"'Project Cashflows'!PEG371","v":0},{"$f":"'Project Cashflows'!PEH371","v":0},{"$f":"'Project Cashflows'!PEI371","v":0},{"$f":"'Project Cashflows'!PEJ371","v":0},{"$f":"'Project Cashflows'!PEK371","v":0},{"$f":"'Project Cashflows'!PEL371","v":0},{"$f":"'Project Cashflows'!PEM371","v":0},{"$f":"'Project Cashflows'!PEN371","v":0},{"$f":"'Project Cashflows'!PEO371","v":0},{"$f":"'Project Cashflows'!PEP371","v":0},{"$f":"'Project Cashflows'!PEQ371","v":0},{"$f":"'Project Cashflows'!PER371","v":0},{"$f":"'Project Cashflows'!PES371","v":0},{"$f":"'Project Cashflows'!PET371","v":0},{"$f":"'Project Cashflows'!PEU371","v":0},{"$f":"'Project Cashflows'!PEV371","v":0},{"$f":"'Project Cashflows'!PEW371","v":0},{"$f":"'Project Cashflows'!PEX371","v":0},{"$f":"'Project Cashflows'!PEY371","v":0},{"$f":"'Project Cashflows'!PEZ371","v":0},{"$f":"'Project Cashflows'!PFA371","v":0},{"$f":"'Project Cashflows'!PFB371","v":0},{"$f":"'Project Cashflows'!PFC371","v":0},{"$f":"'Project Cashflows'!PFD371","v":0},{"$f":"'Project Cashflows'!PFE371","v":0},{"$f":"'Project Cashflows'!PFF371","v":0},{"$f":"'Project Cashflows'!PFG371","v":0},{"$f":"'Project Cashflows'!PFH371","v":0},{"$f":"'Project Cashflows'!PFI371","v":0},{"$f":"'Project Cashflows'!PFJ371","v":0},{"$f":"'Project Cashflows'!PFK371","v":0},{"$f":"'Project Cashflows'!PFL371","v":0},{"$f":"'Project Cashflows'!PFM371","v":0},{"$f":"'Project Cashflows'!PFN371","v":0},{"$f":"'Project Cashflows'!PFO371","v":0},{"$f":"'Project Cashflows'!PFP371","v":0},{"$f":"'Project Cashflows'!PFQ371","v":0},{"$f":"'Project Cashflows'!PFR371","v":0},{"$f":"'Project Cashflows'!PFS371","v":0},{"$f":"'Project Cashflows'!PFT371","v":0},{"$f":"'Project Cashflows'!PFU371","v":0},{"$f":"'Project Cashflows'!PFV371","v":0},{"$f":"'Project Cashflows'!PFW371","v":0},{"$f":"'Project Cashflows'!PFX371","v":0},{"$f":"'Project Cashflows'!PFY371","v":0},{"$f":"'Project Cashflows'!PFZ371","v":0},{"$f":"'Project Cashflows'!PGA371","v":0},{"$f":"'Project Cashflows'!PGB371","v":0},{"$f":"'Project Cashflows'!PGC371","v":0},{"$f":"'Project Cashflows'!PGD371","v":0},{"$f":"'Project Cashflows'!PGE371","v":0},{"$f":"'Project Cashflows'!PGF371","v":0},{"$f":"'Project Cashflows'!PGG371","v":0},{"$f":"'Project Cashflows'!PGH371","v":0},{"$f":"'Project Cashflows'!PGI371","v":0},{"$f":"'Project Cashflows'!PGJ371","v":0},{"$f":"'Project Cashflows'!PGK371","v":0},{"$f":"'Project Cashflows'!PGL371","v":0},{"$f":"'Project Cashflows'!PGM371","v":0},{"$f":"'Project Cashflows'!PGN371","v":0},{"$f":"'Project Cashflows'!PGO371","v":0},{"$f":"'Project Cashflows'!PGP371","v":0},{"$f":"'Project Cashflows'!PGQ371","v":0},{"$f":"'Project Cashflows'!PGR371","v":0},{"$f":"'Project Cashflows'!PGS371","v":0},{"$f":"'Project Cashflows'!PGT371","v":0},{"$f":"'Project Cashflows'!PGU371","v":0},{"$f":"'Project Cashflows'!PGV371","v":0},{"$f":"'Project Cashflows'!PGW371","v":0},{"$f":"'Project Cashflows'!PGX371","v":0},{"$f":"'Project Cashflows'!PGY371","v":0},{"$f":"'Project Cashflows'!PGZ371","v":0},{"$f":"'Project Cashflows'!PHA371","v":0},{"$f":"'Project Cashflows'!PHB371","v":0},{"$f":"'Project Cashflows'!PHC371","v":0},{"$f":"'Project Cashflows'!PHD371","v":0},{"$f":"'Project Cashflows'!PHE371","v":0},{"$f":"'Project Cashflows'!PHF371","v":0},{"$f":"'Project Cashflows'!PHG371","v":0},{"$f":"'Project Cashflows'!PHH371","v":0},{"$f":"'Project Cashflows'!PHI371","v":0},{"$f":"'Project Cashflows'!PHJ371","v":0},{"$f":"'Project Cashflows'!PHK371","v":0},{"$f":"'Project Cashflows'!PHL371","v":0},{"$f":"'Project Cashflows'!PHM371","v":0},{"$f":"'Project Cashflows'!PHN371","v":0},{"$f":"'Project Cashflows'!PHO371","v":0},{"$f":"'Project Cashflows'!PHP371","v":0},{"$f":"'Project Cashflows'!PHQ371","v":0},{"$f":"'Project Cashflows'!PHR371","v":0},{"$f":"'Project Cashflows'!PHS371","v":0},{"$f":"'Project Cashflows'!PHT371","v":0},{"$f":"'Project Cashflows'!PHU371","v":0},{"$f":"'Project Cashflows'!PHV371","v":0},{"$f":"'Project Cashflows'!PHW371","v":0},{"$f":"'Project Cashflows'!PHX371","v":0},{"$f":"'Project Cashflows'!PHY371","v":0},{"$f":"'Project Cashflows'!PHZ371","v":0},{"$f":"'Project Cashflows'!PIA371","v":0},{"$f":"'Project Cashflows'!PIB371","v":0},{"$f":"'Project Cashflows'!PIC371","v":0},{"$f":"'Project Cashflows'!PID371","v":0},{"$f":"'Project Cashflows'!PIE371","v":0},{"$f":"'Project Cashflows'!PIF371","v":0},{"$f":"'Project Cashflows'!PIG371","v":0},{"$f":"'Project Cashflows'!PIH371","v":0},{"$f":"'Project Cashflows'!PII371","v":0},{"$f":"'Project Cashflows'!PIJ371","v":0},{"$f":"'Project Cashflows'!PIK371","v":0},{"$f":"'Project Cashflows'!PIL371","v":0},{"$f":"'Project Cashflows'!PIM371","v":0},{"$f":"'Project Cashflows'!PIN371","v":0},{"$f":"'Project Cashflows'!PIO371","v":0},{"$f":"'Project Cashflows'!PIP371","v":0},{"$f":"'Project Cashflows'!PIQ371","v":0},{"$f":"'Project Cashflows'!PIR371","v":0},{"$f":"'Project Cashflows'!PIS371","v":0},{"$f":"'Project Cashflows'!PIT371","v":0},{"$f":"'Project Cashflows'!PIU371","v":0},{"$f":"'Project Cashflows'!PIV371","v":0},{"$f":"'Project Cashflows'!PIW371","v":0},{"$f":"'Project Cashflows'!PIX371","v":0},{"$f":"'Project Cashflows'!PIY371","v":0},{"$f":"'Project Cashflows'!PIZ371","v":0},{"$f":"'Project Cashflows'!PJA371","v":0},{"$f":"'Project Cashflows'!PJB371","v":0},{"$f":"'Project Cashflows'!PJC371","v":0},{"$f":"'Project Cashflows'!PJD371","v":0},{"$f":"'Project Cashflows'!PJE371","v":0},{"$f":"'Project Cashflows'!PJF371","v":0},{"$f":"'Project Cashflows'!PJG371","v":0},{"$f":"'Project Cashflows'!PJH371","v":0},{"$f":"'Project Cashflows'!PJI371","v":0},{"$f":"'Project Cashflows'!PJJ371","v":0},{"$f":"'Project Cashflows'!PJK371","v":0},{"$f":"'Project Cashflows'!PJL371","v":0},{"$f":"'Project Cashflows'!PJM371","v":0},{"$f":"'Project Cashflows'!PJN371","v":0},{"$f":"'Project Cashflows'!PJO371","v":0},{"$f":"'Project Cashflows'!PJP371","v":0},{"$f":"'Project Cashflows'!PJQ371","v":0},{"$f":"'Project Cashflows'!PJR371","v":0},{"$f":"'Project Cashflows'!PJS371","v":0},{"$f":"'Project Cashflows'!PJT371","v":0},{"$f":"'Project Cashflows'!PJU371","v":0},{"$f":"'Project Cashflows'!PJV371","v":0},{"$f":"'Project Cashflows'!PJW371","v":0},{"$f":"'Project Cashflows'!PJX371","v":0},{"$f":"'Project Cashflows'!PJY371","v":0},{"$f":"'Project Cashflows'!PJZ371","v":0},{"$f":"'Project Cashflows'!PKA371","v":0},{"$f":"'Project Cashflows'!PKB371","v":0},{"$f":"'Project Cashflows'!PKC371","v":0},{"$f":"'Project Cashflows'!PKD371","v":0},{"$f":"'Project Cashflows'!PKE371","v":0},{"$f":"'Project Cashflows'!PKF371","v":0},{"$f":"'Project Cashflows'!PKG371","v":0},{"$f":"'Project Cashflows'!PKH371","v":0},{"$f":"'Project Cashflows'!PKI371","v":0},{"$f":"'Project Cashflows'!PKJ371","v":0},{"$f":"'Project Cashflows'!PKK371","v":0},{"$f":"'Project Cashflows'!PKL371","v":0},{"$f":"'Project Cashflows'!PKM371","v":0},{"$f":"'Project Cashflows'!PKN371","v":0},{"$f":"'Project Cashflows'!PKO371","v":0},{"$f":"'Project Cashflows'!PKP371","v":0},{"$f":"'Project Cashflows'!PKQ371","v":0},{"$f":"'Project Cashflows'!PKR371","v":0},{"$f":"'Project Cashflows'!PKS371","v":0},{"$f":"'Project Cashflows'!PKT371","v":0},{"$f":"'Project Cashflows'!PKU371","v":0},{"$f":"'Project Cashflows'!PKV371","v":0},{"$f":"'Project Cashflows'!PKW371","v":0},{"$f":"'Project Cashflows'!PKX371","v":0},{"$f":"'Project Cashflows'!PKY371","v":0},{"$f":"'Project Cashflows'!PKZ371","v":0},{"$f":"'Project Cashflows'!PLA371","v":0},{"$f":"'Project Cashflows'!PLB371","v":0},{"$f":"'Project Cashflows'!PLC371","v":0},{"$f":"'Project Cashflows'!PLD371","v":0},{"$f":"'Project Cashflows'!PLE371","v":0},{"$f":"'Project Cashflows'!PLF371","v":0},{"$f":"'Project Cashflows'!PLG371","v":0},{"$f":"'Project Cashflows'!PLH371","v":0},{"$f":"'Project Cashflows'!PLI371","v":0},{"$f":"'Project Cashflows'!PLJ371","v":0},{"$f":"'Project Cashflows'!PLK371","v":0},{"$f":"'Project Cashflows'!PLL371","v":0},{"$f":"'Project Cashflows'!PLM371","v":0},{"$f":"'Project Cashflows'!PLN371","v":0},{"$f":"'Project Cashflows'!PLO371","v":0},{"$f":"'Project Cashflows'!PLP371","v":0},{"$f":"'Project Cashflows'!PLQ371","v":0},{"$f":"'Project Cashflows'!PLR371","v":0},{"$f":"'Project Cashflows'!PLS371","v":0},{"$f":"'Project Cashflows'!PLT371","v":0},{"$f":"'Project Cashflows'!PLU371","v":0},{"$f":"'Project Cashflows'!PLV371","v":0},{"$f":"'Project Cashflows'!PLW371","v":0},{"$f":"'Project Cashflows'!PLX371","v":0},{"$f":"'Project Cashflows'!PLY371","v":0},{"$f":"'Project Cashflows'!PLZ371","v":0},{"$f":"'Project Cashflows'!PMA371","v":0},{"$f":"'Project Cashflows'!PMB371","v":0},{"$f":"'Project Cashflows'!PMC371","v":0},{"$f":"'Project Cashflows'!PMD371","v":0},{"$f":"'Project Cashflows'!PME371","v":0},{"$f":"'Project Cashflows'!PMF371","v":0},{"$f":"'Project Cashflows'!PMG371","v":0},{"$f":"'Project Cashflows'!PMH371","v":0},{"$f":"'Project Cashflows'!PMI371","v":0},{"$f":"'Project Cashflows'!PMJ371","v":0},{"$f":"'Project Cashflows'!PMK371","v":0},{"$f":"'Project Cashflows'!PML371","v":0},{"$f":"'Project Cashflows'!PMM371","v":0},{"$f":"'Project Cashflows'!PMN371","v":0},{"$f":"'Project Cashflows'!PMO371","v":0},{"$f":"'Project Cashflows'!PMP371","v":0},{"$f":"'Project Cashflows'!PMQ371","v":0},{"$f":"'Project Cashflows'!PMR371","v":0},{"$f":"'Project Cashflows'!PMS371","v":0},{"$f":"'Project Cashflows'!PMT371","v":0},{"$f":"'Project Cashflows'!PMU371","v":0},{"$f":"'Project Cashflows'!PMV371","v":0},{"$f":"'Project Cashflows'!PMW371","v":0},{"$f":"'Project Cashflows'!PMX371","v":0},{"$f":"'Project Cashflows'!PMY371","v":0},{"$f":"'Project Cashflows'!PMZ371","v":0},{"$f":"'Project Cashflows'!PNA371","v":0},{"$f":"'Project Cashflows'!PNB371","v":0},{"$f":"'Project Cashflows'!PNC371","v":0},{"$f":"'Project Cashflows'!PND371","v":0},{"$f":"'Project Cashflows'!PNE371","v":0},{"$f":"'Project Cashflows'!PNF371","v":0},{"$f":"'Project Cashflows'!PNG371","v":0},{"$f":"'Project Cashflows'!PNH371","v":0},{"$f":"'Project Cashflows'!PNI371","v":0},{"$f":"'Project Cashflows'!PNJ371","v":0},{"$f":"'Project Cashflows'!PNK371","v":0},{"$f":"'Project Cashflows'!PNL371","v":0},{"$f":"'Project Cashflows'!PNM371","v":0},{"$f":"'Project Cashflows'!PNN371","v":0},{"$f":"'Project Cashflows'!PNO371","v":0},{"$f":"'Project Cashflows'!PNP371","v":0},{"$f":"'Project Cashflows'!PNQ371","v":0},{"$f":"'Project Cashflows'!PNR371","v":0},{"$f":"'Project Cashflows'!PNS371","v":0},{"$f":"'Project Cashflows'!PNT371","v":0},{"$f":"'Project Cashflows'!PNU371","v":0},{"$f":"'Project Cashflows'!PNV371","v":0},{"$f":"'Project Cashflows'!PNW371","v":0},{"$f":"'Project Cashflows'!PNX371","v":0},{"$f":"'Project Cashflows'!PNY371","v":0},{"$f":"'Project Cashflows'!PNZ371","v":0},{"$f":"'Project Cashflows'!POA371","v":0},{"$f":"'Project Cashflows'!POB371","v":0},{"$f":"'Project Cashflows'!POC371","v":0},{"$f":"'Project Cashflows'!POD371","v":0},{"$f":"'Project Cashflows'!POE371","v":0},{"$f":"'Project Cashflows'!POF371","v":0},{"$f":"'Project Cashflows'!POG371","v":0},{"$f":"'Project Cashflows'!POH371","v":0},{"$f":"'Project Cashflows'!POI371","v":0},{"$f":"'Project Cashflows'!POJ371","v":0},{"$f":"'Project Cashflows'!POK371","v":0},{"$f":"'Project Cashflows'!POL371","v":0},{"$f":"'Project Cashflows'!POM371","v":0},{"$f":"'Project Cashflows'!PON371","v":0},{"$f":"'Project Cashflows'!POO371","v":0},{"$f":"'Project Cashflows'!POP371","v":0},{"$f":"'Project Cashflows'!POQ371","v":0},{"$f":"'Project Cashflows'!POR371","v":0},{"$f":"'Project Cashflows'!POS371","v":0},{"$f":"'Project Cashflows'!POT371","v":0},{"$f":"'Project Cashflows'!POU371","v":0},{"$f":"'Project Cashflows'!POV371","v":0},{"$f":"'Project Cashflows'!POW371","v":0},{"$f":"'Project Cashflows'!POX371","v":0},{"$f":"'Project Cashflows'!POY371","v":0},{"$f":"'Project Cashflows'!POZ371","v":0},{"$f":"'Project Cashflows'!PPA371","v":0},{"$f":"'Project Cashflows'!PPB371","v":0},{"$f":"'Project Cashflows'!PPC371","v":0},{"$f":"'Project Cashflows'!PPD371","v":0},{"$f":"'Project Cashflows'!PPE371","v":0},{"$f":"'Project Cashflows'!PPF371","v":0},{"$f":"'Project Cashflows'!PPG371","v":0},{"$f":"'Project Cashflows'!PPH371","v":0},{"$f":"'Project Cashflows'!PPI371","v":0},{"$f":"'Project Cashflows'!PPJ371","v":0},{"$f":"'Project Cashflows'!PPK371","v":0},{"$f":"'Project Cashflows'!PPL371","v":0},{"$f":"'Project Cashflows'!PPM371","v":0},{"$f":"'Project Cashflows'!PPN371","v":0},{"$f":"'Project Cashflows'!PPO371","v":0},{"$f":"'Project Cashflows'!PPP371","v":0},{"$f":"'Project Cashflows'!PPQ371","v":0},{"$f":"'Project Cashflows'!PPR371","v":0},{"$f":"'Project Cashflows'!PPS371","v":0},{"$f":"'Project Cashflows'!PPT371","v":0},{"$f":"'Project Cashflows'!PPU371","v":0},{"$f":"'Project Cashflows'!PPV371","v":0},{"$f":"'Project Cashflows'!PPW371","v":0},{"$f":"'Project Cashflows'!PPX371","v":0},{"$f":"'Project Cashflows'!PPY371","v":0},{"$f":"'Project Cashflows'!PPZ371","v":0},{"$f":"'Project Cashflows'!PQA371","v":0},{"$f":"'Project Cashflows'!PQB371","v":0},{"$f":"'Project Cashflows'!PQC371","v":0},{"$f":"'Project Cashflows'!PQD371","v":0},{"$f":"'Project Cashflows'!PQE371","v":0},{"$f":"'Project Cashflows'!PQF371","v":0},{"$f":"'Project Cashflows'!PQG371","v":0},{"$f":"'Project Cashflows'!PQH371","v":0},{"$f":"'Project Cashflows'!PQI371","v":0},{"$f":"'Project Cashflows'!PQJ371","v":0},{"$f":"'Project Cashflows'!PQK371","v":0},{"$f":"'Project Cashflows'!PQL371","v":0},{"$f":"'Project Cashflows'!PQM371","v":0},{"$f":"'Project Cashflows'!PQN371","v":0},{"$f":"'Project Cashflows'!PQO371","v":0},{"$f":"'Project Cashflows'!PQP371","v":0},{"$f":"'Project Cashflows'!PQQ371","v":0},{"$f":"'Project Cashflows'!PQR371","v":0},{"$f":"'Project Cashflows'!PQS371","v":0},{"$f":"'Project Cashflows'!PQT371","v":0},{"$f":"'Project Cashflows'!PQU371","v":0},{"$f":"'Project Cashflows'!PQV371","v":0},{"$f":"'Project Cashflows'!PQW371","v":0},{"$f":"'Project Cashflows'!PQX371","v":0},{"$f":"'Project Cashflows'!PQY371","v":0},{"$f":"'Project Cashflows'!PQZ371","v":0},{"$f":"'Project Cashflows'!PRA371","v":0},{"$f":"'Project Cashflows'!PRB371","v":0},{"$f":"'Project Cashflows'!PRC371","v":0},{"$f":"'Project Cashflows'!PRD371","v":0},{"$f":"'Project Cashflows'!PRE371","v":0},{"$f":"'Project Cashflows'!PRF371","v":0},{"$f":"'Project Cashflows'!PRG371","v":0},{"$f":"'Project Cashflows'!PRH371","v":0},{"$f":"'Project Cashflows'!PRI371","v":0},{"$f":"'Project Cashflows'!PRJ371","v":0},{"$f":"'Project Cashflows'!PRK371","v":0},{"$f":"'Project Cashflows'!PRL371","v":0},{"$f":"'Project Cashflows'!PRM371","v":0},{"$f":"'Project Cashflows'!PRN371","v":0},{"$f":"'Project Cashflows'!PRO371","v":0},{"$f":"'Project Cashflows'!PRP371","v":0},{"$f":"'Project Cashflows'!PRQ371","v":0},{"$f":"'Project Cashflows'!PRR371","v":0},{"$f":"'Project Cashflows'!PRS371","v":0},{"$f":"'Project Cashflows'!PRT371","v":0},{"$f":"'Project Cashflows'!PRU371","v":0},{"$f":"'Project Cashflows'!PRV371","v":0},{"$f":"'Project Cashflows'!PRW371","v":0},{"$f":"'Project Cashflows'!PRX371","v":0},{"$f":"'Project Cashflows'!PRY371","v":0},{"$f":"'Project Cashflows'!PRZ371","v":0},{"$f":"'Project Cashflows'!PSA371","v":0},{"$f":"'Project Cashflows'!PSB371","v":0},{"$f":"'Project Cashflows'!PSC371","v":0},{"$f":"'Project Cashflows'!PSD371","v":0},{"$f":"'Project Cashflows'!PSE371","v":0},{"$f":"'Project Cashflows'!PSF371","v":0},{"$f":"'Project Cashflows'!PSG371","v":0},{"$f":"'Project Cashflows'!PSH371","v":0},{"$f":"'Project Cashflows'!PSI371","v":0},{"$f":"'Project Cashflows'!PSJ371","v":0},{"$f":"'Project Cashflows'!PSK371","v":0},{"$f":"'Project Cashflows'!PSL371","v":0},{"$f":"'Project Cashflows'!PSM371","v":0},{"$f":"'Project Cashflows'!PSN371","v":0},{"$f":"'Project Cashflows'!PSO371","v":0},{"$f":"'Project Cashflows'!PSP371","v":0},{"$f":"'Project Cashflows'!PSQ371","v":0},{"$f":"'Project Cashflows'!PSR371","v":0},{"$f":"'Project Cashflows'!PSS371","v":0},{"$f":"'Project Cashflows'!PST371","v":0},{"$f":"'Project Cashflows'!PSU371","v":0},{"$f":"'Project Cashflows'!PSV371","v":0},{"$f":"'Project Cashflows'!PSW371","v":0},{"$f":"'Project Cashflows'!PSX371","v":0},{"$f":"'Project Cashflows'!PSY371","v":0},{"$f":"'Project Cashflows'!PSZ371","v":0},{"$f":"'Project Cashflows'!PTA371","v":0},{"$f":"'Project Cashflows'!PTB371","v":0},{"$f":"'Project Cashflows'!PTC371","v":0},{"$f":"'Project Cashflows'!PTD371","v":0},{"$f":"'Project Cashflows'!PTE371","v":0},{"$f":"'Project Cashflows'!PTF371","v":0},{"$f":"'Project Cashflows'!PTG371","v":0},{"$f":"'Project Cashflows'!PTH371","v":0},{"$f":"'Project Cashflows'!PTI371","v":0},{"$f":"'Project Cashflows'!PTJ371","v":0},{"$f":"'Project Cashflows'!PTK371","v":0},{"$f":"'Project Cashflows'!PTL371","v":0},{"$f":"'Project Cashflows'!PTM371","v":0},{"$f":"'Project Cashflows'!PTN371","v":0},{"$f":"'Project Cashflows'!PTO371","v":0},{"$f":"'Project Cashflows'!PTP371","v":0},{"$f":"'Project Cashflows'!PTQ371","v":0},{"$f":"'Project Cashflows'!PTR371","v":0},{"$f":"'Project Cashflows'!PTS371","v":0},{"$f":"'Project Cashflows'!PTT371","v":0},{"$f":"'Project Cashflows'!PTU371","v":0},{"$f":"'Project Cashflows'!PTV371","v":0},{"$f":"'Project Cashflows'!PTW371","v":0},{"$f":"'Project Cashflows'!PTX371","v":0},{"$f":"'Project Cashflows'!PTY371","v":0},{"$f":"'Project Cashflows'!PTZ371","v":0},{"$f":"'Project Cashflows'!PUA371","v":0},{"$f":"'Project Cashflows'!PUB371","v":0},{"$f":"'Project Cashflows'!PUC371","v":0},{"$f":"'Project Cashflows'!PUD371","v":0},{"$f":"'Project Cashflows'!PUE371","v":0},{"$f":"'Project Cashflows'!PUF371","v":0},{"$f":"'Project Cashflows'!PUG371","v":0},{"$f":"'Project Cashflows'!PUH371","v":0},{"$f":"'Project Cashflows'!PUI371","v":0},{"$f":"'Project Cashflows'!PUJ371","v":0},{"$f":"'Project Cashflows'!PUK371","v":0},{"$f":"'Project Cashflows'!PUL371","v":0},{"$f":"'Project Cashflows'!PUM371","v":0},{"$f":"'Project Cashflows'!PUN371","v":0},{"$f":"'Project Cashflows'!PUO371","v":0},{"$f":"'Project Cashflows'!PUP371","v":0},{"$f":"'Project Cashflows'!PUQ371","v":0},{"$f":"'Project Cashflows'!PUR371","v":0},{"$f":"'Project Cashflows'!PUS371","v":0},{"$f":"'Project Cashflows'!PUT371","v":0},{"$f":"'Project Cashflows'!PUU371","v":0},{"$f":"'Project Cashflows'!PUV371","v":0},{"$f":"'Project Cashflows'!PUW371","v":0},{"$f":"'Project Cashflows'!PUX371","v":0},{"$f":"'Project Cashflows'!PUY371","v":0},{"$f":"'Project Cashflows'!PUZ371","v":0},{"$f":"'Project Cashflows'!PVA371","v":0},{"$f":"'Project Cashflows'!PVB371","v":0},{"$f":"'Project Cashflows'!PVC371","v":0},{"$f":"'Project Cashflows'!PVD371","v":0},{"$f":"'Project Cashflows'!PVE371","v":0},{"$f":"'Project Cashflows'!PVF371","v":0},{"$f":"'Project Cashflows'!PVG371","v":0},{"$f":"'Project Cashflows'!PVH371","v":0},{"$f":"'Project Cashflows'!PVI371","v":0},{"$f":"'Project Cashflows'!PVJ371","v":0},{"$f":"'Project Cashflows'!PVK371","v":0},{"$f":"'Project Cashflows'!PVL371","v":0},{"$f":"'Project Cashflows'!PVM371","v":0},{"$f":"'Project Cashflows'!PVN371","v":0},{"$f":"'Project Cashflows'!PVO371","v":0},{"$f":"'Project Cashflows'!PVP371","v":0},{"$f":"'Project Cashflows'!PVQ371","v":0},{"$f":"'Project Cashflows'!PVR371","v":0},{"$f":"'Project Cashflows'!PVS371","v":0},{"$f":"'Project Cashflows'!PVT371","v":0},{"$f":"'Project Cashflows'!PVU371","v":0},{"$f":"'Project Cashflows'!PVV371","v":0},{"$f":"'Project Cashflows'!PVW371","v":0},{"$f":"'Project Cashflows'!PVX371","v":0},{"$f":"'Project Cashflows'!PVY371","v":0},{"$f":"'Project Cashflows'!PVZ371","v":0},{"$f":"'Project Cashflows'!PWA371","v":0},{"$f":"'Project Cashflows'!PWB371","v":0},{"$f":"'Project Cashflows'!PWC371","v":0},{"$f":"'Project Cashflows'!PWD371","v":0},{"$f":"'Project Cashflows'!PWE371","v":0},{"$f":"'Project Cashflows'!PWF371","v":0},{"$f":"'Project Cashflows'!PWG371","v":0},{"$f":"'Project Cashflows'!PWH371","v":0},{"$f":"'Project Cashflows'!PWI371","v":0},{"$f":"'Project Cashflows'!PWJ371","v":0},{"$f":"'Project Cashflows'!PWK371","v":0},{"$f":"'Project Cashflows'!PWL371","v":0},{"$f":"'Project Cashflows'!PWM371","v":0},{"$f":"'Project Cashflows'!PWN371","v":0},{"$f":"'Project Cashflows'!PWO371","v":0},{"$f":"'Project Cashflows'!PWP371","v":0},{"$f":"'Project Cashflows'!PWQ371","v":0},{"$f":"'Project Cashflows'!PWR371","v":0},{"$f":"'Project Cashflows'!PWS371","v":0},{"$f":"'Project Cashflows'!PWT371","v":0},{"$f":"'Project Cashflows'!PWU371","v":0},{"$f":"'Project Cashflows'!PWV371","v":0},{"$f":"'Project Cashflows'!PWW371","v":0},{"$f":"'Project Cashflows'!PWX371","v":0},{"$f":"'Project Cashflows'!PWY371","v":0},{"$f":"'Project Cashflows'!PWZ371","v":0},{"$f":"'Project Cashflows'!PXA371","v":0},{"$f":"'Project Cashflows'!PXB371","v":0},{"$f":"'Project Cashflows'!PXC371","v":0},{"$f":"'Project Cashflows'!PXD371","v":0},{"$f":"'Project Cashflows'!PXE371","v":0},{"$f":"'Project Cashflows'!PXF371","v":0},{"$f":"'Project Cashflows'!PXG371","v":0},{"$f":"'Project Cashflows'!PXH371","v":0},{"$f":"'Project Cashflows'!PXI371","v":0},{"$f":"'Project Cashflows'!PXJ371","v":0},{"$f":"'Project Cashflows'!PXK371","v":0},{"$f":"'Project Cashflows'!PXL371","v":0},{"$f":"'Project Cashflows'!PXM371","v":0},{"$f":"'Project Cashflows'!PXN371","v":0},{"$f":"'Project Cashflows'!PXO371","v":0},{"$f":"'Project Cashflows'!PXP371","v":0},{"$f":"'Project Cashflows'!PXQ371","v":0},{"$f":"'Project Cashflows'!PXR371","v":0},{"$f":"'Project Cashflows'!PXS371","v":0},{"$f":"'Project Cashflows'!PXT371","v":0},{"$f":"'Project Cashflows'!PXU371","v":0},{"$f":"'Project Cashflows'!PXV371","v":0},{"$f":"'Project Cashflows'!PXW371","v":0},{"$f":"'Project Cashflows'!PXX371","v":0},{"$f":"'Project Cashflows'!PXY371","v":0},{"$f":"'Project Cashflows'!PXZ371","v":0},{"$f":"'Project Cashflows'!PYA371","v":0},{"$f":"'Project Cashflows'!PYB371","v":0},{"$f":"'Project Cashflows'!PYC371","v":0},{"$f":"'Project Cashflows'!PYD371","v":0},{"$f":"'Project Cashflows'!PYE371","v":0},{"$f":"'Project Cashflows'!PYF371","v":0},{"$f":"'Project Cashflows'!PYG371","v":0},{"$f":"'Project Cashflows'!PYH371","v":0},{"$f":"'Project Cashflows'!PYI371","v":0},{"$f":"'Project Cashflows'!PYJ371","v":0},{"$f":"'Project Cashflows'!PYK371","v":0},{"$f":"'Project Cashflows'!PYL371","v":0},{"$f":"'Project Cashflows'!PYM371","v":0},{"$f":"'Project Cashflows'!PYN371","v":0},{"$f":"'Project Cashflows'!PYO371","v":0},{"$f":"'Project Cashflows'!PYP371","v":0},{"$f":"'Project Cashflows'!PYQ371","v":0},{"$f":"'Project Cashflows'!PYR371","v":0},{"$f":"'Project Cashflows'!PYS371","v":0},{"$f":"'Project Cashflows'!PYT371","v":0},{"$f":"'Project Cashflows'!PYU371","v":0},{"$f":"'Project Cashflows'!PYV371","v":0},{"$f":"'Project Cashflows'!PYW371","v":0},{"$f":"'Project Cashflows'!PYX371","v":0},{"$f":"'Project Cashflows'!PYY371","v":0},{"$f":"'Project Cashflows'!PYZ371","v":0},{"$f":"'Project Cashflows'!PZA371","v":0},{"$f":"'Project Cashflows'!PZB371","v":0},{"$f":"'Project Cashflows'!PZC371","v":0},{"$f":"'Project Cashflows'!PZD371","v":0},{"$f":"'Project Cashflows'!PZE371","v":0},{"$f":"'Project Cashflows'!PZF371","v":0},{"$f":"'Project Cashflows'!PZG371","v":0},{"$f":"'Project Cashflows'!PZH371","v":0},{"$f":"'Project Cashflows'!PZI371","v":0},{"$f":"'Project Cashflows'!PZJ371","v":0},{"$f":"'Project Cashflows'!PZK371","v":0},{"$f":"'Project Cashflows'!PZL371","v":0},{"$f":"'Project Cashflows'!PZM371","v":0},{"$f":"'Project Cashflows'!PZN371","v":0},{"$f":"'Project Cashflows'!PZO371","v":0},{"$f":"'Project Cashflows'!PZP371","v":0},{"$f":"'Project Cashflows'!PZQ371","v":0},{"$f":"'Project Cashflows'!PZR371","v":0},{"$f":"'Project Cashflows'!PZS371","v":0},{"$f":"'Project Cashflows'!PZT371","v":0},{"$f":"'Project Cashflows'!PZU371","v":0},{"$f":"'Project Cashflows'!PZV371","v":0},{"$f":"'Project Cashflows'!PZW371","v":0},{"$f":"'Project Cashflows'!PZX371","v":0},{"$f":"'Project Cashflows'!PZY371","v":0},{"$f":"'Project Cashflows'!PZZ371","v":0},{"$f":"'Project Cashflows'!QAA371","v":0},{"$f":"'Project Cashflows'!QAB371","v":0},{"$f":"'Project Cashflows'!QAC371","v":0},{"$f":"'Project Cashflows'!QAD371","v":0},{"$f":"'Project Cashflows'!QAE371","v":0},{"$f":"'Project Cashflows'!QAF371","v":0},{"$f":"'Project Cashflows'!QAG371","v":0},{"$f":"'Project Cashflows'!QAH371","v":0},{"$f":"'Project Cashflows'!QAI371","v":0},{"$f":"'Project Cashflows'!QAJ371","v":0},{"$f":"'Project Cashflows'!QAK371","v":0},{"$f":"'Project Cashflows'!QAL371","v":0},{"$f":"'Project Cashflows'!QAM371","v":0},{"$f":"'Project Cashflows'!QAN371","v":0},{"$f":"'Project Cashflows'!QAO371","v":0},{"$f":"'Project Cashflows'!QAP371","v":0},{"$f":"'Project Cashflows'!QAQ371","v":0},{"$f":"'Project Cashflows'!QAR371","v":0},{"$f":"'Project Cashflows'!QAS371","v":0},{"$f":"'Project Cashflows'!QAT371","v":0},{"$f":"'Project Cashflows'!QAU371","v":0},{"$f":"'Project Cashflows'!QAV371","v":0},{"$f":"'Project Cashflows'!QAW371","v":0},{"$f":"'Project Cashflows'!QAX371","v":0},{"$f":"'Project Cashflows'!QAY371","v":0},{"$f":"'Project Cashflows'!QAZ371","v":0},{"$f":"'Project Cashflows'!QBA371","v":0},{"$f":"'Project Cashflows'!QBB371","v":0},{"$f":"'Project Cashflows'!QBC371","v":0},{"$f":"'Project Cashflows'!QBD371","v":0},{"$f":"'Project Cashflows'!QBE371","v":0},{"$f":"'Project Cashflows'!QBF371","v":0},{"$f":"'Project Cashflows'!QBG371","v":0},{"$f":"'Project Cashflows'!QBH371","v":0},{"$f":"'Project Cashflows'!QBI371","v":0},{"$f":"'Project Cashflows'!QBJ371","v":0},{"$f":"'Project Cashflows'!QBK371","v":0},{"$f":"'Project Cashflows'!QBL371","v":0},{"$f":"'Project Cashflows'!QBM371","v":0},{"$f":"'Project Cashflows'!QBN371","v":0},{"$f":"'Project Cashflows'!QBO371","v":0},{"$f":"'Project Cashflows'!QBP371","v":0},{"$f":"'Project Cashflows'!QBQ371","v":0},{"$f":"'Project Cashflows'!QBR371","v":0},{"$f":"'Project Cashflows'!QBS371","v":0},{"$f":"'Project Cashflows'!QBT371","v":0},{"$f":"'Project Cashflows'!QBU371","v":0},{"$f":"'Project Cashflows'!QBV371","v":0},{"$f":"'Project Cashflows'!QBW371","v":0},{"$f":"'Project Cashflows'!QBX371","v":0},{"$f":"'Project Cashflows'!QBY371","v":0},{"$f":"'Project Cashflows'!QBZ371","v":0},{"$f":"'Project Cashflows'!QCA371","v":0},{"$f":"'Project Cashflows'!QCB371","v":0},{"$f":"'Project Cashflows'!QCC371","v":0},{"$f":"'Project Cashflows'!QCD371","v":0},{"$f":"'Project Cashflows'!QCE371","v":0},{"$f":"'Project Cashflows'!QCF371","v":0},{"$f":"'Project Cashflows'!QCG371","v":0},{"$f":"'Project Cashflows'!QCH371","v":0},{"$f":"'Project Cashflows'!QCI371","v":0},{"$f":"'Project Cashflows'!QCJ371","v":0},{"$f":"'Project Cashflows'!QCK371","v":0},{"$f":"'Project Cashflows'!QCL371","v":0},{"$f":"'Project Cashflows'!QCM371","v":0},{"$f":"'Project Cashflows'!QCN371","v":0},{"$f":"'Project Cashflows'!QCO371","v":0},{"$f":"'Project Cashflows'!QCP371","v":0},{"$f":"'Project Cashflows'!QCQ371","v":0},{"$f":"'Project Cashflows'!QCR371","v":0},{"$f":"'Project Cashflows'!QCS371","v":0},{"$f":"'Project Cashflows'!QCT371","v":0},{"$f":"'Project Cashflows'!QCU371","v":0},{"$f":"'Project Cashflows'!QCV371","v":0},{"$f":"'Project Cashflows'!QCW371","v":0},{"$f":"'Project Cashflows'!QCX371","v":0},{"$f":"'Project Cashflows'!QCY371","v":0},{"$f":"'Project Cashflows'!QCZ371","v":0},{"$f":"'Project Cashflows'!QDA371","v":0},{"$f":"'Project Cashflows'!QDB371","v":0},{"$f":"'Project Cashflows'!QDC371","v":0},{"$f":"'Project Cashflows'!QDD371","v":0},{"$f":"'Project Cashflows'!QDE371","v":0},{"$f":"'Project Cashflows'!QDF371","v":0},{"$f":"'Project Cashflows'!QDG371","v":0},{"$f":"'Project Cashflows'!QDH371","v":0},{"$f":"'Project Cashflows'!QDI371","v":0},{"$f":"'Project Cashflows'!QDJ371","v":0},{"$f":"'Project Cashflows'!QDK371","v":0},{"$f":"'Project Cashflows'!QDL371","v":0},{"$f":"'Project Cashflows'!QDM371","v":0},{"$f":"'Project Cashflows'!QDN371","v":0},{"$f":"'Project Cashflows'!QDO371","v":0},{"$f":"'Project Cashflows'!QDP371","v":0},{"$f":"'Project Cashflows'!QDQ371","v":0},{"$f":"'Project Cashflows'!QDR371","v":0},{"$f":"'Project Cashflows'!QDS371","v":0},{"$f":"'Project Cashflows'!QDT371","v":0},{"$f":"'Project Cashflows'!QDU371","v":0},{"$f":"'Project Cashflows'!QDV371","v":0},{"$f":"'Project Cashflows'!QDW371","v":0},{"$f":"'Project Cashflows'!QDX371","v":0},{"$f":"'Project Cashflows'!QDY371","v":0},{"$f":"'Project Cashflows'!QDZ371","v":0},{"$f":"'Project Cashflows'!QEA371","v":0},{"$f":"'Project Cashflows'!QEB371","v":0},{"$f":"'Project Cashflows'!QEC371","v":0},{"$f":"'Project Cashflows'!QED371","v":0},{"$f":"'Project Cashflows'!QEE371","v":0},{"$f":"'Project Cashflows'!QEF371","v":0},{"$f":"'Project Cashflows'!QEG371","v":0},{"$f":"'Project Cashflows'!QEH371","v":0},{"$f":"'Project Cashflows'!QEI371","v":0},{"$f":"'Project Cashflows'!QEJ371","v":0},{"$f":"'Project Cashflows'!QEK371","v":0},{"$f":"'Project Cashflows'!QEL371","v":0},{"$f":"'Project Cashflows'!QEM371","v":0},{"$f":"'Project Cashflows'!QEN371","v":0},{"$f":"'Project Cashflows'!QEO371","v":0},{"$f":"'Project Cashflows'!QEP371","v":0},{"$f":"'Project Cashflows'!QEQ371","v":0},{"$f":"'Project Cashflows'!QER371","v":0},{"$f":"'Project Cashflows'!QES371","v":0},{"$f":"'Project Cashflows'!QET371","v":0},{"$f":"'Project Cashflows'!QEU371","v":0},{"$f":"'Project Cashflows'!QEV371","v":0},{"$f":"'Project Cashflows'!QEW371","v":0},{"$f":"'Project Cashflows'!QEX371","v":0},{"$f":"'Project Cashflows'!QEY371","v":0},{"$f":"'Project Cashflows'!QEZ371","v":0},{"$f":"'Project Cashflows'!QFA371","v":0},{"$f":"'Project Cashflows'!QFB371","v":0},{"$f":"'Project Cashflows'!QFC371","v":0},{"$f":"'Project Cashflows'!QFD371","v":0},{"$f":"'Project Cashflows'!QFE371","v":0},{"$f":"'Project Cashflows'!QFF371","v":0},{"$f":"'Project Cashflows'!QFG371","v":0},{"$f":"'Project Cashflows'!QFH371","v":0},{"$f":"'Project Cashflows'!QFI371","v":0},{"$f":"'Project Cashflows'!QFJ371","v":0},{"$f":"'Project Cashflows'!QFK371","v":0},{"$f":"'Project Cashflows'!QFL371","v":0},{"$f":"'Project Cashflows'!QFM371","v":0},{"$f":"'Project Cashflows'!QFN371","v":0},{"$f":"'Project Cashflows'!QFO371","v":0},{"$f":"'Project Cashflows'!QFP371","v":0},{"$f":"'Project Cashflows'!QFQ371","v":0},{"$f":"'Project Cashflows'!QFR371","v":0},{"$f":"'Project Cashflows'!QFS371","v":0},{"$f":"'Project Cashflows'!QFT371","v":0},{"$f":"'Project Cashflows'!QFU371","v":0},{"$f":"'Project Cashflows'!QFV371","v":0},{"$f":"'Project Cashflows'!QFW371","v":0},{"$f":"'Project Cashflows'!QFX371","v":0},{"$f":"'Project Cashflows'!QFY371","v":0},{"$f":"'Project Cashflows'!QFZ371","v":0},{"$f":"'Project Cashflows'!QGA371","v":0},{"$f":"'Project Cashflows'!QGB371","v":0},{"$f":"'Project Cashflows'!QGC371","v":0},{"$f":"'Project Cashflows'!QGD371","v":0},{"$f":"'Project Cashflows'!QGE371","v":0},{"$f":"'Project Cashflows'!QGF371","v":0},{"$f":"'Project Cashflows'!QGG371","v":0},{"$f":"'Project Cashflows'!QGH371","v":0},{"$f":"'Project Cashflows'!QGI371","v":0},{"$f":"'Project Cashflows'!QGJ371","v":0},{"$f":"'Project Cashflows'!QGK371","v":0},{"$f":"'Project Cashflows'!QGL371","v":0},{"$f":"'Project Cashflows'!QGM371","v":0},{"$f":"'Project Cashflows'!QGN371","v":0},{"$f":"'Project Cashflows'!QGO371","v":0},{"$f":"'Project Cashflows'!QGP371","v":0},{"$f":"'Project Cashflows'!QGQ371","v":0},{"$f":"'Project Cashflows'!QGR371","v":0},{"$f":"'Project Cashflows'!QGS371","v":0},{"$f":"'Project Cashflows'!QGT371","v":0},{"$f":"'Project Cashflows'!QGU371","v":0},{"$f":"'Project Cashflows'!QGV371","v":0},{"$f":"'Project Cashflows'!QGW371","v":0},{"$f":"'Project Cashflows'!QGX371","v":0},{"$f":"'Project Cashflows'!QGY371","v":0},{"$f":"'Project Cashflows'!QGZ371","v":0},{"$f":"'Project Cashflows'!QHA371","v":0},{"$f":"'Project Cashflows'!QHB371","v":0},{"$f":"'Project Cashflows'!QHC371","v":0},{"$f":"'Project Cashflows'!QHD371","v":0},{"$f":"'Project Cashflows'!QHE371","v":0},{"$f":"'Project Cashflows'!QHF371","v":0},{"$f":"'Project Cashflows'!QHG371","v":0},{"$f":"'Project Cashflows'!QHH371","v":0},{"$f":"'Project Cashflows'!QHI371","v":0},{"$f":"'Project Cashflows'!QHJ371","v":0},{"$f":"'Project Cashflows'!QHK371","v":0},{"$f":"'Project Cashflows'!QHL371","v":0},{"$f":"'Project Cashflows'!QHM371","v":0},{"$f":"'Project Cashflows'!QHN371","v":0},{"$f":"'Project Cashflows'!QHO371","v":0},{"$f":"'Project Cashflows'!QHP371","v":0},{"$f":"'Project Cashflows'!QHQ371","v":0},{"$f":"'Project Cashflows'!QHR371","v":0},{"$f":"'Project Cashflows'!QHS371","v":0},{"$f":"'Project Cashflows'!QHT371","v":0},{"$f":"'Project Cashflows'!QHU371","v":0},{"$f":"'Project Cashflows'!QHV371","v":0},{"$f":"'Project Cashflows'!QHW371","v":0},{"$f":"'Project Cashflows'!QHX371","v":0},{"$f":"'Project Cashflows'!QHY371","v":0},{"$f":"'Project Cashflows'!QHZ371","v":0},{"$f":"'Project Cashflows'!QIA371","v":0},{"$f":"'Project Cashflows'!QIB371","v":0},{"$f":"'Project Cashflows'!QIC371","v":0},{"$f":"'Project Cashflows'!QID371","v":0},{"$f":"'Project Cashflows'!QIE371","v":0},{"$f":"'Project Cashflows'!QIF371","v":0},{"$f":"'Project Cashflows'!QIG371","v":0},{"$f":"'Project Cashflows'!QIH371","v":0},{"$f":"'Project Cashflows'!QII371","v":0},{"$f":"'Project Cashflows'!QIJ371","v":0},{"$f":"'Project Cashflows'!QIK371","v":0},{"$f":"'Project Cashflows'!QIL371","v":0},{"$f":"'Project Cashflows'!QIM371","v":0},{"$f":"'Project Cashflows'!QIN371","v":0},{"$f":"'Project Cashflows'!QIO371","v":0},{"$f":"'Project Cashflows'!QIP371","v":0},{"$f":"'Project Cashflows'!QIQ371","v":0},{"$f":"'Project Cashflows'!QIR371","v":0},{"$f":"'Project Cashflows'!QIS371","v":0},{"$f":"'Project Cashflows'!QIT371","v":0},{"$f":"'Project Cashflows'!QIU371","v":0},{"$f":"'Project Cashflows'!QIV371","v":0},{"$f":"'Project Cashflows'!QIW371","v":0},{"$f":"'Project Cashflows'!QIX371","v":0},{"$f":"'Project Cashflows'!QIY371","v":0},{"$f":"'Project Cashflows'!QIZ371","v":0},{"$f":"'Project Cashflows'!QJA371","v":0},{"$f":"'Project Cashflows'!QJB371","v":0},{"$f":"'Project Cashflows'!QJC371","v":0},{"$f":"'Project Cashflows'!QJD371","v":0},{"$f":"'Project Cashflows'!QJE371","v":0},{"$f":"'Project Cashflows'!QJF371","v":0},{"$f":"'Project Cashflows'!QJG371","v":0},{"$f":"'Project Cashflows'!QJH371","v":0},{"$f":"'Project Cashflows'!QJI371","v":0},{"$f":"'Project Cashflows'!QJJ371","v":0},{"$f":"'Project Cashflows'!QJK371","v":0},{"$f":"'Project Cashflows'!QJL371","v":0},{"$f":"'Project Cashflows'!QJM371","v":0},{"$f":"'Project Cashflows'!QJN371","v":0},{"$f":"'Project Cashflows'!QJO371","v":0},{"$f":"'Project Cashflows'!QJP371","v":0},{"$f":"'Project Cashflows'!QJQ371","v":0},{"$f":"'Project Cashflows'!QJR371","v":0},{"$f":"'Project Cashflows'!QJS371","v":0},{"$f":"'Project Cashflows'!QJT371","v":0},{"$f":"'Project Cashflows'!QJU371","v":0},{"$f":"'Project Cashflows'!QJV371","v":0},{"$f":"'Project Cashflows'!QJW371","v":0},{"$f":"'Project Cashflows'!QJX371","v":0},{"$f":"'Project Cashflows'!QJY371","v":0},{"$f":"'Project Cashflows'!QJZ371","v":0},{"$f":"'Project Cashflows'!QKA371","v":0},{"$f":"'Project Cashflows'!QKB371","v":0},{"$f":"'Project Cashflows'!QKC371","v":0},{"$f":"'Project Cashflows'!QKD371","v":0},{"$f":"'Project Cashflows'!QKE371","v":0},{"$f":"'Project Cashflows'!QKF371","v":0},{"$f":"'Project Cashflows'!QKG371","v":0},{"$f":"'Project Cashflows'!QKH371","v":0},{"$f":"'Project Cashflows'!QKI371","v":0},{"$f":"'Project Cashflows'!QKJ371","v":0},{"$f":"'Project Cashflows'!QKK371","v":0},{"$f":"'Project Cashflows'!QKL371","v":0},{"$f":"'Project Cashflows'!QKM371","v":0},{"$f":"'Project Cashflows'!QKN371","v":0},{"$f":"'Project Cashflows'!QKO371","v":0},{"$f":"'Project Cashflows'!QKP371","v":0},{"$f":"'Project Cashflows'!QKQ371","v":0},{"$f":"'Project Cashflows'!QKR371","v":0},{"$f":"'Project Cashflows'!QKS371","v":0},{"$f":"'Project Cashflows'!QKT371","v":0},{"$f":"'Project Cashflows'!QKU371","v":0},{"$f":"'Project Cashflows'!QKV371","v":0},{"$f":"'Project Cashflows'!QKW371","v":0},{"$f":"'Project Cashflows'!QKX371","v":0},{"$f":"'Project Cashflows'!QKY371","v":0},{"$f":"'Project Cashflows'!QKZ371","v":0},{"$f":"'Project Cashflows'!QLA371","v":0},{"$f":"'Project Cashflows'!QLB371","v":0},{"$f":"'Project Cashflows'!QLC371","v":0},{"$f":"'Project Cashflows'!QLD371","v":0},{"$f":"'Project Cashflows'!QLE371","v":0},{"$f":"'Project Cashflows'!QLF371","v":0},{"$f":"'Project Cashflows'!QLG371","v":0},{"$f":"'Project Cashflows'!QLH371","v":0},{"$f":"'Project Cashflows'!QLI371","v":0},{"$f":"'Project Cashflows'!QLJ371","v":0},{"$f":"'Project Cashflows'!QLK371","v":0},{"$f":"'Project Cashflows'!QLL371","v":0},{"$f":"'Project Cashflows'!QLM371","v":0},{"$f":"'Project Cashflows'!QLN371","v":0},{"$f":"'Project Cashflows'!QLO371","v":0},{"$f":"'Project Cashflows'!QLP371","v":0},{"$f":"'Project Cashflows'!QLQ371","v":0},{"$f":"'Project Cashflows'!QLR371","v":0},{"$f":"'Project Cashflows'!QLS371","v":0},{"$f":"'Project Cashflows'!QLT371","v":0},{"$f":"'Project Cashflows'!QLU371","v":0},{"$f":"'Project Cashflows'!QLV371","v":0},{"$f":"'Project Cashflows'!QLW371","v":0},{"$f":"'Project Cashflows'!QLX371","v":0},{"$f":"'Project Cashflows'!QLY371","v":0},{"$f":"'Project Cashflows'!QLZ371","v":0},{"$f":"'Project Cashflows'!QMA371","v":0},{"$f":"'Project Cashflows'!QMB371","v":0},{"$f":"'Project Cashflows'!QMC371","v":0},{"$f":"'Project Cashflows'!QMD371","v":0},{"$f":"'Project Cashflows'!QME371","v":0},{"$f":"'Project Cashflows'!QMF371","v":0},{"$f":"'Project Cashflows'!QMG371","v":0},{"$f":"'Project Cashflows'!QMH371","v":0},{"$f":"'Project Cashflows'!QMI371","v":0},{"$f":"'Project Cashflows'!QMJ371","v":0},{"$f":"'Project Cashflows'!QMK371","v":0},{"$f":"'Project Cashflows'!QML371","v":0},{"$f":"'Project Cashflows'!QMM371","v":0},{"$f":"'Project Cashflows'!QMN371","v":0},{"$f":"'Project Cashflows'!QMO371","v":0},{"$f":"'Project Cashflows'!QMP371","v":0},{"$f":"'Project Cashflows'!QMQ371","v":0},{"$f":"'Project Cashflows'!QMR371","v":0},{"$f":"'Project Cashflows'!QMS371","v":0},{"$f":"'Project Cashflows'!QMT371","v":0},{"$f":"'Project Cashflows'!QMU371","v":0},{"$f":"'Project Cashflows'!QMV371","v":0},{"$f":"'Project Cashflows'!QMW371","v":0},{"$f":"'Project Cashflows'!QMX371","v":0},{"$f":"'Project Cashflows'!QMY371","v":0},{"$f":"'Project Cashflows'!QMZ371","v":0},{"$f":"'Project Cashflows'!QNA371","v":0},{"$f":"'Project Cashflows'!QNB371","v":0},{"$f":"'Project Cashflows'!QNC371","v":0},{"$f":"'Project Cashflows'!QND371","v":0},{"$f":"'Project Cashflows'!QNE371","v":0},{"$f":"'Project Cashflows'!QNF371","v":0},{"$f":"'Project Cashflows'!QNG371","v":0},{"$f":"'Project Cashflows'!QNH371","v":0},{"$f":"'Project Cashflows'!QNI371","v":0},{"$f":"'Project Cashflows'!QNJ371","v":0},{"$f":"'Project Cashflows'!QNK371","v":0},{"$f":"'Project Cashflows'!QNL371","v":0},{"$f":"'Project Cashflows'!QNM371","v":0},{"$f":"'Project Cashflows'!QNN371","v":0},{"$f":"'Project Cashflows'!QNO371","v":0},{"$f":"'Project Cashflows'!QNP371","v":0},{"$f":"'Project Cashflows'!QNQ371","v":0},{"$f":"'Project Cashflows'!QNR371","v":0},{"$f":"'Project Cashflows'!QNS371","v":0},{"$f":"'Project Cashflows'!QNT371","v":0},{"$f":"'Project Cashflows'!QNU371","v":0},{"$f":"'Project Cashflows'!QNV371","v":0},{"$f":"'Project Cashflows'!QNW371","v":0},{"$f":"'Project Cashflows'!QNX371","v":0},{"$f":"'Project Cashflows'!QNY371","v":0},{"$f":"'Project Cashflows'!QNZ371","v":0},{"$f":"'Project Cashflows'!QOA371","v":0},{"$f":"'Project Cashflows'!QOB371","v":0},{"$f":"'Project Cashflows'!QOC371","v":0},{"$f":"'Project Cashflows'!QOD371","v":0},{"$f":"'Project Cashflows'!QOE371","v":0},{"$f":"'Project Cashflows'!QOF371","v":0},{"$f":"'Project Cashflows'!QOG371","v":0},{"$f":"'Project Cashflows'!QOH371","v":0},{"$f":"'Project Cashflows'!QOI371","v":0},{"$f":"'Project Cashflows'!QOJ371","v":0},{"$f":"'Project Cashflows'!QOK371","v":0},{"$f":"'Project Cashflows'!QOL371","v":0},{"$f":"'Project Cashflows'!QOM371","v":0},{"$f":"'Project Cashflows'!QON371","v":0},{"$f":"'Project Cashflows'!QOO371","v":0},{"$f":"'Project Cashflows'!QOP371","v":0},{"$f":"'Project Cashflows'!QOQ371","v":0},{"$f":"'Project Cashflows'!QOR371","v":0},{"$f":"'Project Cashflows'!QOS371","v":0},{"$f":"'Project Cashflows'!QOT371","v":0},{"$f":"'Project Cashflows'!QOU371","v":0},{"$f":"'Project Cashflows'!QOV371","v":0},{"$f":"'Project Cashflows'!QOW371","v":0},{"$f":"'Project Cashflows'!QOX371","v":0},{"$f":"'Project Cashflows'!QOY371","v":0},{"$f":"'Project Cashflows'!QOZ371","v":0},{"$f":"'Project Cashflows'!QPA371","v":0},{"$f":"'Project Cashflows'!QPB371","v":0},{"$f":"'Project Cashflows'!QPC371","v":0},{"$f":"'Project Cashflows'!QPD371","v":0},{"$f":"'Project Cashflows'!QPE371","v":0},{"$f":"'Project Cashflows'!QPF371","v":0},{"$f":"'Project Cashflows'!QPG371","v":0},{"$f":"'Project Cashflows'!QPH371","v":0},{"$f":"'Project Cashflows'!QPI371","v":0},{"$f":"'Project Cashflows'!QPJ371","v":0},{"$f":"'Project Cashflows'!QPK371","v":0},{"$f":"'Project Cashflows'!QPL371","v":0},{"$f":"'Project Cashflows'!QPM371","v":0},{"$f":"'Project Cashflows'!QPN371","v":0},{"$f":"'Project Cashflows'!QPO371","v":0},{"$f":"'Project Cashflows'!QPP371","v":0},{"$f":"'Project Cashflows'!QPQ371","v":0},{"$f":"'Project Cashflows'!QPR371","v":0},{"$f":"'Project Cashflows'!QPS371","v":0},{"$f":"'Project Cashflows'!QPT371","v":0},{"$f":"'Project Cashflows'!QPU371","v":0},{"$f":"'Project Cashflows'!QPV371","v":0},{"$f":"'Project Cashflows'!QPW371","v":0},{"$f":"'Project Cashflows'!QPX371","v":0},{"$f":"'Project Cashflows'!QPY371","v":0},{"$f":"'Project Cashflows'!QPZ371","v":0},{"$f":"'Project Cashflows'!QQA371","v":0},{"$f":"'Project Cashflows'!QQB371","v":0},{"$f":"'Project Cashflows'!QQC371","v":0},{"$f":"'Project Cashflows'!QQD371","v":0},{"$f":"'Project Cashflows'!QQE371","v":0},{"$f":"'Project Cashflows'!QQF371","v":0},{"$f":"'Project Cashflows'!QQG371","v":0},{"$f":"'Project Cashflows'!QQH371","v":0},{"$f":"'Project Cashflows'!QQI371","v":0},{"$f":"'Project Cashflows'!QQJ371","v":0},{"$f":"'Project Cashflows'!QQK371","v":0},{"$f":"'Project Cashflows'!QQL371","v":0},{"$f":"'Project Cashflows'!QQM371","v":0},{"$f":"'Project Cashflows'!QQN371","v":0},{"$f":"'Project Cashflows'!QQO371","v":0},{"$f":"'Project Cashflows'!QQP371","v":0},{"$f":"'Project Cashflows'!QQQ371","v":0},{"$f":"'Project Cashflows'!QQR371","v":0},{"$f":"'Project Cashflows'!QQS371","v":0},{"$f":"'Project Cashflows'!QQT371","v":0},{"$f":"'Project Cashflows'!QQU371","v":0},{"$f":"'Project Cashflows'!QQV371","v":0},{"$f":"'Project Cashflows'!QQW371","v":0},{"$f":"'Project Cashflows'!QQX371","v":0},{"$f":"'Project Cashflows'!QQY371","v":0},{"$f":"'Project Cashflows'!QQZ371","v":0},{"$f":"'Project Cashflows'!QRA371","v":0},{"$f":"'Project Cashflows'!QRB371","v":0},{"$f":"'Project Cashflows'!QRC371","v":0},{"$f":"'Project Cashflows'!QRD371","v":0},{"$f":"'Project Cashflows'!QRE371","v":0},{"$f":"'Project Cashflows'!QRF371","v":0},{"$f":"'Project Cashflows'!QRG371","v":0},{"$f":"'Project Cashflows'!QRH371","v":0},{"$f":"'Project Cashflows'!QRI371","v":0},{"$f":"'Project Cashflows'!QRJ371","v":0},{"$f":"'Project Cashflows'!QRK371","v":0},{"$f":"'Project Cashflows'!QRL371","v":0},{"$f":"'Project Cashflows'!QRM371","v":0},{"$f":"'Project Cashflows'!QRN371","v":0},{"$f":"'Project Cashflows'!QRO371","v":0},{"$f":"'Project Cashflows'!QRP371","v":0},{"$f":"'Project Cashflows'!QRQ371","v":0},{"$f":"'Project Cashflows'!QRR371","v":0},{"$f":"'Project Cashflows'!QRS371","v":0},{"$f":"'Project Cashflows'!QRT371","v":0},{"$f":"'Project Cashflows'!QRU371","v":0},{"$f":"'Project Cashflows'!QRV371","v":0},{"$f":"'Project Cashflows'!QRW371","v":0},{"$f":"'Project Cashflows'!QRX371","v":0},{"$f":"'Project Cashflows'!QRY371","v":0},{"$f":"'Project Cashflows'!QRZ371","v":0},{"$f":"'Project Cashflows'!QSA371","v":0},{"$f":"'Project Cashflows'!QSB371","v":0},{"$f":"'Project Cashflows'!QSC371","v":0},{"$f":"'Project Cashflows'!QSD371","v":0},{"$f":"'Project Cashflows'!QSE371","v":0},{"$f":"'Project Cashflows'!QSF371","v":0},{"$f":"'Project Cashflows'!QSG371","v":0},{"$f":"'Project Cashflows'!QSH371","v":0},{"$f":"'Project Cashflows'!QSI371","v":0},{"$f":"'Project Cashflows'!QSJ371","v":0},{"$f":"'Project Cashflows'!QSK371","v":0},{"$f":"'Project Cashflows'!QSL371","v":0},{"$f":"'Project Cashflows'!QSM371","v":0},{"$f":"'Project Cashflows'!QSN371","v":0},{"$f":"'Project Cashflows'!QSO371","v":0},{"$f":"'Project Cashflows'!QSP371","v":0},{"$f":"'Project Cashflows'!QSQ371","v":0},{"$f":"'Project Cashflows'!QSR371","v":0},{"$f":"'Project Cashflows'!QSS371","v":0},{"$f":"'Project Cashflows'!QST371","v":0},{"$f":"'Project Cashflows'!QSU371","v":0},{"$f":"'Project Cashflows'!QSV371","v":0},{"$f":"'Project Cashflows'!QSW371","v":0},{"$f":"'Project Cashflows'!QSX371","v":0},{"$f":"'Project Cashflows'!QSY371","v":0},{"$f":"'Project Cashflows'!QSZ371","v":0},{"$f":"'Project Cashflows'!QTA371","v":0},{"$f":"'Project Cashflows'!QTB371","v":0},{"$f":"'Project Cashflows'!QTC371","v":0},{"$f":"'Project Cashflows'!QTD371","v":0},{"$f":"'Project Cashflows'!QTE371","v":0},{"$f":"'Project Cashflows'!QTF371","v":0},{"$f":"'Project Cashflows'!QTG371","v":0},{"$f":"'Project Cashflows'!QTH371","v":0},{"$f":"'Project Cashflows'!QTI371","v":0},{"$f":"'Project Cashflows'!QTJ371","v":0},{"$f":"'Project Cashflows'!QTK371","v":0},{"$f":"'Project Cashflows'!QTL371","v":0},{"$f":"'Project Cashflows'!QTM371","v":0},{"$f":"'Project Cashflows'!QTN371","v":0},{"$f":"'Project Cashflows'!QTO371","v":0},{"$f":"'Project Cashflows'!QTP371","v":0},{"$f":"'Project Cashflows'!QTQ371","v":0},{"$f":"'Project Cashflows'!QTR371","v":0},{"$f":"'Project Cashflows'!QTS371","v":0},{"$f":"'Project Cashflows'!QTT371","v":0},{"$f":"'Project Cashflows'!QTU371","v":0},{"$f":"'Project Cashflows'!QTV371","v":0},{"$f":"'Project Cashflows'!QTW371","v":0},{"$f":"'Project Cashflows'!QTX371","v":0},{"$f":"'Project Cashflows'!QTY371","v":0},{"$f":"'Project Cashflows'!QTZ371","v":0},{"$f":"'Project Cashflows'!QUA371","v":0},{"$f":"'Project Cashflows'!QUB371","v":0},{"$f":"'Project Cashflows'!QUC371","v":0},{"$f":"'Project Cashflows'!QUD371","v":0},{"$f":"'Project Cashflows'!QUE371","v":0},{"$f":"'Project Cashflows'!QUF371","v":0},{"$f":"'Project Cashflows'!QUG371","v":0},{"$f":"'Project Cashflows'!QUH371","v":0},{"$f":"'Project Cashflows'!QUI371","v":0},{"$f":"'Project Cashflows'!QUJ371","v":0},{"$f":"'Project Cashflows'!QUK371","v":0},{"$f":"'Project Cashflows'!QUL371","v":0},{"$f":"'Project Cashflows'!QUM371","v":0},{"$f":"'Project Cashflows'!QUN371","v":0},{"$f":"'Project Cashflows'!QUO371","v":0},{"$f":"'Project Cashflows'!QUP371","v":0},{"$f":"'Project Cashflows'!QUQ371","v":0},{"$f":"'Project Cashflows'!QUR371","v":0},{"$f":"'Project Cashflows'!QUS371","v":0},{"$f":"'Project Cashflows'!QUT371","v":0},{"$f":"'Project Cashflows'!QUU371","v":0},{"$f":"'Project Cashflows'!QUV371","v":0},{"$f":"'Project Cashflows'!QUW371","v":0},{"$f":"'Project Cashflows'!QUX371","v":0},{"$f":"'Project Cashflows'!QUY371","v":0},{"$f":"'Project Cashflows'!QUZ371","v":0},{"$f":"'Project Cashflows'!QVA371","v":0},{"$f":"'Project Cashflows'!QVB371","v":0},{"$f":"'Project Cashflows'!QVC371","v":0},{"$f":"'Project Cashflows'!QVD371","v":0},{"$f":"'Project Cashflows'!QVE371","v":0},{"$f":"'Project Cashflows'!QVF371","v":0},{"$f":"'Project Cashflows'!QVG371","v":0},{"$f":"'Project Cashflows'!QVH371","v":0},{"$f":"'Project Cashflows'!QVI371","v":0},{"$f":"'Project Cashflows'!QVJ371","v":0},{"$f":"'Project Cashflows'!QVK371","v":0},{"$f":"'Project Cashflows'!QVL371","v":0},{"$f":"'Project Cashflows'!QVM371","v":0},{"$f":"'Project Cashflows'!QVN371","v":0},{"$f":"'Project Cashflows'!QVO371","v":0},{"$f":"'Project Cashflows'!QVP371","v":0},{"$f":"'Project Cashflows'!QVQ371","v":0},{"$f":"'Project Cashflows'!QVR371","v":0},{"$f":"'Project Cashflows'!QVS371","v":0},{"$f":"'Project Cashflows'!QVT371","v":0},{"$f":"'Project Cashflows'!QVU371","v":0},{"$f":"'Project Cashflows'!QVV371","v":0},{"$f":"'Project Cashflows'!QVW371","v":0},{"$f":"'Project Cashflows'!QVX371","v":0},{"$f":"'Project Cashflows'!QVY371","v":0},{"$f":"'Project Cashflows'!QVZ371","v":0},{"$f":"'Project Cashflows'!QWA371","v":0},{"$f":"'Project Cashflows'!QWB371","v":0},{"$f":"'Project Cashflows'!QWC371","v":0},{"$f":"'Project Cashflows'!QWD371","v":0},{"$f":"'Project Cashflows'!QWE371","v":0},{"$f":"'Project Cashflows'!QWF371","v":0},{"$f":"'Project Cashflows'!QWG371","v":0},{"$f":"'Project Cashflows'!QWH371","v":0},{"$f":"'Project Cashflows'!QWI371","v":0},{"$f":"'Project Cashflows'!QWJ371","v":0},{"$f":"'Project Cashflows'!QWK371","v":0},{"$f":"'Project Cashflows'!QWL371","v":0},{"$f":"'Project Cashflows'!QWM371","v":0},{"$f":"'Project Cashflows'!QWN371","v":0},{"$f":"'Project Cashflows'!QWO371","v":0},{"$f":"'Project Cashflows'!QWP371","v":0},{"$f":"'Project Cashflows'!QWQ371","v":0},{"$f":"'Project Cashflows'!QWR371","v":0},{"$f":"'Project Cashflows'!QWS371","v":0},{"$f":"'Project Cashflows'!QWT371","v":0},{"$f":"'Project Cashflows'!QWU371","v":0},{"$f":"'Project Cashflows'!QWV371","v":0},{"$f":"'Project Cashflows'!QWW371","v":0},{"$f":"'Project Cashflows'!QWX371","v":0},{"$f":"'Project Cashflows'!QWY371","v":0},{"$f":"'Project Cashflows'!QWZ371","v":0},{"$f":"'Project Cashflows'!QXA371","v":0},{"$f":"'Project Cashflows'!QXB371","v":0},{"$f":"'Project Cashflows'!QXC371","v":0},{"$f":"'Project Cashflows'!QXD371","v":0},{"$f":"'Project Cashflows'!QXE371","v":0},{"$f":"'Project Cashflows'!QXF371","v":0},{"$f":"'Project Cashflows'!QXG371","v":0},{"$f":"'Project Cashflows'!QXH371","v":0},{"$f":"'Project Cashflows'!QXI371","v":0},{"$f":"'Project Cashflows'!QXJ371","v":0},{"$f":"'Project Cashflows'!QXK371","v":0},{"$f":"'Project Cashflows'!QXL371","v":0},{"$f":"'Project Cashflows'!QXM371","v":0},{"$f":"'Project Cashflows'!QXN371","v":0},{"$f":"'Project Cashflows'!QXO371","v":0},{"$f":"'Project Cashflows'!QXP371","v":0},{"$f":"'Project Cashflows'!QXQ371","v":0},{"$f":"'Project Cashflows'!QXR371","v":0},{"$f":"'Project Cashflows'!QXS371","v":0},{"$f":"'Project Cashflows'!QXT371","v":0},{"$f":"'Project Cashflows'!QXU371","v":0},{"$f":"'Project Cashflows'!QXV371","v":0},{"$f":"'Project Cashflows'!QXW371","v":0},{"$f":"'Project Cashflows'!QXX371","v":0},{"$f":"'Project Cashflows'!QXY371","v":0},{"$f":"'Project Cashflows'!QXZ371","v":0},{"$f":"'Project Cashflows'!QYA371","v":0},{"$f":"'Project Cashflows'!QYB371","v":0},{"$f":"'Project Cashflows'!QYC371","v":0},{"$f":"'Project Cashflows'!QYD371","v":0},{"$f":"'Project Cashflows'!QYE371","v":0},{"$f":"'Project Cashflows'!QYF371","v":0},{"$f":"'Project Cashflows'!QYG371","v":0},{"$f":"'Project Cashflows'!QYH371","v":0},{"$f":"'Project Cashflows'!QYI371","v":0},{"$f":"'Project Cashflows'!QYJ371","v":0},{"$f":"'Project Cashflows'!QYK371","v":0},{"$f":"'Project Cashflows'!QYL371","v":0},{"$f":"'Project Cashflows'!QYM371","v":0},{"$f":"'Project Cashflows'!QYN371","v":0},{"$f":"'Project Cashflows'!QYO371","v":0},{"$f":"'Project Cashflows'!QYP371","v":0},{"$f":"'Project Cashflows'!QYQ371","v":0},{"$f":"'Project Cashflows'!QYR371","v":0},{"$f":"'Project Cashflows'!QYS371","v":0},{"$f":"'Project Cashflows'!QYT371","v":0},{"$f":"'Project Cashflows'!QYU371","v":0},{"$f":"'Project Cashflows'!QYV371","v":0},{"$f":"'Project Cashflows'!QYW371","v":0},{"$f":"'Project Cashflows'!QYX371","v":0},{"$f":"'Project Cashflows'!QYY371","v":0},{"$f":"'Project Cashflows'!QYZ371","v":0},{"$f":"'Project Cashflows'!QZA371","v":0},{"$f":"'Project Cashflows'!QZB371","v":0},{"$f":"'Project Cashflows'!QZC371","v":0},{"$f":"'Project Cashflows'!QZD371","v":0},{"$f":"'Project Cashflows'!QZE371","v":0},{"$f":"'Project Cashflows'!QZF371","v":0},{"$f":"'Project Cashflows'!QZG371","v":0},{"$f":"'Project Cashflows'!QZH371","v":0},{"$f":"'Project Cashflows'!QZI371","v":0},{"$f":"'Project Cashflows'!QZJ371","v":0},{"$f":"'Project Cashflows'!QZK371","v":0},{"$f":"'Project Cashflows'!QZL371","v":0},{"$f":"'Project Cashflows'!QZM371","v":0},{"$f":"'Project Cashflows'!QZN371","v":0},{"$f":"'Project Cashflows'!QZO371","v":0},{"$f":"'Project Cashflows'!QZP371","v":0},{"$f":"'Project Cashflows'!QZQ371","v":0},{"$f":"'Project Cashflows'!QZR371","v":0},{"$f":"'Project Cashflows'!QZS371","v":0},{"$f":"'Project Cashflows'!QZT371","v":0},{"$f":"'Project Cashflows'!QZU371","v":0},{"$f":"'Project Cashflows'!QZV371","v":0},{"$f":"'Project Cashflows'!QZW371","v":0},{"$f":"'Project Cashflows'!QZX371","v":0},{"$f":"'Project Cashflows'!QZY371","v":0},{"$f":"'Project Cashflows'!QZZ371","v":0},{"$f":"'Project Cashflows'!RAA371","v":0},{"$f":"'Project Cashflows'!RAB371","v":0},{"$f":"'Project Cashflows'!RAC371","v":0},{"$f":"'Project Cashflows'!RAD371","v":0},{"$f":"'Project Cashflows'!RAE371","v":0},{"$f":"'Project Cashflows'!RAF371","v":0},{"$f":"'Project Cashflows'!RAG371","v":0},{"$f":"'Project Cashflows'!RAH371","v":0},{"$f":"'Project Cashflows'!RAI371","v":0},{"$f":"'Project Cashflows'!RAJ371","v":0},{"$f":"'Project Cashflows'!RAK371","v":0},{"$f":"'Project Cashflows'!RAL371","v":0},{"$f":"'Project Cashflows'!RAM371","v":0},{"$f":"'Project Cashflows'!RAN371","v":0},{"$f":"'Project Cashflows'!RAO371","v":0},{"$f":"'Project Cashflows'!RAP371","v":0},{"$f":"'Project Cashflows'!RAQ371","v":0},{"$f":"'Project Cashflows'!RAR371","v":0},{"$f":"'Project Cashflows'!RAS371","v":0},{"$f":"'Project Cashflows'!RAT371","v":0},{"$f":"'Project Cashflows'!RAU371","v":0},{"$f":"'Project Cashflows'!RAV371","v":0},{"$f":"'Project Cashflows'!RAW371","v":0},{"$f":"'Project Cashflows'!RAX371","v":0},{"$f":"'Project Cashflows'!RAY371","v":0},{"$f":"'Project Cashflows'!RAZ371","v":0},{"$f":"'Project Cashflows'!RBA371","v":0},{"$f":"'Project Cashflows'!RBB371","v":0},{"$f":"'Project Cashflows'!RBC371","v":0},{"$f":"'Project Cashflows'!RBD371","v":0},{"$f":"'Project Cashflows'!RBE371","v":0},{"$f":"'Project Cashflows'!RBF371","v":0},{"$f":"'Project Cashflows'!RBG371","v":0},{"$f":"'Project Cashflows'!RBH371","v":0},{"$f":"'Project Cashflows'!RBI371","v":0},{"$f":"'Project Cashflows'!RBJ371","v":0},{"$f":"'Project Cashflows'!RBK371","v":0},{"$f":"'Project Cashflows'!RBL371","v":0},{"$f":"'Project Cashflows'!RBM371","v":0},{"$f":"'Project Cashflows'!RBN371","v":0},{"$f":"'Project Cashflows'!RBO371","v":0},{"$f":"'Project Cashflows'!RBP371","v":0},{"$f":"'Project Cashflows'!RBQ371","v":0},{"$f":"'Project Cashflows'!RBR371","v":0},{"$f":"'Project Cashflows'!RBS371","v":0},{"$f":"'Project Cashflows'!RBT371","v":0},{"$f":"'Project Cashflows'!RBU371","v":0},{"$f":"'Project Cashflows'!RBV371","v":0},{"$f":"'Project Cashflows'!RBW371","v":0},{"$f":"'Project Cashflows'!RBX371","v":0},{"$f":"'Project Cashflows'!RBY371","v":0},{"$f":"'Project Cashflows'!RBZ371","v":0},{"$f":"'Project Cashflows'!RCA371","v":0},{"$f":"'Project Cashflows'!RCB371","v":0},{"$f":"'Project Cashflows'!RCC371","v":0},{"$f":"'Project Cashflows'!RCD371","v":0},{"$f":"'Project Cashflows'!RCE371","v":0},{"$f":"'Project Cashflows'!RCF371","v":0},{"$f":"'Project Cashflows'!RCG371","v":0},{"$f":"'Project Cashflows'!RCH371","v":0},{"$f":"'Project Cashflows'!RCI371","v":0},{"$f":"'Project Cashflows'!RCJ371","v":0},{"$f":"'Project Cashflows'!RCK371","v":0},{"$f":"'Project Cashflows'!RCL371","v":0},{"$f":"'Project Cashflows'!RCM371","v":0},{"$f":"'Project Cashflows'!RCN371","v":0},{"$f":"'Project Cashflows'!RCO371","v":0},{"$f":"'Project Cashflows'!RCP371","v":0},{"$f":"'Project Cashflows'!RCQ371","v":0},{"$f":"'Project Cashflows'!RCR371","v":0},{"$f":"'Project Cashflows'!RCS371","v":0},{"$f":"'Project Cashflows'!RCT371","v":0},{"$f":"'Project Cashflows'!RCU371","v":0},{"$f":"'Project Cashflows'!RCV371","v":0},{"$f":"'Project Cashflows'!RCW371","v":0},{"$f":"'Project Cashflows'!RCX371","v":0},{"$f":"'Project Cashflows'!RCY371","v":0},{"$f":"'Project Cashflows'!RCZ371","v":0},{"$f":"'Project Cashflows'!RDA371","v":0},{"$f":"'Project Cashflows'!RDB371","v":0},{"$f":"'Project Cashflows'!RDC371","v":0},{"$f":"'Project Cashflows'!RDD371","v":0},{"$f":"'Project Cashflows'!RDE371","v":0},{"$f":"'Project Cashflows'!RDF371","v":0},{"$f":"'Project Cashflows'!RDG371","v":0},{"$f":"'Project Cashflows'!RDH371","v":0},{"$f":"'Project Cashflows'!RDI371","v":0},{"$f":"'Project Cashflows'!RDJ371","v":0},{"$f":"'Project Cashflows'!RDK371","v":0},{"$f":"'Project Cashflows'!RDL371","v":0},{"$f":"'Project Cashflows'!RDM371","v":0},{"$f":"'Project Cashflows'!RDN371","v":0},{"$f":"'Project Cashflows'!RDO371","v":0},{"$f":"'Project Cashflows'!RDP371","v":0},{"$f":"'Project Cashflows'!RDQ371","v":0},{"$f":"'Project Cashflows'!RDR371","v":0},{"$f":"'Project Cashflows'!RDS371","v":0},{"$f":"'Project Cashflows'!RDT371","v":0},{"$f":"'Project Cashflows'!RDU371","v":0},{"$f":"'Project Cashflows'!RDV371","v":0},{"$f":"'Project Cashflows'!RDW371","v":0},{"$f":"'Project Cashflows'!RDX371","v":0},{"$f":"'Project Cashflows'!RDY371","v":0},{"$f":"'Project Cashflows'!RDZ371","v":0},{"$f":"'Project Cashflows'!REA371","v":0},{"$f":"'Project Cashflows'!REB371","v":0},{"$f":"'Project Cashflows'!REC371","v":0},{"$f":"'Project Cashflows'!RED371","v":0},{"$f":"'Project Cashflows'!REE371","v":0},{"$f":"'Project Cashflows'!REF371","v":0},{"$f":"'Project Cashflows'!REG371","v":0},{"$f":"'Project Cashflows'!REH371","v":0},{"$f":"'Project Cashflows'!REI371","v":0},{"$f":"'Project Cashflows'!REJ371","v":0},{"$f":"'Project Cashflows'!REK371","v":0},{"$f":"'Project Cashflows'!REL371","v":0},{"$f":"'Project Cashflows'!REM371","v":0},{"$f":"'Project Cashflows'!REN371","v":0},{"$f":"'Project Cashflows'!REO371","v":0},{"$f":"'Project Cashflows'!REP371","v":0},{"$f":"'Project Cashflows'!REQ371","v":0},{"$f":"'Project Cashflows'!RER371","v":0},{"$f":"'Project Cashflows'!RES371","v":0},{"$f":"'Project Cashflows'!RET371","v":0},{"$f":"'Project Cashflows'!REU371","v":0},{"$f":"'Project Cashflows'!REV371","v":0},{"$f":"'Project Cashflows'!REW371","v":0},{"$f":"'Project Cashflows'!REX371","v":0},{"$f":"'Project Cashflows'!REY371","v":0},{"$f":"'Project Cashflows'!REZ371","v":0},{"$f":"'Project Cashflows'!RFA371","v":0},{"$f":"'Project Cashflows'!RFB371","v":0},{"$f":"'Project Cashflows'!RFC371","v":0},{"$f":"'Project Cashflows'!RFD371","v":0},{"$f":"'Project Cashflows'!RFE371","v":0},{"$f":"'Project Cashflows'!RFF371","v":0},{"$f":"'Project Cashflows'!RFG371","v":0},{"$f":"'Project Cashflows'!RFH371","v":0},{"$f":"'Project Cashflows'!RFI371","v":0},{"$f":"'Project Cashflows'!RFJ371","v":0},{"$f":"'Project Cashflows'!RFK371","v":0},{"$f":"'Project Cashflows'!RFL371","v":0},{"$f":"'Project Cashflows'!RFM371","v":0},{"$f":"'Project Cashflows'!RFN371","v":0},{"$f":"'Project Cashflows'!RFO371","v":0},{"$f":"'Project Cashflows'!RFP371","v":0},{"$f":"'Project Cashflows'!RFQ371","v":0},{"$f":"'Project Cashflows'!RFR371","v":0},{"$f":"'Project Cashflows'!RFS371","v":0},{"$f":"'Project Cashflows'!RFT371","v":0},{"$f":"'Project Cashflows'!RFU371","v":0},{"$f":"'Project Cashflows'!RFV371","v":0},{"$f":"'Project Cashflows'!RFW371","v":0},{"$f":"'Project Cashflows'!RFX371","v":0},{"$f":"'Project Cashflows'!RFY371","v":0},{"$f":"'Project Cashflows'!RFZ371","v":0},{"$f":"'Project Cashflows'!RGA371","v":0},{"$f":"'Project Cashflows'!RGB371","v":0},{"$f":"'Project Cashflows'!RGC371","v":0},{"$f":"'Project Cashflows'!RGD371","v":0},{"$f":"'Project Cashflows'!RGE371","v":0},{"$f":"'Project Cashflows'!RGF371","v":0},{"$f":"'Project Cashflows'!RGG371","v":0},{"$f":"'Project Cashflows'!RGH371","v":0},{"$f":"'Project Cashflows'!RGI371","v":0},{"$f":"'Project Cashflows'!RGJ371","v":0},{"$f":"'Project Cashflows'!RGK371","v":0},{"$f":"'Project Cashflows'!RGL371","v":0},{"$f":"'Project Cashflows'!RGM371","v":0},{"$f":"'Project Cashflows'!RGN371","v":0},{"$f":"'Project Cashflows'!RGO371","v":0},{"$f":"'Project Cashflows'!RGP371","v":0},{"$f":"'Project Cashflows'!RGQ371","v":0},{"$f":"'Project Cashflows'!RGR371","v":0},{"$f":"'Project Cashflows'!RGS371","v":0},{"$f":"'Project Cashflows'!RGT371","v":0},{"$f":"'Project Cashflows'!RGU371","v":0},{"$f":"'Project Cashflows'!RGV371","v":0},{"$f":"'Project Cashflows'!RGW371","v":0},{"$f":"'Project Cashflows'!RGX371","v":0},{"$f":"'Project Cashflows'!RGY371","v":0},{"$f":"'Project Cashflows'!RGZ371","v":0},{"$f":"'Project Cashflows'!RHA371","v":0},{"$f":"'Project Cashflows'!RHB371","v":0},{"$f":"'Project Cashflows'!RHC371","v":0},{"$f":"'Project Cashflows'!RHD371","v":0},{"$f":"'Project Cashflows'!RHE371","v":0},{"$f":"'Project Cashflows'!RHF371","v":0},{"$f":"'Project Cashflows'!RHG371","v":0},{"$f":"'Project Cashflows'!RHH371","v":0},{"$f":"'Project Cashflows'!RHI371","v":0},{"$f":"'Project Cashflows'!RHJ371","v":0},{"$f":"'Project Cashflows'!RHK371","v":0},{"$f":"'Project Cashflows'!RHL371","v":0},{"$f":"'Project Cashflows'!RHM371","v":0},{"$f":"'Project Cashflows'!RHN371","v":0},{"$f":"'Project Cashflows'!RHO371","v":0},{"$f":"'Project Cashflows'!RHP371","v":0},{"$f":"'Project Cashflows'!RHQ371","v":0},{"$f":"'Project Cashflows'!RHR371","v":0},{"$f":"'Project Cashflows'!RHS371","v":0},{"$f":"'Project Cashflows'!RHT371","v":0},{"$f":"'Project Cashflows'!RHU371","v":0},{"$f":"'Project Cashflows'!RHV371","v":0},{"$f":"'Project Cashflows'!RHW371","v":0},{"$f":"'Project Cashflows'!RHX371","v":0},{"$f":"'Project Cashflows'!RHY371","v":0},{"$f":"'Project Cashflows'!RHZ371","v":0},{"$f":"'Project Cashflows'!RIA371","v":0},{"$f":"'Project Cashflows'!RIB371","v":0},{"$f":"'Project Cashflows'!RIC371","v":0},{"$f":"'Project Cashflows'!RID371","v":0},{"$f":"'Project Cashflows'!RIE371","v":0},{"$f":"'Project Cashflows'!RIF371","v":0},{"$f":"'Project Cashflows'!RIG371","v":0},{"$f":"'Project Cashflows'!RIH371","v":0},{"$f":"'Project Cashflows'!RII371","v":0},{"$f":"'Project Cashflows'!RIJ371","v":0},{"$f":"'Project Cashflows'!RIK371","v":0},{"$f":"'Project Cashflows'!RIL371","v":0},{"$f":"'Project Cashflows'!RIM371","v":0},{"$f":"'Project Cashflows'!RIN371","v":0},{"$f":"'Project Cashflows'!RIO371","v":0},{"$f":"'Project Cashflows'!RIP371","v":0},{"$f":"'Project Cashflows'!RIQ371","v":0},{"$f":"'Project Cashflows'!RIR371","v":0},{"$f":"'Project Cashflows'!RIS371","v":0},{"$f":"'Project Cashflows'!RIT371","v":0},{"$f":"'Project Cashflows'!RIU371","v":0},{"$f":"'Project Cashflows'!RIV371","v":0},{"$f":"'Project Cashflows'!RIW371","v":0},{"$f":"'Project Cashflows'!RIX371","v":0},{"$f":"'Project Cashflows'!RIY371","v":0},{"$f":"'Project Cashflows'!RIZ371","v":0},{"$f":"'Project Cashflows'!RJA371","v":0},{"$f":"'Project Cashflows'!RJB371","v":0},{"$f":"'Project Cashflows'!RJC371","v":0},{"$f":"'Project Cashflows'!RJD371","v":0},{"$f":"'Project Cashflows'!RJE371","v":0},{"$f":"'Project Cashflows'!RJF371","v":0},{"$f":"'Project Cashflows'!RJG371","v":0},{"$f":"'Project Cashflows'!RJH371","v":0},{"$f":"'Project Cashflows'!RJI371","v":0},{"$f":"'Project Cashflows'!RJJ371","v":0},{"$f":"'Project Cashflows'!RJK371","v":0},{"$f":"'Project Cashflows'!RJL371","v":0},{"$f":"'Project Cashflows'!RJM371","v":0},{"$f":"'Project Cashflows'!RJN371","v":0},{"$f":"'Project Cashflows'!RJO371","v":0},{"$f":"'Project Cashflows'!RJP371","v":0},{"$f":"'Project Cashflows'!RJQ371","v":0},{"$f":"'Project Cashflows'!RJR371","v":0},{"$f":"'Project Cashflows'!RJS371","v":0},{"$f":"'Project Cashflows'!RJT371","v":0},{"$f":"'Project Cashflows'!RJU371","v":0},{"$f":"'Project Cashflows'!RJV371","v":0},{"$f":"'Project Cashflows'!RJW371","v":0},{"$f":"'Project Cashflows'!RJX371","v":0},{"$f":"'Project Cashflows'!RJY371","v":0},{"$f":"'Project Cashflows'!RJZ371","v":0},{"$f":"'Project Cashflows'!RKA371","v":0},{"$f":"'Project Cashflows'!RKB371","v":0},{"$f":"'Project Cashflows'!RKC371","v":0},{"$f":"'Project Cashflows'!RKD371","v":0},{"$f":"'Project Cashflows'!RKE371","v":0},{"$f":"'Project Cashflows'!RKF371","v":0},{"$f":"'Project Cashflows'!RKG371","v":0},{"$f":"'Project Cashflows'!RKH371","v":0},{"$f":"'Project Cashflows'!RKI371","v":0},{"$f":"'Project Cashflows'!RKJ371","v":0},{"$f":"'Project Cashflows'!RKK371","v":0},{"$f":"'Project Cashflows'!RKL371","v":0},{"$f":"'Project Cashflows'!RKM371","v":0},{"$f":"'Project Cashflows'!RKN371","v":0},{"$f":"'Project Cashflows'!RKO371","v":0},{"$f":"'Project Cashflows'!RKP371","v":0},{"$f":"'Project Cashflows'!RKQ371","v":0},{"$f":"'Project Cashflows'!RKR371","v":0},{"$f":"'Project Cashflows'!RKS371","v":0},{"$f":"'Project Cashflows'!RKT371","v":0},{"$f":"'Project Cashflows'!RKU371","v":0},{"$f":"'Project Cashflows'!RKV371","v":0},{"$f":"'Project Cashflows'!RKW371","v":0},{"$f":"'Project Cashflows'!RKX371","v":0},{"$f":"'Project Cashflows'!RKY371","v":0},{"$f":"'Project Cashflows'!RKZ371","v":0},{"$f":"'Project Cashflows'!RLA371","v":0},{"$f":"'Project Cashflows'!RLB371","v":0},{"$f":"'Project Cashflows'!RLC371","v":0},{"$f":"'Project Cashflows'!RLD371","v":0},{"$f":"'Project Cashflows'!RLE371","v":0},{"$f":"'Project Cashflows'!RLF371","v":0},{"$f":"'Project Cashflows'!RLG371","v":0},{"$f":"'Project Cashflows'!RLH371","v":0},{"$f":"'Project Cashflows'!RLI371","v":0},{"$f":"'Project Cashflows'!RLJ371","v":0},{"$f":"'Project Cashflows'!RLK371","v":0},{"$f":"'Project Cashflows'!RLL371","v":0},{"$f":"'Project Cashflows'!RLM371","v":0},{"$f":"'Project Cashflows'!RLN371","v":0},{"$f":"'Project Cashflows'!RLO371","v":0},{"$f":"'Project Cashflows'!RLP371","v":0},{"$f":"'Project Cashflows'!RLQ371","v":0},{"$f":"'Project Cashflows'!RLR371","v":0},{"$f":"'Project Cashflows'!RLS371","v":0},{"$f":"'Project Cashflows'!RLT371","v":0},{"$f":"'Project Cashflows'!RLU371","v":0},{"$f":"'Project Cashflows'!RLV371","v":0},{"$f":"'Project Cashflows'!RLW371","v":0},{"$f":"'Project Cashflows'!RLX371","v":0},{"$f":"'Project Cashflows'!RLY371","v":0},{"$f":"'Project Cashflows'!RLZ371","v":0},{"$f":"'Project Cashflows'!RMA371","v":0},{"$f":"'Project Cashflows'!RMB371","v":0},{"$f":"'Project Cashflows'!RMC371","v":0},{"$f":"'Project Cashflows'!RMD371","v":0},{"$f":"'Project Cashflows'!RME371","v":0},{"$f":"'Project Cashflows'!RMF371","v":0},{"$f":"'Project Cashflows'!RMG371","v":0},{"$f":"'Project Cashflows'!RMH371","v":0},{"$f":"'Project Cashflows'!RMI371","v":0},{"$f":"'Project Cashflows'!RMJ371","v":0},{"$f":"'Project Cashflows'!RMK371","v":0},{"$f":"'Project Cashflows'!RML371","v":0},{"$f":"'Project Cashflows'!RMM371","v":0},{"$f":"'Project Cashflows'!RMN371","v":0},{"$f":"'Project Cashflows'!RMO371","v":0},{"$f":"'Project Cashflows'!RMP371","v":0},{"$f":"'Project Cashflows'!RMQ371","v":0},{"$f":"'Project Cashflows'!RMR371","v":0},{"$f":"'Project Cashflows'!RMS371","v":0},{"$f":"'Project Cashflows'!RMT371","v":0},{"$f":"'Project Cashflows'!RMU371","v":0},{"$f":"'Project Cashflows'!RMV371","v":0},{"$f":"'Project Cashflows'!RMW371","v":0},{"$f":"'Project Cashflows'!RMX371","v":0},{"$f":"'Project Cashflows'!RMY371","v":0},{"$f":"'Project Cashflows'!RMZ371","v":0},{"$f":"'Project Cashflows'!RNA371","v":0},{"$f":"'Project Cashflows'!RNB371","v":0},{"$f":"'Project Cashflows'!RNC371","v":0},{"$f":"'Project Cashflows'!RND371","v":0},{"$f":"'Project Cashflows'!RNE371","v":0},{"$f":"'Project Cashflows'!RNF371","v":0},{"$f":"'Project Cashflows'!RNG371","v":0},{"$f":"'Project Cashflows'!RNH371","v":0},{"$f":"'Project Cashflows'!RNI371","v":0},{"$f":"'Project Cashflows'!RNJ371","v":0},{"$f":"'Project Cashflows'!RNK371","v":0},{"$f":"'Project Cashflows'!RNL371","v":0},{"$f":"'Project Cashflows'!RNM371","v":0},{"$f":"'Project Cashflows'!RNN371","v":0},{"$f":"'Project Cashflows'!RNO371","v":0},{"$f":"'Project Cashflows'!RNP371","v":0},{"$f":"'Project Cashflows'!RNQ371","v":0},{"$f":"'Project Cashflows'!RNR371","v":0},{"$f":"'Project Cashflows'!RNS371","v":0},{"$f":"'Project Cashflows'!RNT371","v":0},{"$f":"'Project Cashflows'!RNU371","v":0},{"$f":"'Project Cashflows'!RNV371","v":0},{"$f":"'Project Cashflows'!RNW371","v":0},{"$f":"'Project Cashflows'!RNX371","v":0},{"$f":"'Project Cashflows'!RNY371","v":0},{"$f":"'Project Cashflows'!RNZ371","v":0},{"$f":"'Project Cashflows'!ROA371","v":0},{"$f":"'Project Cashflows'!ROB371","v":0},{"$f":"'Project Cashflows'!ROC371","v":0},{"$f":"'Project Cashflows'!ROD371","v":0},{"$f":"'Project Cashflows'!ROE371","v":0},{"$f":"'Project Cashflows'!ROF371","v":0},{"$f":"'Project Cashflows'!ROG371","v":0},{"$f":"'Project Cashflows'!ROH371","v":0},{"$f":"'Project Cashflows'!ROI371","v":0},{"$f":"'Project Cashflows'!ROJ371","v":0},{"$f":"'Project Cashflows'!ROK371","v":0},{"$f":"'Project Cashflows'!ROL371","v":0},{"$f":"'Project Cashflows'!ROM371","v":0},{"$f":"'Project Cashflows'!RON371","v":0},{"$f":"'Project Cashflows'!ROO371","v":0},{"$f":"'Project Cashflows'!ROP371","v":0},{"$f":"'Project Cashflows'!ROQ371","v":0},{"$f":"'Project Cashflows'!ROR371","v":0},{"$f":"'Project Cashflows'!ROS371","v":0},{"$f":"'Project Cashflows'!ROT371","v":0},{"$f":"'Project Cashflows'!ROU371","v":0},{"$f":"'Project Cashflows'!ROV371","v":0},{"$f":"'Project Cashflows'!ROW371","v":0},{"$f":"'Project Cashflows'!ROX371","v":0},{"$f":"'Project Cashflows'!ROY371","v":0},{"$f":"'Project Cashflows'!ROZ371","v":0},{"$f":"'Project Cashflows'!RPA371","v":0},{"$f":"'Project Cashflows'!RPB371","v":0},{"$f":"'Project Cashflows'!RPC371","v":0},{"$f":"'Project Cashflows'!RPD371","v":0},{"$f":"'Project Cashflows'!RPE371","v":0},{"$f":"'Project Cashflows'!RPF371","v":0},{"$f":"'Project Cashflows'!RPG371","v":0},{"$f":"'Project Cashflows'!RPH371","v":0},{"$f":"'Project Cashflows'!RPI371","v":0},{"$f":"'Project Cashflows'!RPJ371","v":0},{"$f":"'Project Cashflows'!RPK371","v":0},{"$f":"'Project Cashflows'!RPL371","v":0},{"$f":"'Project Cashflows'!RPM371","v":0},{"$f":"'Project Cashflows'!RPN371","v":0},{"$f":"'Project Cashflows'!RPO371","v":0},{"$f":"'Project Cashflows'!RPP371","v":0},{"$f":"'Project Cashflows'!RPQ371","v":0},{"$f":"'Project Cashflows'!RPR371","v":0},{"$f":"'Project Cashflows'!RPS371","v":0},{"$f":"'Project Cashflows'!RPT371","v":0},{"$f":"'Project Cashflows'!RPU371","v":0},{"$f":"'Project Cashflows'!RPV371","v":0},{"$f":"'Project Cashflows'!RPW371","v":0},{"$f":"'Project Cashflows'!RPX371","v":0},{"$f":"'Project Cashflows'!RPY371","v":0},{"$f":"'Project Cashflows'!RPZ371","v":0},{"$f":"'Project Cashflows'!RQA371","v":0},{"$f":"'Project Cashflows'!RQB371","v":0},{"$f":"'Project Cashflows'!RQC371","v":0},{"$f":"'Project Cashflows'!RQD371","v":0},{"$f":"'Project Cashflows'!RQE371","v":0},{"$f":"'Project Cashflows'!RQF371","v":0},{"$f":"'Project Cashflows'!RQG371","v":0},{"$f":"'Project Cashflows'!RQH371","v":0},{"$f":"'Project Cashflows'!RQI371","v":0},{"$f":"'Project Cashflows'!RQJ371","v":0},{"$f":"'Project Cashflows'!RQK371","v":0},{"$f":"'Project Cashflows'!RQL371","v":0},{"$f":"'Project Cashflows'!RQM371","v":0},{"$f":"'Project Cashflows'!RQN371","v":0},{"$f":"'Project Cashflows'!RQO371","v":0},{"$f":"'Project Cashflows'!RQP371","v":0},{"$f":"'Project Cashflows'!RQQ371","v":0},{"$f":"'Project Cashflows'!RQR371","v":0},{"$f":"'Project Cashflows'!RQS371","v":0},{"$f":"'Project Cashflows'!RQT371","v":0},{"$f":"'Project Cashflows'!RQU371","v":0},{"$f":"'Project Cashflows'!RQV371","v":0},{"$f":"'Project Cashflows'!RQW371","v":0},{"$f":"'Project Cashflows'!RQX371","v":0},{"$f":"'Project Cashflows'!RQY371","v":0},{"$f":"'Project Cashflows'!RQZ371","v":0},{"$f":"'Project Cashflows'!RRA371","v":0},{"$f":"'Project Cashflows'!RRB371","v":0},{"$f":"'Project Cashflows'!RRC371","v":0},{"$f":"'Project Cashflows'!RRD371","v":0},{"$f":"'Project Cashflows'!RRE371","v":0},{"$f":"'Project Cashflows'!RRF371","v":0},{"$f":"'Project Cashflows'!RRG371","v":0},{"$f":"'Project Cashflows'!RRH371","v":0},{"$f":"'Project Cashflows'!RRI371","v":0},{"$f":"'Project Cashflows'!RRJ371","v":0},{"$f":"'Project Cashflows'!RRK371","v":0},{"$f":"'Project Cashflows'!RRL371","v":0},{"$f":"'Project Cashflows'!RRM371","v":0},{"$f":"'Project Cashflows'!RRN371","v":0},{"$f":"'Project Cashflows'!RRO371","v":0},{"$f":"'Project Cashflows'!RRP371","v":0},{"$f":"'Project Cashflows'!RRQ371","v":0},{"$f":"'Project Cashflows'!RRR371","v":0},{"$f":"'Project Cashflows'!RRS371","v":0},{"$f":"'Project Cashflows'!RRT371","v":0},{"$f":"'Project Cashflows'!RRU371","v":0},{"$f":"'Project Cashflows'!RRV371","v":0},{"$f":"'Project Cashflows'!RRW371","v":0},{"$f":"'Project Cashflows'!RRX371","v":0},{"$f":"'Project Cashflows'!RRY371","v":0},{"$f":"'Project Cashflows'!RRZ371","v":0},{"$f":"'Project Cashflows'!RSA371","v":0},{"$f":"'Project Cashflows'!RSB371","v":0},{"$f":"'Project Cashflows'!RSC371","v":0},{"$f":"'Project Cashflows'!RSD371","v":0},{"$f":"'Project Cashflows'!RSE371","v":0},{"$f":"'Project Cashflows'!RSF371","v":0},{"$f":"'Project Cashflows'!RSG371","v":0},{"$f":"'Project Cashflows'!RSH371","v":0},{"$f":"'Project Cashflows'!RSI371","v":0},{"$f":"'Project Cashflows'!RSJ371","v":0},{"$f":"'Project Cashflows'!RSK371","v":0},{"$f":"'Project Cashflows'!RSL371","v":0},{"$f":"'Project Cashflows'!RSM371","v":0},{"$f":"'Project Cashflows'!RSN371","v":0},{"$f":"'Project Cashflows'!RSO371","v":0},{"$f":"'Project Cashflows'!RSP371","v":0},{"$f":"'Project Cashflows'!RSQ371","v":0},{"$f":"'Project Cashflows'!RSR371","v":0},{"$f":"'Project Cashflows'!RSS371","v":0},{"$f":"'Project Cashflows'!RST371","v":0},{"$f":"'Project Cashflows'!RSU371","v":0},{"$f":"'Project Cashflows'!RSV371","v":0},{"$f":"'Project Cashflows'!RSW371","v":0},{"$f":"'Project Cashflows'!RSX371","v":0},{"$f":"'Project Cashflows'!RSY371","v":0},{"$f":"'Project Cashflows'!RSZ371","v":0},{"$f":"'Project Cashflows'!RTA371","v":0},{"$f":"'Project Cashflows'!RTB371","v":0},{"$f":"'Project Cashflows'!RTC371","v":0},{"$f":"'Project Cashflows'!RTD371","v":0},{"$f":"'Project Cashflows'!RTE371","v":0},{"$f":"'Project Cashflows'!RTF371","v":0},{"$f":"'Project Cashflows'!RTG371","v":0},{"$f":"'Project Cashflows'!RTH371","v":0},{"$f":"'Project Cashflows'!RTI371","v":0},{"$f":"'Project Cashflows'!RTJ371","v":0},{"$f":"'Project Cashflows'!RTK371","v":0},{"$f":"'Project Cashflows'!RTL371","v":0},{"$f":"'Project Cashflows'!RTM371","v":0},{"$f":"'Project Cashflows'!RTN371","v":0},{"$f":"'Project Cashflows'!RTO371","v":0},{"$f":"'Project Cashflows'!RTP371","v":0},{"$f":"'Project Cashflows'!RTQ371","v":0},{"$f":"'Project Cashflows'!RTR371","v":0},{"$f":"'Project Cashflows'!RTS371","v":0},{"$f":"'Project Cashflows'!RTT371","v":0},{"$f":"'Project Cashflows'!RTU371","v":0},{"$f":"'Project Cashflows'!RTV371","v":0},{"$f":"'Project Cashflows'!RTW371","v":0},{"$f":"'Project Cashflows'!RTX371","v":0},{"$f":"'Project Cashflows'!RTY371","v":0},{"$f":"'Project Cashflows'!RTZ371","v":0},{"$f":"'Project Cashflows'!RUA371","v":0},{"$f":"'Project Cashflows'!RUB371","v":0},{"$f":"'Project Cashflows'!RUC371","v":0},{"$f":"'Project Cashflows'!RUD371","v":0},{"$f":"'Project Cashflows'!RUE371","v":0},{"$f":"'Project Cashflows'!RUF371","v":0},{"$f":"'Project Cashflows'!RUG371","v":0},{"$f":"'Project Cashflows'!RUH371","v":0},{"$f":"'Project Cashflows'!RUI371","v":0},{"$f":"'Project Cashflows'!RUJ371","v":0},{"$f":"'Project Cashflows'!RUK371","v":0},{"$f":"'Project Cashflows'!RUL371","v":0},{"$f":"'Project Cashflows'!RUM371","v":0},{"$f":"'Project Cashflows'!RUN371","v":0},{"$f":"'Project Cashflows'!RUO371","v":0},{"$f":"'Project Cashflows'!RUP371","v":0},{"$f":"'Project Cashflows'!RUQ371","v":0},{"$f":"'Project Cashflows'!RUR371","v":0},{"$f":"'Project Cashflows'!RUS371","v":0},{"$f":"'Project Cashflows'!RUT371","v":0},{"$f":"'Project Cashflows'!RUU371","v":0},{"$f":"'Project Cashflows'!RUV371","v":0},{"$f":"'Project Cashflows'!RUW371","v":0},{"$f":"'Project Cashflows'!RUX371","v":0},{"$f":"'Project Cashflows'!RUY371","v":0},{"$f":"'Project Cashflows'!RUZ371","v":0},{"$f":"'Project Cashflows'!RVA371","v":0},{"$f":"'Project Cashflows'!RVB371","v":0},{"$f":"'Project Cashflows'!RVC371","v":0},{"$f":"'Project Cashflows'!RVD371","v":0},{"$f":"'Project Cashflows'!RVE371","v":0},{"$f":"'Project Cashflows'!RVF371","v":0},{"$f":"'Project Cashflows'!RVG371","v":0},{"$f":"'Project Cashflows'!RVH371","v":0},{"$f":"'Project Cashflows'!RVI371","v":0},{"$f":"'Project Cashflows'!RVJ371","v":0},{"$f":"'Project Cashflows'!RVK371","v":0},{"$f":"'Project Cashflows'!RVL371","v":0},{"$f":"'Project Cashflows'!RVM371","v":0},{"$f":"'Project Cashflows'!RVN371","v":0},{"$f":"'Project Cashflows'!RVO371","v":0},{"$f":"'Project Cashflows'!RVP371","v":0},{"$f":"'Project Cashflows'!RVQ371","v":0},{"$f":"'Project Cashflows'!RVR371","v":0},{"$f":"'Project Cashflows'!RVS371","v":0},{"$f":"'Project Cashflows'!RVT371","v":0},{"$f":"'Project Cashflows'!RVU371","v":0},{"$f":"'Project Cashflows'!RVV371","v":0},{"$f":"'Project Cashflows'!RVW371","v":0},{"$f":"'Project Cashflows'!RVX371","v":0},{"$f":"'Project Cashflows'!RVY371","v":0},{"$f":"'Project Cashflows'!RVZ371","v":0},{"$f":"'Project Cashflows'!RWA371","v":0},{"$f":"'Project Cashflows'!RWB371","v":0},{"$f":"'Project Cashflows'!RWC371","v":0},{"$f":"'Project Cashflows'!RWD371","v":0},{"$f":"'Project Cashflows'!RWE371","v":0},{"$f":"'Project Cashflows'!RWF371","v":0},{"$f":"'Project Cashflows'!RWG371","v":0},{"$f":"'Project Cashflows'!RWH371","v":0},{"$f":"'Project Cashflows'!RWI371","v":0},{"$f":"'Project Cashflows'!RWJ371","v":0},{"$f":"'Project Cashflows'!RWK371","v":0},{"$f":"'Project Cashflows'!RWL371","v":0},{"$f":"'Project Cashflows'!RWM371","v":0},{"$f":"'Project Cashflows'!RWN371","v":0},{"$f":"'Project Cashflows'!RWO371","v":0},{"$f":"'Project Cashflows'!RWP371","v":0},{"$f":"'Project Cashflows'!RWQ371","v":0},{"$f":"'Project Cashflows'!RWR371","v":0},{"$f":"'Project Cashflows'!RWS371","v":0},{"$f":"'Project Cashflows'!RWT371","v":0},{"$f":"'Project Cashflows'!RWU371","v":0},{"$f":"'Project Cashflows'!RWV371","v":0},{"$f":"'Project Cashflows'!RWW371","v":0},{"$f":"'Project Cashflows'!RWX371","v":0},{"$f":"'Project Cashflows'!RWY371","v":0},{"$f":"'Project Cashflows'!RWZ371","v":0},{"$f":"'Project Cashflows'!RXA371","v":0},{"$f":"'Project Cashflows'!RXB371","v":0},{"$f":"'Project Cashflows'!RXC371","v":0},{"$f":"'Project Cashflows'!RXD371","v":0},{"$f":"'Project Cashflows'!RXE371","v":0},{"$f":"'Project Cashflows'!RXF371","v":0},{"$f":"'Project Cashflows'!RXG371","v":0},{"$f":"'Project Cashflows'!RXH371","v":0},{"$f":"'Project Cashflows'!RXI371","v":0},{"$f":"'Project Cashflows'!RXJ371","v":0},{"$f":"'Project Cashflows'!RXK371","v":0},{"$f":"'Project Cashflows'!RXL371","v":0},{"$f":"'Project Cashflows'!RXM371","v":0},{"$f":"'Project Cashflows'!RXN371","v":0},{"$f":"'Project Cashflows'!RXO371","v":0},{"$f":"'Project Cashflows'!RXP371","v":0},{"$f":"'Project Cashflows'!RXQ371","v":0},{"$f":"'Project Cashflows'!RXR371","v":0},{"$f":"'Project Cashflows'!RXS371","v":0},{"$f":"'Project Cashflows'!RXT371","v":0},{"$f":"'Project Cashflows'!RXU371","v":0},{"$f":"'Project Cashflows'!RXV371","v":0},{"$f":"'Project Cashflows'!RXW371","v":0},{"$f":"'Project Cashflows'!RXX371","v":0},{"$f":"'Project Cashflows'!RXY371","v":0},{"$f":"'Project Cashflows'!RXZ371","v":0},{"$f":"'Project Cashflows'!RYA371","v":0},{"$f":"'Project Cashflows'!RYB371","v":0},{"$f":"'Project Cashflows'!RYC371","v":0},{"$f":"'Project Cashflows'!RYD371","v":0},{"$f":"'Project Cashflows'!RYE371","v":0},{"$f":"'Project Cashflows'!RYF371","v":0},{"$f":"'Project Cashflows'!RYG371","v":0},{"$f":"'Project Cashflows'!RYH371","v":0},{"$f":"'Project Cashflows'!RYI371","v":0},{"$f":"'Project Cashflows'!RYJ371","v":0},{"$f":"'Project Cashflows'!RYK371","v":0},{"$f":"'Project Cashflows'!RYL371","v":0},{"$f":"'Project Cashflows'!RYM371","v":0},{"$f":"'Project Cashflows'!RYN371","v":0},{"$f":"'Project Cashflows'!RYO371","v":0},{"$f":"'Project Cashflows'!RYP371","v":0},{"$f":"'Project Cashflows'!RYQ371","v":0},{"$f":"'Project Cashflows'!RYR371","v":0},{"$f":"'Project Cashflows'!RYS371","v":0},{"$f":"'Project Cashflows'!RYT371","v":0},{"$f":"'Project Cashflows'!RYU371","v":0},{"$f":"'Project Cashflows'!RYV371","v":0},{"$f":"'Project Cashflows'!RYW371","v":0},{"$f":"'Project Cashflows'!RYX371","v":0},{"$f":"'Project Cashflows'!RYY371","v":0},{"$f":"'Project Cashflows'!RYZ371","v":0},{"$f":"'Project Cashflows'!RZA371","v":0},{"$f":"'Project Cashflows'!RZB371","v":0},{"$f":"'Project Cashflows'!RZC371","v":0},{"$f":"'Project Cashflows'!RZD371","v":0},{"$f":"'Project Cashflows'!RZE371","v":0},{"$f":"'Project Cashflows'!RZF371","v":0},{"$f":"'Project Cashflows'!RZG371","v":0},{"$f":"'Project Cashflows'!RZH371","v":0},{"$f":"'Project Cashflows'!RZI371","v":0},{"$f":"'Project Cashflows'!RZJ371","v":0},{"$f":"'Project Cashflows'!RZK371","v":0},{"$f":"'Project Cashflows'!RZL371","v":0},{"$f":"'Project Cashflows'!RZM371","v":0},{"$f":"'Project Cashflows'!RZN371","v":0},{"$f":"'Project Cashflows'!RZO371","v":0},{"$f":"'Project Cashflows'!RZP371","v":0},{"$f":"'Project Cashflows'!RZQ371","v":0},{"$f":"'Project Cashflows'!RZR371","v":0},{"$f":"'Project Cashflows'!RZS371","v":0},{"$f":"'Project Cashflows'!RZT371","v":0},{"$f":"'Project Cashflows'!RZU371","v":0},{"$f":"'Project Cashflows'!RZV371","v":0},{"$f":"'Project Cashflows'!RZW371","v":0},{"$f":"'Project Cashflows'!RZX371","v":0},{"$f":"'Project Cashflows'!RZY371","v":0},{"$f":"'Project Cashflows'!RZZ371","v":0},{"$f":"'Project Cashflows'!SAA371","v":0},{"$f":"'Project Cashflows'!SAB371","v":0},{"$f":"'Project Cashflows'!SAC371","v":0},{"$f":"'Project Cashflows'!SAD371","v":0},{"$f":"'Project Cashflows'!SAE371","v":0},{"$f":"'Project Cashflows'!SAF371","v":0},{"$f":"'Project Cashflows'!SAG371","v":0},{"$f":"'Project Cashflows'!SAH371","v":0},{"$f":"'Project Cashflows'!SAI371","v":0},{"$f":"'Project Cashflows'!SAJ371","v":0},{"$f":"'Project Cashflows'!SAK371","v":0},{"$f":"'Project Cashflows'!SAL371","v":0},{"$f":"'Project Cashflows'!SAM371","v":0},{"$f":"'Project Cashflows'!SAN371","v":0},{"$f":"'Project Cashflows'!SAO371","v":0},{"$f":"'Project Cashflows'!SAP371","v":0},{"$f":"'Project Cashflows'!SAQ371","v":0},{"$f":"'Project Cashflows'!SAR371","v":0},{"$f":"'Project Cashflows'!SAS371","v":0},{"$f":"'Project Cashflows'!SAT371","v":0},{"$f":"'Project Cashflows'!SAU371","v":0},{"$f":"'Project Cashflows'!SAV371","v":0},{"$f":"'Project Cashflows'!SAW371","v":0},{"$f":"'Project Cashflows'!SAX371","v":0},{"$f":"'Project Cashflows'!SAY371","v":0},{"$f":"'Project Cashflows'!SAZ371","v":0},{"$f":"'Project Cashflows'!SBA371","v":0},{"$f":"'Project Cashflows'!SBB371","v":0},{"$f":"'Project Cashflows'!SBC371","v":0},{"$f":"'Project Cashflows'!SBD371","v":0},{"$f":"'Project Cashflows'!SBE371","v":0},{"$f":"'Project Cashflows'!SBF371","v":0},{"$f":"'Project Cashflows'!SBG371","v":0},{"$f":"'Project Cashflows'!SBH371","v":0},{"$f":"'Project Cashflows'!SBI371","v":0},{"$f":"'Project Cashflows'!SBJ371","v":0},{"$f":"'Project Cashflows'!SBK371","v":0},{"$f":"'Project Cashflows'!SBL371","v":0},{"$f":"'Project Cashflows'!SBM371","v":0},{"$f":"'Project Cashflows'!SBN371","v":0},{"$f":"'Project Cashflows'!SBO371","v":0},{"$f":"'Project Cashflows'!SBP371","v":0},{"$f":"'Project Cashflows'!SBQ371","v":0},{"$f":"'Project Cashflows'!SBR371","v":0},{"$f":"'Project Cashflows'!SBS371","v":0},{"$f":"'Project Cashflows'!SBT371","v":0},{"$f":"'Project Cashflows'!SBU371","v":0},{"$f":"'Project Cashflows'!SBV371","v":0},{"$f":"'Project Cashflows'!SBW371","v":0},{"$f":"'Project Cashflows'!SBX371","v":0},{"$f":"'Project Cashflows'!SBY371","v":0},{"$f":"'Project Cashflows'!SBZ371","v":0},{"$f":"'Project Cashflows'!SCA371","v":0},{"$f":"'Project Cashflows'!SCB371","v":0},{"$f":"'Project Cashflows'!SCC371","v":0},{"$f":"'Project Cashflows'!SCD371","v":0},{"$f":"'Project Cashflows'!SCE371","v":0},{"$f":"'Project Cashflows'!SCF371","v":0},{"$f":"'Project Cashflows'!SCG371","v":0},{"$f":"'Project Cashflows'!SCH371","v":0},{"$f":"'Project Cashflows'!SCI371","v":0},{"$f":"'Project Cashflows'!SCJ371","v":0},{"$f":"'Project Cashflows'!SCK371","v":0},{"$f":"'Project Cashflows'!SCL371","v":0},{"$f":"'Project Cashflows'!SCM371","v":0},{"$f":"'Project Cashflows'!SCN371","v":0},{"$f":"'Project Cashflows'!SCO371","v":0},{"$f":"'Project Cashflows'!SCP371","v":0},{"$f":"'Project Cashflows'!SCQ371","v":0},{"$f":"'Project Cashflows'!SCR371","v":0},{"$f":"'Project Cashflows'!SCS371","v":0},{"$f":"'Project Cashflows'!SCT371","v":0},{"$f":"'Project Cashflows'!SCU371","v":0},{"$f":"'Project Cashflows'!SCV371","v":0},{"$f":"'Project Cashflows'!SCW371","v":0},{"$f":"'Project Cashflows'!SCX371","v":0},{"$f":"'Project Cashflows'!SCY371","v":0},{"$f":"'Project Cashflows'!SCZ371","v":0},{"$f":"'Project Cashflows'!SDA371","v":0},{"$f":"'Project Cashflows'!SDB371","v":0},{"$f":"'Project Cashflows'!SDC371","v":0},{"$f":"'Project Cashflows'!SDD371","v":0},{"$f":"'Project Cashflows'!SDE371","v":0},{"$f":"'Project Cashflows'!SDF371","v":0},{"$f":"'Project Cashflows'!SDG371","v":0},{"$f":"'Project Cashflows'!SDH371","v":0},{"$f":"'Project Cashflows'!SDI371","v":0},{"$f":"'Project Cashflows'!SDJ371","v":0},{"$f":"'Project Cashflows'!SDK371","v":0},{"$f":"'Project Cashflows'!SDL371","v":0},{"$f":"'Project Cashflows'!SDM371","v":0},{"$f":"'Project Cashflows'!SDN371","v":0},{"$f":"'Project Cashflows'!SDO371","v":0},{"$f":"'Project Cashflows'!SDP371","v":0},{"$f":"'Project Cashflows'!SDQ371","v":0},{"$f":"'Project Cashflows'!SDR371","v":0},{"$f":"'Project Cashflows'!SDS371","v":0},{"$f":"'Project Cashflows'!SDT371","v":0},{"$f":"'Project Cashflows'!SDU371","v":0},{"$f":"'Project Cashflows'!SDV371","v":0},{"$f":"'Project Cashflows'!SDW371","v":0},{"$f":"'Project Cashflows'!SDX371","v":0},{"$f":"'Project Cashflows'!SDY371","v":0},{"$f":"'Project Cashflows'!SDZ371","v":0},{"$f":"'Project Cashflows'!SEA371","v":0},{"$f":"'Project Cashflows'!SEB371","v":0},{"$f":"'Project Cashflows'!SEC371","v":0},{"$f":"'Project Cashflows'!SED371","v":0},{"$f":"'Project Cashflows'!SEE371","v":0},{"$f":"'Project Cashflows'!SEF371","v":0},{"$f":"'Project Cashflows'!SEG371","v":0},{"$f":"'Project Cashflows'!SEH371","v":0},{"$f":"'Project Cashflows'!SEI371","v":0},{"$f":"'Project Cashflows'!SEJ371","v":0},{"$f":"'Project Cashflows'!SEK371","v":0},{"$f":"'Project Cashflows'!SEL371","v":0},{"$f":"'Project Cashflows'!SEM371","v":0},{"$f":"'Project Cashflows'!SEN371","v":0},{"$f":"'Project Cashflows'!SEO371","v":0},{"$f":"'Project Cashflows'!SEP371","v":0},{"$f":"'Project Cashflows'!SEQ371","v":0},{"$f":"'Project Cashflows'!SER371","v":0},{"$f":"'Project Cashflows'!SES371","v":0},{"$f":"'Project Cashflows'!SET371","v":0},{"$f":"'Project Cashflows'!SEU371","v":0},{"$f":"'Project Cashflows'!SEV371","v":0},{"$f":"'Project Cashflows'!SEW371","v":0},{"$f":"'Project Cashflows'!SEX371","v":0},{"$f":"'Project Cashflows'!SEY371","v":0},{"$f":"'Project Cashflows'!SEZ371","v":0},{"$f":"'Project Cashflows'!SFA371","v":0},{"$f":"'Project Cashflows'!SFB371","v":0},{"$f":"'Project Cashflows'!SFC371","v":0},{"$f":"'Project Cashflows'!SFD371","v":0},{"$f":"'Project Cashflows'!SFE371","v":0},{"$f":"'Project Cashflows'!SFF371","v":0},{"$f":"'Project Cashflows'!SFG371","v":0},{"$f":"'Project Cashflows'!SFH371","v":0},{"$f":"'Project Cashflows'!SFI371","v":0},{"$f":"'Project Cashflows'!SFJ371","v":0},{"$f":"'Project Cashflows'!SFK371","v":0},{"$f":"'Project Cashflows'!SFL371","v":0},{"$f":"'Project Cashflows'!SFM371","v":0},{"$f":"'Project Cashflows'!SFN371","v":0},{"$f":"'Project Cashflows'!SFO371","v":0},{"$f":"'Project Cashflows'!SFP371","v":0},{"$f":"'Project Cashflows'!SFQ371","v":0},{"$f":"'Project Cashflows'!SFR371","v":0},{"$f":"'Project Cashflows'!SFS371","v":0},{"$f":"'Project Cashflows'!SFT371","v":0},{"$f":"'Project Cashflows'!SFU371","v":0},{"$f":"'Project Cashflows'!SFV371","v":0},{"$f":"'Project Cashflows'!SFW371","v":0},{"$f":"'Project Cashflows'!SFX371","v":0},{"$f":"'Project Cashflows'!SFY371","v":0},{"$f":"'Project Cashflows'!SFZ371","v":0},{"$f":"'Project Cashflows'!SGA371","v":0},{"$f":"'Project Cashflows'!SGB371","v":0},{"$f":"'Project Cashflows'!SGC371","v":0},{"$f":"'Project Cashflows'!SGD371","v":0},{"$f":"'Project Cashflows'!SGE371","v":0},{"$f":"'Project Cashflows'!SGF371","v":0},{"$f":"'Project Cashflows'!SGG371","v":0},{"$f":"'Project Cashflows'!SGH371","v":0},{"$f":"'Project Cashflows'!SGI371","v":0},{"$f":"'Project Cashflows'!SGJ371","v":0},{"$f":"'Project Cashflows'!SGK371","v":0},{"$f":"'Project Cashflows'!SGL371","v":0},{"$f":"'Project Cashflows'!SGM371","v":0},{"$f":"'Project Cashflows'!SGN371","v":0},{"$f":"'Project Cashflows'!SGO371","v":0},{"$f":"'Project Cashflows'!SGP371","v":0},{"$f":"'Project Cashflows'!SGQ371","v":0},{"$f":"'Project Cashflows'!SGR371","v":0},{"$f":"'Project Cashflows'!SGS371","v":0},{"$f":"'Project Cashflows'!SGT371","v":0},{"$f":"'Project Cashflows'!SGU371","v":0},{"$f":"'Project Cashflows'!SGV371","v":0},{"$f":"'Project Cashflows'!SGW371","v":0},{"$f":"'Project Cashflows'!SGX371","v":0},{"$f":"'Project Cashflows'!SGY371","v":0},{"$f":"'Project Cashflows'!SGZ371","v":0},{"$f":"'Project Cashflows'!SHA371","v":0},{"$f":"'Project Cashflows'!SHB371","v":0},{"$f":"'Project Cashflows'!SHC371","v":0},{"$f":"'Project Cashflows'!SHD371","v":0},{"$f":"'Project Cashflows'!SHE371","v":0},{"$f":"'Project Cashflows'!SHF371","v":0},{"$f":"'Project Cashflows'!SHG371","v":0},{"$f":"'Project Cashflows'!SHH371","v":0},{"$f":"'Project Cashflows'!SHI371","v":0},{"$f":"'Project Cashflows'!SHJ371","v":0},{"$f":"'Project Cashflows'!SHK371","v":0},{"$f":"'Project Cashflows'!SHL371","v":0},{"$f":"'Project Cashflows'!SHM371","v":0},{"$f":"'Project Cashflows'!SHN371","v":0},{"$f":"'Project Cashflows'!SHO371","v":0},{"$f":"'Project Cashflows'!SHP371","v":0},{"$f":"'Project Cashflows'!SHQ371","v":0},{"$f":"'Project Cashflows'!SHR371","v":0},{"$f":"'Project Cashflows'!SHS371","v":0},{"$f":"'Project Cashflows'!SHT371","v":0},{"$f":"'Project Cashflows'!SHU371","v":0},{"$f":"'Project Cashflows'!SHV371","v":0},{"$f":"'Project Cashflows'!SHW371","v":0},{"$f":"'Project Cashflows'!SHX371","v":0},{"$f":"'Project Cashflows'!SHY371","v":0},{"$f":"'Project Cashflows'!SHZ371","v":0},{"$f":"'Project Cashflows'!SIA371","v":0},{"$f":"'Project Cashflows'!SIB371","v":0},{"$f":"'Project Cashflows'!SIC371","v":0},{"$f":"'Project Cashflows'!SID371","v":0},{"$f":"'Project Cashflows'!SIE371","v":0},{"$f":"'Project Cashflows'!SIF371","v":0},{"$f":"'Project Cashflows'!SIG371","v":0},{"$f":"'Project Cashflows'!SIH371","v":0},{"$f":"'Project Cashflows'!SII371","v":0},{"$f":"'Project Cashflows'!SIJ371","v":0},{"$f":"'Project Cashflows'!SIK371","v":0},{"$f":"'Project Cashflows'!SIL371","v":0},{"$f":"'Project Cashflows'!SIM371","v":0},{"$f":"'Project Cashflows'!SIN371","v":0},{"$f":"'Project Cashflows'!SIO371","v":0},{"$f":"'Project Cashflows'!SIP371","v":0},{"$f":"'Project Cashflows'!SIQ371","v":0},{"$f":"'Project Cashflows'!SIR371","v":0},{"$f":"'Project Cashflows'!SIS371","v":0},{"$f":"'Project Cashflows'!SIT371","v":0},{"$f":"'Project Cashflows'!SIU371","v":0},{"$f":"'Project Cashflows'!SIV371","v":0},{"$f":"'Project Cashflows'!SIW371","v":0},{"$f":"'Project Cashflows'!SIX371","v":0},{"$f":"'Project Cashflows'!SIY371","v":0},{"$f":"'Project Cashflows'!SIZ371","v":0},{"$f":"'Project Cashflows'!SJA371","v":0},{"$f":"'Project Cashflows'!SJB371","v":0},{"$f":"'Project Cashflows'!SJC371","v":0},{"$f":"'Project Cashflows'!SJD371","v":0},{"$f":"'Project Cashflows'!SJE371","v":0},{"$f":"'Project Cashflows'!SJF371","v":0},{"$f":"'Project Cashflows'!SJG371","v":0},{"$f":"'Project Cashflows'!SJH371","v":0},{"$f":"'Project Cashflows'!SJI371","v":0},{"$f":"'Project Cashflows'!SJJ371","v":0},{"$f":"'Project Cashflows'!SJK371","v":0},{"$f":"'Project Cashflows'!SJL371","v":0},{"$f":"'Project Cashflows'!SJM371","v":0},{"$f":"'Project Cashflows'!SJN371","v":0},{"$f":"'Project Cashflows'!SJO371","v":0},{"$f":"'Project Cashflows'!SJP371","v":0},{"$f":"'Project Cashflows'!SJQ371","v":0},{"$f":"'Project Cashflows'!SJR371","v":0},{"$f":"'Project Cashflows'!SJS371","v":0},{"$f":"'Project Cashflows'!SJT371","v":0},{"$f":"'Project Cashflows'!SJU371","v":0},{"$f":"'Project Cashflows'!SJV371","v":0},{"$f":"'Project Cashflows'!SJW371","v":0},{"$f":"'Project Cashflows'!SJX371","v":0},{"$f":"'Project Cashflows'!SJY371","v":0},{"$f":"'Project Cashflows'!SJZ371","v":0},{"$f":"'Project Cashflows'!SKA371","v":0},{"$f":"'Project Cashflows'!SKB371","v":0},{"$f":"'Project Cashflows'!SKC371","v":0},{"$f":"'Project Cashflows'!SKD371","v":0},{"$f":"'Project Cashflows'!SKE371","v":0},{"$f":"'Project Cashflows'!SKF371","v":0},{"$f":"'Project Cashflows'!SKG371","v":0},{"$f":"'Project Cashflows'!SKH371","v":0},{"$f":"'Project Cashflows'!SKI371","v":0},{"$f":"'Project Cashflows'!SKJ371","v":0},{"$f":"'Project Cashflows'!SKK371","v":0},{"$f":"'Project Cashflows'!SKL371","v":0},{"$f":"'Project Cashflows'!SKM371","v":0},{"$f":"'Project Cashflows'!SKN371","v":0},{"$f":"'Project Cashflows'!SKO371","v":0},{"$f":"'Project Cashflows'!SKP371","v":0},{"$f":"'Project Cashflows'!SKQ371","v":0},{"$f":"'Project Cashflows'!SKR371","v":0},{"$f":"'Project Cashflows'!SKS371","v":0},{"$f":"'Project Cashflows'!SKT371","v":0},{"$f":"'Project Cashflows'!SKU371","v":0},{"$f":"'Project Cashflows'!SKV371","v":0},{"$f":"'Project Cashflows'!SKW371","v":0},{"$f":"'Project Cashflows'!SKX371","v":0},{"$f":"'Project Cashflows'!SKY371","v":0},{"$f":"'Project Cashflows'!SKZ371","v":0},{"$f":"'Project Cashflows'!SLA371","v":0},{"$f":"'Project Cashflows'!SLB371","v":0},{"$f":"'Project Cashflows'!SLC371","v":0},{"$f":"'Project Cashflows'!SLD371","v":0},{"$f":"'Project Cashflows'!SLE371","v":0},{"$f":"'Project Cashflows'!SLF371","v":0},{"$f":"'Project Cashflows'!SLG371","v":0},{"$f":"'Project Cashflows'!SLH371","v":0},{"$f":"'Project Cashflows'!SLI371","v":0},{"$f":"'Project Cashflows'!SLJ371","v":0},{"$f":"'Project Cashflows'!SLK371","v":0},{"$f":"'Project Cashflows'!SLL371","v":0},{"$f":"'Project Cashflows'!SLM371","v":0},{"$f":"'Project Cashflows'!SLN371","v":0},{"$f":"'Project Cashflows'!SLO371","v":0},{"$f":"'Project Cashflows'!SLP371","v":0},{"$f":"'Project Cashflows'!SLQ371","v":0},{"$f":"'Project Cashflows'!SLR371","v":0},{"$f":"'Project Cashflows'!SLS371","v":0},{"$f":"'Project Cashflows'!SLT371","v":0},{"$f":"'Project Cashflows'!SLU371","v":0},{"$f":"'Project Cashflows'!SLV371","v":0},{"$f":"'Project Cashflows'!SLW371","v":0},{"$f":"'Project Cashflows'!SLX371","v":0},{"$f":"'Project Cashflows'!SLY371","v":0},{"$f":"'Project Cashflows'!SLZ371","v":0},{"$f":"'Project Cashflows'!SMA371","v":0},{"$f":"'Project Cashflows'!SMB371","v":0},{"$f":"'Project Cashflows'!SMC371","v":0},{"$f":"'Project Cashflows'!SMD371","v":0},{"$f":"'Project Cashflows'!SME371","v":0},{"$f":"'Project Cashflows'!SMF371","v":0},{"$f":"'Project Cashflows'!SMG371","v":0},{"$f":"'Project Cashflows'!SMH371","v":0},{"$f":"'Project Cashflows'!SMI371","v":0},{"$f":"'Project Cashflows'!SMJ371","v":0},{"$f":"'Project Cashflows'!SMK371","v":0},{"$f":"'Project Cashflows'!SML371","v":0},{"$f":"'Project Cashflows'!SMM371","v":0},{"$f":"'Project Cashflows'!SMN371","v":0},{"$f":"'Project Cashflows'!SMO371","v":0},{"$f":"'Project Cashflows'!SMP371","v":0},{"$f":"'Project Cashflows'!SMQ371","v":0},{"$f":"'Project Cashflows'!SMR371","v":0},{"$f":"'Project Cashflows'!SMS371","v":0},{"$f":"'Project Cashflows'!SMT371","v":0},{"$f":"'Project Cashflows'!SMU371","v":0},{"$f":"'Project Cashflows'!SMV371","v":0},{"$f":"'Project Cashflows'!SMW371","v":0},{"$f":"'Project Cashflows'!SMX371","v":0},{"$f":"'Project Cashflows'!SMY371","v":0},{"$f":"'Project Cashflows'!SMZ371","v":0},{"$f":"'Project Cashflows'!SNA371","v":0},{"$f":"'Project Cashflows'!SNB371","v":0},{"$f":"'Project Cashflows'!SNC371","v":0},{"$f":"'Project Cashflows'!SND371","v":0},{"$f":"'Project Cashflows'!SNE371","v":0},{"$f":"'Project Cashflows'!SNF371","v":0},{"$f":"'Project Cashflows'!SNG371","v":0},{"$f":"'Project Cashflows'!SNH371","v":0},{"$f":"'Project Cashflows'!SNI371","v":0},{"$f":"'Project Cashflows'!SNJ371","v":0},{"$f":"'Project Cashflows'!SNK371","v":0},{"$f":"'Project Cashflows'!SNL371","v":0},{"$f":"'Project Cashflows'!SNM371","v":0},{"$f":"'Project Cashflows'!SNN371","v":0},{"$f":"'Project Cashflows'!SNO371","v":0},{"$f":"'Project Cashflows'!SNP371","v":0},{"$f":"'Project Cashflows'!SNQ371","v":0},{"$f":"'Project Cashflows'!SNR371","v":0},{"$f":"'Project Cashflows'!SNS371","v":0},{"$f":"'Project Cashflows'!SNT371","v":0},{"$f":"'Project Cashflows'!SNU371","v":0},{"$f":"'Project Cashflows'!SNV371","v":0},{"$f":"'Project Cashflows'!SNW371","v":0},{"$f":"'Project Cashflows'!SNX371","v":0},{"$f":"'Project Cashflows'!SNY371","v":0},{"$f":"'Project Cashflows'!SNZ371","v":0},{"$f":"'Project Cashflows'!SOA371","v":0},{"$f":"'Project Cashflows'!SOB371","v":0},{"$f":"'Project Cashflows'!SOC371","v":0},{"$f":"'Project Cashflows'!SOD371","v":0},{"$f":"'Project Cashflows'!SOE371","v":0},{"$f":"'Project Cashflows'!SOF371","v":0},{"$f":"'Project Cashflows'!SOG371","v":0},{"$f":"'Project Cashflows'!SOH371","v":0},{"$f":"'Project Cashflows'!SOI371","v":0},{"$f":"'Project Cashflows'!SOJ371","v":0},{"$f":"'Project Cashflows'!SOK371","v":0},{"$f":"'Project Cashflows'!SOL371","v":0},{"$f":"'Project Cashflows'!SOM371","v":0},{"$f":"'Project Cashflows'!SON371","v":0},{"$f":"'Project Cashflows'!SOO371","v":0},{"$f":"'Project Cashflows'!SOP371","v":0},{"$f":"'Project Cashflows'!SOQ371","v":0},{"$f":"'Project Cashflows'!SOR371","v":0},{"$f":"'Project Cashflows'!SOS371","v":0},{"$f":"'Project Cashflows'!SOT371","v":0},{"$f":"'Project Cashflows'!SOU371","v":0},{"$f":"'Project Cashflows'!SOV371","v":0},{"$f":"'Project Cashflows'!SOW371","v":0},{"$f":"'Project Cashflows'!SOX371","v":0},{"$f":"'Project Cashflows'!SOY371","v":0},{"$f":"'Project Cashflows'!SOZ371","v":0},{"$f":"'Project Cashflows'!SPA371","v":0},{"$f":"'Project Cashflows'!SPB371","v":0},{"$f":"'Project Cashflows'!SPC371","v":0},{"$f":"'Project Cashflows'!SPD371","v":0},{"$f":"'Project Cashflows'!SPE371","v":0},{"$f":"'Project Cashflows'!SPF371","v":0},{"$f":"'Project Cashflows'!SPG371","v":0},{"$f":"'Project Cashflows'!SPH371","v":0},{"$f":"'Project Cashflows'!SPI371","v":0},{"$f":"'Project Cashflows'!SPJ371","v":0},{"$f":"'Project Cashflows'!SPK371","v":0},{"$f":"'Project Cashflows'!SPL371","v":0},{"$f":"'Project Cashflows'!SPM371","v":0},{"$f":"'Project Cashflows'!SPN371","v":0},{"$f":"'Project Cashflows'!SPO371","v":0},{"$f":"'Project Cashflows'!SPP371","v":0},{"$f":"'Project Cashflows'!SPQ371","v":0},{"$f":"'Project Cashflows'!SPR371","v":0},{"$f":"'Project Cashflows'!SPS371","v":0},{"$f":"'Project Cashflows'!SPT371","v":0},{"$f":"'Project Cashflows'!SPU371","v":0},{"$f":"'Project Cashflows'!SPV371","v":0},{"$f":"'Project Cashflows'!SPW371","v":0},{"$f":"'Project Cashflows'!SPX371","v":0},{"$f":"'Project Cashflows'!SPY371","v":0},{"$f":"'Project Cashflows'!SPZ371","v":0},{"$f":"'Project Cashflows'!SQA371","v":0},{"$f":"'Project Cashflows'!SQB371","v":0},{"$f":"'Project Cashflows'!SQC371","v":0},{"$f":"'Project Cashflows'!SQD371","v":0},{"$f":"'Project Cashflows'!SQE371","v":0},{"$f":"'Project Cashflows'!SQF371","v":0},{"$f":"'Project Cashflows'!SQG371","v":0},{"$f":"'Project Cashflows'!SQH371","v":0},{"$f":"'Project Cashflows'!SQI371","v":0},{"$f":"'Project Cashflows'!SQJ371","v":0},{"$f":"'Project Cashflows'!SQK371","v":0},{"$f":"'Project Cashflows'!SQL371","v":0},{"$f":"'Project Cashflows'!SQM371","v":0},{"$f":"'Project Cashflows'!SQN371","v":0},{"$f":"'Project Cashflows'!SQO371","v":0},{"$f":"'Project Cashflows'!SQP371","v":0},{"$f":"'Project Cashflows'!SQQ371","v":0},{"$f":"'Project Cashflows'!SQR371","v":0},{"$f":"'Project Cashflows'!SQS371","v":0},{"$f":"'Project Cashflows'!SQT371","v":0},{"$f":"'Project Cashflows'!SQU371","v":0},{"$f":"'Project Cashflows'!SQV371","v":0},{"$f":"'Project Cashflows'!SQW371","v":0},{"$f":"'Project Cashflows'!SQX371","v":0},{"$f":"'Project Cashflows'!SQY371","v":0},{"$f":"'Project Cashflows'!SQZ371","v":0},{"$f":"'Project Cashflows'!SRA371","v":0},{"$f":"'Project Cashflows'!SRB371","v":0},{"$f":"'Project Cashflows'!SRC371","v":0},{"$f":"'Project Cashflows'!SRD371","v":0},{"$f":"'Project Cashflows'!SRE371","v":0},{"$f":"'Project Cashflows'!SRF371","v":0},{"$f":"'Project Cashflows'!SRG371","v":0},{"$f":"'Project Cashflows'!SRH371","v":0},{"$f":"'Project Cashflows'!SRI371","v":0},{"$f":"'Project Cashflows'!SRJ371","v":0},{"$f":"'Project Cashflows'!SRK371","v":0},{"$f":"'Project Cashflows'!SRL371","v":0},{"$f":"'Project Cashflows'!SRM371","v":0},{"$f":"'Project Cashflows'!SRN371","v":0},{"$f":"'Project Cashflows'!SRO371","v":0},{"$f":"'Project Cashflows'!SRP371","v":0},{"$f":"'Project Cashflows'!SRQ371","v":0},{"$f":"'Project Cashflows'!SRR371","v":0},{"$f":"'Project Cashflows'!SRS371","v":0},{"$f":"'Project Cashflows'!SRT371","v":0},{"$f":"'Project Cashflows'!SRU371","v":0},{"$f":"'Project Cashflows'!SRV371","v":0},{"$f":"'Project Cashflows'!SRW371","v":0},{"$f":"'Project Cashflows'!SRX371","v":0},{"$f":"'Project Cashflows'!SRY371","v":0},{"$f":"'Project Cashflows'!SRZ371","v":0},{"$f":"'Project Cashflows'!SSA371","v":0},{"$f":"'Project Cashflows'!SSB371","v":0},{"$f":"'Project Cashflows'!SSC371","v":0},{"$f":"'Project Cashflows'!SSD371","v":0},{"$f":"'Project Cashflows'!SSE371","v":0},{"$f":"'Project Cashflows'!SSF371","v":0},{"$f":"'Project Cashflows'!SSG371","v":0},{"$f":"'Project Cashflows'!SSH371","v":0},{"$f":"'Project Cashflows'!SSI371","v":0},{"$f":"'Project Cashflows'!SSJ371","v":0},{"$f":"'Project Cashflows'!SSK371","v":0},{"$f":"'Project Cashflows'!SSL371","v":0},{"$f":"'Project Cashflows'!SSM371","v":0},{"$f":"'Project Cashflows'!SSN371","v":0},{"$f":"'Project Cashflows'!SSO371","v":0},{"$f":"'Project Cashflows'!SSP371","v":0},{"$f":"'Project Cashflows'!SSQ371","v":0},{"$f":"'Project Cashflows'!SSR371","v":0},{"$f":"'Project Cashflows'!SSS371","v":0},{"$f":"'Project Cashflows'!SST371","v":0},{"$f":"'Project Cashflows'!SSU371","v":0},{"$f":"'Project Cashflows'!SSV371","v":0},{"$f":"'Project Cashflows'!SSW371","v":0},{"$f":"'Project Cashflows'!SSX371","v":0},{"$f":"'Project Cashflows'!SSY371","v":0},{"$f":"'Project Cashflows'!SSZ371","v":0},{"$f":"'Project Cashflows'!STA371","v":0},{"$f":"'Project Cashflows'!STB371","v":0},{"$f":"'Project Cashflows'!STC371","v":0},{"$f":"'Project Cashflows'!STD371","v":0},{"$f":"'Project Cashflows'!STE371","v":0},{"$f":"'Project Cashflows'!STF371","v":0},{"$f":"'Project Cashflows'!STG371","v":0},{"$f":"'Project Cashflows'!STH371","v":0},{"$f":"'Project Cashflows'!STI371","v":0},{"$f":"'Project Cashflows'!STJ371","v":0},{"$f":"'Project Cashflows'!STK371","v":0},{"$f":"'Project Cashflows'!STL371","v":0},{"$f":"'Project Cashflows'!STM371","v":0},{"$f":"'Project Cashflows'!STN371","v":0},{"$f":"'Project Cashflows'!STO371","v":0},{"$f":"'Project Cashflows'!STP371","v":0},{"$f":"'Project Cashflows'!STQ371","v":0},{"$f":"'Project Cashflows'!STR371","v":0},{"$f":"'Project Cashflows'!STS371","v":0},{"$f":"'Project Cashflows'!STT371","v":0},{"$f":"'Project Cashflows'!STU371","v":0},{"$f":"'Project Cashflows'!STV371","v":0},{"$f":"'Project Cashflows'!STW371","v":0},{"$f":"'Project Cashflows'!STX371","v":0},{"$f":"'Project Cashflows'!STY371","v":0},{"$f":"'Project Cashflows'!STZ371","v":0},{"$f":"'Project Cashflows'!SUA371","v":0},{"$f":"'Project Cashflows'!SUB371","v":0},{"$f":"'Project Cashflows'!SUC371","v":0},{"$f":"'Project Cashflows'!SUD371","v":0},{"$f":"'Project Cashflows'!SUE371","v":0},{"$f":"'Project Cashflows'!SUF371","v":0},{"$f":"'Project Cashflows'!SUG371","v":0},{"$f":"'Project Cashflows'!SUH371","v":0},{"$f":"'Project Cashflows'!SUI371","v":0},{"$f":"'Project Cashflows'!SUJ371","v":0},{"$f":"'Project Cashflows'!SUK371","v":0},{"$f":"'Project Cashflows'!SUL371","v":0},{"$f":"'Project Cashflows'!SUM371","v":0},{"$f":"'Project Cashflows'!SUN371","v":0},{"$f":"'Project Cashflows'!SUO371","v":0},{"$f":"'Project Cashflows'!SUP371","v":0},{"$f":"'Project Cashflows'!SUQ371","v":0},{"$f":"'Project Cashflows'!SUR371","v":0},{"$f":"'Project Cashflows'!SUS371","v":0},{"$f":"'Project Cashflows'!SUT371","v":0},{"$f":"'Project Cashflows'!SUU371","v":0},{"$f":"'Project Cashflows'!SUV371","v":0},{"$f":"'Project Cashflows'!SUW371","v":0},{"$f":"'Project Cashflows'!SUX371","v":0},{"$f":"'Project Cashflows'!SUY371","v":0},{"$f":"'Project Cashflows'!SUZ371","v":0},{"$f":"'Project Cashflows'!SVA371","v":0},{"$f":"'Project Cashflows'!SVB371","v":0},{"$f":"'Project Cashflows'!SVC371","v":0},{"$f":"'Project Cashflows'!SVD371","v":0},{"$f":"'Project Cashflows'!SVE371","v":0},{"$f":"'Project Cashflows'!SVF371","v":0},{"$f":"'Project Cashflows'!SVG371","v":0},{"$f":"'Project Cashflows'!SVH371","v":0},{"$f":"'Project Cashflows'!SVI371","v":0},{"$f":"'Project Cashflows'!SVJ371","v":0},{"$f":"'Project Cashflows'!SVK371","v":0},{"$f":"'Project Cashflows'!SVL371","v":0},{"$f":"'Project Cashflows'!SVM371","v":0},{"$f":"'Project Cashflows'!SVN371","v":0},{"$f":"'Project Cashflows'!SVO371","v":0},{"$f":"'Project Cashflows'!SVP371","v":0},{"$f":"'Project Cashflows'!SVQ371","v":0},{"$f":"'Project Cashflows'!SVR371","v":0},{"$f":"'Project Cashflows'!SVS371","v":0},{"$f":"'Project Cashflows'!SVT371","v":0},{"$f":"'Project Cashflows'!SVU371","v":0},{"$f":"'Project Cashflows'!SVV371","v":0},{"$f":"'Project Cashflows'!SVW371","v":0},{"$f":"'Project Cashflows'!SVX371","v":0},{"$f":"'Project Cashflows'!SVY371","v":0},{"$f":"'Project Cashflows'!SVZ371","v":0},{"$f":"'Project Cashflows'!SWA371","v":0},{"$f":"'Project Cashflows'!SWB371","v":0},{"$f":"'Project Cashflows'!SWC371","v":0},{"$f":"'Project Cashflows'!SWD371","v":0},{"$f":"'Project Cashflows'!SWE371","v":0},{"$f":"'Project Cashflows'!SWF371","v":0},{"$f":"'Project Cashflows'!SWG371","v":0},{"$f":"'Project Cashflows'!SWH371","v":0},{"$f":"'Project Cashflows'!SWI371","v":0},{"$f":"'Project Cashflows'!SWJ371","v":0},{"$f":"'Project Cashflows'!SWK371","v":0},{"$f":"'Project Cashflows'!SWL371","v":0},{"$f":"'Project Cashflows'!SWM371","v":0},{"$f":"'Project Cashflows'!SWN371","v":0},{"$f":"'Project Cashflows'!SWO371","v":0},{"$f":"'Project Cashflows'!SWP371","v":0},{"$f":"'Project Cashflows'!SWQ371","v":0},{"$f":"'Project Cashflows'!SWR371","v":0},{"$f":"'Project Cashflows'!SWS371","v":0},{"$f":"'Project Cashflows'!SWT371","v":0},{"$f":"'Project Cashflows'!SWU371","v":0},{"$f":"'Project Cashflows'!SWV371","v":0},{"$f":"'Project Cashflows'!SWW371","v":0},{"$f":"'Project Cashflows'!SWX371","v":0},{"$f":"'Project Cashflows'!SWY371","v":0},{"$f":"'Project Cashflows'!SWZ371","v":0},{"$f":"'Project Cashflows'!SXA371","v":0},{"$f":"'Project Cashflows'!SXB371","v":0},{"$f":"'Project Cashflows'!SXC371","v":0},{"$f":"'Project Cashflows'!SXD371","v":0},{"$f":"'Project Cashflows'!SXE371","v":0},{"$f":"'Project Cashflows'!SXF371","v":0},{"$f":"'Project Cashflows'!SXG371","v":0},{"$f":"'Project Cashflows'!SXH371","v":0},{"$f":"'Project Cashflows'!SXI371","v":0},{"$f":"'Project Cashflows'!SXJ371","v":0},{"$f":"'Project Cashflows'!SXK371","v":0},{"$f":"'Project Cashflows'!SXL371","v":0},{"$f":"'Project Cashflows'!SXM371","v":0},{"$f":"'Project Cashflows'!SXN371","v":0},{"$f":"'Project Cashflows'!SXO371","v":0},{"$f":"'Project Cashflows'!SXP371","v":0},{"$f":"'Project Cashflows'!SXQ371","v":0},{"$f":"'Project Cashflows'!SXR371","v":0},{"$f":"'Project Cashflows'!SXS371","v":0},{"$f":"'Project Cashflows'!SXT371","v":0},{"$f":"'Project Cashflows'!SXU371","v":0},{"$f":"'Project Cashflows'!SXV371","v":0},{"$f":"'Project Cashflows'!SXW371","v":0},{"$f":"'Project Cashflows'!SXX371","v":0},{"$f":"'Project Cashflows'!SXY371","v":0},{"$f":"'Project Cashflows'!SXZ371","v":0},{"$f":"'Project Cashflows'!SYA371","v":0},{"$f":"'Project Cashflows'!SYB371","v":0},{"$f":"'Project Cashflows'!SYC371","v":0},{"$f":"'Project Cashflows'!SYD371","v":0},{"$f":"'Project Cashflows'!SYE371","v":0},{"$f":"'Project Cashflows'!SYF371","v":0},{"$f":"'Project Cashflows'!SYG371","v":0},{"$f":"'Project Cashflows'!SYH371","v":0},{"$f":"'Project Cashflows'!SYI371","v":0},{"$f":"'Project Cashflows'!SYJ371","v":0},{"$f":"'Project Cashflows'!SYK371","v":0},{"$f":"'Project Cashflows'!SYL371","v":0},{"$f":"'Project Cashflows'!SYM371","v":0},{"$f":"'Project Cashflows'!SYN371","v":0},{"$f":"'Project Cashflows'!SYO371","v":0},{"$f":"'Project Cashflows'!SYP371","v":0},{"$f":"'Project Cashflows'!SYQ371","v":0},{"$f":"'Project Cashflows'!SYR371","v":0},{"$f":"'Project Cashflows'!SYS371","v":0},{"$f":"'Project Cashflows'!SYT371","v":0},{"$f":"'Project Cashflows'!SYU371","v":0},{"$f":"'Project Cashflows'!SYV371","v":0},{"$f":"'Project Cashflows'!SYW371","v":0},{"$f":"'Project Cashflows'!SYX371","v":0},{"$f":"'Project Cashflows'!SYY371","v":0},{"$f":"'Project Cashflows'!SYZ371","v":0},{"$f":"'Project Cashflows'!SZA371","v":0},{"$f":"'Project Cashflows'!SZB371","v":0},{"$f":"'Project Cashflows'!SZC371","v":0},{"$f":"'Project Cashflows'!SZD371","v":0},{"$f":"'Project Cashflows'!SZE371","v":0},{"$f":"'Project Cashflows'!SZF371","v":0},{"$f":"'Project Cashflows'!SZG371","v":0},{"$f":"'Project Cashflows'!SZH371","v":0},{"$f":"'Project Cashflows'!SZI371","v":0},{"$f":"'Project Cashflows'!SZJ371","v":0},{"$f":"'Project Cashflows'!SZK371","v":0},{"$f":"'Project Cashflows'!SZL371","v":0},{"$f":"'Project Cashflows'!SZM371","v":0},{"$f":"'Project Cashflows'!SZN371","v":0},{"$f":"'Project Cashflows'!SZO371","v":0},{"$f":"'Project Cashflows'!SZP371","v":0},{"$f":"'Project Cashflows'!SZQ371","v":0},{"$f":"'Project Cashflows'!SZR371","v":0},{"$f":"'Project Cashflows'!SZS371","v":0},{"$f":"'Project Cashflows'!SZT371","v":0},{"$f":"'Project Cashflows'!SZU371","v":0},{"$f":"'Project Cashflows'!SZV371","v":0},{"$f":"'Project Cashflows'!SZW371","v":0},{"$f":"'Project Cashflows'!SZX371","v":0},{"$f":"'Project Cashflows'!SZY371","v":0},{"$f":"'Project Cashflows'!SZZ371","v":0},{"$f":"'Project Cashflows'!TAA371","v":0},{"$f":"'Project Cashflows'!TAB371","v":0},{"$f":"'Project Cashflows'!TAC371","v":0},{"$f":"'Project Cashflows'!TAD371","v":0},{"$f":"'Project Cashflows'!TAE371","v":0},{"$f":"'Project Cashflows'!TAF371","v":0},{"$f":"'Project Cashflows'!TAG371","v":0},{"$f":"'Project Cashflows'!TAH371","v":0},{"$f":"'Project Cashflows'!TAI371","v":0},{"$f":"'Project Cashflows'!TAJ371","v":0},{"$f":"'Project Cashflows'!TAK371","v":0},{"$f":"'Project Cashflows'!TAL371","v":0},{"$f":"'Project Cashflows'!TAM371","v":0},{"$f":"'Project Cashflows'!TAN371","v":0},{"$f":"'Project Cashflows'!TAO371","v":0},{"$f":"'Project Cashflows'!TAP371","v":0},{"$f":"'Project Cashflows'!TAQ371","v":0},{"$f":"'Project Cashflows'!TAR371","v":0},{"$f":"'Project Cashflows'!TAS371","v":0},{"$f":"'Project Cashflows'!TAT371","v":0},{"$f":"'Project Cashflows'!TAU371","v":0},{"$f":"'Project Cashflows'!TAV371","v":0},{"$f":"'Project Cashflows'!TAW371","v":0},{"$f":"'Project Cashflows'!TAX371","v":0},{"$f":"'Project Cashflows'!TAY371","v":0},{"$f":"'Project Cashflows'!TAZ371","v":0},{"$f":"'Project Cashflows'!TBA371","v":0},{"$f":"'Project Cashflows'!TBB371","v":0},{"$f":"'Project Cashflows'!TBC371","v":0},{"$f":"'Project Cashflows'!TBD371","v":0},{"$f":"'Project Cashflows'!TBE371","v":0},{"$f":"'Project Cashflows'!TBF371","v":0},{"$f":"'Project Cashflows'!TBG371","v":0},{"$f":"'Project Cashflows'!TBH371","v":0},{"$f":"'Project Cashflows'!TBI371","v":0},{"$f":"'Project Cashflows'!TBJ371","v":0},{"$f":"'Project Cashflows'!TBK371","v":0},{"$f":"'Project Cashflows'!TBL371","v":0},{"$f":"'Project Cashflows'!TBM371","v":0},{"$f":"'Project Cashflows'!TBN371","v":0},{"$f":"'Project Cashflows'!TBO371","v":0},{"$f":"'Project Cashflows'!TBP371","v":0},{"$f":"'Project Cashflows'!TBQ371","v":0},{"$f":"'Project Cashflows'!TBR371","v":0},{"$f":"'Project Cashflows'!TBS371","v":0},{"$f":"'Project Cashflows'!TBT371","v":0},{"$f":"'Project Cashflows'!TBU371","v":0},{"$f":"'Project Cashflows'!TBV371","v":0},{"$f":"'Project Cashflows'!TBW371","v":0},{"$f":"'Project Cashflows'!TBX371","v":0},{"$f":"'Project Cashflows'!TBY371","v":0},{"$f":"'Project Cashflows'!TBZ371","v":0},{"$f":"'Project Cashflows'!TCA371","v":0},{"$f":"'Project Cashflows'!TCB371","v":0},{"$f":"'Project Cashflows'!TCC371","v":0},{"$f":"'Project Cashflows'!TCD371","v":0},{"$f":"'Project Cashflows'!TCE371","v":0},{"$f":"'Project Cashflows'!TCF371","v":0},{"$f":"'Project Cashflows'!TCG371","v":0},{"$f":"'Project Cashflows'!TCH371","v":0},{"$f":"'Project Cashflows'!TCI371","v":0},{"$f":"'Project Cashflows'!TCJ371","v":0},{"$f":"'Project Cashflows'!TCK371","v":0},{"$f":"'Project Cashflows'!TCL371","v":0},{"$f":"'Project Cashflows'!TCM371","v":0},{"$f":"'Project Cashflows'!TCN371","v":0},{"$f":"'Project Cashflows'!TCO371","v":0},{"$f":"'Project Cashflows'!TCP371","v":0},{"$f":"'Project Cashflows'!TCQ371","v":0},{"$f":"'Project Cashflows'!TCR371","v":0},{"$f":"'Project Cashflows'!TCS371","v":0},{"$f":"'Project Cashflows'!TCT371","v":0},{"$f":"'Project Cashflows'!TCU371","v":0},{"$f":"'Project Cashflows'!TCV371","v":0},{"$f":"'Project Cashflows'!TCW371","v":0},{"$f":"'Project Cashflows'!TCX371","v":0},{"$f":"'Project Cashflows'!TCY371","v":0},{"$f":"'Project Cashflows'!TCZ371","v":0},{"$f":"'Project Cashflows'!TDA371","v":0},{"$f":"'Project Cashflows'!TDB371","v":0},{"$f":"'Project Cashflows'!TDC371","v":0},{"$f":"'Project Cashflows'!TDD371","v":0},{"$f":"'Project Cashflows'!TDE371","v":0},{"$f":"'Project Cashflows'!TDF371","v":0},{"$f":"'Project Cashflows'!TDG371","v":0},{"$f":"'Project Cashflows'!TDH371","v":0},{"$f":"'Project Cashflows'!TDI371","v":0},{"$f":"'Project Cashflows'!TDJ371","v":0},{"$f":"'Project Cashflows'!TDK371","v":0},{"$f":"'Project Cashflows'!TDL371","v":0},{"$f":"'Project Cashflows'!TDM371","v":0},{"$f":"'Project Cashflows'!TDN371","v":0},{"$f":"'Project Cashflows'!TDO371","v":0},{"$f":"'Project Cashflows'!TDP371","v":0},{"$f":"'Project Cashflows'!TDQ371","v":0},{"$f":"'Project Cashflows'!TDR371","v":0},{"$f":"'Project Cashflows'!TDS371","v":0},{"$f":"'Project Cashflows'!TDT371","v":0},{"$f":"'Project Cashflows'!TDU371","v":0},{"$f":"'Project Cashflows'!TDV371","v":0},{"$f":"'Project Cashflows'!TDW371","v":0},{"$f":"'Project Cashflows'!TDX371","v":0},{"$f":"'Project Cashflows'!TDY371","v":0},{"$f":"'Project Cashflows'!TDZ371","v":0},{"$f":"'Project Cashflows'!TEA371","v":0},{"$f":"'Project Cashflows'!TEB371","v":0},{"$f":"'Project Cashflows'!TEC371","v":0},{"$f":"'Project Cashflows'!TED371","v":0},{"$f":"'Project Cashflows'!TEE371","v":0},{"$f":"'Project Cashflows'!TEF371","v":0},{"$f":"'Project Cashflows'!TEG371","v":0},{"$f":"'Project Cashflows'!TEH371","v":0},{"$f":"'Project Cashflows'!TEI371","v":0},{"$f":"'Project Cashflows'!TEJ371","v":0},{"$f":"'Project Cashflows'!TEK371","v":0},{"$f":"'Project Cashflows'!TEL371","v":0},{"$f":"'Project Cashflows'!TEM371","v":0},{"$f":"'Project Cashflows'!TEN371","v":0},{"$f":"'Project Cashflows'!TEO371","v":0},{"$f":"'Project Cashflows'!TEP371","v":0},{"$f":"'Project Cashflows'!TEQ371","v":0},{"$f":"'Project Cashflows'!TER371","v":0},{"$f":"'Project Cashflows'!TES371","v":0},{"$f":"'Project Cashflows'!TET371","v":0},{"$f":"'Project Cashflows'!TEU371","v":0},{"$f":"'Project Cashflows'!TEV371","v":0},{"$f":"'Project Cashflows'!TEW371","v":0},{"$f":"'Project Cashflows'!TEX371","v":0},{"$f":"'Project Cashflows'!TEY371","v":0},{"$f":"'Project Cashflows'!TEZ371","v":0},{"$f":"'Project Cashflows'!TFA371","v":0},{"$f":"'Project Cashflows'!TFB371","v":0},{"$f":"'Project Cashflows'!TFC371","v":0},{"$f":"'Project Cashflows'!TFD371","v":0},{"$f":"'Project Cashflows'!TFE371","v":0},{"$f":"'Project Cashflows'!TFF371","v":0},{"$f":"'Project Cashflows'!TFG371","v":0},{"$f":"'Project Cashflows'!TFH371","v":0},{"$f":"'Project Cashflows'!TFI371","v":0},{"$f":"'Project Cashflows'!TFJ371","v":0},{"$f":"'Project Cashflows'!TFK371","v":0},{"$f":"'Project Cashflows'!TFL371","v":0},{"$f":"'Project Cashflows'!TFM371","v":0},{"$f":"'Project Cashflows'!TFN371","v":0},{"$f":"'Project Cashflows'!TFO371","v":0},{"$f":"'Project Cashflows'!TFP371","v":0},{"$f":"'Project Cashflows'!TFQ371","v":0},{"$f":"'Project Cashflows'!TFR371","v":0},{"$f":"'Project Cashflows'!TFS371","v":0},{"$f":"'Project Cashflows'!TFT371","v":0},{"$f":"'Project Cashflows'!TFU371","v":0},{"$f":"'Project Cashflows'!TFV371","v":0},{"$f":"'Project Cashflows'!TFW371","v":0},{"$f":"'Project Cashflows'!TFX371","v":0},{"$f":"'Project Cashflows'!TFY371","v":0},{"$f":"'Project Cashflows'!TFZ371","v":0},{"$f":"'Project Cashflows'!TGA371","v":0},{"$f":"'Project Cashflows'!TGB371","v":0},{"$f":"'Project Cashflows'!TGC371","v":0},{"$f":"'Project Cashflows'!TGD371","v":0},{"$f":"'Project Cashflows'!TGE371","v":0},{"$f":"'Project Cashflows'!TGF371","v":0},{"$f":"'Project Cashflows'!TGG371","v":0},{"$f":"'Project Cashflows'!TGH371","v":0},{"$f":"'Project Cashflows'!TGI371","v":0},{"$f":"'Project Cashflows'!TGJ371","v":0},{"$f":"'Project Cashflows'!TGK371","v":0},{"$f":"'Project Cashflows'!TGL371","v":0},{"$f":"'Project Cashflows'!TGM371","v":0},{"$f":"'Project Cashflows'!TGN371","v":0},{"$f":"'Project Cashflows'!TGO371","v":0},{"$f":"'Project Cashflows'!TGP371","v":0},{"$f":"'Project Cashflows'!TGQ371","v":0},{"$f":"'Project Cashflows'!TGR371","v":0},{"$f":"'Project Cashflows'!TGS371","v":0},{"$f":"'Project Cashflows'!TGT371","v":0},{"$f":"'Project Cashflows'!TGU371","v":0},{"$f":"'Project Cashflows'!TGV371","v":0},{"$f":"'Project Cashflows'!TGW371","v":0},{"$f":"'Project Cashflows'!TGX371","v":0},{"$f":"'Project Cashflows'!TGY371","v":0},{"$f":"'Project Cashflows'!TGZ371","v":0},{"$f":"'Project Cashflows'!THA371","v":0},{"$f":"'Project Cashflows'!THB371","v":0},{"$f":"'Project Cashflows'!THC371","v":0},{"$f":"'Project Cashflows'!THD371","v":0},{"$f":"'Project Cashflows'!THE371","v":0},{"$f":"'Project Cashflows'!THF371","v":0},{"$f":"'Project Cashflows'!THG371","v":0},{"$f":"'Project Cashflows'!THH371","v":0},{"$f":"'Project Cashflows'!THI371","v":0},{"$f":"'Project Cashflows'!THJ371","v":0},{"$f":"'Project Cashflows'!THK371","v":0},{"$f":"'Project Cashflows'!THL371","v":0},{"$f":"'Project Cashflows'!THM371","v":0},{"$f":"'Project Cashflows'!THN371","v":0},{"$f":"'Project Cashflows'!THO371","v":0},{"$f":"'Project Cashflows'!THP371","v":0},{"$f":"'Project Cashflows'!THQ371","v":0},{"$f":"'Project Cashflows'!THR371","v":0},{"$f":"'Project Cashflows'!THS371","v":0},{"$f":"'Project Cashflows'!THT371","v":0},{"$f":"'Project Cashflows'!THU371","v":0},{"$f":"'Project Cashflows'!THV371","v":0},{"$f":"'Project Cashflows'!THW371","v":0},{"$f":"'Project Cashflows'!THX371","v":0},{"$f":"'Project Cashflows'!THY371","v":0},{"$f":"'Project Cashflows'!THZ371","v":0},{"$f":"'Project Cashflows'!TIA371","v":0},{"$f":"'Project Cashflows'!TIB371","v":0},{"$f":"'Project Cashflows'!TIC371","v":0},{"$f":"'Project Cashflows'!TID371","v":0},{"$f":"'Project Cashflows'!TIE371","v":0},{"$f":"'Project Cashflows'!TIF371","v":0},{"$f":"'Project Cashflows'!TIG371","v":0},{"$f":"'Project Cashflows'!TIH371","v":0},{"$f":"'Project Cashflows'!TII371","v":0},{"$f":"'Project Cashflows'!TIJ371","v":0},{"$f":"'Project Cashflows'!TIK371","v":0},{"$f":"'Project Cashflows'!TIL371","v":0},{"$f":"'Project Cashflows'!TIM371","v":0},{"$f":"'Project Cashflows'!TIN371","v":0},{"$f":"'Project Cashflows'!TIO371","v":0},{"$f":"'Project Cashflows'!TIP371","v":0},{"$f":"'Project Cashflows'!TIQ371","v":0},{"$f":"'Project Cashflows'!TIR371","v":0},{"$f":"'Project Cashflows'!TIS371","v":0},{"$f":"'Project Cashflows'!TIT371","v":0},{"$f":"'Project Cashflows'!TIU371","v":0},{"$f":"'Project Cashflows'!TIV371","v":0},{"$f":"'Project Cashflows'!TIW371","v":0},{"$f":"'Project Cashflows'!TIX371","v":0},{"$f":"'Project Cashflows'!TIY371","v":0},{"$f":"'Project Cashflows'!TIZ371","v":0},{"$f":"'Project Cashflows'!TJA371","v":0},{"$f":"'Project Cashflows'!TJB371","v":0},{"$f":"'Project Cashflows'!TJC371","v":0},{"$f":"'Project Cashflows'!TJD371","v":0},{"$f":"'Project Cashflows'!TJE371","v":0},{"$f":"'Project Cashflows'!TJF371","v":0},{"$f":"'Project Cashflows'!TJG371","v":0},{"$f":"'Project Cashflows'!TJH371","v":0},{"$f":"'Project Cashflows'!TJI371","v":0},{"$f":"'Project Cashflows'!TJJ371","v":0},{"$f":"'Project Cashflows'!TJK371","v":0},{"$f":"'Project Cashflows'!TJL371","v":0},{"$f":"'Project Cashflows'!TJM371","v":0},{"$f":"'Project Cashflows'!TJN371","v":0},{"$f":"'Project Cashflows'!TJO371","v":0},{"$f":"'Project Cashflows'!TJP371","v":0},{"$f":"'Project Cashflows'!TJQ371","v":0},{"$f":"'Project Cashflows'!TJR371","v":0},{"$f":"'Project Cashflows'!TJS371","v":0},{"$f":"'Project Cashflows'!TJT371","v":0},{"$f":"'Project Cashflows'!TJU371","v":0},{"$f":"'Project Cashflows'!TJV371","v":0},{"$f":"'Project Cashflows'!TJW371","v":0},{"$f":"'Project Cashflows'!TJX371","v":0},{"$f":"'Project Cashflows'!TJY371","v":0},{"$f":"'Project Cashflows'!TJZ371","v":0},{"$f":"'Project Cashflows'!TKA371","v":0},{"$f":"'Project Cashflows'!TKB371","v":0},{"$f":"'Project Cashflows'!TKC371","v":0},{"$f":"'Project Cashflows'!TKD371","v":0},{"$f":"'Project Cashflows'!TKE371","v":0},{"$f":"'Project Cashflows'!TKF371","v":0},{"$f":"'Project Cashflows'!TKG371","v":0},{"$f":"'Project Cashflows'!TKH371","v":0},{"$f":"'Project Cashflows'!TKI371","v":0},{"$f":"'Project Cashflows'!TKJ371","v":0},{"$f":"'Project Cashflows'!TKK371","v":0},{"$f":"'Project Cashflows'!TKL371","v":0},{"$f":"'Project Cashflows'!TKM371","v":0},{"$f":"'Project Cashflows'!TKN371","v":0},{"$f":"'Project Cashflows'!TKO371","v":0},{"$f":"'Project Cashflows'!TKP371","v":0},{"$f":"'Project Cashflows'!TKQ371","v":0},{"$f":"'Project Cashflows'!TKR371","v":0},{"$f":"'Project Cashflows'!TKS371","v":0},{"$f":"'Project Cashflows'!TKT371","v":0},{"$f":"'Project Cashflows'!TKU371","v":0},{"$f":"'Project Cashflows'!TKV371","v":0},{"$f":"'Project Cashflows'!TKW371","v":0},{"$f":"'Project Cashflows'!TKX371","v":0},{"$f":"'Project Cashflows'!TKY371","v":0},{"$f":"'Project Cashflows'!TKZ371","v":0},{"$f":"'Project Cashflows'!TLA371","v":0},{"$f":"'Project Cashflows'!TLB371","v":0},{"$f":"'Project Cashflows'!TLC371","v":0},{"$f":"'Project Cashflows'!TLD371","v":0},{"$f":"'Project Cashflows'!TLE371","v":0},{"$f":"'Project Cashflows'!TLF371","v":0},{"$f":"'Project Cashflows'!TLG371","v":0},{"$f":"'Project Cashflows'!TLH371","v":0},{"$f":"'Project Cashflows'!TLI371","v":0},{"$f":"'Project Cashflows'!TLJ371","v":0},{"$f":"'Project Cashflows'!TLK371","v":0},{"$f":"'Project Cashflows'!TLL371","v":0},{"$f":"'Project Cashflows'!TLM371","v":0},{"$f":"'Project Cashflows'!TLN371","v":0},{"$f":"'Project Cashflows'!TLO371","v":0},{"$f":"'Project Cashflows'!TLP371","v":0},{"$f":"'Project Cashflows'!TLQ371","v":0},{"$f":"'Project Cashflows'!TLR371","v":0},{"$f":"'Project Cashflows'!TLS371","v":0},{"$f":"'Project Cashflows'!TLT371","v":0},{"$f":"'Project Cashflows'!TLU371","v":0},{"$f":"'Project Cashflows'!TLV371","v":0},{"$f":"'Project Cashflows'!TLW371","v":0},{"$f":"'Project Cashflows'!TLX371","v":0},{"$f":"'Project Cashflows'!TLY371","v":0},{"$f":"'Project Cashflows'!TLZ371","v":0},{"$f":"'Project Cashflows'!TMA371","v":0},{"$f":"'Project Cashflows'!TMB371","v":0},{"$f":"'Project Cashflows'!TMC371","v":0},{"$f":"'Project Cashflows'!TMD371","v":0},{"$f":"'Project Cashflows'!TME371","v":0},{"$f":"'Project Cashflows'!TMF371","v":0},{"$f":"'Project Cashflows'!TMG371","v":0},{"$f":"'Project Cashflows'!TMH371","v":0},{"$f":"'Project Cashflows'!TMI371","v":0},{"$f":"'Project Cashflows'!TMJ371","v":0},{"$f":"'Project Cashflows'!TMK371","v":0},{"$f":"'Project Cashflows'!TML371","v":0},{"$f":"'Project Cashflows'!TMM371","v":0},{"$f":"'Project Cashflows'!TMN371","v":0},{"$f":"'Project Cashflows'!TMO371","v":0},{"$f":"'Project Cashflows'!TMP371","v":0},{"$f":"'Project Cashflows'!TMQ371","v":0},{"$f":"'Project Cashflows'!TMR371","v":0},{"$f":"'Project Cashflows'!TMS371","v":0},{"$f":"'Project Cashflows'!TMT371","v":0},{"$f":"'Project Cashflows'!TMU371","v":0},{"$f":"'Project Cashflows'!TMV371","v":0},{"$f":"'Project Cashflows'!TMW371","v":0},{"$f":"'Project Cashflows'!TMX371","v":0},{"$f":"'Project Cashflows'!TMY371","v":0},{"$f":"'Project Cashflows'!TMZ371","v":0},{"$f":"'Project Cashflows'!TNA371","v":0},{"$f":"'Project Cashflows'!TNB371","v":0},{"$f":"'Project Cashflows'!TNC371","v":0},{"$f":"'Project Cashflows'!TND371","v":0},{"$f":"'Project Cashflows'!TNE371","v":0},{"$f":"'Project Cashflows'!TNF371","v":0},{"$f":"'Project Cashflows'!TNG371","v":0},{"$f":"'Project Cashflows'!TNH371","v":0},{"$f":"'Project Cashflows'!TNI371","v":0},{"$f":"'Project Cashflows'!TNJ371","v":0},{"$f":"'Project Cashflows'!TNK371","v":0},{"$f":"'Project Cashflows'!TNL371","v":0},{"$f":"'Project Cashflows'!TNM371","v":0},{"$f":"'Project Cashflows'!TNN371","v":0},{"$f":"'Project Cashflows'!TNO371","v":0},{"$f":"'Project Cashflows'!TNP371","v":0},{"$f":"'Project Cashflows'!TNQ371","v":0},{"$f":"'Project Cashflows'!TNR371","v":0},{"$f":"'Project Cashflows'!TNS371","v":0},{"$f":"'Project Cashflows'!TNT371","v":0},{"$f":"'Project Cashflows'!TNU371","v":0},{"$f":"'Project Cashflows'!TNV371","v":0},{"$f":"'Project Cashflows'!TNW371","v":0},{"$f":"'Project Cashflows'!TNX371","v":0},{"$f":"'Project Cashflows'!TNY371","v":0},{"$f":"'Project Cashflows'!TNZ371","v":0},{"$f":"'Project Cashflows'!TOA371","v":0},{"$f":"'Project Cashflows'!TOB371","v":0},{"$f":"'Project Cashflows'!TOC371","v":0},{"$f":"'Project Cashflows'!TOD371","v":0},{"$f":"'Project Cashflows'!TOE371","v":0},{"$f":"'Project Cashflows'!TOF371","v":0},{"$f":"'Project Cashflows'!TOG371","v":0},{"$f":"'Project Cashflows'!TOH371","v":0},{"$f":"'Project Cashflows'!TOI371","v":0},{"$f":"'Project Cashflows'!TOJ371","v":0},{"$f":"'Project Cashflows'!TOK371","v":0},{"$f":"'Project Cashflows'!TOL371","v":0},{"$f":"'Project Cashflows'!TOM371","v":0},{"$f":"'Project Cashflows'!TON371","v":0},{"$f":"'Project Cashflows'!TOO371","v":0},{"$f":"'Project Cashflows'!TOP371","v":0},{"$f":"'Project Cashflows'!TOQ371","v":0},{"$f":"'Project Cashflows'!TOR371","v":0},{"$f":"'Project Cashflows'!TOS371","v":0},{"$f":"'Project Cashflows'!TOT371","v":0},{"$f":"'Project Cashflows'!TOU371","v":0},{"$f":"'Project Cashflows'!TOV371","v":0},{"$f":"'Project Cashflows'!TOW371","v":0},{"$f":"'Project Cashflows'!TOX371","v":0},{"$f":"'Project Cashflows'!TOY371","v":0},{"$f":"'Project Cashflows'!TOZ371","v":0},{"$f":"'Project Cashflows'!TPA371","v":0},{"$f":"'Project Cashflows'!TPB371","v":0},{"$f":"'Project Cashflows'!TPC371","v":0},{"$f":"'Project Cashflows'!TPD371","v":0},{"$f":"'Project Cashflows'!TPE371","v":0},{"$f":"'Project Cashflows'!TPF371","v":0},{"$f":"'Project Cashflows'!TPG371","v":0},{"$f":"'Project Cashflows'!TPH371","v":0},{"$f":"'Project Cashflows'!TPI371","v":0},{"$f":"'Project Cashflows'!TPJ371","v":0},{"$f":"'Project Cashflows'!TPK371","v":0},{"$f":"'Project Cashflows'!TPL371","v":0},{"$f":"'Project Cashflows'!TPM371","v":0},{"$f":"'Project Cashflows'!TPN371","v":0},{"$f":"'Project Cashflows'!TPO371","v":0},{"$f":"'Project Cashflows'!TPP371","v":0},{"$f":"'Project Cashflows'!TPQ371","v":0},{"$f":"'Project Cashflows'!TPR371","v":0},{"$f":"'Project Cashflows'!TPS371","v":0},{"$f":"'Project Cashflows'!TPT371","v":0},{"$f":"'Project Cashflows'!TPU371","v":0},{"$f":"'Project Cashflows'!TPV371","v":0},{"$f":"'Project Cashflows'!TPW371","v":0},{"$f":"'Project Cashflows'!TPX371","v":0},{"$f":"'Project Cashflows'!TPY371","v":0},{"$f":"'Project Cashflows'!TPZ371","v":0},{"$f":"'Project Cashflows'!TQA371","v":0},{"$f":"'Project Cashflows'!TQB371","v":0},{"$f":"'Project Cashflows'!TQC371","v":0},{"$f":"'Project Cashflows'!TQD371","v":0},{"$f":"'Project Cashflows'!TQE371","v":0},{"$f":"'Project Cashflows'!TQF371","v":0},{"$f":"'Project Cashflows'!TQG371","v":0},{"$f":"'Project Cashflows'!TQH371","v":0},{"$f":"'Project Cashflows'!TQI371","v":0},{"$f":"'Project Cashflows'!TQJ371","v":0},{"$f":"'Project Cashflows'!TQK371","v":0},{"$f":"'Project Cashflows'!TQL371","v":0},{"$f":"'Project Cashflows'!TQM371","v":0},{"$f":"'Project Cashflows'!TQN371","v":0},{"$f":"'Project Cashflows'!TQO371","v":0},{"$f":"'Project Cashflows'!TQP371","v":0},{"$f":"'Project Cashflows'!TQQ371","v":0},{"$f":"'Project Cashflows'!TQR371","v":0},{"$f":"'Project Cashflows'!TQS371","v":0},{"$f":"'Project Cashflows'!TQT371","v":0},{"$f":"'Project Cashflows'!TQU371","v":0},{"$f":"'Project Cashflows'!TQV371","v":0},{"$f":"'Project Cashflows'!TQW371","v":0},{"$f":"'Project Cashflows'!TQX371","v":0},{"$f":"'Project Cashflows'!TQY371","v":0},{"$f":"'Project Cashflows'!TQZ371","v":0},{"$f":"'Project Cashflows'!TRA371","v":0},{"$f":"'Project Cashflows'!TRB371","v":0},{"$f":"'Project Cashflows'!TRC371","v":0},{"$f":"'Project Cashflows'!TRD371","v":0},{"$f":"'Project Cashflows'!TRE371","v":0},{"$f":"'Project Cashflows'!TRF371","v":0},{"$f":"'Project Cashflows'!TRG371","v":0},{"$f":"'Project Cashflows'!TRH371","v":0},{"$f":"'Project Cashflows'!TRI371","v":0},{"$f":"'Project Cashflows'!TRJ371","v":0},{"$f":"'Project Cashflows'!TRK371","v":0},{"$f":"'Project Cashflows'!TRL371","v":0},{"$f":"'Project Cashflows'!TRM371","v":0},{"$f":"'Project Cashflows'!TRN371","v":0},{"$f":"'Project Cashflows'!TRO371","v":0},{"$f":"'Project Cashflows'!TRP371","v":0},{"$f":"'Project Cashflows'!TRQ371","v":0},{"$f":"'Project Cashflows'!TRR371","v":0},{"$f":"'Project Cashflows'!TRS371","v":0},{"$f":"'Project Cashflows'!TRT371","v":0},{"$f":"'Project Cashflows'!TRU371","v":0},{"$f":"'Project Cashflows'!TRV371","v":0},{"$f":"'Project Cashflows'!TRW371","v":0},{"$f":"'Project Cashflows'!TRX371","v":0},{"$f":"'Project Cashflows'!TRY371","v":0},{"$f":"'Project Cashflows'!TRZ371","v":0},{"$f":"'Project Cashflows'!TSA371","v":0},{"$f":"'Project Cashflows'!TSB371","v":0},{"$f":"'Project Cashflows'!TSC371","v":0},{"$f":"'Project Cashflows'!TSD371","v":0},{"$f":"'Project Cashflows'!TSE371","v":0},{"$f":"'Project Cashflows'!TSF371","v":0},{"$f":"'Project Cashflows'!TSG371","v":0},{"$f":"'Project Cashflows'!TSH371","v":0},{"$f":"'Project Cashflows'!TSI371","v":0},{"$f":"'Project Cashflows'!TSJ371","v":0},{"$f":"'Project Cashflows'!TSK371","v":0},{"$f":"'Project Cashflows'!TSL371","v":0},{"$f":"'Project Cashflows'!TSM371","v":0},{"$f":"'Project Cashflows'!TSN371","v":0},{"$f":"'Project Cashflows'!TSO371","v":0},{"$f":"'Project Cashflows'!TSP371","v":0},{"$f":"'Project Cashflows'!TSQ371","v":0},{"$f":"'Project Cashflows'!TSR371","v":0},{"$f":"'Project Cashflows'!TSS371","v":0},{"$f":"'Project Cashflows'!TST371","v":0},{"$f":"'Project Cashflows'!TSU371","v":0},{"$f":"'Project Cashflows'!TSV371","v":0},{"$f":"'Project Cashflows'!TSW371","v":0},{"$f":"'Project Cashflows'!TSX371","v":0},{"$f":"'Project Cashflows'!TSY371","v":0},{"$f":"'Project Cashflows'!TSZ371","v":0},{"$f":"'Project Cashflows'!TTA371","v":0},{"$f":"'Project Cashflows'!TTB371","v":0},{"$f":"'Project Cashflows'!TTC371","v":0},{"$f":"'Project Cashflows'!TTD371","v":0},{"$f":"'Project Cashflows'!TTE371","v":0},{"$f":"'Project Cashflows'!TTF371","v":0},{"$f":"'Project Cashflows'!TTG371","v":0},{"$f":"'Project Cashflows'!TTH371","v":0},{"$f":"'Project Cashflows'!TTI371","v":0},{"$f":"'Project Cashflows'!TTJ371","v":0},{"$f":"'Project Cashflows'!TTK371","v":0},{"$f":"'Project Cashflows'!TTL371","v":0},{"$f":"'Project Cashflows'!TTM371","v":0},{"$f":"'Project Cashflows'!TTN371","v":0},{"$f":"'Project Cashflows'!TTO371","v":0},{"$f":"'Project Cashflows'!TTP371","v":0},{"$f":"'Project Cashflows'!TTQ371","v":0},{"$f":"'Project Cashflows'!TTR371","v":0},{"$f":"'Project Cashflows'!TTS371","v":0},{"$f":"'Project Cashflows'!TTT371","v":0},{"$f":"'Project Cashflows'!TTU371","v":0},{"$f":"'Project Cashflows'!TTV371","v":0},{"$f":"'Project Cashflows'!TTW371","v":0},{"$f":"'Project Cashflows'!TTX371","v":0},{"$f":"'Project Cashflows'!TTY371","v":0},{"$f":"'Project Cashflows'!TTZ371","v":0},{"$f":"'Project Cashflows'!TUA371","v":0},{"$f":"'Project Cashflows'!TUB371","v":0},{"$f":"'Project Cashflows'!TUC371","v":0},{"$f":"'Project Cashflows'!TUD371","v":0},{"$f":"'Project Cashflows'!TUE371","v":0},{"$f":"'Project Cashflows'!TUF371","v":0},{"$f":"'Project Cashflows'!TUG371","v":0},{"$f":"'Project Cashflows'!TUH371","v":0},{"$f":"'Project Cashflows'!TUI371","v":0},{"$f":"'Project Cashflows'!TUJ371","v":0},{"$f":"'Project Cashflows'!TUK371","v":0},{"$f":"'Project Cashflows'!TUL371","v":0},{"$f":"'Project Cashflows'!TUM371","v":0},{"$f":"'Project Cashflows'!TUN371","v":0},{"$f":"'Project Cashflows'!TUO371","v":0},{"$f":"'Project Cashflows'!TUP371","v":0},{"$f":"'Project Cashflows'!TUQ371","v":0},{"$f":"'Project Cashflows'!TUR371","v":0},{"$f":"'Project Cashflows'!TUS371","v":0},{"$f":"'Project Cashflows'!TUT371","v":0},{"$f":"'Project Cashflows'!TUU371","v":0},{"$f":"'Project Cashflows'!TUV371","v":0},{"$f":"'Project Cashflows'!TUW371","v":0},{"$f":"'Project Cashflows'!TUX371","v":0},{"$f":"'Project Cashflows'!TUY371","v":0},{"$f":"'Project Cashflows'!TUZ371","v":0},{"$f":"'Project Cashflows'!TVA371","v":0},{"$f":"'Project Cashflows'!TVB371","v":0},{"$f":"'Project Cashflows'!TVC371","v":0},{"$f":"'Project Cashflows'!TVD371","v":0},{"$f":"'Project Cashflows'!TVE371","v":0},{"$f":"'Project Cashflows'!TVF371","v":0},{"$f":"'Project Cashflows'!TVG371","v":0},{"$f":"'Project Cashflows'!TVH371","v":0},{"$f":"'Project Cashflows'!TVI371","v":0},{"$f":"'Project Cashflows'!TVJ371","v":0},{"$f":"'Project Cashflows'!TVK371","v":0},{"$f":"'Project Cashflows'!TVL371","v":0},{"$f":"'Project Cashflows'!TVM371","v":0},{"$f":"'Project Cashflows'!TVN371","v":0},{"$f":"'Project Cashflows'!TVO371","v":0},{"$f":"'Project Cashflows'!TVP371","v":0},{"$f":"'Project Cashflows'!TVQ371","v":0},{"$f":"'Project Cashflows'!TVR371","v":0},{"$f":"'Project Cashflows'!TVS371","v":0},{"$f":"'Project Cashflows'!TVT371","v":0},{"$f":"'Project Cashflows'!TVU371","v":0},{"$f":"'Project Cashflows'!TVV371","v":0},{"$f":"'Project Cashflows'!TVW371","v":0},{"$f":"'Project Cashflows'!TVX371","v":0},{"$f":"'Project Cashflows'!TVY371","v":0},{"$f":"'Project Cashflows'!TVZ371","v":0},{"$f":"'Project Cashflows'!TWA371","v":0},{"$f":"'Project Cashflows'!TWB371","v":0},{"$f":"'Project Cashflows'!TWC371","v":0},{"$f":"'Project Cashflows'!TWD371","v":0},{"$f":"'Project Cashflows'!TWE371","v":0},{"$f":"'Project Cashflows'!TWF371","v":0},{"$f":"'Project Cashflows'!TWG371","v":0},{"$f":"'Project Cashflows'!TWH371","v":0},{"$f":"'Project Cashflows'!TWI371","v":0},{"$f":"'Project Cashflows'!TWJ371","v":0},{"$f":"'Project Cashflows'!TWK371","v":0},{"$f":"'Project Cashflows'!TWL371","v":0},{"$f":"'Project Cashflows'!TWM371","v":0},{"$f":"'Project Cashflows'!TWN371","v":0},{"$f":"'Project Cashflows'!TWO371","v":0},{"$f":"'Project Cashflows'!TWP371","v":0},{"$f":"'Project Cashflows'!TWQ371","v":0},{"$f":"'Project Cashflows'!TWR371","v":0},{"$f":"'Project Cashflows'!TWS371","v":0},{"$f":"'Project Cashflows'!TWT371","v":0},{"$f":"'Project Cashflows'!TWU371","v":0},{"$f":"'Project Cashflows'!TWV371","v":0},{"$f":"'Project Cashflows'!TWW371","v":0},{"$f":"'Project Cashflows'!TWX371","v":0},{"$f":"'Project Cashflows'!TWY371","v":0},{"$f":"'Project Cashflows'!TWZ371","v":0},{"$f":"'Project Cashflows'!TXA371","v":0},{"$f":"'Project Cashflows'!TXB371","v":0},{"$f":"'Project Cashflows'!TXC371","v":0},{"$f":"'Project Cashflows'!TXD371","v":0},{"$f":"'Project Cashflows'!TXE371","v":0},{"$f":"'Project Cashflows'!TXF371","v":0},{"$f":"'Project Cashflows'!TXG371","v":0},{"$f":"'Project Cashflows'!TXH371","v":0},{"$f":"'Project Cashflows'!TXI371","v":0},{"$f":"'Project Cashflows'!TXJ371","v":0},{"$f":"'Project Cashflows'!TXK371","v":0},{"$f":"'Project Cashflows'!TXL371","v":0},{"$f":"'Project Cashflows'!TXM371","v":0},{"$f":"'Project Cashflows'!TXN371","v":0},{"$f":"'Project Cashflows'!TXO371","v":0},{"$f":"'Project Cashflows'!TXP371","v":0},{"$f":"'Project Cashflows'!TXQ371","v":0},{"$f":"'Project Cashflows'!TXR371","v":0},{"$f":"'Project Cashflows'!TXS371","v":0},{"$f":"'Project Cashflows'!TXT371","v":0},{"$f":"'Project Cashflows'!TXU371","v":0},{"$f":"'Project Cashflows'!TXV371","v":0},{"$f":"'Project Cashflows'!TXW371","v":0},{"$f":"'Project Cashflows'!TXX371","v":0},{"$f":"'Project Cashflows'!TXY371","v":0},{"$f":"'Project Cashflows'!TXZ371","v":0},{"$f":"'Project Cashflows'!TYA371","v":0},{"$f":"'Project Cashflows'!TYB371","v":0},{"$f":"'Project Cashflows'!TYC371","v":0},{"$f":"'Project Cashflows'!TYD371","v":0},{"$f":"'Project Cashflows'!TYE371","v":0},{"$f":"'Project Cashflows'!TYF371","v":0},{"$f":"'Project Cashflows'!TYG371","v":0},{"$f":"'Project Cashflows'!TYH371","v":0},{"$f":"'Project Cashflows'!TYI371","v":0},{"$f":"'Project Cashflows'!TYJ371","v":0},{"$f":"'Project Cashflows'!TYK371","v":0},{"$f":"'Project Cashflows'!TYL371","v":0},{"$f":"'Project Cashflows'!TYM371","v":0},{"$f":"'Project Cashflows'!TYN371","v":0},{"$f":"'Project Cashflows'!TYO371","v":0},{"$f":"'Project Cashflows'!TYP371","v":0},{"$f":"'Project Cashflows'!TYQ371","v":0},{"$f":"'Project Cashflows'!TYR371","v":0},{"$f":"'Project Cashflows'!TYS371","v":0},{"$f":"'Project Cashflows'!TYT371","v":0},{"$f":"'Project Cashflows'!TYU371","v":0},{"$f":"'Project Cashflows'!TYV371","v":0},{"$f":"'Project Cashflows'!TYW371","v":0},{"$f":"'Project Cashflows'!TYX371","v":0},{"$f":"'Project Cashflows'!TYY371","v":0},{"$f":"'Project Cashflows'!TYZ371","v":0},{"$f":"'Project Cashflows'!TZA371","v":0},{"$f":"'Project Cashflows'!TZB371","v":0},{"$f":"'Project Cashflows'!TZC371","v":0},{"$f":"'Project Cashflows'!TZD371","v":0},{"$f":"'Project Cashflows'!TZE371","v":0},{"$f":"'Project Cashflows'!TZF371","v":0},{"$f":"'Project Cashflows'!TZG371","v":0},{"$f":"'Project Cashflows'!TZH371","v":0},{"$f":"'Project Cashflows'!TZI371","v":0},{"$f":"'Project Cashflows'!TZJ371","v":0},{"$f":"'Project Cashflows'!TZK371","v":0},{"$f":"'Project Cashflows'!TZL371","v":0},{"$f":"'Project Cashflows'!TZM371","v":0},{"$f":"'Project Cashflows'!TZN371","v":0},{"$f":"'Project Cashflows'!TZO371","v":0},{"$f":"'Project Cashflows'!TZP371","v":0},{"$f":"'Project Cashflows'!TZQ371","v":0},{"$f":"'Project Cashflows'!TZR371","v":0},{"$f":"'Project Cashflows'!TZS371","v":0},{"$f":"'Project Cashflows'!TZT371","v":0},{"$f":"'Project Cashflows'!TZU371","v":0},{"$f":"'Project Cashflows'!TZV371","v":0},{"$f":"'Project Cashflows'!TZW371","v":0},{"$f":"'Project Cashflows'!TZX371","v":0},{"$f":"'Project Cashflows'!TZY371","v":0},{"$f":"'Project Cashflows'!TZZ371","v":0},{"$f":"'Project Cashflows'!UAA371","v":0},{"$f":"'Project Cashflows'!UAB371","v":0},{"$f":"'Project Cashflows'!UAC371","v":0},{"$f":"'Project Cashflows'!UAD371","v":0},{"$f":"'Project Cashflows'!UAE371","v":0},{"$f":"'Project Cashflows'!UAF371","v":0},{"$f":"'Project Cashflows'!UAG371","v":0},{"$f":"'Project Cashflows'!UAH371","v":0},{"$f":"'Project Cashflows'!UAI371","v":0},{"$f":"'Project Cashflows'!UAJ371","v":0},{"$f":"'Project Cashflows'!UAK371","v":0},{"$f":"'Project Cashflows'!UAL371","v":0},{"$f":"'Project Cashflows'!UAM371","v":0},{"$f":"'Project Cashflows'!UAN371","v":0},{"$f":"'Project Cashflows'!UAO371","v":0},{"$f":"'Project Cashflows'!UAP371","v":0},{"$f":"'Project Cashflows'!UAQ371","v":0},{"$f":"'Project Cashflows'!UAR371","v":0},{"$f":"'Project Cashflows'!UAS371","v":0},{"$f":"'Project Cashflows'!UAT371","v":0},{"$f":"'Project Cashflows'!UAU371","v":0},{"$f":"'Project Cashflows'!UAV371","v":0},{"$f":"'Project Cashflows'!UAW371","v":0},{"$f":"'Project Cashflows'!UAX371","v":0},{"$f":"'Project Cashflows'!UAY371","v":0},{"$f":"'Project Cashflows'!UAZ371","v":0},{"$f":"'Project Cashflows'!UBA371","v":0},{"$f":"'Project Cashflows'!UBB371","v":0},{"$f":"'Project Cashflows'!UBC371","v":0},{"$f":"'Project Cashflows'!UBD371","v":0},{"$f":"'Project Cashflows'!UBE371","v":0},{"$f":"'Project Cashflows'!UBF371","v":0},{"$f":"'Project Cashflows'!UBG371","v":0},{"$f":"'Project Cashflows'!UBH371","v":0},{"$f":"'Project Cashflows'!UBI371","v":0},{"$f":"'Project Cashflows'!UBJ371","v":0},{"$f":"'Project Cashflows'!UBK371","v":0},{"$f":"'Project Cashflows'!UBL371","v":0},{"$f":"'Project Cashflows'!UBM371","v":0},{"$f":"'Project Cashflows'!UBN371","v":0},{"$f":"'Project Cashflows'!UBO371","v":0},{"$f":"'Project Cashflows'!UBP371","v":0},{"$f":"'Project Cashflows'!UBQ371","v":0},{"$f":"'Project Cashflows'!UBR371","v":0},{"$f":"'Project Cashflows'!UBS371","v":0},{"$f":"'Project Cashflows'!UBT371","v":0},{"$f":"'Project Cashflows'!UBU371","v":0},{"$f":"'Project Cashflows'!UBV371","v":0},{"$f":"'Project Cashflows'!UBW371","v":0},{"$f":"'Project Cashflows'!UBX371","v":0},{"$f":"'Project Cashflows'!UBY371","v":0},{"$f":"'Project Cashflows'!UBZ371","v":0},{"$f":"'Project Cashflows'!UCA371","v":0},{"$f":"'Project Cashflows'!UCB371","v":0},{"$f":"'Project Cashflows'!UCC371","v":0},{"$f":"'Project Cashflows'!UCD371","v":0},{"$f":"'Project Cashflows'!UCE371","v":0},{"$f":"'Project Cashflows'!UCF371","v":0},{"$f":"'Project Cashflows'!UCG371","v":0},{"$f":"'Project Cashflows'!UCH371","v":0},{"$f":"'Project Cashflows'!UCI371","v":0},{"$f":"'Project Cashflows'!UCJ371","v":0},{"$f":"'Project Cashflows'!UCK371","v":0},{"$f":"'Project Cashflows'!UCL371","v":0},{"$f":"'Project Cashflows'!UCM371","v":0},{"$f":"'Project Cashflows'!UCN371","v":0},{"$f":"'Project Cashflows'!UCO371","v":0},{"$f":"'Project Cashflows'!UCP371","v":0},{"$f":"'Project Cashflows'!UCQ371","v":0},{"$f":"'Project Cashflows'!UCR371","v":0},{"$f":"'Project Cashflows'!UCS371","v":0},{"$f":"'Project Cashflows'!UCT371","v":0},{"$f":"'Project Cashflows'!UCU371","v":0},{"$f":"'Project Cashflows'!UCV371","v":0},{"$f":"'Project Cashflows'!UCW371","v":0},{"$f":"'Project Cashflows'!UCX371","v":0},{"$f":"'Project Cashflows'!UCY371","v":0},{"$f":"'Project Cashflows'!UCZ371","v":0},{"$f":"'Project Cashflows'!UDA371","v":0},{"$f":"'Project Cashflows'!UDB371","v":0},{"$f":"'Project Cashflows'!UDC371","v":0},{"$f":"'Project Cashflows'!UDD371","v":0},{"$f":"'Project Cashflows'!UDE371","v":0},{"$f":"'Project Cashflows'!UDF371","v":0},{"$f":"'Project Cashflows'!UDG371","v":0},{"$f":"'Project Cashflows'!UDH371","v":0},{"$f":"'Project Cashflows'!UDI371","v":0},{"$f":"'Project Cashflows'!UDJ371","v":0},{"$f":"'Project Cashflows'!UDK371","v":0},{"$f":"'Project Cashflows'!UDL371","v":0},{"$f":"'Project Cashflows'!UDM371","v":0},{"$f":"'Project Cashflows'!UDN371","v":0},{"$f":"'Project Cashflows'!UDO371","v":0},{"$f":"'Project Cashflows'!UDP371","v":0},{"$f":"'Project Cashflows'!UDQ371","v":0},{"$f":"'Project Cashflows'!UDR371","v":0},{"$f":"'Project Cashflows'!UDS371","v":0},{"$f":"'Project Cashflows'!UDT371","v":0},{"$f":"'Project Cashflows'!UDU371","v":0},{"$f":"'Project Cashflows'!UDV371","v":0},{"$f":"'Project Cashflows'!UDW371","v":0},{"$f":"'Project Cashflows'!UDX371","v":0},{"$f":"'Project Cashflows'!UDY371","v":0},{"$f":"'Project Cashflows'!UDZ371","v":0},{"$f":"'Project Cashflows'!UEA371","v":0},{"$f":"'Project Cashflows'!UEB371","v":0},{"$f":"'Project Cashflows'!UEC371","v":0},{"$f":"'Project Cashflows'!UED371","v":0},{"$f":"'Project Cashflows'!UEE371","v":0},{"$f":"'Project Cashflows'!UEF371","v":0},{"$f":"'Project Cashflows'!UEG371","v":0},{"$f":"'Project Cashflows'!UEH371","v":0},{"$f":"'Project Cashflows'!UEI371","v":0},{"$f":"'Project Cashflows'!UEJ371","v":0},{"$f":"'Project Cashflows'!UEK371","v":0},{"$f":"'Project Cashflows'!UEL371","v":0},{"$f":"'Project Cashflows'!UEM371","v":0},{"$f":"'Project Cashflows'!UEN371","v":0},{"$f":"'Project Cashflows'!UEO371","v":0},{"$f":"'Project Cashflows'!UEP371","v":0},{"$f":"'Project Cashflows'!UEQ371","v":0},{"$f":"'Project Cashflows'!UER371","v":0},{"$f":"'Project Cashflows'!UES371","v":0},{"$f":"'Project Cashflows'!UET371","v":0},{"$f":"'Project Cashflows'!UEU371","v":0},{"$f":"'Project Cashflows'!UEV371","v":0},{"$f":"'Project Cashflows'!UEW371","v":0},{"$f":"'Project Cashflows'!UEX371","v":0},{"$f":"'Project Cashflows'!UEY371","v":0},{"$f":"'Project Cashflows'!UEZ371","v":0},{"$f":"'Project Cashflows'!UFA371","v":0},{"$f":"'Project Cashflows'!UFB371","v":0},{"$f":"'Project Cashflows'!UFC371","v":0},{"$f":"'Project Cashflows'!UFD371","v":0},{"$f":"'Project Cashflows'!UFE371","v":0},{"$f":"'Project Cashflows'!UFF371","v":0},{"$f":"'Project Cashflows'!UFG371","v":0},{"$f":"'Project Cashflows'!UFH371","v":0},{"$f":"'Project Cashflows'!UFI371","v":0},{"$f":"'Project Cashflows'!UFJ371","v":0},{"$f":"'Project Cashflows'!UFK371","v":0},{"$f":"'Project Cashflows'!UFL371","v":0},{"$f":"'Project Cashflows'!UFM371","v":0},{"$f":"'Project Cashflows'!UFN371","v":0},{"$f":"'Project Cashflows'!UFO371","v":0},{"$f":"'Project Cashflows'!UFP371","v":0},{"$f":"'Project Cashflows'!UFQ371","v":0},{"$f":"'Project Cashflows'!UFR371","v":0},{"$f":"'Project Cashflows'!UFS371","v":0},{"$f":"'Project Cashflows'!UFT371","v":0},{"$f":"'Project Cashflows'!UFU371","v":0},{"$f":"'Project Cashflows'!UFV371","v":0},{"$f":"'Project Cashflows'!UFW371","v":0},{"$f":"'Project Cashflows'!UFX371","v":0},{"$f":"'Project Cashflows'!UFY371","v":0},{"$f":"'Project Cashflows'!UFZ371","v":0},{"$f":"'Project Cashflows'!UGA371","v":0},{"$f":"'Project Cashflows'!UGB371","v":0},{"$f":"'Project Cashflows'!UGC371","v":0},{"$f":"'Project Cashflows'!UGD371","v":0},{"$f":"'Project Cashflows'!UGE371","v":0},{"$f":"'Project Cashflows'!UGF371","v":0},{"$f":"'Project Cashflows'!UGG371","v":0},{"$f":"'Project Cashflows'!UGH371","v":0},{"$f":"'Project Cashflows'!UGI371","v":0},{"$f":"'Project Cashflows'!UGJ371","v":0},{"$f":"'Project Cashflows'!UGK371","v":0},{"$f":"'Project Cashflows'!UGL371","v":0},{"$f":"'Project Cashflows'!UGM371","v":0},{"$f":"'Project Cashflows'!UGN371","v":0},{"$f":"'Project Cashflows'!UGO371","v":0},{"$f":"'Project Cashflows'!UGP371","v":0},{"$f":"'Project Cashflows'!UGQ371","v":0},{"$f":"'Project Cashflows'!UGR371","v":0},{"$f":"'Project Cashflows'!UGS371","v":0},{"$f":"'Project Cashflows'!UGT371","v":0},{"$f":"'Project Cashflows'!UGU371","v":0},{"$f":"'Project Cashflows'!UGV371","v":0},{"$f":"'Project Cashflows'!UGW371","v":0},{"$f":"'Project Cashflows'!UGX371","v":0},{"$f":"'Project Cashflows'!UGY371","v":0},{"$f":"'Project Cashflows'!UGZ371","v":0},{"$f":"'Project Cashflows'!UHA371","v":0},{"$f":"'Project Cashflows'!UHB371","v":0},{"$f":"'Project Cashflows'!UHC371","v":0},{"$f":"'Project Cashflows'!UHD371","v":0},{"$f":"'Project Cashflows'!UHE371","v":0},{"$f":"'Project Cashflows'!UHF371","v":0},{"$f":"'Project Cashflows'!UHG371","v":0},{"$f":"'Project Cashflows'!UHH371","v":0},{"$f":"'Project Cashflows'!UHI371","v":0},{"$f":"'Project Cashflows'!UHJ371","v":0},{"$f":"'Project Cashflows'!UHK371","v":0},{"$f":"'Project Cashflows'!UHL371","v":0},{"$f":"'Project Cashflows'!UHM371","v":0},{"$f":"'Project Cashflows'!UHN371","v":0},{"$f":"'Project Cashflows'!UHO371","v":0},{"$f":"'Project Cashflows'!UHP371","v":0},{"$f":"'Project Cashflows'!UHQ371","v":0},{"$f":"'Project Cashflows'!UHR371","v":0},{"$f":"'Project Cashflows'!UHS371","v":0},{"$f":"'Project Cashflows'!UHT371","v":0},{"$f":"'Project Cashflows'!UHU371","v":0},{"$f":"'Project Cashflows'!UHV371","v":0},{"$f":"'Project Cashflows'!UHW371","v":0},{"$f":"'Project Cashflows'!UHX371","v":0},{"$f":"'Project Cashflows'!UHY371","v":0},{"$f":"'Project Cashflows'!UHZ371","v":0},{"$f":"'Project Cashflows'!UIA371","v":0},{"$f":"'Project Cashflows'!UIB371","v":0},{"$f":"'Project Cashflows'!UIC371","v":0},{"$f":"'Project Cashflows'!UID371","v":0},{"$f":"'Project Cashflows'!UIE371","v":0},{"$f":"'Project Cashflows'!UIF371","v":0},{"$f":"'Project Cashflows'!UIG371","v":0},{"$f":"'Project Cashflows'!UIH371","v":0},{"$f":"'Project Cashflows'!UII371","v":0},{"$f":"'Project Cashflows'!UIJ371","v":0},{"$f":"'Project Cashflows'!UIK371","v":0},{"$f":"'Project Cashflows'!UIL371","v":0},{"$f":"'Project Cashflows'!UIM371","v":0},{"$f":"'Project Cashflows'!UIN371","v":0},{"$f":"'Project Cashflows'!UIO371","v":0},{"$f":"'Project Cashflows'!UIP371","v":0},{"$f":"'Project Cashflows'!UIQ371","v":0},{"$f":"'Project Cashflows'!UIR371","v":0},{"$f":"'Project Cashflows'!UIS371","v":0},{"$f":"'Project Cashflows'!UIT371","v":0},{"$f":"'Project Cashflows'!UIU371","v":0},{"$f":"'Project Cashflows'!UIV371","v":0},{"$f":"'Project Cashflows'!UIW371","v":0},{"$f":"'Project Cashflows'!UIX371","v":0},{"$f":"'Project Cashflows'!UIY371","v":0},{"$f":"'Project Cashflows'!UIZ371","v":0},{"$f":"'Project Cashflows'!UJA371","v":0},{"$f":"'Project Cashflows'!UJB371","v":0},{"$f":"'Project Cashflows'!UJC371","v":0},{"$f":"'Project Cashflows'!UJD371","v":0},{"$f":"'Project Cashflows'!UJE371","v":0},{"$f":"'Project Cashflows'!UJF371","v":0},{"$f":"'Project Cashflows'!UJG371","v":0},{"$f":"'Project Cashflows'!UJH371","v":0},{"$f":"'Project Cashflows'!UJI371","v":0},{"$f":"'Project Cashflows'!UJJ371","v":0},{"$f":"'Project Cashflows'!UJK371","v":0},{"$f":"'Project Cashflows'!UJL371","v":0},{"$f":"'Project Cashflows'!UJM371","v":0},{"$f":"'Project Cashflows'!UJN371","v":0},{"$f":"'Project Cashflows'!UJO371","v":0},{"$f":"'Project Cashflows'!UJP371","v":0},{"$f":"'Project Cashflows'!UJQ371","v":0},{"$f":"'Project Cashflows'!UJR371","v":0},{"$f":"'Project Cashflows'!UJS371","v":0},{"$f":"'Project Cashflows'!UJT371","v":0},{"$f":"'Project Cashflows'!UJU371","v":0},{"$f":"'Project Cashflows'!UJV371","v":0},{"$f":"'Project Cashflows'!UJW371","v":0},{"$f":"'Project Cashflows'!UJX371","v":0},{"$f":"'Project Cashflows'!UJY371","v":0},{"$f":"'Project Cashflows'!UJZ371","v":0},{"$f":"'Project Cashflows'!UKA371","v":0},{"$f":"'Project Cashflows'!UKB371","v":0},{"$f":"'Project Cashflows'!UKC371","v":0},{"$f":"'Project Cashflows'!UKD371","v":0},{"$f":"'Project Cashflows'!UKE371","v":0},{"$f":"'Project Cashflows'!UKF371","v":0},{"$f":"'Project Cashflows'!UKG371","v":0},{"$f":"'Project Cashflows'!UKH371","v":0},{"$f":"'Project Cashflows'!UKI371","v":0},{"$f":"'Project Cashflows'!UKJ371","v":0},{"$f":"'Project Cashflows'!UKK371","v":0},{"$f":"'Project Cashflows'!UKL371","v":0},{"$f":"'Project Cashflows'!UKM371","v":0},{"$f":"'Project Cashflows'!UKN371","v":0},{"$f":"'Project Cashflows'!UKO371","v":0},{"$f":"'Project Cashflows'!UKP371","v":0},{"$f":"'Project Cashflows'!UKQ371","v":0},{"$f":"'Project Cashflows'!UKR371","v":0},{"$f":"'Project Cashflows'!UKS371","v":0},{"$f":"'Project Cashflows'!UKT371","v":0},{"$f":"'Project Cashflows'!UKU371","v":0},{"$f":"'Project Cashflows'!UKV371","v":0},{"$f":"'Project Cashflows'!UKW371","v":0},{"$f":"'Project Cashflows'!UKX371","v":0},{"$f":"'Project Cashflows'!UKY371","v":0},{"$f":"'Project Cashflows'!UKZ371","v":0},{"$f":"'Project Cashflows'!ULA371","v":0},{"$f":"'Project Cashflows'!ULB371","v":0},{"$f":"'Project Cashflows'!ULC371","v":0},{"$f":"'Project Cashflows'!ULD371","v":0},{"$f":"'Project Cashflows'!ULE371","v":0},{"$f":"'Project Cashflows'!ULF371","v":0},{"$f":"'Project Cashflows'!ULG371","v":0},{"$f":"'Project Cashflows'!ULH371","v":0},{"$f":"'Project Cashflows'!ULI371","v":0},{"$f":"'Project Cashflows'!ULJ371","v":0},{"$f":"'Project Cashflows'!ULK371","v":0},{"$f":"'Project Cashflows'!ULL371","v":0},{"$f":"'Project Cashflows'!ULM371","v":0},{"$f":"'Project Cashflows'!ULN371","v":0},{"$f":"'Project Cashflows'!ULO371","v":0},{"$f":"'Project Cashflows'!ULP371","v":0},{"$f":"'Project Cashflows'!ULQ371","v":0},{"$f":"'Project Cashflows'!ULR371","v":0},{"$f":"'Project Cashflows'!ULS371","v":0},{"$f":"'Project Cashflows'!ULT371","v":0},{"$f":"'Project Cashflows'!ULU371","v":0},{"$f":"'Project Cashflows'!ULV371","v":0},{"$f":"'Project Cashflows'!ULW371","v":0},{"$f":"'Project Cashflows'!ULX371","v":0},{"$f":"'Project Cashflows'!ULY371","v":0},{"$f":"'Project Cashflows'!ULZ371","v":0},{"$f":"'Project Cashflows'!UMA371","v":0},{"$f":"'Project Cashflows'!UMB371","v":0},{"$f":"'Project Cashflows'!UMC371","v":0},{"$f":"'Project Cashflows'!UMD371","v":0},{"$f":"'Project Cashflows'!UME371","v":0},{"$f":"'Project Cashflows'!UMF371","v":0},{"$f":"'Project Cashflows'!UMG371","v":0},{"$f":"'Project Cashflows'!UMH371","v":0},{"$f":"'Project Cashflows'!UMI371","v":0},{"$f":"'Project Cashflows'!UMJ371","v":0},{"$f":"'Project Cashflows'!UMK371","v":0},{"$f":"'Project Cashflows'!UML371","v":0},{"$f":"'Project Cashflows'!UMM371","v":0},{"$f":"'Project Cashflows'!UMN371","v":0},{"$f":"'Project Cashflows'!UMO371","v":0},{"$f":"'Project Cashflows'!UMP371","v":0},{"$f":"'Project Cashflows'!UMQ371","v":0},{"$f":"'Project Cashflows'!UMR371","v":0},{"$f":"'Project Cashflows'!UMS371","v":0},{"$f":"'Project Cashflows'!UMT371","v":0},{"$f":"'Project Cashflows'!UMU371","v":0},{"$f":"'Project Cashflows'!UMV371","v":0},{"$f":"'Project Cashflows'!UMW371","v":0},{"$f":"'Project Cashflows'!UMX371","v":0},{"$f":"'Project Cashflows'!UMY371","v":0},{"$f":"'Project Cashflows'!UMZ371","v":0},{"$f":"'Project Cashflows'!UNA371","v":0},{"$f":"'Project Cashflows'!UNB371","v":0},{"$f":"'Project Cashflows'!UNC371","v":0},{"$f":"'Project Cashflows'!UND371","v":0},{"$f":"'Project Cashflows'!UNE371","v":0},{"$f":"'Project Cashflows'!UNF371","v":0},{"$f":"'Project Cashflows'!UNG371","v":0},{"$f":"'Project Cashflows'!UNH371","v":0},{"$f":"'Project Cashflows'!UNI371","v":0},{"$f":"'Project Cashflows'!UNJ371","v":0},{"$f":"'Project Cashflows'!UNK371","v":0},{"$f":"'Project Cashflows'!UNL371","v":0},{"$f":"'Project Cashflows'!UNM371","v":0},{"$f":"'Project Cashflows'!UNN371","v":0},{"$f":"'Project Cashflows'!UNO371","v":0},{"$f":"'Project Cashflows'!UNP371","v":0},{"$f":"'Project Cashflows'!UNQ371","v":0},{"$f":"'Project Cashflows'!UNR371","v":0},{"$f":"'Project Cashflows'!UNS371","v":0},{"$f":"'Project Cashflows'!UNT371","v":0},{"$f":"'Project Cashflows'!UNU371","v":0},{"$f":"'Project Cashflows'!UNV371","v":0},{"$f":"'Project Cashflows'!UNW371","v":0},{"$f":"'Project Cashflows'!UNX371","v":0},{"$f":"'Project Cashflows'!UNY371","v":0},{"$f":"'Project Cashflows'!UNZ371","v":0},{"$f":"'Project Cashflows'!UOA371","v":0},{"$f":"'Project Cashflows'!UOB371","v":0},{"$f":"'Project Cashflows'!UOC371","v":0},{"$f":"'Project Cashflows'!UOD371","v":0},{"$f":"'Project Cashflows'!UOE371","v":0},{"$f":"'Project Cashflows'!UOF371","v":0},{"$f":"'Project Cashflows'!UOG371","v":0},{"$f":"'Project Cashflows'!UOH371","v":0},{"$f":"'Project Cashflows'!UOI371","v":0},{"$f":"'Project Cashflows'!UOJ371","v":0},{"$f":"'Project Cashflows'!UOK371","v":0},{"$f":"'Project Cashflows'!UOL371","v":0},{"$f":"'Project Cashflows'!UOM371","v":0},{"$f":"'Project Cashflows'!UON371","v":0},{"$f":"'Project Cashflows'!UOO371","v":0},{"$f":"'Project Cashflows'!UOP371","v":0},{"$f":"'Project Cashflows'!UOQ371","v":0},{"$f":"'Project Cashflows'!UOR371","v":0},{"$f":"'Project Cashflows'!UOS371","v":0},{"$f":"'Project Cashflows'!UOT371","v":0},{"$f":"'Project Cashflows'!UOU371","v":0},{"$f":"'Project Cashflows'!UOV371","v":0},{"$f":"'Project Cashflows'!UOW371","v":0},{"$f":"'Project Cashflows'!UOX371","v":0},{"$f":"'Project Cashflows'!UOY371","v":0},{"$f":"'Project Cashflows'!UOZ371","v":0},{"$f":"'Project Cashflows'!UPA371","v":0},{"$f":"'Project Cashflows'!UPB371","v":0},{"$f":"'Project Cashflows'!UPC371","v":0},{"$f":"'Project Cashflows'!UPD371","v":0},{"$f":"'Project Cashflows'!UPE371","v":0},{"$f":"'Project Cashflows'!UPF371","v":0},{"$f":"'Project Cashflows'!UPG371","v":0},{"$f":"'Project Cashflows'!UPH371","v":0},{"$f":"'Project Cashflows'!UPI371","v":0},{"$f":"'Project Cashflows'!UPJ371","v":0},{"$f":"'Project Cashflows'!UPK371","v":0},{"$f":"'Project Cashflows'!UPL371","v":0},{"$f":"'Project Cashflows'!UPM371","v":0},{"$f":"'Project Cashflows'!UPN371","v":0},{"$f":"'Project Cashflows'!UPO371","v":0},{"$f":"'Project Cashflows'!UPP371","v":0},{"$f":"'Project Cashflows'!UPQ371","v":0},{"$f":"'Project Cashflows'!UPR371","v":0},{"$f":"'Project Cashflows'!UPS371","v":0},{"$f":"'Project Cashflows'!UPT371","v":0},{"$f":"'Project Cashflows'!UPU371","v":0},{"$f":"'Project Cashflows'!UPV371","v":0},{"$f":"'Project Cashflows'!UPW371","v":0},{"$f":"'Project Cashflows'!UPX371","v":0},{"$f":"'Project Cashflows'!UPY371","v":0},{"$f":"'Project Cashflows'!UPZ371","v":0},{"$f":"'Project Cashflows'!UQA371","v":0},{"$f":"'Project Cashflows'!UQB371","v":0},{"$f":"'Project Cashflows'!UQC371","v":0},{"$f":"'Project Cashflows'!UQD371","v":0},{"$f":"'Project Cashflows'!UQE371","v":0},{"$f":"'Project Cashflows'!UQF371","v":0},{"$f":"'Project Cashflows'!UQG371","v":0},{"$f":"'Project Cashflows'!UQH371","v":0},{"$f":"'Project Cashflows'!UQI371","v":0},{"$f":"'Project Cashflows'!UQJ371","v":0},{"$f":"'Project Cashflows'!UQK371","v":0},{"$f":"'Project Cashflows'!UQL371","v":0},{"$f":"'Project Cashflows'!UQM371","v":0},{"$f":"'Project Cashflows'!UQN371","v":0},{"$f":"'Project Cashflows'!UQO371","v":0},{"$f":"'Project Cashflows'!UQP371","v":0},{"$f":"'Project Cashflows'!UQQ371","v":0},{"$f":"'Project Cashflows'!UQR371","v":0},{"$f":"'Project Cashflows'!UQS371","v":0},{"$f":"'Project Cashflows'!UQT371","v":0},{"$f":"'Project Cashflows'!UQU371","v":0},{"$f":"'Project Cashflows'!UQV371","v":0},{"$f":"'Project Cashflows'!UQW371","v":0},{"$f":"'Project Cashflows'!UQX371","v":0},{"$f":"'Project Cashflows'!UQY371","v":0},{"$f":"'Project Cashflows'!UQZ371","v":0},{"$f":"'Project Cashflows'!URA371","v":0},{"$f":"'Project Cashflows'!URB371","v":0},{"$f":"'Project Cashflows'!URC371","v":0},{"$f":"'Project Cashflows'!URD371","v":0},{"$f":"'Project Cashflows'!URE371","v":0},{"$f":"'Project Cashflows'!URF371","v":0},{"$f":"'Project Cashflows'!URG371","v":0},{"$f":"'Project Cashflows'!URH371","v":0},{"$f":"'Project Cashflows'!URI371","v":0},{"$f":"'Project Cashflows'!URJ371","v":0},{"$f":"'Project Cashflows'!URK371","v":0},{"$f":"'Project Cashflows'!URL371","v":0},{"$f":"'Project Cashflows'!URM371","v":0},{"$f":"'Project Cashflows'!URN371","v":0},{"$f":"'Project Cashflows'!URO371","v":0},{"$f":"'Project Cashflows'!URP371","v":0},{"$f":"'Project Cashflows'!URQ371","v":0},{"$f":"'Project Cashflows'!URR371","v":0},{"$f":"'Project Cashflows'!URS371","v":0},{"$f":"'Project Cashflows'!URT371","v":0},{"$f":"'Project Cashflows'!URU371","v":0},{"$f":"'Project Cashflows'!URV371","v":0},{"$f":"'Project Cashflows'!URW371","v":0},{"$f":"'Project Cashflows'!URX371","v":0},{"$f":"'Project Cashflows'!URY371","v":0},{"$f":"'Project Cashflows'!URZ371","v":0},{"$f":"'Project Cashflows'!USA371","v":0},{"$f":"'Project Cashflows'!USB371","v":0},{"$f":"'Project Cashflows'!USC371","v":0},{"$f":"'Project Cashflows'!USD371","v":0},{"$f":"'Project Cashflows'!USE371","v":0},{"$f":"'Project Cashflows'!USF371","v":0},{"$f":"'Project Cashflows'!USG371","v":0},{"$f":"'Project Cashflows'!USH371","v":0},{"$f":"'Project Cashflows'!USI371","v":0},{"$f":"'Project Cashflows'!USJ371","v":0},{"$f":"'Project Cashflows'!USK371","v":0},{"$f":"'Project Cashflows'!USL371","v":0},{"$f":"'Project Cashflows'!USM371","v":0},{"$f":"'Project Cashflows'!USN371","v":0},{"$f":"'Project Cashflows'!USO371","v":0},{"$f":"'Project Cashflows'!USP371","v":0},{"$f":"'Project Cashflows'!USQ371","v":0},{"$f":"'Project Cashflows'!USR371","v":0},{"$f":"'Project Cashflows'!USS371","v":0},{"$f":"'Project Cashflows'!UST371","v":0},{"$f":"'Project Cashflows'!USU371","v":0},{"$f":"'Project Cashflows'!USV371","v":0},{"$f":"'Project Cashflows'!USW371","v":0},{"$f":"'Project Cashflows'!USX371","v":0},{"$f":"'Project Cashflows'!USY371","v":0},{"$f":"'Project Cashflows'!USZ371","v":0},{"$f":"'Project Cashflows'!UTA371","v":0},{"$f":"'Project Cashflows'!UTB371","v":0},{"$f":"'Project Cashflows'!UTC371","v":0},{"$f":"'Project Cashflows'!UTD371","v":0},{"$f":"'Project Cashflows'!UTE371","v":0},{"$f":"'Project Cashflows'!UTF371","v":0},{"$f":"'Project Cashflows'!UTG371","v":0},{"$f":"'Project Cashflows'!UTH371","v":0},{"$f":"'Project Cashflows'!UTI371","v":0},{"$f":"'Project Cashflows'!UTJ371","v":0},{"$f":"'Project Cashflows'!UTK371","v":0},{"$f":"'Project Cashflows'!UTL371","v":0},{"$f":"'Project Cashflows'!UTM371","v":0},{"$f":"'Project Cashflows'!UTN371","v":0},{"$f":"'Project Cashflows'!UTO371","v":0},{"$f":"'Project Cashflows'!UTP371","v":0},{"$f":"'Project Cashflows'!UTQ371","v":0},{"$f":"'Project Cashflows'!UTR371","v":0},{"$f":"'Project Cashflows'!UTS371","v":0},{"$f":"'Project Cashflows'!UTT371","v":0},{"$f":"'Project Cashflows'!UTU371","v":0},{"$f":"'Project Cashflows'!UTV371","v":0},{"$f":"'Project Cashflows'!UTW371","v":0},{"$f":"'Project Cashflows'!UTX371","v":0},{"$f":"'Project Cashflows'!UTY371","v":0},{"$f":"'Project Cashflows'!UTZ371","v":0},{"$f":"'Project Cashflows'!UUA371","v":0},{"$f":"'Project Cashflows'!UUB371","v":0},{"$f":"'Project Cashflows'!UUC371","v":0},{"$f":"'Project Cashflows'!UUD371","v":0},{"$f":"'Project Cashflows'!UUE371","v":0},{"$f":"'Project Cashflows'!UUF371","v":0},{"$f":"'Project Cashflows'!UUG371","v":0},{"$f":"'Project Cashflows'!UUH371","v":0},{"$f":"'Project Cashflows'!UUI371","v":0},{"$f":"'Project Cashflows'!UUJ371","v":0},{"$f":"'Project Cashflows'!UUK371","v":0},{"$f":"'Project Cashflows'!UUL371","v":0},{"$f":"'Project Cashflows'!UUM371","v":0},{"$f":"'Project Cashflows'!UUN371","v":0},{"$f":"'Project Cashflows'!UUO371","v":0},{"$f":"'Project Cashflows'!UUP371","v":0},{"$f":"'Project Cashflows'!UUQ371","v":0},{"$f":"'Project Cashflows'!UUR371","v":0},{"$f":"'Project Cashflows'!UUS371","v":0},{"$f":"'Project Cashflows'!UUT371","v":0},{"$f":"'Project Cashflows'!UUU371","v":0},{"$f":"'Project Cashflows'!UUV371","v":0},{"$f":"'Project Cashflows'!UUW371","v":0},{"$f":"'Project Cashflows'!UUX371","v":0},{"$f":"'Project Cashflows'!UUY371","v":0},{"$f":"'Project Cashflows'!UUZ371","v":0},{"$f":"'Project Cashflows'!UVA371","v":0},{"$f":"'Project Cashflows'!UVB371","v":0},{"$f":"'Project Cashflows'!UVC371","v":0},{"$f":"'Project Cashflows'!UVD371","v":0},{"$f":"'Project Cashflows'!UVE371","v":0},{"$f":"'Project Cashflows'!UVF371","v":0},{"$f":"'Project Cashflows'!UVG371","v":0},{"$f":"'Project Cashflows'!UVH371","v":0},{"$f":"'Project Cashflows'!UVI371","v":0},{"$f":"'Project Cashflows'!UVJ371","v":0},{"$f":"'Project Cashflows'!UVK371","v":0},{"$f":"'Project Cashflows'!UVL371","v":0},{"$f":"'Project Cashflows'!UVM371","v":0},{"$f":"'Project Cashflows'!UVN371","v":0},{"$f":"'Project Cashflows'!UVO371","v":0},{"$f":"'Project Cashflows'!UVP371","v":0},{"$f":"'Project Cashflows'!UVQ371","v":0},{"$f":"'Project Cashflows'!UVR371","v":0},{"$f":"'Project Cashflows'!UVS371","v":0},{"$f":"'Project Cashflows'!UVT371","v":0},{"$f":"'Project Cashflows'!UVU371","v":0},{"$f":"'Project Cashflows'!UVV371","v":0},{"$f":"'Project Cashflows'!UVW371","v":0},{"$f":"'Project Cashflows'!UVX371","v":0},{"$f":"'Project Cashflows'!UVY371","v":0},{"$f":"'Project Cashflows'!UVZ371","v":0},{"$f":"'Project Cashflows'!UWA371","v":0},{"$f":"'Project Cashflows'!UWB371","v":0},{"$f":"'Project Cashflows'!UWC371","v":0},{"$f":"'Project Cashflows'!UWD371","v":0},{"$f":"'Project Cashflows'!UWE371","v":0},{"$f":"'Project Cashflows'!UWF371","v":0},{"$f":"'Project Cashflows'!UWG371","v":0},{"$f":"'Project Cashflows'!UWH371","v":0},{"$f":"'Project Cashflows'!UWI371","v":0},{"$f":"'Project Cashflows'!UWJ371","v":0},{"$f":"'Project Cashflows'!UWK371","v":0},{"$f":"'Project Cashflows'!UWL371","v":0},{"$f":"'Project Cashflows'!UWM371","v":0},{"$f":"'Project Cashflows'!UWN371","v":0},{"$f":"'Project Cashflows'!UWO371","v":0},{"$f":"'Project Cashflows'!UWP371","v":0},{"$f":"'Project Cashflows'!UWQ371","v":0},{"$f":"'Project Cashflows'!UWR371","v":0},{"$f":"'Project Cashflows'!UWS371","v":0},{"$f":"'Project Cashflows'!UWT371","v":0},{"$f":"'Project Cashflows'!UWU371","v":0},{"$f":"'Project Cashflows'!UWV371","v":0},{"$f":"'Project Cashflows'!UWW371","v":0},{"$f":"'Project Cashflows'!UWX371","v":0},{"$f":"'Project Cashflows'!UWY371","v":0},{"$f":"'Project Cashflows'!UWZ371","v":0},{"$f":"'Project Cashflows'!UXA371","v":0},{"$f":"'Project Cashflows'!UXB371","v":0},{"$f":"'Project Cashflows'!UXC371","v":0},{"$f":"'Project Cashflows'!UXD371","v":0},{"$f":"'Project Cashflows'!UXE371","v":0},{"$f":"'Project Cashflows'!UXF371","v":0},{"$f":"'Project Cashflows'!UXG371","v":0},{"$f":"'Project Cashflows'!UXH371","v":0},{"$f":"'Project Cashflows'!UXI371","v":0},{"$f":"'Project Cashflows'!UXJ371","v":0},{"$f":"'Project Cashflows'!UXK371","v":0},{"$f":"'Project Cashflows'!UXL371","v":0},{"$f":"'Project Cashflows'!UXM371","v":0},{"$f":"'Project Cashflows'!UXN371","v":0},{"$f":"'Project Cashflows'!UXO371","v":0},{"$f":"'Project Cashflows'!UXP371","v":0},{"$f":"'Project Cashflows'!UXQ371","v":0},{"$f":"'Project Cashflows'!UXR371","v":0},{"$f":"'Project Cashflows'!UXS371","v":0},{"$f":"'Project Cashflows'!UXT371","v":0},{"$f":"'Project Cashflows'!UXU371","v":0},{"$f":"'Project Cashflows'!UXV371","v":0},{"$f":"'Project Cashflows'!UXW371","v":0},{"$f":"'Project Cashflows'!UXX371","v":0},{"$f":"'Project Cashflows'!UXY371","v":0},{"$f":"'Project Cashflows'!UXZ371","v":0},{"$f":"'Project Cashflows'!UYA371","v":0},{"$f":"'Project Cashflows'!UYB371","v":0},{"$f":"'Project Cashflows'!UYC371","v":0},{"$f":"'Project Cashflows'!UYD371","v":0},{"$f":"'Project Cashflows'!UYE371","v":0},{"$f":"'Project Cashflows'!UYF371","v":0},{"$f":"'Project Cashflows'!UYG371","v":0},{"$f":"'Project Cashflows'!UYH371","v":0},{"$f":"'Project Cashflows'!UYI371","v":0},{"$f":"'Project Cashflows'!UYJ371","v":0},{"$f":"'Project Cashflows'!UYK371","v":0},{"$f":"'Project Cashflows'!UYL371","v":0},{"$f":"'Project Cashflows'!UYM371","v":0},{"$f":"'Project Cashflows'!UYN371","v":0},{"$f":"'Project Cashflows'!UYO371","v":0},{"$f":"'Project Cashflows'!UYP371","v":0},{"$f":"'Project Cashflows'!UYQ371","v":0},{"$f":"'Project Cashflows'!UYR371","v":0},{"$f":"'Project Cashflows'!UYS371","v":0},{"$f":"'Project Cashflows'!UYT371","v":0},{"$f":"'Project Cashflows'!UYU371","v":0},{"$f":"'Project Cashflows'!UYV371","v":0},{"$f":"'Project Cashflows'!UYW371","v":0},{"$f":"'Project Cashflows'!UYX371","v":0},{"$f":"'Project Cashflows'!UYY371","v":0},{"$f":"'Project Cashflows'!UYZ371","v":0},{"$f":"'Project Cashflows'!UZA371","v":0},{"$f":"'Project Cashflows'!UZB371","v":0},{"$f":"'Project Cashflows'!UZC371","v":0},{"$f":"'Project Cashflows'!UZD371","v":0},{"$f":"'Project Cashflows'!UZE371","v":0},{"$f":"'Project Cashflows'!UZF371","v":0},{"$f":"'Project Cashflows'!UZG371","v":0},{"$f":"'Project Cashflows'!UZH371","v":0},{"$f":"'Project Cashflows'!UZI371","v":0},{"$f":"'Project Cashflows'!UZJ371","v":0},{"$f":"'Project Cashflows'!UZK371","v":0},{"$f":"'Project Cashflows'!UZL371","v":0},{"$f":"'Project Cashflows'!UZM371","v":0},{"$f":"'Project Cashflows'!UZN371","v":0},{"$f":"'Project Cashflows'!UZO371","v":0},{"$f":"'Project Cashflows'!UZP371","v":0},{"$f":"'Project Cashflows'!UZQ371","v":0},{"$f":"'Project Cashflows'!UZR371","v":0},{"$f":"'Project Cashflows'!UZS371","v":0},{"$f":"'Project Cashflows'!UZT371","v":0},{"$f":"'Project Cashflows'!UZU371","v":0},{"$f":"'Project Cashflows'!UZV371","v":0},{"$f":"'Project Cashflows'!UZW371","v":0},{"$f":"'Project Cashflows'!UZX371","v":0},{"$f":"'Project Cashflows'!UZY371","v":0},{"$f":"'Project Cashflows'!UZZ371","v":0},{"$f":"'Project Cashflows'!VAA371","v":0},{"$f":"'Project Cashflows'!VAB371","v":0},{"$f":"'Project Cashflows'!VAC371","v":0},{"$f":"'Project Cashflows'!VAD371","v":0},{"$f":"'Project Cashflows'!VAE371","v":0},{"$f":"'Project Cashflows'!VAF371","v":0},{"$f":"'Project Cashflows'!VAG371","v":0},{"$f":"'Project Cashflows'!VAH371","v":0},{"$f":"'Project Cashflows'!VAI371","v":0},{"$f":"'Project Cashflows'!VAJ371","v":0},{"$f":"'Project Cashflows'!VAK371","v":0},{"$f":"'Project Cashflows'!VAL371","v":0},{"$f":"'Project Cashflows'!VAM371","v":0},{"$f":"'Project Cashflows'!VAN371","v":0},{"$f":"'Project Cashflows'!VAO371","v":0},{"$f":"'Project Cashflows'!VAP371","v":0},{"$f":"'Project Cashflows'!VAQ371","v":0},{"$f":"'Project Cashflows'!VAR371","v":0},{"$f":"'Project Cashflows'!VAS371","v":0},{"$f":"'Project Cashflows'!VAT371","v":0},{"$f":"'Project Cashflows'!VAU371","v":0},{"$f":"'Project Cashflows'!VAV371","v":0},{"$f":"'Project Cashflows'!VAW371","v":0},{"$f":"'Project Cashflows'!VAX371","v":0},{"$f":"'Project Cashflows'!VAY371","v":0},{"$f":"'Project Cashflows'!VAZ371","v":0},{"$f":"'Project Cashflows'!VBA371","v":0},{"$f":"'Project Cashflows'!VBB371","v":0},{"$f":"'Project Cashflows'!VBC371","v":0},{"$f":"'Project Cashflows'!VBD371","v":0},{"$f":"'Project Cashflows'!VBE371","v":0},{"$f":"'Project Cashflows'!VBF371","v":0},{"$f":"'Project Cashflows'!VBG371","v":0},{"$f":"'Project Cashflows'!VBH371","v":0},{"$f":"'Project Cashflows'!VBI371","v":0},{"$f":"'Project Cashflows'!VBJ371","v":0},{"$f":"'Project Cashflows'!VBK371","v":0},{"$f":"'Project Cashflows'!VBL371","v":0},{"$f":"'Project Cashflows'!VBM371","v":0},{"$f":"'Project Cashflows'!VBN371","v":0},{"$f":"'Project Cashflows'!VBO371","v":0},{"$f":"'Project Cashflows'!VBP371","v":0},{"$f":"'Project Cashflows'!VBQ371","v":0},{"$f":"'Project Cashflows'!VBR371","v":0},{"$f":"'Project Cashflows'!VBS371","v":0},{"$f":"'Project Cashflows'!VBT371","v":0},{"$f":"'Project Cashflows'!VBU371","v":0},{"$f":"'Project Cashflows'!VBV371","v":0},{"$f":"'Project Cashflows'!VBW371","v":0},{"$f":"'Project Cashflows'!VBX371","v":0},{"$f":"'Project Cashflows'!VBY371","v":0},{"$f":"'Project Cashflows'!VBZ371","v":0},{"$f":"'Project Cashflows'!VCA371","v":0},{"$f":"'Project Cashflows'!VCB371","v":0},{"$f":"'Project Cashflows'!VCC371","v":0},{"$f":"'Project Cashflows'!VCD371","v":0},{"$f":"'Project Cashflows'!VCE371","v":0},{"$f":"'Project Cashflows'!VCF371","v":0},{"$f":"'Project Cashflows'!VCG371","v":0},{"$f":"'Project Cashflows'!VCH371","v":0},{"$f":"'Project Cashflows'!VCI371","v":0},{"$f":"'Project Cashflows'!VCJ371","v":0},{"$f":"'Project Cashflows'!VCK371","v":0},{"$f":"'Project Cashflows'!VCL371","v":0},{"$f":"'Project Cashflows'!VCM371","v":0},{"$f":"'Project Cashflows'!VCN371","v":0},{"$f":"'Project Cashflows'!VCO371","v":0},{"$f":"'Project Cashflows'!VCP371","v":0},{"$f":"'Project Cashflows'!VCQ371","v":0},{"$f":"'Project Cashflows'!VCR371","v":0},{"$f":"'Project Cashflows'!VCS371","v":0},{"$f":"'Project Cashflows'!VCT371","v":0},{"$f":"'Project Cashflows'!VCU371","v":0},{"$f":"'Project Cashflows'!VCV371","v":0},{"$f":"'Project Cashflows'!VCW371","v":0},{"$f":"'Project Cashflows'!VCX371","v":0},{"$f":"'Project Cashflows'!VCY371","v":0},{"$f":"'Project Cashflows'!VCZ371","v":0},{"$f":"'Project Cashflows'!VDA371","v":0},{"$f":"'Project Cashflows'!VDB371","v":0},{"$f":"'Project Cashflows'!VDC371","v":0},{"$f":"'Project Cashflows'!VDD371","v":0},{"$f":"'Project Cashflows'!VDE371","v":0},{"$f":"'Project Cashflows'!VDF371","v":0},{"$f":"'Project Cashflows'!VDG371","v":0},{"$f":"'Project Cashflows'!VDH371","v":0},{"$f":"'Project Cashflows'!VDI371","v":0},{"$f":"'Project Cashflows'!VDJ371","v":0},{"$f":"'Project Cashflows'!VDK371","v":0},{"$f":"'Project Cashflows'!VDL371","v":0},{"$f":"'Project Cashflows'!VDM371","v":0},{"$f":"'Project Cashflows'!VDN371","v":0},{"$f":"'Project Cashflows'!VDO371","v":0},{"$f":"'Project Cashflows'!VDP371","v":0},{"$f":"'Project Cashflows'!VDQ371","v":0},{"$f":"'Project Cashflows'!VDR371","v":0},{"$f":"'Project Cashflows'!VDS371","v":0},{"$f":"'Project Cashflows'!VDT371","v":0},{"$f":"'Project Cashflows'!VDU371","v":0},{"$f":"'Project Cashflows'!VDV371","v":0},{"$f":"'Project Cashflows'!VDW371","v":0},{"$f":"'Project Cashflows'!VDX371","v":0},{"$f":"'Project Cashflows'!VDY371","v":0},{"$f":"'Project Cashflows'!VDZ371","v":0},{"$f":"'Project Cashflows'!VEA371","v":0},{"$f":"'Project Cashflows'!VEB371","v":0},{"$f":"'Project Cashflows'!VEC371","v":0},{"$f":"'Project Cashflows'!VED371","v":0},{"$f":"'Project Cashflows'!VEE371","v":0},{"$f":"'Project Cashflows'!VEF371","v":0},{"$f":"'Project Cashflows'!VEG371","v":0},{"$f":"'Project Cashflows'!VEH371","v":0},{"$f":"'Project Cashflows'!VEI371","v":0},{"$f":"'Project Cashflows'!VEJ371","v":0},{"$f":"'Project Cashflows'!VEK371","v":0},{"$f":"'Project Cashflows'!VEL371","v":0},{"$f":"'Project Cashflows'!VEM371","v":0},{"$f":"'Project Cashflows'!VEN371","v":0},{"$f":"'Project Cashflows'!VEO371","v":0},{"$f":"'Project Cashflows'!VEP371","v":0},{"$f":"'Project Cashflows'!VEQ371","v":0},{"$f":"'Project Cashflows'!VER371","v":0},{"$f":"'Project Cashflows'!VES371","v":0},{"$f":"'Project Cashflows'!VET371","v":0},{"$f":"'Project Cashflows'!VEU371","v":0},{"$f":"'Project Cashflows'!VEV371","v":0},{"$f":"'Project Cashflows'!VEW371","v":0},{"$f":"'Project Cashflows'!VEX371","v":0},{"$f":"'Project Cashflows'!VEY371","v":0},{"$f":"'Project Cashflows'!VEZ371","v":0},{"$f":"'Project Cashflows'!VFA371","v":0},{"$f":"'Project Cashflows'!VFB371","v":0},{"$f":"'Project Cashflows'!VFC371","v":0},{"$f":"'Project Cashflows'!VFD371","v":0},{"$f":"'Project Cashflows'!VFE371","v":0},{"$f":"'Project Cashflows'!VFF371","v":0},{"$f":"'Project Cashflows'!VFG371","v":0},{"$f":"'Project Cashflows'!VFH371","v":0},{"$f":"'Project Cashflows'!VFI371","v":0},{"$f":"'Project Cashflows'!VFJ371","v":0},{"$f":"'Project Cashflows'!VFK371","v":0},{"$f":"'Project Cashflows'!VFL371","v":0},{"$f":"'Project Cashflows'!VFM371","v":0},{"$f":"'Project Cashflows'!VFN371","v":0},{"$f":"'Project Cashflows'!VFO371","v":0},{"$f":"'Project Cashflows'!VFP371","v":0},{"$f":"'Project Cashflows'!VFQ371","v":0},{"$f":"'Project Cashflows'!VFR371","v":0},{"$f":"'Project Cashflows'!VFS371","v":0},{"$f":"'Project Cashflows'!VFT371","v":0},{"$f":"'Project Cashflows'!VFU371","v":0},{"$f":"'Project Cashflows'!VFV371","v":0},{"$f":"'Project Cashflows'!VFW371","v":0},{"$f":"'Project Cashflows'!VFX371","v":0},{"$f":"'Project Cashflows'!VFY371","v":0},{"$f":"'Project Cashflows'!VFZ371","v":0},{"$f":"'Project Cashflows'!VGA371","v":0},{"$f":"'Project Cashflows'!VGB371","v":0},{"$f":"'Project Cashflows'!VGC371","v":0},{"$f":"'Project Cashflows'!VGD371","v":0},{"$f":"'Project Cashflows'!VGE371","v":0},{"$f":"'Project Cashflows'!VGF371","v":0},{"$f":"'Project Cashflows'!VGG371","v":0},{"$f":"'Project Cashflows'!VGH371","v":0},{"$f":"'Project Cashflows'!VGI371","v":0},{"$f":"'Project Cashflows'!VGJ371","v":0},{"$f":"'Project Cashflows'!VGK371","v":0},{"$f":"'Project Cashflows'!VGL371","v":0},{"$f":"'Project Cashflows'!VGM371","v":0},{"$f":"'Project Cashflows'!VGN371","v":0},{"$f":"'Project Cashflows'!VGO371","v":0},{"$f":"'Project Cashflows'!VGP371","v":0},{"$f":"'Project Cashflows'!VGQ371","v":0},{"$f":"'Project Cashflows'!VGR371","v":0},{"$f":"'Project Cashflows'!VGS371","v":0},{"$f":"'Project Cashflows'!VGT371","v":0},{"$f":"'Project Cashflows'!VGU371","v":0},{"$f":"'Project Cashflows'!VGV371","v":0},{"$f":"'Project Cashflows'!VGW371","v":0},{"$f":"'Project Cashflows'!VGX371","v":0},{"$f":"'Project Cashflows'!VGY371","v":0},{"$f":"'Project Cashflows'!VGZ371","v":0},{"$f":"'Project Cashflows'!VHA371","v":0},{"$f":"'Project Cashflows'!VHB371","v":0},{"$f":"'Project Cashflows'!VHC371","v":0},{"$f":"'Project Cashflows'!VHD371","v":0},{"$f":"'Project Cashflows'!VHE371","v":0},{"$f":"'Project Cashflows'!VHF371","v":0},{"$f":"'Project Cashflows'!VHG371","v":0},{"$f":"'Project Cashflows'!VHH371","v":0},{"$f":"'Project Cashflows'!VHI371","v":0},{"$f":"'Project Cashflows'!VHJ371","v":0},{"$f":"'Project Cashflows'!VHK371","v":0},{"$f":"'Project Cashflows'!VHL371","v":0},{"$f":"'Project Cashflows'!VHM371","v":0},{"$f":"'Project Cashflows'!VHN371","v":0},{"$f":"'Project Cashflows'!VHO371","v":0},{"$f":"'Project Cashflows'!VHP371","v":0},{"$f":"'Project Cashflows'!VHQ371","v":0},{"$f":"'Project Cashflows'!VHR371","v":0},{"$f":"'Project Cashflows'!VHS371","v":0},{"$f":"'Project Cashflows'!VHT371","v":0},{"$f":"'Project Cashflows'!VHU371","v":0},{"$f":"'Project Cashflows'!VHV371","v":0},{"$f":"'Project Cashflows'!VHW371","v":0},{"$f":"'Project Cashflows'!VHX371","v":0},{"$f":"'Project Cashflows'!VHY371","v":0},{"$f":"'Project Cashflows'!VHZ371","v":0},{"$f":"'Project Cashflows'!VIA371","v":0},{"$f":"'Project Cashflows'!VIB371","v":0},{"$f":"'Project Cashflows'!VIC371","v":0},{"$f":"'Project Cashflows'!VID371","v":0},{"$f":"'Project Cashflows'!VIE371","v":0},{"$f":"'Project Cashflows'!VIF371","v":0},{"$f":"'Project Cashflows'!VIG371","v":0},{"$f":"'Project Cashflows'!VIH371","v":0},{"$f":"'Project Cashflows'!VII371","v":0},{"$f":"'Project Cashflows'!VIJ371","v":0},{"$f":"'Project Cashflows'!VIK371","v":0},{"$f":"'Project Cashflows'!VIL371","v":0},{"$f":"'Project Cashflows'!VIM371","v":0},{"$f":"'Project Cashflows'!VIN371","v":0},{"$f":"'Project Cashflows'!VIO371","v":0},{"$f":"'Project Cashflows'!VIP371","v":0},{"$f":"'Project Cashflows'!VIQ371","v":0},{"$f":"'Project Cashflows'!VIR371","v":0},{"$f":"'Project Cashflows'!VIS371","v":0},{"$f":"'Project Cashflows'!VIT371","v":0},{"$f":"'Project Cashflows'!VIU371","v":0},{"$f":"'Project Cashflows'!VIV371","v":0},{"$f":"'Project Cashflows'!VIW371","v":0},{"$f":"'Project Cashflows'!VIX371","v":0},{"$f":"'Project Cashflows'!VIY371","v":0},{"$f":"'Project Cashflows'!VIZ371","v":0},{"$f":"'Project Cashflows'!VJA371","v":0},{"$f":"'Project Cashflows'!VJB371","v":0},{"$f":"'Project Cashflows'!VJC371","v":0},{"$f":"'Project Cashflows'!VJD371","v":0},{"$f":"'Project Cashflows'!VJE371","v":0},{"$f":"'Project Cashflows'!VJF371","v":0},{"$f":"'Project Cashflows'!VJG371","v":0},{"$f":"'Project Cashflows'!VJH371","v":0},{"$f":"'Project Cashflows'!VJI371","v":0},{"$f":"'Project Cashflows'!VJJ371","v":0},{"$f":"'Project Cashflows'!VJK371","v":0},{"$f":"'Project Cashflows'!VJL371","v":0},{"$f":"'Project Cashflows'!VJM371","v":0},{"$f":"'Project Cashflows'!VJN371","v":0},{"$f":"'Project Cashflows'!VJO371","v":0},{"$f":"'Project Cashflows'!VJP371","v":0},{"$f":"'Project Cashflows'!VJQ371","v":0},{"$f":"'Project Cashflows'!VJR371","v":0},{"$f":"'Project Cashflows'!VJS371","v":0},{"$f":"'Project Cashflows'!VJT371","v":0},{"$f":"'Project Cashflows'!VJU371","v":0},{"$f":"'Project Cashflows'!VJV371","v":0},{"$f":"'Project Cashflows'!VJW371","v":0},{"$f":"'Project Cashflows'!VJX371","v":0},{"$f":"'Project Cashflows'!VJY371","v":0},{"$f":"'Project Cashflows'!VJZ371","v":0},{"$f":"'Project Cashflows'!VKA371","v":0},{"$f":"'Project Cashflows'!VKB371","v":0},{"$f":"'Project Cashflows'!VKC371","v":0},{"$f":"'Project Cashflows'!VKD371","v":0},{"$f":"'Project Cashflows'!VKE371","v":0},{"$f":"'Project Cashflows'!VKF371","v":0},{"$f":"'Project Cashflows'!VKG371","v":0},{"$f":"'Project Cashflows'!VKH371","v":0},{"$f":"'Project Cashflows'!VKI371","v":0},{"$f":"'Project Cashflows'!VKJ371","v":0},{"$f":"'Project Cashflows'!VKK371","v":0},{"$f":"'Project Cashflows'!VKL371","v":0},{"$f":"'Project Cashflows'!VKM371","v":0},{"$f":"'Project Cashflows'!VKN371","v":0},{"$f":"'Project Cashflows'!VKO371","v":0},{"$f":"'Project Cashflows'!VKP371","v":0},{"$f":"'Project Cashflows'!VKQ371","v":0},{"$f":"'Project Cashflows'!VKR371","v":0},{"$f":"'Project Cashflows'!VKS371","v":0},{"$f":"'Project Cashflows'!VKT371","v":0},{"$f":"'Project Cashflows'!VKU371","v":0},{"$f":"'Project Cashflows'!VKV371","v":0},{"$f":"'Project Cashflows'!VKW371","v":0},{"$f":"'Project Cashflows'!VKX371","v":0},{"$f":"'Project Cashflows'!VKY371","v":0},{"$f":"'Project Cashflows'!VKZ371","v":0},{"$f":"'Project Cashflows'!VLA371","v":0},{"$f":"'Project Cashflows'!VLB371","v":0},{"$f":"'Project Cashflows'!VLC371","v":0},{"$f":"'Project Cashflows'!VLD371","v":0},{"$f":"'Project Cashflows'!VLE371","v":0},{"$f":"'Project Cashflows'!VLF371","v":0},{"$f":"'Project Cashflows'!VLG371","v":0},{"$f":"'Project Cashflows'!VLH371","v":0},{"$f":"'Project Cashflows'!VLI371","v":0},{"$f":"'Project Cashflows'!VLJ371","v":0},{"$f":"'Project Cashflows'!VLK371","v":0},{"$f":"'Project Cashflows'!VLL371","v":0},{"$f":"'Project Cashflows'!VLM371","v":0},{"$f":"'Project Cashflows'!VLN371","v":0},{"$f":"'Project Cashflows'!VLO371","v":0},{"$f":"'Project Cashflows'!VLP371","v":0},{"$f":"'Project Cashflows'!VLQ371","v":0},{"$f":"'Project Cashflows'!VLR371","v":0},{"$f":"'Project Cashflows'!VLS371","v":0},{"$f":"'Project Cashflows'!VLT371","v":0},{"$f":"'Project Cashflows'!VLU371","v":0},{"$f":"'Project Cashflows'!VLV371","v":0},{"$f":"'Project Cashflows'!VLW371","v":0},{"$f":"'Project Cashflows'!VLX371","v":0},{"$f":"'Project Cashflows'!VLY371","v":0},{"$f":"'Project Cashflows'!VLZ371","v":0},{"$f":"'Project Cashflows'!VMA371","v":0},{"$f":"'Project Cashflows'!VMB371","v":0},{"$f":"'Project Cashflows'!VMC371","v":0},{"$f":"'Project Cashflows'!VMD371","v":0},{"$f":"'Project Cashflows'!VME371","v":0},{"$f":"'Project Cashflows'!VMF371","v":0},{"$f":"'Project Cashflows'!VMG371","v":0},{"$f":"'Project Cashflows'!VMH371","v":0},{"$f":"'Project Cashflows'!VMI371","v":0},{"$f":"'Project Cashflows'!VMJ371","v":0},{"$f":"'Project Cashflows'!VMK371","v":0},{"$f":"'Project Cashflows'!VML371","v":0},{"$f":"'Project Cashflows'!VMM371","v":0},{"$f":"'Project Cashflows'!VMN371","v":0},{"$f":"'Project Cashflows'!VMO371","v":0},{"$f":"'Project Cashflows'!VMP371","v":0},{"$f":"'Project Cashflows'!VMQ371","v":0},{"$f":"'Project Cashflows'!VMR371","v":0},{"$f":"'Project Cashflows'!VMS371","v":0},{"$f":"'Project Cashflows'!VMT371","v":0},{"$f":"'Project Cashflows'!VMU371","v":0},{"$f":"'Project Cashflows'!VMV371","v":0},{"$f":"'Project Cashflows'!VMW371","v":0},{"$f":"'Project Cashflows'!VMX371","v":0},{"$f":"'Project Cashflows'!VMY371","v":0},{"$f":"'Project Cashflows'!VMZ371","v":0},{"$f":"'Project Cashflows'!VNA371","v":0},{"$f":"'Project Cashflows'!VNB371","v":0},{"$f":"'Project Cashflows'!VNC371","v":0},{"$f":"'Project Cashflows'!VND371","v":0},{"$f":"'Project Cashflows'!VNE371","v":0},{"$f":"'Project Cashflows'!VNF371","v":0},{"$f":"'Project Cashflows'!VNG371","v":0},{"$f":"'Project Cashflows'!VNH371","v":0},{"$f":"'Project Cashflows'!VNI371","v":0},{"$f":"'Project Cashflows'!VNJ371","v":0},{"$f":"'Project Cashflows'!VNK371","v":0},{"$f":"'Project Cashflows'!VNL371","v":0},{"$f":"'Project Cashflows'!VNM371","v":0},{"$f":"'Project Cashflows'!VNN371","v":0},{"$f":"'Project Cashflows'!VNO371","v":0},{"$f":"'Project Cashflows'!VNP371","v":0},{"$f":"'Project Cashflows'!VNQ371","v":0},{"$f":"'Project Cashflows'!VNR371","v":0},{"$f":"'Project Cashflows'!VNS371","v":0},{"$f":"'Project Cashflows'!VNT371","v":0},{"$f":"'Project Cashflows'!VNU371","v":0},{"$f":"'Project Cashflows'!VNV371","v":0},{"$f":"'Project Cashflows'!VNW371","v":0},{"$f":"'Project Cashflows'!VNX371","v":0},{"$f":"'Project Cashflows'!VNY371","v":0},{"$f":"'Project Cashflows'!VNZ371","v":0},{"$f":"'Project Cashflows'!VOA371","v":0},{"$f":"'Project Cashflows'!VOB371","v":0},{"$f":"'Project Cashflows'!VOC371","v":0},{"$f":"'Project Cashflows'!VOD371","v":0},{"$f":"'Project Cashflows'!VOE371","v":0},{"$f":"'Project Cashflows'!VOF371","v":0},{"$f":"'Project Cashflows'!VOG371","v":0},{"$f":"'Project Cashflows'!VOH371","v":0},{"$f":"'Project Cashflows'!VOI371","v":0},{"$f":"'Project Cashflows'!VOJ371","v":0},{"$f":"'Project Cashflows'!VOK371","v":0},{"$f":"'Project Cashflows'!VOL371","v":0},{"$f":"'Project Cashflows'!VOM371","v":0},{"$f":"'Project Cashflows'!VON371","v":0},{"$f":"'Project Cashflows'!VOO371","v":0},{"$f":"'Project Cashflows'!VOP371","v":0},{"$f":"'Project Cashflows'!VOQ371","v":0},{"$f":"'Project Cashflows'!VOR371","v":0},{"$f":"'Project Cashflows'!VOS371","v":0},{"$f":"'Project Cashflows'!VOT371","v":0},{"$f":"'Project Cashflows'!VOU371","v":0},{"$f":"'Project Cashflows'!VOV371","v":0},{"$f":"'Project Cashflows'!VOW371","v":0},{"$f":"'Project Cashflows'!VOX371","v":0},{"$f":"'Project Cashflows'!VOY371","v":0},{"$f":"'Project Cashflows'!VOZ371","v":0},{"$f":"'Project Cashflows'!VPA371","v":0},{"$f":"'Project Cashflows'!VPB371","v":0},{"$f":"'Project Cashflows'!VPC371","v":0},{"$f":"'Project Cashflows'!VPD371","v":0},{"$f":"'Project Cashflows'!VPE371","v":0},{"$f":"'Project Cashflows'!VPF371","v":0},{"$f":"'Project Cashflows'!VPG371","v":0},{"$f":"'Project Cashflows'!VPH371","v":0},{"$f":"'Project Cashflows'!VPI371","v":0},{"$f":"'Project Cashflows'!VPJ371","v":0},{"$f":"'Project Cashflows'!VPK371","v":0},{"$f":"'Project Cashflows'!VPL371","v":0},{"$f":"'Project Cashflows'!VPM371","v":0},{"$f":"'Project Cashflows'!VPN371","v":0},{"$f":"'Project Cashflows'!VPO371","v":0},{"$f":"'Project Cashflows'!VPP371","v":0},{"$f":"'Project Cashflows'!VPQ371","v":0},{"$f":"'Project Cashflows'!VPR371","v":0},{"$f":"'Project Cashflows'!VPS371","v":0},{"$f":"'Project Cashflows'!VPT371","v":0},{"$f":"'Project Cashflows'!VPU371","v":0},{"$f":"'Project Cashflows'!VPV371","v":0},{"$f":"'Project Cashflows'!VPW371","v":0},{"$f":"'Project Cashflows'!VPX371","v":0},{"$f":"'Project Cashflows'!VPY371","v":0},{"$f":"'Project Cashflows'!VPZ371","v":0},{"$f":"'Project Cashflows'!VQA371","v":0},{"$f":"'Project Cashflows'!VQB371","v":0},{"$f":"'Project Cashflows'!VQC371","v":0},{"$f":"'Project Cashflows'!VQD371","v":0},{"$f":"'Project Cashflows'!VQE371","v":0},{"$f":"'Project Cashflows'!VQF371","v":0},{"$f":"'Project Cashflows'!VQG371","v":0},{"$f":"'Project Cashflows'!VQH371","v":0},{"$f":"'Project Cashflows'!VQI371","v":0},{"$f":"'Project Cashflows'!VQJ371","v":0},{"$f":"'Project Cashflows'!VQK371","v":0},{"$f":"'Project Cashflows'!VQL371","v":0},{"$f":"'Project Cashflows'!VQM371","v":0},{"$f":"'Project Cashflows'!VQN371","v":0},{"$f":"'Project Cashflows'!VQO371","v":0},{"$f":"'Project Cashflows'!VQP371","v":0},{"$f":"'Project Cashflows'!VQQ371","v":0},{"$f":"'Project Cashflows'!VQR371","v":0},{"$f":"'Project Cashflows'!VQS371","v":0},{"$f":"'Project Cashflows'!VQT371","v":0},{"$f":"'Project Cashflows'!VQU371","v":0},{"$f":"'Project Cashflows'!VQV371","v":0},{"$f":"'Project Cashflows'!VQW371","v":0},{"$f":"'Project Cashflows'!VQX371","v":0},{"$f":"'Project Cashflows'!VQY371","v":0},{"$f":"'Project Cashflows'!VQZ371","v":0},{"$f":"'Project Cashflows'!VRA371","v":0},{"$f":"'Project Cashflows'!VRB371","v":0},{"$f":"'Project Cashflows'!VRC371","v":0},{"$f":"'Project Cashflows'!VRD371","v":0},{"$f":"'Project Cashflows'!VRE371","v":0},{"$f":"'Project Cashflows'!VRF371","v":0},{"$f":"'Project Cashflows'!VRG371","v":0},{"$f":"'Project Cashflows'!VRH371","v":0},{"$f":"'Project Cashflows'!VRI371","v":0},{"$f":"'Project Cashflows'!VRJ371","v":0},{"$f":"'Project Cashflows'!VRK371","v":0},{"$f":"'Project Cashflows'!VRL371","v":0},{"$f":"'Project Cashflows'!VRM371","v":0},{"$f":"'Project Cashflows'!VRN371","v":0},{"$f":"'Project Cashflows'!VRO371","v":0},{"$f":"'Project Cashflows'!VRP371","v":0},{"$f":"'Project Cashflows'!VRQ371","v":0},{"$f":"'Project Cashflows'!VRR371","v":0},{"$f":"'Project Cashflows'!VRS371","v":0},{"$f":"'Project Cashflows'!VRT371","v":0},{"$f":"'Project Cashflows'!VRU371","v":0},{"$f":"'Project Cashflows'!VRV371","v":0},{"$f":"'Project Cashflows'!VRW371","v":0},{"$f":"'Project Cashflows'!VRX371","v":0},{"$f":"'Project Cashflows'!VRY371","v":0},{"$f":"'Project Cashflows'!VRZ371","v":0},{"$f":"'Project Cashflows'!VSA371","v":0},{"$f":"'Project Cashflows'!VSB371","v":0},{"$f":"'Project Cashflows'!VSC371","v":0},{"$f":"'Project Cashflows'!VSD371","v":0},{"$f":"'Project Cashflows'!VSE371","v":0},{"$f":"'Project Cashflows'!VSF371","v":0},{"$f":"'Project Cashflows'!VSG371","v":0},{"$f":"'Project Cashflows'!VSH371","v":0},{"$f":"'Project Cashflows'!VSI371","v":0},{"$f":"'Project Cashflows'!VSJ371","v":0},{"$f":"'Project Cashflows'!VSK371","v":0},{"$f":"'Project Cashflows'!VSL371","v":0},{"$f":"'Project Cashflows'!VSM371","v":0},{"$f":"'Project Cashflows'!VSN371","v":0},{"$f":"'Project Cashflows'!VSO371","v":0},{"$f":"'Project Cashflows'!VSP371","v":0},{"$f":"'Project Cashflows'!VSQ371","v":0},{"$f":"'Project Cashflows'!VSR371","v":0},{"$f":"'Project Cashflows'!VSS371","v":0},{"$f":"'Project Cashflows'!VST371","v":0},{"$f":"'Project Cashflows'!VSU371","v":0},{"$f":"'Project Cashflows'!VSV371","v":0},{"$f":"'Project Cashflows'!VSW371","v":0},{"$f":"'Project Cashflows'!VSX371","v":0},{"$f":"'Project Cashflows'!VSY371","v":0},{"$f":"'Project Cashflows'!VSZ371","v":0},{"$f":"'Project Cashflows'!VTA371","v":0},{"$f":"'Project Cashflows'!VTB371","v":0},{"$f":"'Project Cashflows'!VTC371","v":0},{"$f":"'Project Cashflows'!VTD371","v":0},{"$f":"'Project Cashflows'!VTE371","v":0},{"$f":"'Project Cashflows'!VTF371","v":0},{"$f":"'Project Cashflows'!VTG371","v":0},{"$f":"'Project Cashflows'!VTH371","v":0},{"$f":"'Project Cashflows'!VTI371","v":0},{"$f":"'Project Cashflows'!VTJ371","v":0},{"$f":"'Project Cashflows'!VTK371","v":0},{"$f":"'Project Cashflows'!VTL371","v":0},{"$f":"'Project Cashflows'!VTM371","v":0},{"$f":"'Project Cashflows'!VTN371","v":0},{"$f":"'Project Cashflows'!VTO371","v":0},{"$f":"'Project Cashflows'!VTP371","v":0},{"$f":"'Project Cashflows'!VTQ371","v":0},{"$f":"'Project Cashflows'!VTR371","v":0},{"$f":"'Project Cashflows'!VTS371","v":0},{"$f":"'Project Cashflows'!VTT371","v":0},{"$f":"'Project Cashflows'!VTU371","v":0},{"$f":"'Project Cashflows'!VTV371","v":0},{"$f":"'Project Cashflows'!VTW371","v":0},{"$f":"'Project Cashflows'!VTX371","v":0},{"$f":"'Project Cashflows'!VTY371","v":0},{"$f":"'Project Cashflows'!VTZ371","v":0},{"$f":"'Project Cashflows'!VUA371","v":0},{"$f":"'Project Cashflows'!VUB371","v":0},{"$f":"'Project Cashflows'!VUC371","v":0},{"$f":"'Project Cashflows'!VUD371","v":0},{"$f":"'Project Cashflows'!VUE371","v":0},{"$f":"'Project Cashflows'!VUF371","v":0},{"$f":"'Project Cashflows'!VUG371","v":0},{"$f":"'Project Cashflows'!VUH371","v":0},{"$f":"'Project Cashflows'!VUI371","v":0},{"$f":"'Project Cashflows'!VUJ371","v":0},{"$f":"'Project Cashflows'!VUK371","v":0},{"$f":"'Project Cashflows'!VUL371","v":0},{"$f":"'Project Cashflows'!VUM371","v":0},{"$f":"'Project Cashflows'!VUN371","v":0},{"$f":"'Project Cashflows'!VUO371","v":0},{"$f":"'Project Cashflows'!VUP371","v":0},{"$f":"'Project Cashflows'!VUQ371","v":0},{"$f":"'Project Cashflows'!VUR371","v":0},{"$f":"'Project Cashflows'!VUS371","v":0},{"$f":"'Project Cashflows'!VUT371","v":0},{"$f":"'Project Cashflows'!VUU371","v":0},{"$f":"'Project Cashflows'!VUV371","v":0},{"$f":"'Project Cashflows'!VUW371","v":0},{"$f":"'Project Cashflows'!VUX371","v":0},{"$f":"'Project Cashflows'!VUY371","v":0},{"$f":"'Project Cashflows'!VUZ371","v":0},{"$f":"'Project Cashflows'!VVA371","v":0},{"$f":"'Project Cashflows'!VVB371","v":0},{"$f":"'Project Cashflows'!VVC371","v":0},{"$f":"'Project Cashflows'!VVD371","v":0},{"$f":"'Project Cashflows'!VVE371","v":0},{"$f":"'Project Cashflows'!VVF371","v":0},{"$f":"'Project Cashflows'!VVG371","v":0},{"$f":"'Project Cashflows'!VVH371","v":0},{"$f":"'Project Cashflows'!VVI371","v":0},{"$f":"'Project Cashflows'!VVJ371","v":0},{"$f":"'Project Cashflows'!VVK371","v":0},{"$f":"'Project Cashflows'!VVL371","v":0},{"$f":"'Project Cashflows'!VVM371","v":0},{"$f":"'Project Cashflows'!VVN371","v":0},{"$f":"'Project Cashflows'!VVO371","v":0},{"$f":"'Project Cashflows'!VVP371","v":0},{"$f":"'Project Cashflows'!VVQ371","v":0},{"$f":"'Project Cashflows'!VVR371","v":0},{"$f":"'Project Cashflows'!VVS371","v":0},{"$f":"'Project Cashflows'!VVT371","v":0},{"$f":"'Project Cashflows'!VVU371","v":0},{"$f":"'Project Cashflows'!VVV371","v":0},{"$f":"'Project Cashflows'!VVW371","v":0},{"$f":"'Project Cashflows'!VVX371","v":0},{"$f":"'Project Cashflows'!VVY371","v":0},{"$f":"'Project Cashflows'!VVZ371","v":0},{"$f":"'Project Cashflows'!VWA371","v":0},{"$f":"'Project Cashflows'!VWB371","v":0},{"$f":"'Project Cashflows'!VWC371","v":0},{"$f":"'Project Cashflows'!VWD371","v":0},{"$f":"'Project Cashflows'!VWE371","v":0},{"$f":"'Project Cashflows'!VWF371","v":0},{"$f":"'Project Cashflows'!VWG371","v":0},{"$f":"'Project Cashflows'!VWH371","v":0},{"$f":"'Project Cashflows'!VWI371","v":0},{"$f":"'Project Cashflows'!VWJ371","v":0},{"$f":"'Project Cashflows'!VWK371","v":0},{"$f":"'Project Cashflows'!VWL371","v":0},{"$f":"'Project Cashflows'!VWM371","v":0},{"$f":"'Project Cashflows'!VWN371","v":0},{"$f":"'Project Cashflows'!VWO371","v":0},{"$f":"'Project Cashflows'!VWP371","v":0},{"$f":"'Project Cashflows'!VWQ371","v":0},{"$f":"'Project Cashflows'!VWR371","v":0},{"$f":"'Project Cashflows'!VWS371","v":0},{"$f":"'Project Cashflows'!VWT371","v":0},{"$f":"'Project Cashflows'!VWU371","v":0},{"$f":"'Project Cashflows'!VWV371","v":0},{"$f":"'Project Cashflows'!VWW371","v":0},{"$f":"'Project Cashflows'!VWX371","v":0},{"$f":"'Project Cashflows'!VWY371","v":0},{"$f":"'Project Cashflows'!VWZ371","v":0},{"$f":"'Project Cashflows'!VXA371","v":0},{"$f":"'Project Cashflows'!VXB371","v":0},{"$f":"'Project Cashflows'!VXC371","v":0},{"$f":"'Project Cashflows'!VXD371","v":0},{"$f":"'Project Cashflows'!VXE371","v":0},{"$f":"'Project Cashflows'!VXF371","v":0},{"$f":"'Project Cashflows'!VXG371","v":0},{"$f":"'Project Cashflows'!VXH371","v":0},{"$f":"'Project Cashflows'!VXI371","v":0},{"$f":"'Project Cashflows'!VXJ371","v":0},{"$f":"'Project Cashflows'!VXK371","v":0},{"$f":"'Project Cashflows'!VXL371","v":0},{"$f":"'Project Cashflows'!VXM371","v":0},{"$f":"'Project Cashflows'!VXN371","v":0},{"$f":"'Project Cashflows'!VXO371","v":0},{"$f":"'Project Cashflows'!VXP371","v":0},{"$f":"'Project Cashflows'!VXQ371","v":0},{"$f":"'Project Cashflows'!VXR371","v":0},{"$f":"'Project Cashflows'!VXS371","v":0},{"$f":"'Project Cashflows'!VXT371","v":0},{"$f":"'Project Cashflows'!VXU371","v":0},{"$f":"'Project Cashflows'!VXV371","v":0},{"$f":"'Project Cashflows'!VXW371","v":0},{"$f":"'Project Cashflows'!VXX371","v":0},{"$f":"'Project Cashflows'!VXY371","v":0},{"$f":"'Project Cashflows'!VXZ371","v":0},{"$f":"'Project Cashflows'!VYA371","v":0},{"$f":"'Project Cashflows'!VYB371","v":0},{"$f":"'Project Cashflows'!VYC371","v":0},{"$f":"'Project Cashflows'!VYD371","v":0},{"$f":"'Project Cashflows'!VYE371","v":0},{"$f":"'Project Cashflows'!VYF371","v":0},{"$f":"'Project Cashflows'!VYG371","v":0},{"$f":"'Project Cashflows'!VYH371","v":0},{"$f":"'Project Cashflows'!VYI371","v":0},{"$f":"'Project Cashflows'!VYJ371","v":0},{"$f":"'Project Cashflows'!VYK371","v":0},{"$f":"'Project Cashflows'!VYL371","v":0},{"$f":"'Project Cashflows'!VYM371","v":0},{"$f":"'Project Cashflows'!VYN371","v":0},{"$f":"'Project Cashflows'!VYO371","v":0},{"$f":"'Project Cashflows'!VYP371","v":0},{"$f":"'Project Cashflows'!VYQ371","v":0},{"$f":"'Project Cashflows'!VYR371","v":0},{"$f":"'Project Cashflows'!VYS371","v":0},{"$f":"'Project Cashflows'!VYT371","v":0},{"$f":"'Project Cashflows'!VYU371","v":0},{"$f":"'Project Cashflows'!VYV371","v":0},{"$f":"'Project Cashflows'!VYW371","v":0},{"$f":"'Project Cashflows'!VYX371","v":0},{"$f":"'Project Cashflows'!VYY371","v":0},{"$f":"'Project Cashflows'!VYZ371","v":0},{"$f":"'Project Cashflows'!VZA371","v":0},{"$f":"'Project Cashflows'!VZB371","v":0},{"$f":"'Project Cashflows'!VZC371","v":0},{"$f":"'Project Cashflows'!VZD371","v":0},{"$f":"'Project Cashflows'!VZE371","v":0},{"$f":"'Project Cashflows'!VZF371","v":0},{"$f":"'Project Cashflows'!VZG371","v":0},{"$f":"'Project Cashflows'!VZH371","v":0},{"$f":"'Project Cashflows'!VZI371","v":0},{"$f":"'Project Cashflows'!VZJ371","v":0},{"$f":"'Project Cashflows'!VZK371","v":0},{"$f":"'Project Cashflows'!VZL371","v":0},{"$f":"'Project Cashflows'!VZM371","v":0},{"$f":"'Project Cashflows'!VZN371","v":0},{"$f":"'Project Cashflows'!VZO371","v":0},{"$f":"'Project Cashflows'!VZP371","v":0},{"$f":"'Project Cashflows'!VZQ371","v":0},{"$f":"'Project Cashflows'!VZR371","v":0},{"$f":"'Project Cashflows'!VZS371","v":0},{"$f":"'Project Cashflows'!VZT371","v":0},{"$f":"'Project Cashflows'!VZU371","v":0},{"$f":"'Project Cashflows'!VZV371","v":0},{"$f":"'Project Cashflows'!VZW371","v":0},{"$f":"'Project Cashflows'!VZX371","v":0},{"$f":"'Project Cashflows'!VZY371","v":0},{"$f":"'Project Cashflows'!VZZ371","v":0},{"$f":"'Project Cashflows'!WAA371","v":0},{"$f":"'Project Cashflows'!WAB371","v":0},{"$f":"'Project Cashflows'!WAC371","v":0},{"$f":"'Project Cashflows'!WAD371","v":0},{"$f":"'Project Cashflows'!WAE371","v":0},{"$f":"'Project Cashflows'!WAF371","v":0},{"$f":"'Project Cashflows'!WAG371","v":0},{"$f":"'Project Cashflows'!WAH371","v":0},{"$f":"'Project Cashflows'!WAI371","v":0},{"$f":"'Project Cashflows'!WAJ371","v":0},{"$f":"'Project Cashflows'!WAK371","v":0},{"$f":"'Project Cashflows'!WAL371","v":0},{"$f":"'Project Cashflows'!WAM371","v":0},{"$f":"'Project Cashflows'!WAN371","v":0},{"$f":"'Project Cashflows'!WAO371","v":0},{"$f":"'Project Cashflows'!WAP371","v":0},{"$f":"'Project Cashflows'!WAQ371","v":0},{"$f":"'Project Cashflows'!WAR371","v":0},{"$f":"'Project Cashflows'!WAS371","v":0},{"$f":"'Project Cashflows'!WAT371","v":0},{"$f":"'Project Cashflows'!WAU371","v":0},{"$f":"'Project Cashflows'!WAV371","v":0},{"$f":"'Project Cashflows'!WAW371","v":0},{"$f":"'Project Cashflows'!WAX371","v":0},{"$f":"'Project Cashflows'!WAY371","v":0},{"$f":"'Project Cashflows'!WAZ371","v":0},{"$f":"'Project Cashflows'!WBA371","v":0},{"$f":"'Project Cashflows'!WBB371","v":0},{"$f":"'Project Cashflows'!WBC371","v":0},{"$f":"'Project Cashflows'!WBD371","v":0},{"$f":"'Project Cashflows'!WBE371","v":0},{"$f":"'Project Cashflows'!WBF371","v":0},{"$f":"'Project Cashflows'!WBG371","v":0},{"$f":"'Project Cashflows'!WBH371","v":0},{"$f":"'Project Cashflows'!WBI371","v":0},{"$f":"'Project Cashflows'!WBJ371","v":0},{"$f":"'Project Cashflows'!WBK371","v":0},{"$f":"'Project Cashflows'!WBL371","v":0},{"$f":"'Project Cashflows'!WBM371","v":0},{"$f":"'Project Cashflows'!WBN371","v":0},{"$f":"'Project Cashflows'!WBO371","v":0},{"$f":"'Project Cashflows'!WBP371","v":0},{"$f":"'Project Cashflows'!WBQ371","v":0},{"$f":"'Project Cashflows'!WBR371","v":0},{"$f":"'Project Cashflows'!WBS371","v":0},{"$f":"'Project Cashflows'!WBT371","v":0},{"$f":"'Project Cashflows'!WBU371","v":0},{"$f":"'Project Cashflows'!WBV371","v":0},{"$f":"'Project Cashflows'!WBW371","v":0},{"$f":"'Project Cashflows'!WBX371","v":0},{"$f":"'Project Cashflows'!WBY371","v":0},{"$f":"'Project Cashflows'!WBZ371","v":0},{"$f":"'Project Cashflows'!WCA371","v":0},{"$f":"'Project Cashflows'!WCB371","v":0},{"$f":"'Project Cashflows'!WCC371","v":0},{"$f":"'Project Cashflows'!WCD371","v":0},{"$f":"'Project Cashflows'!WCE371","v":0},{"$f":"'Project Cashflows'!WCF371","v":0},{"$f":"'Project Cashflows'!WCG371","v":0},{"$f":"'Project Cashflows'!WCH371","v":0},{"$f":"'Project Cashflows'!WCI371","v":0},{"$f":"'Project Cashflows'!WCJ371","v":0},{"$f":"'Project Cashflows'!WCK371","v":0},{"$f":"'Project Cashflows'!WCL371","v":0},{"$f":"'Project Cashflows'!WCM371","v":0},{"$f":"'Project Cashflows'!WCN371","v":0},{"$f":"'Project Cashflows'!WCO371","v":0},{"$f":"'Project Cashflows'!WCP371","v":0},{"$f":"'Project Cashflows'!WCQ371","v":0},{"$f":"'Project Cashflows'!WCR371","v":0},{"$f":"'Project Cashflows'!WCS371","v":0},{"$f":"'Project Cashflows'!WCT371","v":0},{"$f":"'Project Cashflows'!WCU371","v":0},{"$f":"'Project Cashflows'!WCV371","v":0},{"$f":"'Project Cashflows'!WCW371","v":0},{"$f":"'Project Cashflows'!WCX371","v":0},{"$f":"'Project Cashflows'!WCY371","v":0},{"$f":"'Project Cashflows'!WCZ371","v":0},{"$f":"'Project Cashflows'!WDA371","v":0},{"$f":"'Project Cashflows'!WDB371","v":0},{"$f":"'Project Cashflows'!WDC371","v":0},{"$f":"'Project Cashflows'!WDD371","v":0},{"$f":"'Project Cashflows'!WDE371","v":0},{"$f":"'Project Cashflows'!WDF371","v":0},{"$f":"'Project Cashflows'!WDG371","v":0},{"$f":"'Project Cashflows'!WDH371","v":0},{"$f":"'Project Cashflows'!WDI371","v":0},{"$f":"'Project Cashflows'!WDJ371","v":0},{"$f":"'Project Cashflows'!WDK371","v":0},{"$f":"'Project Cashflows'!WDL371","v":0},{"$f":"'Project Cashflows'!WDM371","v":0},{"$f":"'Project Cashflows'!WDN371","v":0},{"$f":"'Project Cashflows'!WDO371","v":0},{"$f":"'Project Cashflows'!WDP371","v":0},{"$f":"'Project Cashflows'!WDQ371","v":0},{"$f":"'Project Cashflows'!WDR371","v":0},{"$f":"'Project Cashflows'!WDS371","v":0},{"$f":"'Project Cashflows'!WDT371","v":0},{"$f":"'Project Cashflows'!WDU371","v":0},{"$f":"'Project Cashflows'!WDV371","v":0},{"$f":"'Project Cashflows'!WDW371","v":0},{"$f":"'Project Cashflows'!WDX371","v":0},{"$f":"'Project Cashflows'!WDY371","v":0},{"$f":"'Project Cashflows'!WDZ371","v":0},{"$f":"'Project Cashflows'!WEA371","v":0},{"$f":"'Project Cashflows'!WEB371","v":0},{"$f":"'Project Cashflows'!WEC371","v":0},{"$f":"'Project Cashflows'!WED371","v":0},{"$f":"'Project Cashflows'!WEE371","v":0},{"$f":"'Project Cashflows'!WEF371","v":0},{"$f":"'Project Cashflows'!WEG371","v":0},{"$f":"'Project Cashflows'!WEH371","v":0},{"$f":"'Project Cashflows'!WEI371","v":0},{"$f":"'Project Cashflows'!WEJ371","v":0},{"$f":"'Project Cashflows'!WEK371","v":0},{"$f":"'Project Cashflows'!WEL371","v":0},{"$f":"'Project Cashflows'!WEM371","v":0},{"$f":"'Project Cashflows'!WEN371","v":0},{"$f":"'Project Cashflows'!WEO371","v":0},{"$f":"'Project Cashflows'!WEP371","v":0},{"$f":"'Project Cashflows'!WEQ371","v":0},{"$f":"'Project Cashflows'!WER371","v":0},{"$f":"'Project Cashflows'!WES371","v":0},{"$f":"'Project Cashflows'!WET371","v":0},{"$f":"'Project Cashflows'!WEU371","v":0},{"$f":"'Project Cashflows'!WEV371","v":0},{"$f":"'Project Cashflows'!WEW371","v":0},{"$f":"'Project Cashflows'!WEX371","v":0},{"$f":"'Project Cashflows'!WEY371","v":0},{"$f":"'Project Cashflows'!WEZ371","v":0},{"$f":"'Project Cashflows'!WFA371","v":0},{"$f":"'Project Cashflows'!WFB371","v":0},{"$f":"'Project Cashflows'!WFC371","v":0},{"$f":"'Project Cashflows'!WFD371","v":0},{"$f":"'Project Cashflows'!WFE371","v":0},{"$f":"'Project Cashflows'!WFF371","v":0},{"$f":"'Project Cashflows'!WFG371","v":0},{"$f":"'Project Cashflows'!WFH371","v":0},{"$f":"'Project Cashflows'!WFI371","v":0},{"$f":"'Project Cashflows'!WFJ371","v":0},{"$f":"'Project Cashflows'!WFK371","v":0},{"$f":"'Project Cashflows'!WFL371","v":0},{"$f":"'Project Cashflows'!WFM371","v":0},{"$f":"'Project Cashflows'!WFN371","v":0},{"$f":"'Project Cashflows'!WFO371","v":0},{"$f":"'Project Cashflows'!WFP371","v":0},{"$f":"'Project Cashflows'!WFQ371","v":0},{"$f":"'Project Cashflows'!WFR371","v":0},{"$f":"'Project Cashflows'!WFS371","v":0},{"$f":"'Project Cashflows'!WFT371","v":0},{"$f":"'Project Cashflows'!WFU371","v":0},{"$f":"'Project Cashflows'!WFV371","v":0},{"$f":"'Project Cashflows'!WFW371","v":0},{"$f":"'Project Cashflows'!WFX371","v":0},{"$f":"'Project Cashflows'!WFY371","v":0},{"$f":"'Project Cashflows'!WFZ371","v":0},{"$f":"'Project Cashflows'!WGA371","v":0},{"$f":"'Project Cashflows'!WGB371","v":0},{"$f":"'Project Cashflows'!WGC371","v":0},{"$f":"'Project Cashflows'!WGD371","v":0},{"$f":"'Project Cashflows'!WGE371","v":0},{"$f":"'Project Cashflows'!WGF371","v":0},{"$f":"'Project Cashflows'!WGG371","v":0},{"$f":"'Project Cashflows'!WGH371","v":0},{"$f":"'Project Cashflows'!WGI371","v":0},{"$f":"'Project Cashflows'!WGJ371","v":0},{"$f":"'Project Cashflows'!WGK371","v":0},{"$f":"'Project Cashflows'!WGL371","v":0},{"$f":"'Project Cashflows'!WGM371","v":0},{"$f":"'Project Cashflows'!WGN371","v":0},{"$f":"'Project Cashflows'!WGO371","v":0},{"$f":"'Project Cashflows'!WGP371","v":0},{"$f":"'Project Cashflows'!WGQ371","v":0},{"$f":"'Project Cashflows'!WGR371","v":0},{"$f":"'Project Cashflows'!WGS371","v":0},{"$f":"'Project Cashflows'!WGT371","v":0},{"$f":"'Project Cashflows'!WGU371","v":0},{"$f":"'Project Cashflows'!WGV371","v":0},{"$f":"'Project Cashflows'!WGW371","v":0},{"$f":"'Project Cashflows'!WGX371","v":0},{"$f":"'Project Cashflows'!WGY371","v":0},{"$f":"'Project Cashflows'!WGZ371","v":0},{"$f":"'Project Cashflows'!WHA371","v":0},{"$f":"'Project Cashflows'!WHB371","v":0},{"$f":"'Project Cashflows'!WHC371","v":0},{"$f":"'Project Cashflows'!WHD371","v":0},{"$f":"'Project Cashflows'!WHE371","v":0},{"$f":"'Project Cashflows'!WHF371","v":0},{"$f":"'Project Cashflows'!WHG371","v":0},{"$f":"'Project Cashflows'!WHH371","v":0},{"$f":"'Project Cashflows'!WHI371","v":0},{"$f":"'Project Cashflows'!WHJ371","v":0},{"$f":"'Project Cashflows'!WHK371","v":0},{"$f":"'Project Cashflows'!WHL371","v":0},{"$f":"'Project Cashflows'!WHM371","v":0},{"$f":"'Project Cashflows'!WHN371","v":0},{"$f":"'Project Cashflows'!WHO371","v":0},{"$f":"'Project Cashflows'!WHP371","v":0},{"$f":"'Project Cashflows'!WHQ371","v":0},{"$f":"'Project Cashflows'!WHR371","v":0},{"$f":"'Project Cashflows'!WHS371","v":0},{"$f":"'Project Cashflows'!WHT371","v":0},{"$f":"'Project Cashflows'!WHU371","v":0},{"$f":"'Project Cashflows'!WHV371","v":0},{"$f":"'Project Cashflows'!WHW371","v":0},{"$f":"'Project Cashflows'!WHX371","v":0},{"$f":"'Project Cashflows'!WHY371","v":0},{"$f":"'Project Cashflows'!WHZ371","v":0},{"$f":"'Project Cashflows'!WIA371","v":0},{"$f":"'Project Cashflows'!WIB371","v":0},{"$f":"'Project Cashflows'!WIC371","v":0},{"$f":"'Project Cashflows'!WID371","v":0},{"$f":"'Project Cashflows'!WIE371","v":0},{"$f":"'Project Cashflows'!WIF371","v":0},{"$f":"'Project Cashflows'!WIG371","v":0},{"$f":"'Project Cashflows'!WIH371","v":0},{"$f":"'Project Cashflows'!WII371","v":0},{"$f":"'Project Cashflows'!WIJ371","v":0},{"$f":"'Project Cashflows'!WIK371","v":0},{"$f":"'Project Cashflows'!WIL371","v":0},{"$f":"'Project Cashflows'!WIM371","v":0},{"$f":"'Project Cashflows'!WIN371","v":0},{"$f":"'Project Cashflows'!WIO371","v":0},{"$f":"'Project Cashflows'!WIP371","v":0},{"$f":"'Project Cashflows'!WIQ371","v":0},{"$f":"'Project Cashflows'!WIR371","v":0},{"$f":"'Project Cashflows'!WIS371","v":0},{"$f":"'Project Cashflows'!WIT371","v":0},{"$f":"'Project Cashflows'!WIU371","v":0},{"$f":"'Project Cashflows'!WIV371","v":0},{"$f":"'Project Cashflows'!WIW371","v":0},{"$f":"'Project Cashflows'!WIX371","v":0},{"$f":"'Project Cashflows'!WIY371","v":0},{"$f":"'Project Cashflows'!WIZ371","v":0},{"$f":"'Project Cashflows'!WJA371","v":0},{"$f":"'Project Cashflows'!WJB371","v":0},{"$f":"'Project Cashflows'!WJC371","v":0},{"$f":"'Project Cashflows'!WJD371","v":0},{"$f":"'Project Cashflows'!WJE371","v":0},{"$f":"'Project Cashflows'!WJF371","v":0},{"$f":"'Project Cashflows'!WJG371","v":0},{"$f":"'Project Cashflows'!WJH371","v":0},{"$f":"'Project Cashflows'!WJI371","v":0},{"$f":"'Project Cashflows'!WJJ371","v":0},{"$f":"'Project Cashflows'!WJK371","v":0},{"$f":"'Project Cashflows'!WJL371","v":0},{"$f":"'Project Cashflows'!WJM371","v":0},{"$f":"'Project Cashflows'!WJN371","v":0},{"$f":"'Project Cashflows'!WJO371","v":0},{"$f":"'Project Cashflows'!WJP371","v":0},{"$f":"'Project Cashflows'!WJQ371","v":0},{"$f":"'Project Cashflows'!WJR371","v":0},{"$f":"'Project Cashflows'!WJS371","v":0},{"$f":"'Project Cashflows'!WJT371","v":0},{"$f":"'Project Cashflows'!WJU371","v":0},{"$f":"'Project Cashflows'!WJV371","v":0},{"$f":"'Project Cashflows'!WJW371","v":0},{"$f":"'Project Cashflows'!WJX371","v":0},{"$f":"'Project Cashflows'!WJY371","v":0},{"$f":"'Project Cashflows'!WJZ371","v":0},{"$f":"'Project Cashflows'!WKA371","v":0},{"$f":"'Project Cashflows'!WKB371","v":0},{"$f":"'Project Cashflows'!WKC371","v":0},{"$f":"'Project Cashflows'!WKD371","v":0},{"$f":"'Project Cashflows'!WKE371","v":0},{"$f":"'Project Cashflows'!WKF371","v":0},{"$f":"'Project Cashflows'!WKG371","v":0},{"$f":"'Project Cashflows'!WKH371","v":0},{"$f":"'Project Cashflows'!WKI371","v":0},{"$f":"'Project Cashflows'!WKJ371","v":0},{"$f":"'Project Cashflows'!WKK371","v":0},{"$f":"'Project Cashflows'!WKL371","v":0},{"$f":"'Project Cashflows'!WKM371","v":0},{"$f":"'Project Cashflows'!WKN371","v":0},{"$f":"'Project Cashflows'!WKO371","v":0},{"$f":"'Project Cashflows'!WKP371","v":0},{"$f":"'Project Cashflows'!WKQ371","v":0},{"$f":"'Project Cashflows'!WKR371","v":0},{"$f":"'Project Cashflows'!WKS371","v":0},{"$f":"'Project Cashflows'!WKT371","v":0},{"$f":"'Project Cashflows'!WKU371","v":0},{"$f":"'Project Cashflows'!WKV371","v":0},{"$f":"'Project Cashflows'!WKW371","v":0},{"$f":"'Project Cashflows'!WKX371","v":0},{"$f":"'Project Cashflows'!WKY371","v":0},{"$f":"'Project Cashflows'!WKZ371","v":0},{"$f":"'Project Cashflows'!WLA371","v":0},{"$f":"'Project Cashflows'!WLB371","v":0},{"$f":"'Project Cashflows'!WLC371","v":0},{"$f":"'Project Cashflows'!WLD371","v":0},{"$f":"'Project Cashflows'!WLE371","v":0},{"$f":"'Project Cashflows'!WLF371","v":0},{"$f":"'Project Cashflows'!WLG371","v":0},{"$f":"'Project Cashflows'!WLH371","v":0},{"$f":"'Project Cashflows'!WLI371","v":0},{"$f":"'Project Cashflows'!WLJ371","v":0},{"$f":"'Project Cashflows'!WLK371","v":0},{"$f":"'Project Cashflows'!WLL371","v":0},{"$f":"'Project Cashflows'!WLM371","v":0},{"$f":"'Project Cashflows'!WLN371","v":0},{"$f":"'Project Cashflows'!WLO371","v":0},{"$f":"'Project Cashflows'!WLP371","v":0},{"$f":"'Project Cashflows'!WLQ371","v":0},{"$f":"'Project Cashflows'!WLR371","v":0},{"$f":"'Project Cashflows'!WLS371","v":0},{"$f":"'Project Cashflows'!WLT371","v":0},{"$f":"'Project Cashflows'!WLU371","v":0},{"$f":"'Project Cashflows'!WLV371","v":0},{"$f":"'Project Cashflows'!WLW371","v":0},{"$f":"'Project Cashflows'!WLX371","v":0},{"$f":"'Project Cashflows'!WLY371","v":0},{"$f":"'Project Cashflows'!WLZ371","v":0},{"$f":"'Project Cashflows'!WMA371","v":0},{"$f":"'Project Cashflows'!WMB371","v":0},{"$f":"'Project Cashflows'!WMC371","v":0},{"$f":"'Project Cashflows'!WMD371","v":0},{"$f":"'Project Cashflows'!WME371","v":0},{"$f":"'Project Cashflows'!WMF371","v":0},{"$f":"'Project Cashflows'!WMG371","v":0},{"$f":"'Project Cashflows'!WMH371","v":0},{"$f":"'Project Cashflows'!WMI371","v":0},{"$f":"'Project Cashflows'!WMJ371","v":0},{"$f":"'Project Cashflows'!WMK371","v":0},{"$f":"'Project Cashflows'!WML371","v":0},{"$f":"'Project Cashflows'!WMM371","v":0},{"$f":"'Project Cashflows'!WMN371","v":0},{"$f":"'Project Cashflows'!WMO371","v":0},{"$f":"'Project Cashflows'!WMP371","v":0},{"$f":"'Project Cashflows'!WMQ371","v":0},{"$f":"'Project Cashflows'!WMR371","v":0},{"$f":"'Project Cashflows'!WMS371","v":0},{"$f":"'Project Cashflows'!WMT371","v":0},{"$f":"'Project Cashflows'!WMU371","v":0},{"$f":"'Project Cashflows'!WMV371","v":0},{"$f":"'Project Cashflows'!WMW371","v":0},{"$f":"'Project Cashflows'!WMX371","v":0},{"$f":"'Project Cashflows'!WMY371","v":0},{"$f":"'Project Cashflows'!WMZ371","v":0},{"$f":"'Project Cashflows'!WNA371","v":0},{"$f":"'Project Cashflows'!WNB371","v":0},{"$f":"'Project Cashflows'!WNC371","v":0},{"$f":"'Project Cashflows'!WND371","v":0},{"$f":"'Project Cashflows'!WNE371","v":0},{"$f":"'Project Cashflows'!WNF371","v":0},{"$f":"'Project Cashflows'!WNG371","v":0},{"$f":"'Project Cashflows'!WNH371","v":0},{"$f":"'Project Cashflows'!WNI371","v":0},{"$f":"'Project Cashflows'!WNJ371","v":0},{"$f":"'Project Cashflows'!WNK371","v":0},{"$f":"'Project Cashflows'!WNL371","v":0},{"$f":"'Project Cashflows'!WNM371","v":0},{"$f":"'Project Cashflows'!WNN371","v":0},{"$f":"'Project Cashflows'!WNO371","v":0},{"$f":"'Project Cashflows'!WNP371","v":0},{"$f":"'Project Cashflows'!WNQ371","v":0},{"$f":"'Project Cashflows'!WNR371","v":0},{"$f":"'Project Cashflows'!WNS371","v":0},{"$f":"'Project Cashflows'!WNT371","v":0},{"$f":"'Project Cashflows'!WNU371","v":0},{"$f":"'Project Cashflows'!WNV371","v":0},{"$f":"'Project Cashflows'!WNW371","v":0},{"$f":"'Project Cashflows'!WNX371","v":0},{"$f":"'Project Cashflows'!WNY371","v":0},{"$f":"'Project Cashflows'!WNZ371","v":0},{"$f":"'Project Cashflows'!WOA371","v":0},{"$f":"'Project Cashflows'!WOB371","v":0},{"$f":"'Project Cashflows'!WOC371","v":0},{"$f":"'Project Cashflows'!WOD371","v":0},{"$f":"'Project Cashflows'!WOE371","v":0},{"$f":"'Project Cashflows'!WOF371","v":0},{"$f":"'Project Cashflows'!WOG371","v":0},{"$f":"'Project Cashflows'!WOH371","v":0},{"$f":"'Project Cashflows'!WOI371","v":0},{"$f":"'Project Cashflows'!WOJ371","v":0},{"$f":"'Project Cashflows'!WOK371","v":0},{"$f":"'Project Cashflows'!WOL371","v":0},{"$f":"'Project Cashflows'!WOM371","v":0},{"$f":"'Project Cashflows'!WON371","v":0},{"$f":"'Project Cashflows'!WOO371","v":0},{"$f":"'Project Cashflows'!WOP371","v":0},{"$f":"'Project Cashflows'!WOQ371","v":0},{"$f":"'Project Cashflows'!WOR371","v":0},{"$f":"'Project Cashflows'!WOS371","v":0},{"$f":"'Project Cashflows'!WOT371","v":0},{"$f":"'Project Cashflows'!WOU371","v":0},{"$f":"'Project Cashflows'!WOV371","v":0},{"$f":"'Project Cashflows'!WOW371","v":0},{"$f":"'Project Cashflows'!WOX371","v":0},{"$f":"'Project Cashflows'!WOY371","v":0},{"$f":"'Project Cashflows'!WOZ371","v":0},{"$f":"'Project Cashflows'!WPA371","v":0},{"$f":"'Project Cashflows'!WPB371","v":0},{"$f":"'Project Cashflows'!WPC371","v":0},{"$f":"'Project Cashflows'!WPD371","v":0},{"$f":"'Project Cashflows'!WPE371","v":0},{"$f":"'Project Cashflows'!WPF371","v":0},{"$f":"'Project Cashflows'!WPG371","v":0},{"$f":"'Project Cashflows'!WPH371","v":0},{"$f":"'Project Cashflows'!WPI371","v":0},{"$f":"'Project Cashflows'!WPJ371","v":0},{"$f":"'Project Cashflows'!WPK371","v":0},{"$f":"'Project Cashflows'!WPL371","v":0},{"$f":"'Project Cashflows'!WPM371","v":0},{"$f":"'Project Cashflows'!WPN371","v":0},{"$f":"'Project Cashflows'!WPO371","v":0},{"$f":"'Project Cashflows'!WPP371","v":0},{"$f":"'Project Cashflows'!WPQ371","v":0},{"$f":"'Project Cashflows'!WPR371","v":0},{"$f":"'Project Cashflows'!WPS371","v":0},{"$f":"'Project Cashflows'!WPT371","v":0},{"$f":"'Project Cashflows'!WPU371","v":0},{"$f":"'Project Cashflows'!WPV371","v":0},{"$f":"'Project Cashflows'!WPW371","v":0},{"$f":"'Project Cashflows'!WPX371","v":0},{"$f":"'Project Cashflows'!WPY371","v":0},{"$f":"'Project Cashflows'!WPZ371","v":0},{"$f":"'Project Cashflows'!WQA371","v":0},{"$f":"'Project Cashflows'!WQB371","v":0},{"$f":"'Project Cashflows'!WQC371","v":0},{"$f":"'Project Cashflows'!WQD371","v":0},{"$f":"'Project Cashflows'!WQE371","v":0},{"$f":"'Project Cashflows'!WQF371","v":0},{"$f":"'Project Cashflows'!WQG371","v":0},{"$f":"'Project Cashflows'!WQH371","v":0},{"$f":"'Project Cashflows'!WQI371","v":0},{"$f":"'Project Cashflows'!WQJ371","v":0},{"$f":"'Project Cashflows'!WQK371","v":0},{"$f":"'Project Cashflows'!WQL371","v":0},{"$f":"'Project Cashflows'!WQM371","v":0},{"$f":"'Project Cashflows'!WQN371","v":0},{"$f":"'Project Cashflows'!WQO371","v":0},{"$f":"'Project Cashflows'!WQP371","v":0},{"$f":"'Project Cashflows'!WQQ371","v":0},{"$f":"'Project Cashflows'!WQR371","v":0},{"$f":"'Project Cashflows'!WQS371","v":0},{"$f":"'Project Cashflows'!WQT371","v":0},{"$f":"'Project Cashflows'!WQU371","v":0},{"$f":"'Project Cashflows'!WQV371","v":0},{"$f":"'Project Cashflows'!WQW371","v":0},{"$f":"'Project Cashflows'!WQX371","v":0},{"$f":"'Project Cashflows'!WQY371","v":0},{"$f":"'Project Cashflows'!WQZ371","v":0},{"$f":"'Project Cashflows'!WRA371","v":0},{"$f":"'Project Cashflows'!WRB371","v":0},{"$f":"'Project Cashflows'!WRC371","v":0},{"$f":"'Project Cashflows'!WRD371","v":0},{"$f":"'Project Cashflows'!WRE371","v":0},{"$f":"'Project Cashflows'!WRF371","v":0},{"$f":"'Project Cashflows'!WRG371","v":0},{"$f":"'Project Cashflows'!WRH371","v":0},{"$f":"'Project Cashflows'!WRI371","v":0},{"$f":"'Project Cashflows'!WRJ371","v":0},{"$f":"'Project Cashflows'!WRK371","v":0},{"$f":"'Project Cashflows'!WRL371","v":0},{"$f":"'Project Cashflows'!WRM371","v":0},{"$f":"'Project Cashflows'!WRN371","v":0},{"$f":"'Project Cashflows'!WRO371","v":0},{"$f":"'Project Cashflows'!WRP371","v":0},{"$f":"'Project Cashflows'!WRQ371","v":0},{"$f":"'Project Cashflows'!WRR371","v":0},{"$f":"'Project Cashflows'!WRS371","v":0},{"$f":"'Project Cashflows'!WRT371","v":0},{"$f":"'Project Cashflows'!WRU371","v":0},{"$f":"'Project Cashflows'!WRV371","v":0},{"$f":"'Project Cashflows'!WRW371","v":0},{"$f":"'Project Cashflows'!WRX371","v":0},{"$f":"'Project Cashflows'!WRY371","v":0},{"$f":"'Project Cashflows'!WRZ371","v":0},{"$f":"'Project Cashflows'!WSA371","v":0},{"$f":"'Project Cashflows'!WSB371","v":0},{"$f":"'Project Cashflows'!WSC371","v":0},{"$f":"'Project Cashflows'!WSD371","v":0},{"$f":"'Project Cashflows'!WSE371","v":0},{"$f":"'Project Cashflows'!WSF371","v":0},{"$f":"'Project Cashflows'!WSG371","v":0},{"$f":"'Project Cashflows'!WSH371","v":0},{"$f":"'Project Cashflows'!WSI371","v":0},{"$f":"'Project Cashflows'!WSJ371","v":0},{"$f":"'Project Cashflows'!WSK371","v":0},{"$f":"'Project Cashflows'!WSL371","v":0},{"$f":"'Project Cashflows'!WSM371","v":0},{"$f":"'Project Cashflows'!WSN371","v":0},{"$f":"'Project Cashflows'!WSO371","v":0},{"$f":"'Project Cashflows'!WSP371","v":0},{"$f":"'Project Cashflows'!WSQ371","v":0},{"$f":"'Project Cashflows'!WSR371","v":0},{"$f":"'Project Cashflows'!WSS371","v":0},{"$f":"'Project Cashflows'!WST371","v":0},{"$f":"'Project Cashflows'!WSU371","v":0},{"$f":"'Project Cashflows'!WSV371","v":0},{"$f":"'Project Cashflows'!WSW371","v":0},{"$f":"'Project Cashflows'!WSX371","v":0},{"$f":"'Project Cashflows'!WSY371","v":0},{"$f":"'Project Cashflows'!WSZ371","v":0},{"$f":"'Project Cashflows'!WTA371","v":0},{"$f":"'Project Cashflows'!WTB371","v":0},{"$f":"'Project Cashflows'!WTC371","v":0},{"$f":"'Project Cashflows'!WTD371","v":0},{"$f":"'Project Cashflows'!WTE371","v":0},{"$f":"'Project Cashflows'!WTF371","v":0},{"$f":"'Project Cashflows'!WTG371","v":0},{"$f":"'Project Cashflows'!WTH371","v":0},{"$f":"'Project Cashflows'!WTI371","v":0},{"$f":"'Project Cashflows'!WTJ371","v":0},{"$f":"'Project Cashflows'!WTK371","v":0},{"$f":"'Project Cashflows'!WTL371","v":0},{"$f":"'Project Cashflows'!WTM371","v":0},{"$f":"'Project Cashflows'!WTN371","v":0},{"$f":"'Project Cashflows'!WTO371","v":0},{"$f":"'Project Cashflows'!WTP371","v":0},{"$f":"'Project Cashflows'!WTQ371","v":0},{"$f":"'Project Cashflows'!WTR371","v":0},{"$f":"'Project Cashflows'!WTS371","v":0},{"$f":"'Project Cashflows'!WTT371","v":0},{"$f":"'Project Cashflows'!WTU371","v":0},{"$f":"'Project Cashflows'!WTV371","v":0},{"$f":"'Project Cashflows'!WTW371","v":0},{"$f":"'Project Cashflows'!WTX371","v":0},{"$f":"'Project Cashflows'!WTY371","v":0},{"$f":"'Project Cashflows'!WTZ371","v":0},{"$f":"'Project Cashflows'!WUA371","v":0},{"$f":"'Project Cashflows'!WUB371","v":0},{"$f":"'Project Cashflows'!WUC371","v":0},{"$f":"'Project Cashflows'!WUD371","v":0},{"$f":"'Project Cashflows'!WUE371","v":0},{"$f":"'Project Cashflows'!WUF371","v":0},{"$f":"'Project Cashflows'!WUG371","v":0},{"$f":"'Project Cashflows'!WUH371","v":0},{"$f":"'Project Cashflows'!WUI371","v":0},{"$f":"'Project Cashflows'!WUJ371","v":0},{"$f":"'Project Cashflows'!WUK371","v":0},{"$f":"'Project Cashflows'!WUL371","v":0},{"$f":"'Project Cashflows'!WUM371","v":0},{"$f":"'Project Cashflows'!WUN371","v":0},{"$f":"'Project Cashflows'!WUO371","v":0},{"$f":"'Project Cashflows'!WUP371","v":0},{"$f":"'Project Cashflows'!WUQ371","v":0},{"$f":"'Project Cashflows'!WUR371","v":0},{"$f":"'Project Cashflows'!WUS371","v":0},{"$f":"'Project Cashflows'!WUT371","v":0},{"$f":"'Project Cashflows'!WUU371","v":0},{"$f":"'Project Cashflows'!WUV371","v":0},{"$f":"'Project Cashflows'!WUW371","v":0},{"$f":"'Project Cashflows'!WUX371","v":0},{"$f":"'Project Cashflows'!WUY371","v":0},{"$f":"'Project Cashflows'!WUZ371","v":0},{"$f":"'Project Cashflows'!WVA371","v":0},{"$f":"'Project Cashflows'!WVB371","v":0},{"$f":"'Project Cashflows'!WVC371","v":0},{"$f":"'Project Cashflows'!WVD371","v":0},{"$f":"'Project Cashflows'!WVE371","v":0},{"$f":"'Project Cashflows'!WVF371","v":0},{"$f":"'Project Cashflows'!WVG371","v":0},{"$f":"'Project Cashflows'!WVH371","v":0},{"$f":"'Project Cashflows'!WVI371","v":0},{"$f":"'Project Cashflows'!WVJ371","v":0},{"$f":"'Project Cashflows'!WVK371","v":0},{"$f":"'Project Cashflows'!WVL371","v":0},{"$f":"'Project Cashflows'!WVM371","v":0},{"$f":"'Project Cashflows'!WVN371","v":0},{"$f":"'Project Cashflows'!WVO371","v":0},{"$f":"'Project Cashflows'!WVP371","v":0},{"$f":"'Project Cashflows'!WVQ371","v":0},{"$f":"'Project Cashflows'!WVR371","v":0},{"$f":"'Project Cashflows'!WVS371","v":0},{"$f":"'Project Cashflows'!WVT371","v":0},{"$f":"'Project Cashflows'!WVU371","v":0},{"$f":"'Project Cashflows'!WVV371","v":0},{"$f":"'Project Cashflows'!WVW371","v":0},{"$f":"'Project Cashflows'!WVX371","v":0},{"$f":"'Project Cashflows'!WVY371","v":0},{"$f":"'Project Cashflows'!WVZ371","v":0},{"$f":"'Project Cashflows'!WWA371","v":0},{"$f":"'Project Cashflows'!WWB371","v":0},{"$f":"'Project Cashflows'!WWC371","v":0},{"$f":"'Project Cashflows'!WWD371","v":0},{"$f":"'Project Cashflows'!WWE371","v":0},{"$f":"'Project Cashflows'!WWF371","v":0},{"$f":"'Project Cashflows'!WWG371","v":0},{"$f":"'Project Cashflows'!WWH371","v":0},{"$f":"'Project Cashflows'!WWI371","v":0},{"$f":"'Project Cashflows'!WWJ371","v":0},{"$f":"'Project Cashflows'!WWK371","v":0},{"$f":"'Project Cashflows'!WWL371","v":0},{"$f":"'Project Cashflows'!WWM371","v":0},{"$f":"'Project Cashflows'!WWN371","v":0},{"$f":"'Project Cashflows'!WWO371","v":0},{"$f":"'Project Cashflows'!WWP371","v":0},{"$f":"'Project Cashflows'!WWQ371","v":0},{"$f":"'Project Cashflows'!WWR371","v":0},{"$f":"'Project Cashflows'!WWS371","v":0},{"$f":"'Project Cashflows'!WWT371","v":0},{"$f":"'Project Cashflows'!WWU371","v":0},{"$f":"'Project Cashflows'!WWV371","v":0},{"$f":"'Project Cashflows'!WWW371","v":0},{"$f":"'Project Cashflows'!WWX371","v":0},{"$f":"'Project Cashflows'!WWY371","v":0},{"$f":"'Project Cashflows'!WWZ371","v":0},{"$f":"'Project Cashflows'!WXA371","v":0},{"$f":"'Project Cashflows'!WXB371","v":0},{"$f":"'Project Cashflows'!WXC371","v":0},{"$f":"'Project Cashflows'!WXD371","v":0},{"$f":"'Project Cashflows'!WXE371","v":0},{"$f":"'Project Cashflows'!WXF371","v":0},{"$f":"'Project Cashflows'!WXG371","v":0},{"$f":"'Project Cashflows'!WXH371","v":0},{"$f":"'Project Cashflows'!WXI371","v":0},{"$f":"'Project Cashflows'!WXJ371","v":0},{"$f":"'Project Cashflows'!WXK371","v":0},{"$f":"'Project Cashflows'!WXL371","v":0},{"$f":"'Project Cashflows'!WXM371","v":0},{"$f":"'Project Cashflows'!WXN371","v":0},{"$f":"'Project Cashflows'!WXO371","v":0},{"$f":"'Project Cashflows'!WXP371","v":0},{"$f":"'Project Cashflows'!WXQ371","v":0},{"$f":"'Project Cashflows'!WXR371","v":0},{"$f":"'Project Cashflows'!WXS371","v":0},{"$f":"'Project Cashflows'!WXT371","v":0},{"$f":"'Project Cashflows'!WXU371","v":0},{"$f":"'Project Cashflows'!WXV371","v":0},{"$f":"'Project Cashflows'!WXW371","v":0},{"$f":"'Project Cashflows'!WXX371","v":0},{"$f":"'Project Cashflows'!WXY371","v":0},{"$f":"'Project Cashflows'!WXZ371","v":0},{"$f":"'Project Cashflows'!WYA371","v":0},{"$f":"'Project Cashflows'!WYB371","v":0},{"$f":"'Project Cashflows'!WYC371","v":0},{"$f":"'Project Cashflows'!WYD371","v":0},{"$f":"'Project Cashflows'!WYE371","v":0},{"$f":"'Project Cashflows'!WYF371","v":0},{"$f":"'Project Cashflows'!WYG371","v":0},{"$f":"'Project Cashflows'!WYH371","v":0},{"$f":"'Project Cashflows'!WYI371","v":0},{"$f":"'Project Cashflows'!WYJ371","v":0},{"$f":"'Project Cashflows'!WYK371","v":0},{"$f":"'Project Cashflows'!WYL371","v":0},{"$f":"'Project Cashflows'!WYM371","v":0},{"$f":"'Project Cashflows'!WYN371","v":0},{"$f":"'Project Cashflows'!WYO371","v":0},{"$f":"'Project Cashflows'!WYP371","v":0},{"$f":"'Project Cashflows'!WYQ371","v":0},{"$f":"'Project Cashflows'!WYR371","v":0},{"$f":"'Project Cashflows'!WYS371","v":0},{"$f":"'Project Cashflows'!WYT371","v":0},{"$f":"'Project Cashflows'!WYU371","v":0},{"$f":"'Project Cashflows'!WYV371","v":0},{"$f":"'Project Cashflows'!WYW371","v":0},{"$f":"'Project Cashflows'!WYX371","v":0},{"$f":"'Project Cashflows'!WYY371","v":0},{"$f":"'Project Cashflows'!WYZ371","v":0},{"$f":"'Project Cashflows'!WZA371","v":0},{"$f":"'Project Cashflows'!WZB371","v":0},{"$f":"'Project Cashflows'!WZC371","v":0},{"$f":"'Project Cashflows'!WZD371","v":0},{"$f":"'Project Cashflows'!WZE371","v":0},{"$f":"'Project Cashflows'!WZF371","v":0},{"$f":"'Project Cashflows'!WZG371","v":0},{"$f":"'Project Cashflows'!WZH371","v":0},{"$f":"'Project Cashflows'!WZI371","v":0},{"$f":"'Project Cashflows'!WZJ371","v":0},{"$f":"'Project Cashflows'!WZK371","v":0},{"$f":"'Project Cashflows'!WZL371","v":0},{"$f":"'Project Cashflows'!WZM371","v":0},{"$f":"'Project Cashflows'!WZN371","v":0},{"$f":"'Project Cashflows'!WZO371","v":0},{"$f":"'Project Cashflows'!WZP371","v":0},{"$f":"'Project Cashflows'!WZQ371","v":0},{"$f":"'Project Cashflows'!WZR371","v":0},{"$f":"'Project Cashflows'!WZS371","v":0},{"$f":"'Project Cashflows'!WZT371","v":0},{"$f":"'Project Cashflows'!WZU371","v":0},{"$f":"'Project Cashflows'!WZV371","v":0},{"$f":"'Project Cashflows'!WZW371","v":0},{"$f":"'Project Cashflows'!WZX371","v":0},{"$f":"'Project Cashflows'!WZY371","v":0},{"$f":"'Project Cashflows'!WZZ371","v":0},{"$f":"'Project Cashflows'!XAA371","v":0},{"$f":"'Project Cashflows'!XAB371","v":0},{"$f":"'Project Cashflows'!XAC371","v":0},{"$f":"'Project Cashflows'!XAD371","v":0},{"$f":"'Project Cashflows'!XAE371","v":0},{"$f":"'Project Cashflows'!XAF371","v":0},{"$f":"'Project Cashflows'!XAG371","v":0},{"$f":"'Project Cashflows'!XAH371","v":0},{"$f":"'Project Cashflows'!XAI371","v":0},{"$f":"'Project Cashflows'!XAJ371","v":0},{"$f":"'Project Cashflows'!XAK371","v":0},{"$f":"'Project Cashflows'!XAL371","v":0},{"$f":"'Project Cashflows'!XAM371","v":0},{"$f":"'Project Cashflows'!XAN371","v":0},{"$f":"'Project Cashflows'!XAO371","v":0},{"$f":"'Project Cashflows'!XAP371","v":0},{"$f":"'Project Cashflows'!XAQ371","v":0},{"$f":"'Project Cashflows'!XAR371","v":0},{"$f":"'Project Cashflows'!XAS371","v":0},{"$f":"'Project Cashflows'!XAT371","v":0},{"$f":"'Project Cashflows'!XAU371","v":0},{"$f":"'Project Cashflows'!XAV371","v":0},{"$f":"'Project Cashflows'!XAW371","v":0},{"$f":"'Project Cashflows'!XAX371","v":0},{"$f":"'Project Cashflows'!XAY371","v":0},{"$f":"'Project Cashflows'!XAZ371","v":0},{"$f":"'Project Cashflows'!XBA371","v":0},{"$f":"'Project Cashflows'!XBB371","v":0},{"$f":"'Project Cashflows'!XBC371","v":0},{"$f":"'Project Cashflows'!XBD371","v":0},{"$f":"'Project Cashflows'!XBE371","v":0},{"$f":"'Project Cashflows'!XBF371","v":0},{"$f":"'Project Cashflows'!XBG371","v":0},{"$f":"'Project Cashflows'!XBH371","v":0},{"$f":"'Project Cashflows'!XBI371","v":0},{"$f":"'Project Cashflows'!XBJ371","v":0},{"$f":"'Project Cashflows'!XBK371","v":0},{"$f":"'Project Cashflows'!XBL371","v":0},{"$f":"'Project Cashflows'!XBM371","v":0},{"$f":"'Project Cashflows'!XBN371","v":0},{"$f":"'Project Cashflows'!XBO371","v":0},{"$f":"'Project Cashflows'!XBP371","v":0},{"$f":"'Project Cashflows'!XBQ371","v":0},{"$f":"'Project Cashflows'!XBR371","v":0},{"$f":"'Project Cashflows'!XBS371","v":0},{"$f":"'Project Cashflows'!XBT371","v":0},{"$f":"'Project Cashflows'!XBU371","v":0},{"$f":"'Project Cashflows'!XBV371","v":0},{"$f":"'Project Cashflows'!XBW371","v":0},{"$f":"'Project Cashflows'!XBX371","v":0},{"$f":"'Project Cashflows'!XBY371","v":0},{"$f":"'Project Cashflows'!XBZ371","v":0},{"$f":"'Project Cashflows'!XCA371","v":0},{"$f":"'Project Cashflows'!XCB371","v":0},{"$f":"'Project Cashflows'!XCC371","v":0},{"$f":"'Project Cashflows'!XCD371","v":0},{"$f":"'Project Cashflows'!XCE371","v":0},{"$f":"'Project Cashflows'!XCF371","v":0},{"$f":"'Project Cashflows'!XCG371","v":0},{"$f":"'Project Cashflows'!XCH371","v":0},{"$f":"'Project Cashflows'!XCI371","v":0},{"$f":"'Project Cashflows'!XCJ371","v":0},{"$f":"'Project Cashflows'!XCK371","v":0},{"$f":"'Project Cashflows'!XCL371","v":0},{"$f":"'Project Cashflows'!XCM371","v":0},{"$f":"'Project Cashflows'!XCN371","v":0},{"$f":"'Project Cashflows'!XCO371","v":0},{"$f":"'Project Cashflows'!XCP371","v":0},{"$f":"'Project Cashflows'!XCQ371","v":0},{"$f":"'Project Cashflows'!XCR371","v":0},{"$f":"'Project Cashflows'!XCS371","v":0},{"$f":"'Project Cashflows'!XCT371","v":0},{"$f":"'Project Cashflows'!XCU371","v":0},{"$f":"'Project Cashflows'!XCV371","v":0},{"$f":"'Project Cashflows'!XCW371","v":0},{"$f":"'Project Cashflows'!XCX371","v":0},{"$f":"'Project Cashflows'!XCY371","v":0},{"$f":"'Project Cashflows'!XCZ371","v":0},{"$f":"'Project Cashflows'!XDA371","v":0},{"$f":"'Project Cashflows'!XDB371","v":0},{"$f":"'Project Cashflows'!XDC371","v":0},{"$f":"'Project Cashflows'!XDD371","v":0},{"$f":"'Project Cashflows'!XDE371","v":0},{"$f":"'Project Cashflows'!XDF371","v":0},{"$f":"'Project Cashflows'!XDG371","v":0},{"$f":"'Project Cashflows'!XDH371","v":0},{"$f":"'Project Cashflows'!XDI371","v":0},{"$f":"'Project Cashflows'!XDJ371","v":0},{"$f":"'Project Cashflows'!XDK371","v":0},{"$f":"'Project Cashflows'!XDL371","v":0},{"$f":"'Project Cashflows'!XDM371","v":0},{"$f":"'Project Cashflows'!XDN371","v":0},{"$f":"'Project Cashflows'!XDO371","v":0},{"$f":"'Project Cashflows'!XDP371","v":0},{"$f":"'Project Cashflows'!XDQ371","v":0},{"$f":"'Project Cashflows'!XDR371","v":0},{"$f":"'Project Cashflows'!XDS371","v":0},{"$f":"'Project Cashflows'!XDT371","v":0},{"$f":"'Project Cashflows'!XDU371","v":0},{"$f":"'Project Cashflows'!XDV371","v":0},{"$f":"'Project Cashflows'!XDW371","v":0},{"$f":"'Project Cashflows'!XDX371","v":0},{"$f":"'Project Cashflows'!XDY371","v":0},{"$f":"'Project Cashflows'!XDZ371","v":0},{"$f":"'Project Cashflows'!XEA371","v":0},{"$f":"'Project Cashflows'!XEB371","v":0},{"$f":"'Project Cashflows'!XEC371","v":0},{"$f":"'Project Cashflows'!XED371","v":0},{"$f":"'Project Cashflows'!XEE371","v":0},{"$f":"'Project Cashflows'!XEF371","v":0},{"$f":"'Project Cashflows'!XEG371","v":0},{"$f":"'Project Cashflows'!XEH371","v":0},{"$f":"'Project Cashflows'!XEI371","v":0},{"$f":"'Project Cashflows'!XEJ371","v":0},{"$f":"'Project Cashflows'!XEK371","v":0},{"$f":"'Project Cashflows'!XEL371","v":0},{"$f":"'Project Cashflows'!XEM371","v":0},{"$f":"'Project Cashflows'!XEN371","v":0},{"$f":"'Project Cashflows'!XEO371","v":0},{"$f":"'Project Cashflows'!XEP371","v":0},{"$f":"'Project Cashflows'!XEQ371","v":0},{"$f":"'Project Cashflows'!XER371","v":0},{"$f":"'Project Cashflows'!XES371","v":0},{"$f":"'Project Cashflows'!XET371","v":0},{"$f":"'Project Cashflows'!XEU371","v":0},{"$f":"'Project Cashflows'!XEV371","v":0},{"$f":"'Project Cashflows'!XEW371","v":0},{"$f":"'Project Cashflows'!XEX371","v":0},{"$f":"'Project Cashflows'!XEY371","v":0},{"$f":"'Project Cashflows'!XEZ371","v":0},{"$f":"'Project Cashflows'!XFA371","v":0},{"$f":"'Project Cashflows'!XFB371","v":0},{"$f":"'Project Cashflows'!XFC371","v":0},{"$f":"'Project Cashflows'!XFD371","v":0}]
[null,null,null,"Less",{"$f":"'Project Cashflows'!E374","v":"LCR Royalty"},null,{"$f":"'Project Cashflows'!G374","v":"US$ mn"},null,{"$f":"'Project Cashflows'!I374","v":459.48000000000013},{"$f":"'Project Cashflows'!J374","v":0},{"$f":"'Project Cashflows'!K374","v":0},{"$f":"'Project Cashflows'!L374","v":0},{"$f":"'Project Cashflows'!M374","v":0.55999999999999994},{"$f":"'Project Cashflows'!N374","v":2.8},{"$f":"'Project Cashflows'!O374","v":5.6},{"$f":"'Project Cashflows'!P374","v":14},{"$f":"'Project Cashflows'!Q374","v":30.099999999999998},{"$f":"'Project Cashflows'!R374","v":30.099999999999998},{"$f":"'Project Cashflows'!S374","v":30.099999999999998},{"$f":"'Project Cashflows'!T374","v":30.099999999999998},{"$f":"'Project Cashflows'!U374","v":30.099999999999998},{"$f":"'Project Cashflows'!V374","v":30.099999999999998},{"$f":"'Project Cashflows'!W374","v":30.099999999999998},{"$f":"'Project Cashflows'!X374","v":30.099999999999998},{"$f":"'Project Cashflows'!Y374","v":30.099999999999998},{"$f":"'Project Cashflows'!Z374","v":30.099999999999998},{"$f":"'Project Cashflows'!AA374","v":30.099999999999998},{"$f":"'Project Cashflows'!AB374","v":30.099999999999998},{"$f":"'Project Cashflows'!AC374","v":30.099999999999998},{"$f":"'Project Cashflows'!AD374","v":30.099999999999998},{"$f":"'Project Cashflows'!AE374","v":15.12},{"$f":"'Project Cashflows'!AF374","v":0},{"$f":"'Project Cashflows'!AG374","v":0},{"$f":"'Project Cashflows'!AH374","v":0},{"$f":"'Project Cashflows'!AI374","v":0},{"$f":"'Project Cashflows'!AJ374","v":0},{"$f":"'Project Cashflows'!AK374","v":0},{"$f":"'Project Cashflows'!AL374","v":0},{"$f":"'Project Cashflows'!AM374","v":0},{"$f":"'Project Cashflows'!AN374","v":0},{"$f":"'Project Cashflows'!AO374","v":0},{"$f":"'Project Cashflows'!AP374","v":0},{"$f":"'Project Cashflows'!AQ374","v":0},{"$f":"'Project Cashflows'!AR374","v":0},{"$f":"'Project Cashflows'!AS374","v":0},{"$f":"'Project Cashflows'!AT374","v":0},{"$f":"'Project Cashflows'!AU374","v":0},{"$f":"'Project Cashflows'!AV374","v":0}]
[null,null,null,"Less","Depreciation & Amortisation",null,"US$ mn",null,{"$f":" SUM(K164:AV164)","v":2041.6},null,{"$f":"K152","v":0},{"$f":"L152","v":0},0,49.159999999999989,{"$f":"O152","v":49.159999999999989},49.159999999999989,49.159999999999989,80.16,111.16,142.16,173.16,173.16,173.16,124,124,124,124,124,124,93,155,0,0,0,0,0,0,0,0,0,0,0,0,0,0,0,0,{"$f":"AV152","v":0}]
[null,null,null,"Less","Financing Cost",null,"US$ mn",null,{"$f":" SUM(K165:AV165)","v":0},null,{"$f":"K72","v":0},0,0,0,0,0,0,0,0,0,0,0,0,0,0,0,0,0,0,0,0,0,0,0,0,0,0,0,0,0,0,0,0,0,0,0,0,{"$f":"AV72","v":0}]
[null,null,null,"Less",{"$f":"'Project Cashflows'!E387","v":"Annual fees to ISA"},null,{"$f":"'Project Cashflows'!G387","v":"US$ mn"},null,{"$f":" SUM(K166:AV166)","v":31.5},null,{"$f":"'Project Cashflows'!K387","v":1.5},{"$f":"'Project Cashflows'!L387","v":1.5},{"$f":"'Project Cashflows'!M387","v":1.5},{"$f":"'Project Cashflows'!N387","v":1.5},{"$f":"'Project Cashflows'!O387","v":1.5},{"$f":"'Project Cashflows'!P387","v":1.5},{"$f":"'Project Cashflows'!Q387","v":1.5},{"$f":"'Project Cashflows'!R387","v":1.5},{"$f":"'Project Cashflows'!S387","v":1.5},{"$f":"'Project Cashflows'!T387","v":1.5},{"$f":"'Project Cashflows'!U387","v":1.5},{"$f":"'Project Cashflows'!V387","v":1.5},{"$f":"'Project Cashflows'!W387","v":1.5},{"$f":"'Project Cashflows'!X387","v":1.5},{"$f":"'Project Cashflows'!Y387","v":1.5},{"$f":"'Project Cashflows'!Z387","v":1.5},{"$f":"'Project Cashflows'!AA387","v":1.5},{"$f":"'Project Cashflows'!AB387","v":1.5},{"$f":"'Project Cashflows'!AC387","v":1.5},{"$f":"'Project Cashflows'!AD387","v":1.5},{"$f":"'Project Cashflows'!AE387","v":1.5},{"$f":"'Project Cashflows'!AF387","v":0},{"$f":"'Project Cashflows'!AG387","v":0},{"$f":"'Project Cashflows'!AH387","v":0},{"$f":"'Project Cashflows'!AI387","v":0},{"$f":"'Project Cashflows'!AJ387","v":0},{"$f":"'Project Cashflows'!AK387","v":0},{"$f":"'Project Cashflows'!AL387","v":0},{"$f":"'Project Cashflows'!AM387","v":0},{"$f":"'Project Cashflows'!AN387","v":0},{"$f":"'Project Cashflows'!AO387","v":0},{"$f":"'Project Cashflows'!AP387","v":0},{"$f":"'Project Cashflows'!AQ387","v":0},{"$f":"'Project Cashflows'!AR387","v":0},{"$f":"'Project Cashflows'!AS387","v":0},{"$f":"'Project Cashflows'!AT387","v":0},{"$f":"'Project Cashflows'!AU387","v":0},{"$f":"'Project Cashflows'!AV387","v":0}]
[]
[null,null,null,null,"Project Profit before royalties",null,"US$ mn",null,{"$f":" SUM(K168:AV168)","v":19020.514370565983},null,{"$f":"K158-K159-K160-K161-K162-K163-K165-K166-K164","v":-1.5},{"$f":"L158-L159-L160-L161-L162-L163-L165-L166-L164","v":-1.5},{"$f":"M158-M159-M160-M161-M162-M163-M165-M166-M164","v":13.460953447145254},24.144767235726455,{"$f":"O158-O159-O160-O161-O162-O163-O165-O166-O164","v":141.06918926235286},478.21550820399978,1086.4223426386,1055.4223426386,1317.0121057683198,1286.0121057683198,1255.0121057683198,1255.0121057683198,1255.0121057683198,1337.4755292833606,1337.4755292833606,1337.4755292833606,1337.4755292833606,1337.4755292833606,1337.4755292833606,1368.4755292833606,578.39003331443189,-11.5,-11.5,-11.5,-11.5,-11.5,-11.5,-11.5,-11.5,-11.5,-11.5,0,0,0,0,0,0,0]
[]
[null,null,null,null,{"$f":"E45","v":"Royalty Payables"},null,{"$f":"G45","v":"US$ mn"},null,{"$f":"I45","v":5189.2974809999996},0,0,0,2.1790803599999999,10.895401800000002,21.790803600000004,54.477009000000002,117.12556935000001,117.12556935000001,385.63311599999992,385.63311599999992,385.63311599999992,385.63311599999992,385.63311599999992,391.55038469999994,391.55038469999994,391.55038469999994,391.55038469999994,391.55038469999994,391.55038469999994,391.55038469999994,196.68577463999998,0,0,0,0,0,0,0,0,0,0,0,0,0,0,0,0,{"$f":"AV45","v":0}]
[null,null,null,null,{"$f":"E236","v":"Additional Profit share payables"},{"$f":"F236","v":0},{"$f":"G236","v":"US$ mn"},null,{"$f":"I236","v":0},{"$f":"J236","v":0},0,0,0,0,0,{"$f":"P236","v":0},0,0,0,0,0,0,0,0,0,0,0,0,0,0,0,0,0,0,0,0,0,0,0,0,0,0,0,0,0,0,0,{"$f":"AV236","v":0}]
[null,null,null,null,{"$f":"'Working Inputs'!E221","v":"Additionam profit share reductible for CIT"},{"$f":"'Working Inputs'!F221","v":0},{"$f":"'Working Inputs'!G221","v":"Option"}]
[]
[]
[null,null,null,null,"Taxable Income before prior period losses",null,"US$ mn",null,{"$f":" SUM(K175:AV175)","v":13831.216889565985},null,{"$f":"K168-K170-J171*$F$172","v":-1.5},{"$f":"L168-L170-K171*$F$172","v":-1.5},{"$f":"M168-M170-L171*$F$172","v":11.281873087145254},13.249365435726453,119.27838566235286,423.73849920399977,969.29677328859998,938.29677328859998,{"$f":"S168-S170-R171*$F$172","v":931.3789897683198},900.3789897683198,869.3789897683198,869.3789897683198,869.3789897683198,945.92514458336063,945.92514458336063,945.92514458336063,945.92514458336063,945.92514458336063,945.92514458336063,976.92514458336063,381.70425867443191,-11.5,-11.5,-11.5,-11.5,-11.5,-11.5,-11.5,-11.5,-11.5,-11.5,0,0,0,0,0,0,0]
[null,null,null,null,"Prior period losses carried forward (unlimited carry forward)",null,"US$ mn",null,{"$f":" SUM(K176:AV176)","v":-1327},null,{"$f":"J177*(J177<0)","v":0},{"$f":"K177*(K177<0)","v":-1.5},-3,0,0,{"$f":"O177*(O177<0)","v":0},0,0,0,0,0,0,0,0,0,0,0,0,0,0,0,0,-11.5,-23,-34.5,-46,-57.5,-69,-80.5,-92,-103.5,-115,-115,-115,-115,-115,-115,-115]
[null,null,null,null,"Taxable income after losses",null,"US$ mn",null,{"$f":" SUM(K177:AV177)","v":12504.216889565985},null,{"$f":"K175+K176","v":-1.5},{"$f":"L175+L176","v":-3},8.2818730871452537,13.249365435726453,{"$f":"O175+O176","v":119.27838566235286},423.73849920399977,969.29677328859998,938.29677328859998,931.3789897683198,900.3789897683198,869.3789897683198,869.3789897683198,869.3789897683198,945.92514458336063,945.92514458336063,945.92514458336063,945.92514458336063,945.92514458336063,945.92514458336063,976.92514458336063,381.70425867443191,-11.5,-23,-34.5,-46,-57.5,-69,-80.5,-92,-103.5,-115,-115,-115,-115,-115,-115,-115,{"$f":"AV175+AV176","v":-115}]
[]
[null,null,null,null,{"$f":"'Working Inputs'!E224","v":"CIT Rate - Sponsoring state"},{"$f":"'Working Inputs'!F224","v":0.25},{"$f":"'Working Inputs'!G224","v":"%"}]
[null,null,null,null,"Corporate Income Taxes - Sponsoring State",null,"US$ mn",null,{"$f":" SUM(K180:AV180)","v":3486.5542223914963},null,{"$f":" $F$179 * K177 * ( K177 > 0 )","v":0},0,{"$f":" $F$179 * M177 * ( M177 > 0 )","v":2.0704682717863134},3.3123413589316133,29.819596415588215,105.93462480099994,242.32419332214999,234.57419332214999,232.84474744207995,225.09474744207995,217.34474744207995,217.34474744207995,217.34474744207995,236.48128614584016,236.48128614584016,236.48128614584016,236.48128614584016,236.48128614584016,236.48128614584016,244.23128614584016,95.426064668607978,0,0,0,0,0,0,{"$f":" $F$179 * AL177 * ( AL177 > 0 )","v":0},0,0,0,0,0,0,0,0,0,0]
[]
[null,null,null,null,"Net Income",null,"US$ mn",null,{"$f":" SUM(K182:AV182)","v":10344.662667174485},null,{"$f":"K168-K170-K171-K180","v":-1.5},-1.5,9.2114048153589394,9.9370240767948399,89.458789246764638,317.80387440299984,726.97257996644998,703.72257996644998,698.53424232623979,675.28424232623979,652.03424232623979,652.03424232623979,652.03424232623979,709.44385843752048,709.44385843752048,709.44385843752048,709.44385843752048,709.44385843752048,709.44385843752048,732.69385843752048,286.27819400582393,-11.5,-11.5,-11.5,-11.5,-11.5,-11.5,{"$f":"AL168-AL170-AL171-AL180","v":-11.5},-11.5,-11.5,-11.5,0,0,0,0,0,0,0]
[]
["Additional Profit Share"]
[null,"Accumulated profits"]
[]
[null,null,null,null,{"$f":"'Project Cashflows'!E353","v":"Total Sales Revenue"},{"$f":"'Project Cashflows'!F353","v":0},{"$f":"'Project Cashflows'!G353","v":"US$ mn"},{"$f":"'Project Cashflows'!H353","v":0},{"$f":"'Project Cashflows'!I353","v":58574.18437056597},{"$f":"'Project Cashflows'!J353","v":0},{"$f":"'Project Cashflows'!K353","v":0},{"$f":"'Project Cashflows'!L353","v":0},{"$f":"'Project Cashflows'!M353","v":60.500953447145264},{"$f":"'Project Cashflows'!N353","v":302.50476723572643},{"$f":"'Project Cashflows'!O353","v":647.12918926235284},{"$f":"'Project Cashflows'!P353","v":1667.3755082039997},{"$f":"'Project Cashflows'!Q353","v":3584.8573426385997},{"$f":"'Project Cashflows'!R353","v":3584.8573426385997},{"$f":"'Project Cashflows'!S353","v":3877.4471057683195},{"$f":"'Project Cashflows'!T353","v":3877.4471057683195},{"$f":"'Project Cashflows'!U353","v":3877.4471057683195},{"$f":"'Project Cashflows'!V353","v":3877.4471057683195},{"$f":"'Project Cashflows'!W353","v":3877.4471057683195},{"$f":"'Project Cashflows'!X353","v":3910.7505292833603},{"$f":"'Project Cashflows'!Y353","v":3910.7505292833603},{"$f":"'Project Cashflows'!Z353","v":3910.7505292833603},{"$f":"'Project Cashflows'!AA353","v":3910.7505292833603},{"$f":"'Project Cashflows'!AB353","v":3910.7505292833603},{"$f":"'Project Cashflows'!AC353","v":3910.7505292833603},{"$f":"'Project Cashflows'!AD353","v":3910.7505292833603},{"$f":"'Project Cashflows'!AE353","v":1964.4700333144319},{"$f":"'Project Cashflows'!AF353","v":0},{"$f":"'Project Cashflows'!AG353","v":0},{"$f":"'Project Cashflows'!AH353","v":0},{"$f":"'Project Cashflows'!AI353","v":0},{"$f":"'Project Cashflows'!AJ353","v":0},{"$f":"'Project Cashflows'!AK353","v":0},{"$f":"'Project Cashflows'!AL353","v":0},{"$f":"'Project Cashflows'!AM353","v":0},{"$f":"'Project Cashflows'!AN353","v":0},{"$f":"'Project Cashflows'!AO353","v":0},{"$f":"'Project Cashflows'!AP353","v":0},{"$f":"'Project Cashflows'!AQ353","v":0},{"$f":"'Project Cashflows'!AR353","v":0},{"$f":"'Project Cashflows'!AS353","v":0},{"$f":"'Project Cashflows'!AT353","v":0},{"$f":"'Project Cashflows'!AU353","v":0},{"$f":"'Project Cashflows'!AV353","v":0}]
[null,null,null,null,{"$f":"'Project Cashflows'!E248","v":"Processing "},{"$f":"'Project Cashflows'!F248","v":0},{"$f":"'Project Cashflows'!G248","v":"US$ mn"},{"$f":"'Project Cashflows'!H248","v":0},{"$f":"'Project Cashflows'!I248","v":13620.300000000001},{"$f":"'Project Cashflows'!J248","v":0},{"$f":"'Project Cashflows'!K248","v":0},{"$f":"'Project Cashflows'!L248","v":0},{"$f":"'Project Cashflows'!M248","v":16.600000000000001},{"$f":"'Project Cashflows'!N248","v":83},{"$f":"'Project Cashflows'!O248","v":166},{"$f":"'Project Cashflows'!P248","v":415},{"$f":"'Project Cashflows'!Q248","v":892.25},{"$f":"'Project Cashflows'!R248","v":892.25},{"$f":"'Project Cashflows'!S248","v":892.25},{"$f":"'Project Cashflows'!T248","v":892.25},{"$f":"'Project Cashflows'!U248","v":892.25},{"$f":"'Project Cashflows'!V248","v":892.25},{"$f":"'Project Cashflows'!W248","v":892.25},{"$f":"'Project Cashflows'!X248","v":892.25},{"$f":"'Project Cashflows'!Y248","v":892.25},{"$f":"'Project Cashflows'!Z248","v":892.25},{"$f":"'Project Cashflows'!AA248","v":892.25},{"$f":"'Project Cashflows'!AB248","v":892.25},{"$f":"'Project Cashflows'!AC248","v":892.25},{"$f":"'Project Cashflows'!AD248","v":892.25},{"$f":"'Project Cashflows'!AE248","v":448.20000000000005},{"$f":"'Project Cashflows'!AF248","v":0},{"$f":"'Project Cashflows'!AG248","v":0},{"$f":"'Project Cashflows'!AH248","v":0},{"$f":"'Project Cashflows'!AI248","v":0},{"$f":"'Project Cashflows'!AJ248","v":0},{"$f":"'Project Cashflows'!AK248","v":0},{"$f":"'Project Cashflows'!AL248","v":0},{"$f":"'Project Cashflows'!AM248","v":0},{"$f":"'Project Cashflows'!AN248","v":0},{"$f":"'Project Cashflows'!AO248","v":0},{"$f":"'Project Cashflows'!AP248","v":0},{"$f":"'Project Cashflows'!AQ248","v":0},{"$f":"'Project Cashflows'!AR248","v":0},{"$f":"'Project Cashflows'!AS248","v":0},{"$f":"'Project Cashflows'!AT248","v":0},{"$f":"'Project Cashflows'!AU248","v":0},{"$f":"'Project Cashflows'!AV248","v":0}]
[null,null,null,null,"Estimated raw nodule value",null,{"$f":"'Project Cashflows'!G249","v":"US$ mn"},null,{"$f":"+SUM(K189:AV189)","v":44953.884370565967},null,{"$f":"+K187-K188","v":0},{"$f":"+L187-L188","v":0},43.900953447145262,219.50476723572643,481.12918926235284,1252.3755082039997,2692.6073426385997,2692.6073426385997,2985.1971057683195,2985.1971057683195,2985.1971057683195,2985.1971057683195,2985.1971057683195,3018.5005292833603,3018.5005292833603,3018.5005292833603,3018.5005292833603,3018.5005292833603,3018.5005292833603,3018.5005292833603,1516.2700333144319,0,0,0,0,0,0,0,0,0,0,0,0,0,0,0,0,0]
[]
[null,null,"Allowable Costs"]
[null,null,null,null,{"$f":"+'Project Cashflows'!E229","v":"Production Vessel"},{"$f":"+'Project Cashflows'!F229","v":0},{"$f":"+'Project Cashflows'!G229","v":"US$ mn"},{"$f":"+'Project Cashflows'!H229","v":0},{"$f":"+'Project Cashflows'!I229","v":468.4},{"$f":"+'Project Cashflows'!J229","v":0},{"$f":"+'Project Cashflows'!K229","v":234.2},{"$f":"+'Project Cashflows'!L229","v":234.2},{"$f":"+'Project Cashflows'!M229","v":0},{"$f":"+'Project Cashflows'!N229","v":0},{"$f":"+'Project Cashflows'!O229","v":0},{"$f":"+'Project Cashflows'!P229","v":0},{"$f":"+'Project Cashflows'!Q229","v":0},{"$f":"+'Project Cashflows'!R229","v":0},{"$f":"+'Project Cashflows'!S229","v":0},{"$f":"+'Project Cashflows'!T229","v":0},{"$f":"+'Project Cashflows'!U229","v":0},{"$f":"+'Project Cashflows'!V229","v":0},{"$f":"+'Project Cashflows'!W229","v":0},{"$f":"+'Project Cashflows'!X229","v":0},{"$f":"+'Project Cashflows'!Y229","v":0},{"$f":"+'Project Cashflows'!Z229","v":0},{"$f":"+'Project Cashflows'!AA229","v":0},{"$f":"+'Project Cashflows'!AB229","v":0},{"$f":"+'Project Cashflows'!AC229","v":0},{"$f":"+'Project Cashflows'!AD229","v":0},{"$f":"+'Project Cashflows'!AE229","v":0},{"$f":"+'Project Cashflows'!AF229","v":0},{"$f":"+'Project Cashflows'!AG229","v":0},{"$f":"+'Project Cashflows'!AH229","v":0},{"$f":"+'Project Cashflows'!AI229","v":0},{"$f":"+'Project Cashflows'!AJ229","v":0},{"$f":"+'Project Cashflows'!AK229","v":0},{"$f":"+'Project Cashflows'!AL229","v":0},{"$f":"+'Project Cashflows'!AM229","v":0},{"$f":"+'Project Cashflows'!AN229","v":0},{"$f":"+'Project Cashflows'!AO229","v":0},{"$f":"+'Project Cashflows'!AP229","v":0},{"$f":"+'Project Cashflows'!AQ229","v":0},{"$f":"+'Project Cashflows'!AR229","v":0},{"$f":"+'Project Cashflows'!AS229","v":0},{"$f":"+'Project Cashflows'!AT229","v":0},{"$f":"+'Project Cashflows'!AU229","v":0},{"$f":"+'Project Cashflows'!AV229","v":0}]
[null,null,null,null,{"$f":"+'Project Cashflows'!E230","v":"Transfer Vessel/Bulk Carriers"},{"$f":"+'Project Cashflows'!F230","v":0},{"$f":"+'Project Cashflows'!G230","v":"US$ mn"},{"$f":"+'Project Cashflows'!H230","v":0},{"$f":"+'Project Cashflows'!I230","v":89.6},{"$f":"+'Project Cashflows'!J230","v":0},{"$f":"+'Project Cashflows'!K230","v":44.8},{"$f":"+'Project Cashflows'!L230","v":44.8},{"$f":"+'Project Cashflows'!M230","v":0},{"$f":"+'Project Cashflows'!N230","v":0},{"$f":"+'Project Cashflows'!O230","v":0},{"$f":"+'Project Cashflows'!P230","v":0},{"$f":"+'Project Cashflows'!Q230","v":0},{"$f":"+'Project Cashflows'!R230","v":0},{"$f":"+'Project Cashflows'!S230","v":0},{"$f":"+'Project Cashflows'!T230","v":0},{"$f":"+'Project Cashflows'!U230","v":0},{"$f":"+'Project Cashflows'!V230","v":0},{"$f":"+'Project Cashflows'!W230","v":0},{"$f":"+'Project Cashflows'!X230","v":0},{"$f":"+'Project Cashflows'!Y230","v":0},{"$f":"+'Project Cashflows'!Z230","v":0},{"$f":"+'Project Cashflows'!AA230","v":0},{"$f":"+'Project Cashflows'!AB230","v":0},{"$f":"+'Project Cashflows'!AC230","v":0},{"$f":"+'Project Cashflows'!AD230","v":0},{"$f":"+'Project Cashflows'!AE230","v":0},{"$f":"+'Project Cashflows'!AF230","v":0},{"$f":"+'Project Cashflows'!AG230","v":0},{"$f":"+'Project Cashflows'!AH230","v":0},{"$f":"+'Project Cashflows'!AI230","v":0},{"$f":"+'Project Cashflows'!AJ230","v":0},{"$f":"+'Project Cashflows'!AK230","v":0},{"$f":"+'Project Cashflows'!AL230","v":0},{"$f":"+'Project Cashflows'!AM230","v":0},{"$f":"+'Project Cashflows'!AN230","v":0},{"$f":"+'Project Cashflows'!AO230","v":0},{"$f":"+'Project Cashflows'!AP230","v":0},{"$f":"+'Project Cashflows'!AQ230","v":0},{"$f":"+'Project Cashflows'!AR230","v":0},{"$f":"+'Project Cashflows'!AS230","v":0},{"$f":"+'Project Cashflows'!AT230","v":0},{"$f":"+'Project Cashflows'!AU230","v":0},{"$f":"+'Project Cashflows'!AV230","v":0}]
[null,null,null,null,{"$f":"+'Project Cashflows'!E231","v":"Support Vessel"},{"$f":"+'Project Cashflows'!F231","v":0},{"$f":"+'Project Cashflows'!G231","v":"US$ mn"},{"$f":"+'Project Cashflows'!H231","v":0},{"$f":"+'Project Cashflows'!I231","v":15.2},{"$f":"+'Project Cashflows'!J231","v":0},{"$f":"+'Project Cashflows'!K231","v":7.6},{"$f":"+'Project Cashflows'!L231","v":7.6},{"$f":"+'Project Cashflows'!M231","v":0},{"$f":"+'Project Cashflows'!N231","v":0},{"$f":"+'Project Cashflows'!O231","v":0},{"$f":"+'Project Cashflows'!P231","v":0},{"$f":"+'Project Cashflows'!Q231","v":0},{"$f":"+'Project Cashflows'!R231","v":0},{"$f":"+'Project Cashflows'!S231","v":0},{"$f":"+'Project Cashflows'!T231","v":0},{"$f":"+'Project Cashflows'!U231","v":0},{"$f":"+'Project Cashflows'!V231","v":0},{"$f":"+'Project Cashflows'!W231","v":0},{"$f":"+'Project Cashflows'!X231","v":0},{"$f":"+'Project Cashflows'!Y231","v":0},{"$f":"+'Project Cashflows'!Z231","v":0},{"$f":"+'Project Cashflows'!AA231","v":0},{"$f":"+'Project Cashflows'!AB231","v":0},{"$f":"+'Project Cashflows'!AC231","v":0},{"$f":"+'Project Cashflows'!AD231","v":0},{"$f":"+'Project Cashflows'!AE231","v":0},{"$f":"+'Project Cashflows'!AF231","v":0},{"$f":"+'Project Cashflows'!AG231","v":0},{"$f":"+'Project Cashflows'!AH231","v":0},{"$f":"+'Project Cashflows'!AI231","v":0},{"$f":"+'Project Cashflows'!AJ231","v":0},{"$f":"+'Project Cashflows'!AK231","v":0},{"$f":"+'Project Cashflows'!AL231","v":0},{"$f":"+'Project Cashflows'!AM231","v":0},{"$f":"+'Project Cashflows'!AN231","v":0},{"$f":"+'Project Cashflows'!AO231","v":0},{"$f":"+'Project Cashflows'!AP231","v":0},{"$f":"+'Project Cashflows'!AQ231","v":0},{"$f":"+'Project Cashflows'!AR231","v":0},{"$f":"+'Project Cashflows'!AS231","v":0},{"$f":"+'Project Cashflows'!AT231","v":0},{"$f":"+'Project Cashflows'!AU231","v":0},{"$f":"+'Project Cashflows'!AV231","v":0}]
[null,null,null,null,{"$f":"+'Project Cashflows'!E232","v":"Operations facilities initial setup"},{"$f":"+'Project Cashflows'!F232","v":0},{"$f":"+'Project Cashflows'!G232","v":"US$ mn"},{"$f":"+'Project Cashflows'!H232","v":0},{"$f":"+'Project Cashflows'!I232","v":2.2999999999999998},{"$f":"+'Project Cashflows'!J232","v":0},{"$f":"+'Project Cashflows'!K232","v":1.1499999999999999},{"$f":"+'Project Cashflows'!L232","v":1.1499999999999999},{"$f":"+'Project Cashflows'!M232","v":0},{"$f":"+'Project Cashflows'!N232","v":0},{"$f":"+'Project Cashflows'!O232","v":0},{"$f":"+'Project Cashflows'!P232","v":0},{"$f":"+'Project Cashflows'!Q232","v":0},{"$f":"+'Project Cashflows'!R232","v":0},{"$f":"+'Project Cashflows'!S232","v":0},{"$f":"+'Project Cashflows'!T232","v":0},{"$f":"+'Project Cashflows'!U232","v":0},{"$f":"+'Project Cashflows'!V232","v":0},{"$f":"+'Project Cashflows'!W232","v":0},{"$f":"+'Project Cashflows'!X232","v":0},{"$f":"+'Project Cashflows'!Y232","v":0},{"$f":"+'Project Cashflows'!Z232","v":0},{"$f":"+'Project Cashflows'!AA232","v":0},{"$f":"+'Project Cashflows'!AB232","v":0},{"$f":"+'Project Cashflows'!AC232","v":0},{"$f":"+'Project Cashflows'!AD232","v":0},{"$f":"+'Project Cashflows'!AE232","v":0},{"$f":"+'Project Cashflows'!AF232","v":0},{"$f":"+'Project Cashflows'!AG232","v":0},{"$f":"+'Project Cashflows'!AH232","v":0},{"$f":"+'Project Cashflows'!AI232","v":0},{"$f":"+'Project Cashflows'!AJ232","v":0},{"$f":"+'Project Cashflows'!AK232","v":0},{"$f":"+'Project Cashflows'!AL232","v":0},{"$f":"+'Project Cashflows'!AM232","v":0},{"$f":"+'Project Cashflows'!AN232","v":0},{"$f":"+'Project Cashflows'!AO232","v":0},{"$f":"+'Project Cashflows'!AP232","v":0},{"$f":"+'Project Cashflows'!AQ232","v":0},{"$f":"+'Project Cashflows'!AR232","v":0},{"$f":"+'Project Cashflows'!AS232","v":0},{"$f":"+'Project Cashflows'!AT232","v":0},{"$f":"+'Project Cashflows'!AU232","v":0},{"$f":"+'Project Cashflows'!AV232","v":0}]
[null,null,null,null,{"$f":"+'Project Cashflows'!E233","v":"Professional Services"},{"$f":"+'Project Cashflows'!F233","v":0},{"$f":"+'Project Cashflows'!G233","v":"US$ mn"},{"$f":"+'Project Cashflows'!H233","v":0},{"$f":"+'Project Cashflows'!I233","v":59.4},{"$f":"+'Project Cashflows'!J233","v":0},{"$f":"+'Project Cashflows'!K233","v":29.7},{"$f":"+'Project Cashflows'!L233","v":29.7},{"$f":"+'Project Cashflows'!M233","v":0},{"$f":"+'Project Cashflows'!N233","v":0},{"$f":"+'Project Cashflows'!O233","v":0},{"$f":"+'Project Cashflows'!P233","v":0},{"$f":"+'Project Cashflows'!Q233","v":0},{"$f":"+'Project Cashflows'!R233","v":0},{"$f":"+'Project Cashflows'!S233","v":0},{"$f":"+'Project Cashflows'!T233","v":0},{"$f":"+'Project Cashflows'!U233","v":0},{"$f":"+'Project Cashflows'!V233","v":0},{"$f":"+'Project Cashflows'!W233","v":0},{"$f":"+'Project Cashflows'!X233","v":0},{"$f":"+'Project Cashflows'!Y233","v":0},{"$f":"+'Project Cashflows'!Z233","v":0},{"$f":"+'Project Cashflows'!AA233","v":0},{"$f":"+'Project Cashflows'!AB233","v":0},{"$f":"+'Project Cashflows'!AC233","v":0},{"$f":"+'Project Cashflows'!AD233","v":0},{"$f":"+'Project Cashflows'!AE233","v":0},{"$f":"+'Project Cashflows'!AF233","v":0},{"$f":"+'Project Cashflows'!AG233","v":0},{"$f":"+'Project Cashflows'!AH233","v":0},{"$f":"+'Project Cashflows'!AI233","v":0},{"$f":"+'Project Cashflows'!AJ233","v":0},{"$f":"+'Project Cashflows'!AK233","v":0},{"$f":"+'Project Cashflows'!AL233","v":0},{"$f":"+'Project Cashflows'!AM233","v":0},{"$f":"+'Project Cashflows'!AN233","v":0},{"$f":"+'Project Cashflows'!AO233","v":0},{"$f":"+'Project Cashflows'!AP233","v":0},{"$f":"+'Project Cashflows'!AQ233","v":0},{"$f":"+'Project Cashflows'!AR233","v":0},{"$f":"+'Project Cashflows'!AS233","v":0},{"$f":"+'Project Cashflows'!AT233","v":0},{"$f":"+'Project Cashflows'!AU233","v":0},{"$f":"+'Project Cashflows'!AV233","v":0}]
[null,null,null,null,{"$f":"+'Project Cashflows'!E234","v":"Owners cost"},{"$f":"+'Project Cashflows'!F234","v":0},{"$f":"+'Project Cashflows'!G234","v":"US$ mn"},{"$f":"+'Project Cashflows'!H234","v":0},{"$f":"+'Project Cashflows'!I234","v":44.6},{"$f":"+'Project Cashflows'!J234","v":0},{"$f":"+'Project Cashflows'!K234","v":22.3},{"$f":"+'Project Cashflows'!L234","v":22.3},{"$f":"+'Project Cashflows'!M234","v":0},{"$f":"+'Project Cashflows'!N234","v":0},{"$f":"+'Project Cashflows'!O234","v":0},{"$f":"+'Project Cashflows'!P234","v":0},{"$f":"+'Project Cashflows'!Q234","v":0},{"$f":"+'Project Cashflows'!R234","v":0},{"$f":"+'Project Cashflows'!S234","v":0},{"$f":"+'Project Cashflows'!T234","v":0},{"$f":"+'Project Cashflows'!U234","v":0},{"$f":"+'Project Cashflows'!V234","v":0},{"$f":"+'Project Cashflows'!W234","v":0},{"$f":"+'Project Cashflows'!X234","v":0},{"$f":"+'Project Cashflows'!Y234","v":0},{"$f":"+'Project Cashflows'!Z234","v":0},{"$f":"+'Project Cashflows'!AA234","v":0},{"$f":"+'Project Cashflows'!AB234","v":0},{"$f":"+'Project Cashflows'!AC234","v":0},{"$f":"+'Project Cashflows'!AD234","v":0},{"$f":"+'Project Cashflows'!AE234","v":0},{"$f":"+'Project Cashflows'!AF234","v":0},{"$f":"+'Project Cashflows'!AG234","v":0},{"$f":"+'Project Cashflows'!AH234","v":0},{"$f":"+'Project Cashflows'!AI234","v":0},{"$f":"+'Project Cashflows'!AJ234","v":0},{"$f":"+'Project Cashflows'!AK234","v":0},{"$f":"+'Project Cashflows'!AL234","v":0},{"$f":"+'Project Cashflows'!AM234","v":0},{"$f":"+'Project Cashflows'!AN234","v":0},{"$f":"+'Project Cashflows'!AO234","v":0},{"$f":"+'Project Cashflows'!AP234","v":0},{"$f":"+'Project Cashflows'!AQ234","v":0},{"$f":"+'Project Cashflows'!AR234","v":0},{"$f":"+'Project Cashflows'!AS234","v":0},{"$f":"+'Project Cashflows'!AT234","v":0},{"$f":"+'Project Cashflows'!AU234","v":0},{"$f":"+'Project Cashflows'!AV234","v":0}]
[null,null,null,null,{"$f":"+'Project Cashflows'!E235","v":"Contingency"},{"$f":"+'Project Cashflows'!F235","v":0},{"$f":"+'Project Cashflows'!G235","v":"US$ mn"},{"$f":"+'Project Cashflows'!H235","v":0},{"$f":"+'Project Cashflows'!I235","v":101.4},{"$f":"+'Project Cashflows'!J235","v":0},{"$f":"+'Project Cashflows'!K235","v":50.7},{"$f":"+'Project Cashflows'!L235","v":50.7},{"$f":"+'Project Cashflows'!M235","v":0},{"$f":"+'Project Cashflows'!N235","v":0},{"$f":"+'Project Cashflows'!O235","v":0},{"$f":"+'Project Cashflows'!P235","v":0},{"$f":"+'Project Cashflows'!Q235","v":0},{"$f":"+'Project Cashflows'!R235","v":0},{"$f":"+'Project Cashflows'!S235","v":0},{"$f":"+'Project Cashflows'!T235","v":0},{"$f":"+'Project Cashflows'!U235","v":0},{"$f":"+'Project Cashflows'!V235","v":0},{"$f":"+'Project Cashflows'!W235","v":0},{"$f":"+'Project Cashflows'!X235","v":0},{"$f":"+'Project Cashflows'!Y235","v":0},{"$f":"+'Project Cashflows'!Z235","v":0},{"$f":"+'Project Cashflows'!AA235","v":0},{"$f":"+'Project Cashflows'!AB235","v":0},{"$f":"+'Project Cashflows'!AC235","v":0},{"$f":"+'Project Cashflows'!AD235","v":0},{"$f":"+'Project Cashflows'!AE235","v":0},{"$f":"+'Project Cashflows'!AF235","v":0},{"$f":"+'Project Cashflows'!AG235","v":0},{"$f":"+'Project Cashflows'!AH235","v":0},{"$f":"+'Project Cashflows'!AI235","v":0},{"$f":"+'Project Cashflows'!AJ235","v":0},{"$f":"+'Project Cashflows'!AK235","v":0},{"$f":"+'Project Cashflows'!AL235","v":0},{"$f":"+'Project Cashflows'!AM235","v":0},{"$f":"+'Project Cashflows'!AN235","v":0},{"$f":"+'Project Cashflows'!AO235","v":0},{"$f":"+'Project Cashflows'!AP235","v":0},{"$f":"+'Project Cashflows'!AQ235","v":0},{"$f":"+'Project Cashflows'!AR235","v":0},{"$f":"+'Project Cashflows'!AS235","v":0},{"$f":"+'Project Cashflows'!AT235","v":0},{"$f":"+'Project Cashflows'!AU235","v":0},{"$f":"+'Project Cashflows'!AV235","v":0}]
[null,null,null,null,{"$f":"+'Project Cashflows'!E236","v":"Allseas credit"},{"$f":"+'Project Cashflows'!F236","v":0},{"$f":"+'Project Cashflows'!G236","v":"US$ mn"},{"$f":"+'Project Cashflows'!H236","v":0},{"$f":"+'Project Cashflows'!I236","v":-289.3},{"$f":"+'Project Cashflows'!J236","v":0},{"$f":"+'Project Cashflows'!K236","v":-144.65},{"$f":"+'Project Cashflows'!L236","v":-144.65},{"$f":"+'Project Cashflows'!M236","v":0},{"$f":"+'Project Cashflows'!N236","v":0},{"$f":"+'Project Cashflows'!O236","v":0},{"$f":"+'Project Cashflows'!P236","v":0},{"$f":"+'Project Cashflows'!Q236","v":0},{"$f":"+'Project Cashflows'!R236","v":0},{"$f":"+'Project Cashflows'!S236","v":0},{"$f":"+'Project Cashflows'!T236","v":0},{"$f":"+'Project Cashflows'!U236","v":0},{"$f":"+'Project Cashflows'!V236","v":0},{"$f":"+'Project Cashflows'!W236","v":0},{"$f":"+'Project Cashflows'!X236","v":0},{"$f":"+'Project Cashflows'!Y236","v":0},{"$f":"+'Project Cashflows'!Z236","v":0},{"$f":"+'Project Cashflows'!AA236","v":0},{"$f":"+'Project Cashflows'!AB236","v":0},{"$f":"+'Project Cashflows'!AC236","v":0},{"$f":"+'Project Cashflows'!AD236","v":0},{"$f":"+'Project Cashflows'!AE236","v":0},{"$f":"+'Project Cashflows'!AF236","v":0},{"$f":"+'Project Cashflows'!AG236","v":0},{"$f":"+'Project Cashflows'!AH236","v":0},{"$f":"+'Project Cashflows'!AI236","v":0},{"$f":"+'Project Cashflows'!AJ236","v":0},{"$f":"+'Project Cashflows'!AK236","v":0},{"$f":"+'Project Cashflows'!AL236","v":0},{"$f":"+'Project Cashflows'!AM236","v":0},{"$f":"+'Project Cashflows'!AN236","v":0},{"$f":"+'Project Cashflows'!AO236","v":0},{"$f":"+'Project Cashflows'!AP236","v":0},{"$f":"+'Project Cashflows'!AQ236","v":0},{"$f":"+'Project Cashflows'!AR236","v":0},{"$f":"+'Project Cashflows'!AS236","v":0},{"$f":"+'Project Cashflows'!AT236","v":0},{"$f":"+'Project Cashflows'!AU236","v":0},{"$f":"+'Project Cashflows'!AV236","v":0}]
[]
[null,null,null,null,{"$f":"+'Project Cashflows'!E241","v":"Sustaining Capex"},{"$f":"+'Project Cashflows'!F241","v":0},{"$f":"+'Project Cashflows'!G241","v":"US$ mn"},{"$f":"+'Project Cashflows'!H241","v":0},{"$f":"+'Project Cashflows'!I241","v":1550},{"$f":"+'Project Cashflows'!J241","v":0},{"$f":"+'Project Cashflows'!K241","v":0},{"$f":"+'Project Cashflows'!L241","v":0},{"$f":"+'Project Cashflows'!M241","v":0},{"$f":"+'Project Cashflows'!N241","v":0},{"$f":"+'Project Cashflows'!O241","v":0},{"$f":"+'Project Cashflows'!P241","v":0},{"$f":"+'Project Cashflows'!Q241","v":0},{"$f":"+'Project Cashflows'!R241","v":155},{"$f":"+'Project Cashflows'!S241","v":155},{"$f":"+'Project Cashflows'!T241","v":155},{"$f":"+'Project Cashflows'!U241","v":155},{"$f":"+'Project Cashflows'!V241","v":0},{"$f":"+'Project Cashflows'!W241","v":155},{"$f":"+'Project Cashflows'!X241","v":155},{"$f":"+'Project Cashflows'!Y241","v":155},{"$f":"+'Project Cashflows'!Z241","v":155},{"$f":"+'Project Cashflows'!AA241","v":0},{"$f":"+'Project Cashflows'!AB241","v":155},{"$f":"+'Project Cashflows'!AC241","v":155},{"$f":"+'Project Cashflows'!AD241","v":0},{"$f":"+'Project Cashflows'!AE241","v":0},{"$f":"+'Project Cashflows'!AF241","v":0},{"$f":"+'Project Cashflows'!AG241","v":0},{"$f":"+'Project Cashflows'!AH241","v":0},{"$f":"+'Project Cashflows'!AI241","v":0},{"$f":"+'Project Cashflows'!AJ241","v":0},{"$f":"+'Project Cashflows'!AK241","v":0},{"$f":"+'Project Cashflows'!AL241","v":0},{"$f":"+'Project Cashflows'!AM241","v":0},{"$f":"+'Project Cashflows'!AN241","v":0},{"$f":"+'Project Cashflows'!AO241","v":0},{"$f":"+'Project Cashflows'!AP241","v":0},{"$f":"+'Project Cashflows'!AQ241","v":0},{"$f":"+'Project Cashflows'!AR241","v":0},{"$f":"+'Project Cashflows'!AS241","v":0},{"$f":"+'Project Cashflows'!AT241","v":0},{"$f":"+'Project Cashflows'!AU241","v":0},{"$f":"+'Project Cashflows'!AV241","v":0}]
[]
[null,null,null,null,{"$f":"+'Project Cashflows'!E244","v":"Collection"},{"$f":"+'Project Cashflows'!F244","v":0},{"$f":"+'Project Cashflows'!G244","v":"US$ mn"},{"$f":"+'Project Cashflows'!H244","v":0},{"$f":"+'Project Cashflows'!I244","v":12340.319999999998},{"$f":"+'Project Cashflows'!J244","v":0},{"$f":"+'Project Cashflows'!K244","v":0},{"$f":"+'Project Cashflows'!L244","v":0},{"$f":"+'Project Cashflows'!M244","v":15.040000000000001},{"$f":"+'Project Cashflows'!N244","v":75.2},{"$f":"+'Project Cashflows'!O244","v":150.4},{"$f":"+'Project Cashflows'!P244","v":376},{"$f":"+'Project Cashflows'!Q244","v":808.4},{"$f":"+'Project Cashflows'!R244","v":808.4},{"$f":"+'Project Cashflows'!S244","v":808.4},{"$f":"+'Project Cashflows'!T244","v":808.4},{"$f":"+'Project Cashflows'!U244","v":808.4},{"$f":"+'Project Cashflows'!V244","v":808.4},{"$f":"+'Project Cashflows'!W244","v":808.4},{"$f":"+'Project Cashflows'!X244","v":808.4},{"$f":"+'Project Cashflows'!Y244","v":808.4},{"$f":"+'Project Cashflows'!Z244","v":808.4},{"$f":"+'Project Cashflows'!AA244","v":808.4},{"$f":"+'Project Cashflows'!AB244","v":808.4},{"$f":"+'Project Cashflows'!AC244","v":808.4},{"$f":"+'Project Cashflows'!AD244","v":808.4},{"$f":"+'Project Cashflows'!AE244","v":406.08000000000004},{"$f":"+'Project Cashflows'!AF244","v":0},{"$f":"+'Project Cashflows'!AG244","v":0},{"$f":"+'Project Cashflows'!AH244","v":0},{"$f":"+'Project Cashflows'!AI244","v":0},{"$f":"+'Project Cashflows'!AJ244","v":0},{"$f":"+'Project Cashflows'!AK244","v":0},{"$f":"+'Project Cashflows'!AL244","v":0},{"$f":"+'Project Cashflows'!AM244","v":0},{"$f":"+'Project Cashflows'!AN244","v":0},{"$f":"+'Project Cashflows'!AO244","v":0},{"$f":"+'Project Cashflows'!AP244","v":0},{"$f":"+'Project Cashflows'!AQ244","v":0},{"$f":"+'Project Cashflows'!AR244","v":0},{"$f":"+'Project Cashflows'!AS244","v":0},{"$f":"+'Project Cashflows'!AT244","v":0},{"$f":"+'Project Cashflows'!AU244","v":0},{"$f":"+'Project Cashflows'!AV244","v":0}]
[null,null,null,null,{"$f":"+'Project Cashflows'!E245","v":"Transfer and shipping"},{"$f":"+'Project Cashflows'!F245","v":0},{"$f":"+'Project Cashflows'!G245","v":"US$ mn"},{"$f":"+'Project Cashflows'!H245","v":0},{"$f":"SUM(K204:AV204)","v":2756.8799999999992},{"$f":"+'Project Cashflows'!J245","v":0},{"$f":"K206+K207","v":0},{"$f":"L206+L207","v":0},3.3600000000000003,16.8,33.6,{"$f":"P206+P207","v":84},{"$f":"Q206+Q207","v":180.6},180.6,180.6,180.6,180.6,180.6,180.6,180.6,180.6,180.6,180.6,180.6,180.6,180.6,90.72,0,0,0,0,0,0,0,0,0,0,0,0,0,0,0,0,{"$f":"AV206+AV207","v":0}]
[null,null,null,null,"of which allowable"]
[null,null,null,null,{"$f":"'Project Cashflows'!E140","v":"Transfer vessel CCZ"},{"$f":"'Project Cashflows'!F140","v":0},{"$f":"'Project Cashflows'!G140","v":"US$ mn"},{"$f":"'Project Cashflows'!H140","v":0},{"$f":"'Project Cashflows'!I140","v":1050.2399999999998},{"$f":"'Project Cashflows'!J140","v":0},{"$f":"'Project Cashflows'!K140","v":0},{"$f":"'Project Cashflows'!L140","v":0},{"$f":"'Project Cashflows'!M140","v":1.2800000000000002},{"$f":"'Project Cashflows'!N140","v":6.4},{"$f":"'Project Cashflows'!O140","v":12.8},{"$f":"'Project Cashflows'!P140","v":32},{"$f":"'Project Cashflows'!Q140","v":68.8},{"$f":"'Project Cashflows'!R140","v":68.8},{"$f":"'Project Cashflows'!S140","v":68.8},{"$f":"'Project Cashflows'!T140","v":68.8},{"$f":"'Project Cashflows'!U140","v":68.8},{"$f":"'Project Cashflows'!V140","v":68.8},{"$f":"'Project Cashflows'!W140","v":68.8},{"$f":"'Project Cashflows'!X140","v":68.8},{"$f":"'Project Cashflows'!Y140","v":68.8},{"$f":"'Project Cashflows'!Z140","v":68.8},{"$f":"'Project Cashflows'!AA140","v":68.8},{"$f":"'Project Cashflows'!AB140","v":68.8},{"$f":"'Project Cashflows'!AC140","v":68.8},{"$f":"'Project Cashflows'!AD140","v":68.8},{"$f":"'Project Cashflows'!AE140","v":34.56},{"$f":"'Project Cashflows'!AF140","v":0},{"$f":"'Project Cashflows'!AG140","v":0},{"$f":"'Project Cashflows'!AH140","v":0},{"$f":"'Project Cashflows'!AI140","v":0},{"$f":"'Project Cashflows'!AJ140","v":0},{"$f":"'Project Cashflows'!AK140","v":0},{"$f":"'Project Cashflows'!AL140","v":0},{"$f":"'Project Cashflows'!AM140","v":0},{"$f":"'Project Cashflows'!AN140","v":0},{"$f":"'Project Cashflows'!AO140","v":0},{"$f":"'Project Cashflows'!AP140","v":0},{"$f":"'Project Cashflows'!AQ140","v":0},{"$f":"'Project Cashflows'!AR140","v":0},{"$f":"'Project Cashflows'!AS140","v":0},{"$f":"'Project Cashflows'!AT140","v":0},{"$f":"'Project Cashflows'!AU140","v":0},{"$f":"'Project Cashflows'!AV140","v":0}]
[null,null,null,null,{"$f":"'Project Cashflows'!E141","v":"Bulk Carrier CCZ to INDO - Capesize"},{"$f":"'Project Cashflows'!F141","v":0},{"$f":"'Project Cashflows'!G141","v":"US$ mn"},{"$f":"'Project Cashflows'!H141","v":0},{"$f":"'Project Cashflows'!I141","v":1706.6399999999996},{"$f":"'Project Cashflows'!J141","v":0},{"$f":"'Project Cashflows'!K141","v":0},{"$f":"'Project Cashflows'!L141","v":0},{"$f":"'Project Cashflows'!M141","v":2.08},{"$f":"'Project Cashflows'!N141","v":10.4},{"$f":"'Project Cashflows'!O141","v":20.8},{"$f":"'Project Cashflows'!P141","v":52},{"$f":"'Project Cashflows'!Q141","v":111.8},{"$f":"'Project Cashflows'!R141","v":111.8},{"$f":"'Project Cashflows'!S141","v":111.8},{"$f":"'Project Cashflows'!T141","v":111.8},{"$f":"'Project Cashflows'!U141","v":111.8},{"$f":"'Project Cashflows'!V141","v":111.8},{"$f":"'Project Cashflows'!W141","v":111.8},{"$f":"'Project Cashflows'!X141","v":111.8},{"$f":"'Project Cashflows'!Y141","v":111.8},{"$f":"'Project Cashflows'!Z141","v":111.8},{"$f":"'Project Cashflows'!AA141","v":111.8},{"$f":"'Project Cashflows'!AB141","v":111.8},{"$f":"'Project Cashflows'!AC141","v":111.8},{"$f":"'Project Cashflows'!AD141","v":111.8},{"$f":"'Project Cashflows'!AE141","v":56.160000000000004},{"$f":"'Project Cashflows'!AF141","v":0},{"$f":"'Project Cashflows'!AG141","v":0},{"$f":"'Project Cashflows'!AH141","v":0},{"$f":"'Project Cashflows'!AI141","v":0},{"$f":"'Project Cashflows'!AJ141","v":0},{"$f":"'Project Cashflows'!AK141","v":0},{"$f":"'Project Cashflows'!AL141","v":0},{"$f":"'Project Cashflows'!AM141","v":0},{"$f":"'Project Cashflows'!AN141","v":0},{"$f":"'Project Cashflows'!AO141","v":0},{"$f":"'Project Cashflows'!AP141","v":0},{"$f":"'Project Cashflows'!AQ141","v":0},{"$f":"'Project Cashflows'!AR141","v":0},{"$f":"'Project Cashflows'!AS141","v":0},{"$f":"'Project Cashflows'!AT141","v":0},{"$f":"'Project Cashflows'!AU141","v":0},{"$f":"'Project Cashflows'!AV141","v":0}]
[null,null,null,null,{"$f":"+'Project Cashflows'!E246","v":"Contractor (Offshore)"},{"$f":"+'Project Cashflows'!F246","v":0},{"$f":"+'Project Cashflows'!G246","v":"US$ mn"},{"$f":"+'Project Cashflows'!H246","v":0},{"$f":"+'Project Cashflows'!I246","v":1854.3299999999995},{"$f":"+'Project Cashflows'!J246","v":0},{"$f":"+'Project Cashflows'!K246","v":0},{"$f":"+'Project Cashflows'!L246","v":0},{"$f":"+'Project Cashflows'!M246","v":2.2600000000000002},{"$f":"+'Project Cashflows'!N246","v":11.3},{"$f":"+'Project Cashflows'!O246","v":22.6},{"$f":"+'Project Cashflows'!P246","v":56.5},{"$f":"+'Project Cashflows'!Q246","v":121.47500000000001},{"$f":"+'Project Cashflows'!R246","v":121.47500000000001},{"$f":"+'Project Cashflows'!S246","v":121.47500000000001},{"$f":"+'Project Cashflows'!T246","v":121.47500000000001},{"$f":"+'Project Cashflows'!U246","v":121.47500000000001},{"$f":"+'Project Cashflows'!V246","v":121.47500000000001},{"$f":"+'Project Cashflows'!W246","v":121.47500000000001},{"$f":"+'Project Cashflows'!X246","v":121.47500000000001},{"$f":"+'Project Cashflows'!Y246","v":121.47500000000001},{"$f":"+'Project Cashflows'!Z246","v":121.47500000000001},{"$f":"+'Project Cashflows'!AA246","v":121.47500000000001},{"$f":"+'Project Cashflows'!AB246","v":121.47500000000001},{"$f":"+'Project Cashflows'!AC246","v":121.47500000000001},{"$f":"+'Project Cashflows'!AD246","v":121.47500000000001},{"$f":"+'Project Cashflows'!AE246","v":61.02000000000001},{"$f":"+'Project Cashflows'!AF246","v":0},{"$f":"+'Project Cashflows'!AG246","v":0},{"$f":"+'Project Cashflows'!AH246","v":0},{"$f":"+'Project Cashflows'!AI246","v":0},{"$f":"+'Project Cashflows'!AJ246","v":0},{"$f":"+'Project Cashflows'!AK246","v":0},{"$f":"+'Project Cashflows'!AL246","v":0},{"$f":"+'Project Cashflows'!AM246","v":0},{"$f":"+'Project Cashflows'!AN246","v":0},{"$f":"+'Project Cashflows'!AO246","v":0},{"$f":"+'Project Cashflows'!AP246","v":0},{"$f":"+'Project Cashflows'!AQ246","v":0},{"$f":"+'Project Cashflows'!AR246","v":0},{"$f":"+'Project Cashflows'!AS246","v":0},{"$f":"+'Project Cashflows'!AT246","v":0},{"$f":"+'Project Cashflows'!AU246","v":0},{"$f":"+'Project Cashflows'!AV246","v":0}]
[null,null,null,null,{"$f":"+'Project Cashflows'!E247","v":"Consumables (Offshore)"},{"$f":"+'Project Cashflows'!F247","v":0},{"$f":"+'Project Cashflows'!G247","v":"US$ mn"},{"$f":"+'Project Cashflows'!H247","v":0},{"$f":"+'Project Cashflows'!I247","v":3839.940000000001},{"$f":"+'Project Cashflows'!J247","v":0},{"$f":"+'Project Cashflows'!K247","v":0},{"$f":"+'Project Cashflows'!L247","v":0},{"$f":"+'Project Cashflows'!M247","v":4.68},{"$f":"+'Project Cashflows'!N247","v":23.4},{"$f":"+'Project Cashflows'!O247","v":46.8},{"$f":"+'Project Cashflows'!P247","v":117},{"$f":"+'Project Cashflows'!Q247","v":251.54999999999998},{"$f":"+'Project Cashflows'!R247","v":251.54999999999998},{"$f":"+'Project Cashflows'!S247","v":251.54999999999998},{"$f":"+'Project Cashflows'!T247","v":251.54999999999998},{"$f":"+'Project Cashflows'!U247","v":251.54999999999998},{"$f":"+'Project Cashflows'!V247","v":251.54999999999998},{"$f":"+'Project Cashflows'!W247","v":251.54999999999998},{"$f":"+'Project Cashflows'!X247","v":251.54999999999998},{"$f":"+'Project Cashflows'!Y247","v":251.54999999999998},{"$f":"+'Project Cashflows'!Z247","v":251.54999999999998},{"$f":"+'Project Cashflows'!AA247","v":251.54999999999998},{"$f":"+'Project Cashflows'!AB247","v":251.54999999999998},{"$f":"+'Project Cashflows'!AC247","v":251.54999999999998},{"$f":"+'Project Cashflows'!AD247","v":251.54999999999998},{"$f":"+'Project Cashflows'!AE247","v":126.36},{"$f":"+'Project Cashflows'!AF247","v":0},{"$f":"+'Project Cashflows'!AG247","v":0},{"$f":"+'Project Cashflows'!AH247","v":0},{"$f":"+'Project Cashflows'!AI247","v":0},{"$f":"+'Project Cashflows'!AJ247","v":0},{"$f":"+'Project Cashflows'!AK247","v":0},{"$f":"+'Project Cashflows'!AL247","v":0},{"$f":"+'Project Cashflows'!AM247","v":0},{"$f":"+'Project Cashflows'!AN247","v":0},{"$f":"+'Project Cashflows'!AO247","v":0},{"$f":"+'Project Cashflows'!AP247","v":0},{"$f":"+'Project Cashflows'!AQ247","v":0},{"$f":"+'Project Cashflows'!AR247","v":0},{"$f":"+'Project Cashflows'!AS247","v":0},{"$f":"+'Project Cashflows'!AT247","v":0},{"$f":"+'Project Cashflows'!AU247","v":0},{"$f":"+'Project Cashflows'!AV247","v":0}]
[null,null,null,null,{"$f":"+'Project Cashflows'!E249","v":"G&A"},{"$f":"+'Project Cashflows'!F249","v":0},{"$f":"+'Project Cashflows'!G249","v":"US$ mn"},{"$f":"+'Project Cashflows'!H249","v":0},{"$f":"+'Project Cashflows'!I249","v":1985.6100000000004},{"$f":"+'Project Cashflows'!J249","v":0},{"$f":"+'Project Cashflows'!K249","v":0},{"$f":"+'Project Cashflows'!L249","v":0},{"$f":"+'Project Cashflows'!M249","v":2.42},{"$f":"+'Project Cashflows'!N249","v":12.1},{"$f":"+'Project Cashflows'!O249","v":24.2},{"$f":"+'Project Cashflows'!P249","v":60.5},{"$f":"+'Project Cashflows'!Q249","v":130.07499999999999},{"$f":"+'Project Cashflows'!R249","v":130.07499999999999},{"$f":"+'Project Cashflows'!S249","v":130.07499999999999},{"$f":"+'Project Cashflows'!T249","v":130.07499999999999},{"$f":"+'Project Cashflows'!U249","v":130.07499999999999},{"$f":"+'Project Cashflows'!V249","v":130.07499999999999},{"$f":"+'Project Cashflows'!W249","v":130.07499999999999},{"$f":"+'Project Cashflows'!X249","v":130.07499999999999},{"$f":"+'Project Cashflows'!Y249","v":130.07499999999999},{"$f":"+'Project Cashflows'!Z249","v":130.07499999999999},{"$f":"+'Project Cashflows'!AA249","v":130.07499999999999},{"$f":"+'Project Cashflows'!AB249","v":130.07499999999999},{"$f":"+'Project Cashflows'!AC249","v":130.07499999999999},{"$f":"+'Project Cashflows'!AD249","v":130.07499999999999},{"$f":"+'Project Cashflows'!AE249","v":65.34},{"$f":"+'Project Cashflows'!AF249","v":0},{"$f":"+'Project Cashflows'!AG249","v":0},{"$f":"+'Project Cashflows'!AH249","v":0},{"$f":"+'Project Cashflows'!AI249","v":0},{"$f":"+'Project Cashflows'!AJ249","v":0},{"$f":"+'Project Cashflows'!AK249","v":0},{"$f":"+'Project Cashflows'!AL249","v":0},{"$f":"+'Project Cashflows'!AM249","v":0},{"$f":"+'Project Cashflows'!AN249","v":0},{"$f":"+'Project Cashflows'!AO249","v":0},{"$f":"+'Project Cashflows'!AP249","v":0},{"$f":"+'Project Cashflows'!AQ249","v":0},{"$f":"+'Project Cashflows'!AR249","v":0},{"$f":"+'Project Cashflows'!AS249","v":0},{"$f":"+'Project Cashflows'!AT249","v":0},{"$f":"+'Project Cashflows'!AU249","v":0},{"$f":"+'Project Cashflows'!AV249","v":0}]
[]
[null,null,null,null,{"$f":"'Project Cashflows'!E387","v":"Annual fees to ISA"},{"$f":"'Project Cashflows'!F387","v":0},{"$f":"'Project Cashflows'!G387","v":"US$ mn"},{"$f":"'Project Cashflows'!H387","v":0},{"$f":"'Project Cashflows'!I387","v":31.5},null,{"$f":"'Project Cashflows'!K387","v":1.5},{"$f":"'Project Cashflows'!L387","v":1.5},{"$f":"'Project Cashflows'!M387","v":1.5},{"$f":"'Project Cashflows'!N387","v":1.5},{"$f":"'Project Cashflows'!O387","v":1.5},{"$f":"'Project Cashflows'!P387","v":1.5},{"$f":"'Project Cashflows'!Q387","v":1.5},{"$f":"'Project Cashflows'!R387","v":1.5},{"$f":"'Project Cashflows'!S387","v":1.5},{"$f":"'Project Cashflows'!T387","v":1.5},{"$f":"'Project Cashflows'!U387","v":1.5},{"$f":"'Project Cashflows'!V387","v":1.5},{"$f":"'Project Cashflows'!W387","v":1.5},{"$f":"'Project Cashflows'!X387","v":1.5},{"$f":"'Project Cashflows'!Y387","v":1.5},{"$f":"'Project Cashflows'!Z387","v":1.5},{"$f":"'Project Cashflows'!AA387","v":1.5},{"$f":"'Project Cashflows'!AB387","v":1.5},{"$f":"'Project Cashflows'!AC387","v":1.5},{"$f":"'Project Cashflows'!AD387","v":1.5},{"$f":"'Project Cashflows'!AE387","v":1.5},{"$f":"'Project Cashflows'!AF387","v":0},{"$f":"'Project Cashflows'!AG387","v":0},{"$f":"'Project Cashflows'!AH387","v":0},{"$f":"'Project Cashflows'!AI387","v":0},{"$f":"'Project Cashflows'!AJ387","v":0},{"$f":"'Project Cashflows'!AK387","v":0},{"$f":"'Project Cashflows'!AL387","v":0},{"$f":"'Project Cashflows'!AM387","v":0},{"$f":"'Project Cashflows'!AN387","v":0},{"$f":"'Project Cashflows'!AO387","v":0},{"$f":"'Project Cashflows'!AP387","v":0},{"$f":"'Project Cashflows'!AQ387","v":0},{"$f":"'Project Cashflows'!AR387","v":0},{"$f":"'Project Cashflows'!AS387","v":0},{"$f":"'Project Cashflows'!AT387","v":0},{"$f":"'Project Cashflows'!AU387","v":0},{"$f":"'Project Cashflows'!AV387","v":0}]
[null,null,null,null,{"$f":"E45","v":"Royalty Payables"},{"$f":"F45","v":0},"US$ mn",0,5189.2974809999996,0,0,0,2.1790803599999999,10.895401800000002,21.790803600000004,54.477009000000002,117.12556935000001,117.12556935000001,385.63311599999992,385.63311599999992,385.63311599999992,385.63311599999992,385.63311599999992,391.55038469999994,391.55038469999994,391.55038469999994,391.55038469999994,391.55038469999994,391.55038469999994,391.55038469999994,196.68577463999998,0,0,0,0,0,0,0,0,0,0,0,0,0,0,0,0,0]
[]
[null,null,null,null,{"$f":"+'Project Cashflows'!E359","v":"Closure cost"},{"$f":"+'Project Cashflows'!F359","v":0},{"$f":"+'Project Cashflows'!G359","v":"US$ mn"},{"$f":"+'Project Cashflows'!H359","v":0},{"$f":"+'Project Cashflows'!I359","v":115},{"$f":"+'Project Cashflows'!J359","v":0},{"$f":"+'Project Cashflows'!K359","v":0},{"$f":"+'Project Cashflows'!L359","v":0},{"$f":"+'Project Cashflows'!M359","v":0},{"$f":"+'Project Cashflows'!N359","v":0},{"$f":"+'Project Cashflows'!O359","v":0},{"$f":"+'Project Cashflows'!P359","v":0},{"$f":"+'Project Cashflows'!Q359","v":0},{"$f":"+'Project Cashflows'!R359","v":0},{"$f":"+'Project Cashflows'!S359","v":0},{"$f":"+'Project Cashflows'!T359","v":0},{"$f":"+'Project Cashflows'!U359","v":0},{"$f":"+'Project Cashflows'!V359","v":0},{"$f":"+'Project Cashflows'!W359","v":0},{"$f":"+'Project Cashflows'!X359","v":0},{"$f":"+'Project Cashflows'!Y359","v":0},{"$f":"+'Project Cashflows'!Z359","v":0},{"$f":"+'Project Cashflows'!AA359","v":0},{"$f":"+'Project Cashflows'!AB359","v":0},{"$f":"+'Project Cashflows'!AC359","v":0},{"$f":"+'Project Cashflows'!AD359","v":0},{"$f":"+'Project Cashflows'!AE359","v":0},{"$f":"+'Project Cashflows'!AF359","v":11.5},{"$f":"+'Project Cashflows'!AG359","v":11.5},{"$f":"+'Project Cashflows'!AH359","v":11.5},{"$f":"+'Project Cashflows'!AI359","v":11.5},{"$f":"+'Project Cashflows'!AJ359","v":11.5},{"$f":"+'Project Cashflows'!AK359","v":11.5},{"$f":"+'Project Cashflows'!AL359","v":11.5},{"$f":"+'Project Cashflows'!AM359","v":11.5},{"$f":"+'Project Cashflows'!AN359","v":11.5},{"$f":"+'Project Cashflows'!AO359","v":11.5},{"$f":"+'Project Cashflows'!AP359","v":0},{"$f":"+'Project Cashflows'!AQ359","v":0},{"$f":"+'Project Cashflows'!AR359","v":0},{"$f":"+'Project Cashflows'!AS359","v":0},{"$f":"+'Project Cashflows'!AT359","v":0},{"$f":"+'Project Cashflows'!AU359","v":0},{"$f":"+'Project Cashflows'!AV359","v":0}]
[]
[null,null,null,null,"Total Allowable Cost",null,"US$ mn",null,{"$f":"SUM(K217:AV217)","v":30154.477480999987},null,{"$f":"+SUM(K192:K204)+SUM(K208:K215)","v":247.29999999999998},{"$f":"+SUM(L192:L204)+SUM(L208:L215)","v":247.29999999999998},31.439080360000002,151.19540180000001,300.89080360000003,749.97700899999995,1610.7255693500001,1765.7255693500001,2034.2331159999999,2034.2331159999999,2034.2331159999999,1879.2331159999999,2034.2331159999999,2040.1503846999999,2040.1503846999999,2040.1503846999999,1885.1503846999999,2040.1503846999999,2040.1503846999999,1885.1503846999999,947.70577464000007,11.5,11.5,11.5,11.5,11.5,11.5,11.5,11.5,11.5,11.5,0,0,0,0,0,0,0]
[]
[null,null,null,null,{"$f":"'Working Inputs'!E219","v":"Additional Profits share adjustment factor"},{"$f":"'Working Inputs'!F219","v":1.1000000000000001},{"$f":"'Working Inputs'!G219","v":"constant"}]
[null,null,null,null,"Accumulated profits",null,"US$ mn",null,{"$f":"SUM(K220:AV220)","v":9613.7980658453216},null,{"$f":"+K189-K217+IF(J220>=0,0,J220*$F$219)","v":-247.29999999999998},-519.33000000000004,-558.8011269128549,-546.37187416841402,-420.77067592290268,39.550755688806817,1081.8817732885996,926.88177328859956,950.96398976831961,950.96398976831961,950.96398976831961,1105.9639897683196,950.96398976831961,978.35014458336036,978.35014458336036,978.35014458336036,1133.3501445833604,978.35014458336036,978.35014458336036,1133.3501445833604,568.56425867443181,-11.5,-24.15,-38.064999999999998,-53.371499999999997,-70.208650000000006,-88.729515000000006,{"$f":"+AL189-AL217+IF(AK220>=0,0,AK220*$F$219)","v":-109.10246650000002},-131.51271315000002,-156.16398446500003,-183.28038291150006,-201.60842120265008,-221.76926332291509,-243.94618965520661,-268.34080862072727,-295.17488948280004,-324.69237843108004,-357.16161627418808]
[]
[null,null,null,null,{"$f":"'Working Inputs'!E218","v":"Additional profit share"},{"$f":"'Working Inputs'!F218","v":0.25},{"$f":"'Working Inputs'!G218","v":"%"}]
[]
[null,null,null,null,"Additional Profit share payables before credits",null,"US$ mn",null,{"$f":"SUM(K224:AV224)","v":3671.2873804663905},null,{"$f":"IF(K220<0,0,K220*$F$222)","v":0},{"$f":"IF(L220<0,0,L220*$F$222)","v":0},0,0,0,9.8876889222017041,{"$f":"IF(Q220<0,0,Q220*$F$222)","v":270.47044332214989},231.72044332214989,237.7409974420799,237.7409974420799,237.7409974420799,276.4909974420799,237.7409974420799,244.58753614584009,244.58753614584009,244.58753614584009,283.33753614584009,244.58753614584009,244.58753614584009,283.33753614584009,142.14106466860795,0,0,0,0,0,0,{"$f":"IF(AL220<0,0,AL220*$F$222)","v":0},0,0,0,0,0,0,0,0,0,{"$f":"IF(AV220<0,0,AV220*$F$222)","v":0}]
[]
[null,null,null,null,{"$f":"'Working Inputs'!E220","v":"Covered payments credit applicable to Additional profit share to ISA"},{"$f":"'Working Inputs'!F220","v":1},{"$f":"'Working Inputs'!G220","v":"Option"}]
[null,null,null,null,{"$f":"E180","v":"Corporate Income Taxes - Sponsoring State"},null,{"$f":"G180","v":"US$ mn"},0,3486.5542223914963,0,0,0,2.0704682717863134,3.3123413589316133,29.819596415588215,105.93462480099994,242.32419332214999,234.57419332214999,232.84474744207995,225.09474744207995,217.34474744207995,217.34474744207995,217.34474744207995,236.48128614584016,236.48128614584016,236.48128614584016,236.48128614584016,236.48128614584016,236.48128614584016,244.23128614584016,95.426064668607978,0,0,0,0,0,0,0,0,0,0,0,0,0,0,0,0,0]
[null,null,null,null,{"$f":"'Project Cashflows'!E368","v":"Nauru Continuity Benefits Payment"},null,{"$f":"'Project Cashflows'!G368","v":"US$ mn"},{"$f":"'Project Cashflows'!H368","v":0},{"$f":"'Project Cashflows'!I368","v":196.92000000000004},{"$f":"'Project Cashflows'!J368","v":0},{"$f":"'Project Cashflows'!K368","v":0},{"$f":"'Project Cashflows'!L368","v":0},{"$f":"'Project Cashflows'!M368","v":0.24},{"$f":"'Project Cashflows'!N368","v":1.2},{"$f":"'Project Cashflows'!O368","v":2.4},{"$f":"'Project Cashflows'!P368","v":6},{"$f":"'Project Cashflows'!Q368","v":12.9},{"$f":"'Project Cashflows'!R368","v":12.9},{"$f":"'Project Cashflows'!S368","v":12.9},{"$f":"'Project Cashflows'!T368","v":12.9},{"$f":"'Project Cashflows'!U368","v":12.9},{"$f":"'Project Cashflows'!V368","v":12.9},{"$f":"'Project Cashflows'!W368","v":12.9},{"$f":"'Project Cashflows'!X368","v":12.9},{"$f":"'Project Cashflows'!Y368","v":12.9},{"$f":"'Project Cashflows'!Z368","v":12.9},{"$f":"'Project Cashflows'!AA368","v":12.9},{"$f":"'Project Cashflows'!AB368","v":12.9},{"$f":"'Project Cashflows'!AC368","v":12.9},{"$f":"'Project Cashflows'!AD368","v":12.9},{"$f":"'Project Cashflows'!AE368","v":6.48},{"$f":"'Project Cashflows'!AF368","v":0},{"$f":"'Project Cashflows'!AG368","v":0},{"$f":"'Project Cashflows'!AH368","v":0},{"$f":"'Project Cashflows'!AI368","v":0},{"$f":"'Project Cashflows'!AJ368","v":0},{"$f":"'Project Cashflows'!AK368","v":0},{"$f":"'Project Cashflows'!AL368","v":0},{"$f":"'Project Cashflows'!AM368","v":0},{"$f":"'Project Cashflows'!AN368","v":0},{"$f":"'Project Cashflows'!AO368","v":0},{"$f":"'Project Cashflows'!AP368","v":0},{"$f":"'Project Cashflows'!AQ368","v":0},{"$f":"'Project Cashflows'!AR368","v":0},{"$f":"'Project Cashflows'!AS368","v":0},{"$f":"'Project Cashflows'!AT368","v":0},{"$f":"'Project Cashflows'!AU368","v":0},{"$f":"'Project Cashflows'!AV368","v":0}]
[null,null,null,null,{"$f":"'Project Cashflows'!E371","v":"Tonga Continuity Benefits Payment"},{"$f":"'Project Cashflows'!F371","v":0},{"$f":"'Project Cashflows'!G371","v":"US$ mn"},{"$f":"'Project Cashflows'!H371","v":0},{"$f":"'Project Cashflows'!I371","v":0},{"$f":"'Project Cashflows'!J371","v":0},{"$f":"'Project Cashflows'!K371","v":0},{"$f":"'Project Cashflows'!L371","v":0},{"$f":"'Project Cashflows'!M371","v":0},{"$f":"'Project Cashflows'!N371","v":0},{"$f":"'Project Cashflows'!O371","v":0},{"$f":"'Project Cashflows'!P371","v":0},{"$f":"'Project Cashflows'!Q371","v":0},{"$f":"'Project Cashflows'!R371","v":0},{"$f":"'Project Cashflows'!S371","v":0},{"$f":"'Project Cashflows'!T371","v":0},{"$f":"'Project Cashflows'!U371","v":0},{"$f":"'Project Cashflows'!V371","v":0},{"$f":"'Project Cashflows'!W371","v":0},{"$f":"'Project Cashflows'!X371","v":0},{"$f":"'Project Cashflows'!Y371","v":0},{"$f":"'Project Cashflows'!Z371","v":0},{"$f":"'Project Cashflows'!AA371","v":0},{"$f":"'Project Cashflows'!AB371","v":0},{"$f":"'Project Cashflows'!AC371","v":0},{"$f":"'Project Cashflows'!AD371","v":0},{"$f":"'Project Cashflows'!AE371","v":0},{"$f":"'Project Cashflows'!AF371","v":0},{"$f":"'Project Cashflows'!AG371","v":0},{"$f":"'Project Cashflows'!AH371","v":0},{"$f":"'Project Cashflows'!AI371","v":0},{"$f":"'Project Cashflows'!AJ371","v":0},{"$f":"'Project Cashflows'!AK371","v":0},{"$f":"'Project Cashflows'!AL371","v":0},{"$f":"'Project Cashflows'!AM371","v":0},{"$f":"'Project Cashflows'!AN371","v":0},{"$f":"'Project Cashflows'!AO371","v":0},{"$f":"'Project Cashflows'!AP371","v":0},{"$f":"'Project Cashflows'!AQ371","v":0},{"$f":"'Project Cashflows'!AR371","v":0},{"$f":"'Project Cashflows'!AS371","v":0},{"$f":"'Project Cashflows'!AT371","v":0},{"$f":"'Project Cashflows'!AU371","v":0},{"$f":"'Project Cashflows'!AV371","v":0}]
[]
[null,null,null,null,"Cumulative covered payments credit opening balance",null,"US$ mn",null,null,null,{"$f":"J234","v":0},{"$f":"K234","v":0},0,2.3104682717863136,6.8228096307179271,{"$f":"O234","v":39.042406046306141},141.08934192510438,125.84309192510449,141.59684192510463,149.60059192510471,149.85434192510479,142.35809192510487,96.111841925104954,88.615591925105036,93.409341925105082,98.203091925105127,102.99684192510517,69.040591925105218,73.834341925105264,78.628091925105309,52.421841925105355,12.186841925105398,12.186841925105398,12.186841925105398,12.186841925105398,12.186841925105398,12.186841925105398,{"$f":"AK234","v":12.186841925105398},12.186841925105398,12.186841925105398,12.186841925105398,12.186841925105398,12.186841925105398,12.186841925105398,12.186841925105398,12.186841925105398,12.186841925105398,12.186841925105398]
[null,null,null,null,"Credit accrued current year",null,"US$ mn",null,null,null,{"$f":"K227+K228+K229","v":0},{"$f":"L227+L228+L229","v":0},2.3104682717863136,4.5123413589316135,32.219596415588214,111.93462480099994,255.22419332215,247.47419332215,245.74474744207996,237.99474744207996,230.24474744207996,230.24474744207996,230.24474744207996,249.38128614584016,249.38128614584016,249.38128614584016,249.38128614584016,249.38128614584016,249.38128614584016,257.13128614584014,101.90606466860798,0,0,0,0,0,0,0,0,0,0,0,0,0,0,0,0,0]
[null,null,null,null,"Credit used",null,"US$ mn",null,null,null,{"$f":"IF(K224>K231+K232,K231+K232,K224)","v":0},0,0,0,0,{"$f":"IF(P224>P231+P232,P231+P232,P224)","v":9.8876889222017041},{"$f":"IF(Q224>Q231+Q232,Q231+Q232,Q224)","v":270.47044332214989},231.72044332214989,237.7409974420799,237.7409974420799,237.7409974420799,276.4909974420799,237.7409974420799,244.58753614584009,244.58753614584009,244.58753614584009,283.33753614584009,244.58753614584009,244.58753614584009,283.33753614584009,142.14106466860795,0,0,0,0,0,0,{"$f":"IF(AL224>AL231+AL232,AL231+AL232,AL224)","v":0},0,0,0,0,0,0,0,0,0,0]
[null,null,null,null,"Cumulative covered payments credit closing balance",null,"US$ mn",null,null,null,{"$f":"K231+K232-K233","v":0},{"$f":"L231+L232-L233","v":0},2.3104682717863136,6.8228096307179271,{"$f":"O231+O232-O233","v":39.042406046306141},141.08934192510438,125.84309192510449,141.59684192510463,149.60059192510471,149.85434192510479,142.35809192510487,96.111841925104954,88.615591925105036,93.409341925105082,98.203091925105127,102.99684192510517,69.040591925105218,73.834341925105264,78.628091925105309,52.421841925105355,12.186841925105398,12.186841925105398,12.186841925105398,12.186841925105398,12.186841925105398,12.186841925105398,12.186841925105398,12.186841925105398,12.186841925105398,12.186841925105398,12.186841925105398,12.186841925105398,12.186841925105398,12.186841925105398,12.186841925105398,12.186841925105398,12.186841925105398,{"$f":"AV231+AV232-AV233","v":12.186841925105398}]
[]
[null,null,null,null,"Additional Profit share payables",null,"US$ mn",null,{"$f":"SUM(K236:AV236)","v":0},null,{"$f":"K224-K233*$F$226","v":0},{"$f":"L224-L233*$F$226","v":0},0,0,0,{"$f":"P224-P233*$F$226","v":0},0,0,0,0,0,0,0,0,0,0,0,0,0,0,0,0,0,0,0,0,0,0,0,0,0,0,0,0,0,0,0,{"$f":"AV224-AV233*$F$226","v":0}]
[]
["Revenue Allocation"]
[]
[null,"ISA Revenue"]
[null,null,null,null,{"$f":"+E45","v":"Royalty Payables"},0,"US$ mn",0,5189.2974809999996,0,0,0,2.1790803599999999,10.895401800000002,21.790803600000004,54.477009000000002,117.12556935000001,117.12556935000001,385.63311599999992,385.63311599999992,385.63311599999992,385.63311599999992,385.63311599999992,391.55038469999994,391.55038469999994,391.55038469999994,391.55038469999994,391.55038469999994,391.55038469999994,391.55038469999994,196.68577463999998,0,0,0,0,0,0,0,0,0,0,0,0,0,0,0,0,0]
[null,null,null,null,{"$f":"+E236","v":"Additional Profit share payables"},{"$f":"+F236","v":0},"US$ mn",0,{"$f":"+I236","v":0},0,0,0,0,0,0,{"$f":"+P236","v":0},0,0,0,0,0,0,0,0,0,0,0,0,0,0,0,0,0,0,0,0,0,0,0,0,0,0,0,0,0,0,0,{"$f":"+AV236","v":0}]
[null,null,null,null,{"$f":"+'Project Cashflows'!E387","v":"Annual fees to ISA"},{"$f":"+'Project Cashflows'!F387","v":0},{"$f":"+'Project Cashflows'!G387","v":"US$ mn"},{"$f":"+'Project Cashflows'!H387","v":0},{"$f":"+'Project Cashflows'!I387","v":31.5},{"$f":"+'Project Cashflows'!J387","v":0},{"$f":"+'Project Cashflows'!K387","v":1.5},{"$f":"+'Project Cashflows'!L387","v":1.5},{"$f":"+'Project Cashflows'!M387","v":1.5},{"$f":"+'Project Cashflows'!N387","v":1.5},{"$f":"+'Project Cashflows'!O387","v":1.5},{"$f":"+'Project Cashflows'!P387","v":1.5},{"$f":"+'Project Cashflows'!Q387","v":1.5},{"$f":"+'Project Cashflows'!R387","v":1.5},{"$f":"+'Project Cashflows'!S387","v":1.5},{"$f":"+'Project Cashflows'!T387","v":1.5},{"$f":"+'Project Cashflows'!U387","v":1.5},{"$f":"+'Project Cashflows'!V387","v":1.5},{"$f":"+'Project Cashflows'!W387","v":1.5},{"$f":"+'Project Cashflows'!X387","v":1.5},{"$f":"+'Project Cashflows'!Y387","v":1.5},{"$f":"+'Project Cashflows'!Z387","v":1.5},{"$f":"+'Project Cashflows'!AA387","v":1.5},{"$f":"+'Project Cashflows'!AB387","v":1.5},{"$f":"+'Project Cashflows'!AC387","v":1.5},{"$f":"+'Project Cashflows'!AD387","v":1.5},{"$f":"+'Project Cashflows'!AE387","v":1.5},{"$f":"+'Project Cashflows'!AF387","v":0},{"$f":"+'Project Cashflows'!AG387","v":0},{"$f":"+'Project Cashflows'!AH387","v":0},{"$f":"+'Project Cashflows'!AI387","v":0},{"$f":"+'Project Cashflows'!AJ387","v":0},{"$f":"+'Project Cashflows'!AK387","v":0},{"$f":"+'Project Cashflows'!AL387","v":0},{"$f":"+'Project Cashflows'!AM387","v":0},{"$f":"+'Project Cashflows'!AN387","v":0},{"$f":"+'Project Cashflows'!AO387","v":0},{"$f":"+'Project Cashflows'!AP387","v":0},{"$f":"+'Project Cashflows'!AQ387","v":0},{"$f":"+'Project Cashflows'!AR387","v":0},{"$f":"+'Project Cashflows'!AS387","v":0},{"$f":"+'Project Cashflows'!AT387","v":0},{"$f":"+'Project Cashflows'!AU387","v":0},{"$f":"+'Project Cashflows'!AV387","v":0}]
[null,null,null,null,"ISA Revenue",null,"US$ mn",null,{"$f":" SUM(K244:AV244)","v":5220.7974809999996},null,{"$f":"SUM(K241:K243)","v":1.5},1.5,3.6790803599999999,12.395401800000002,23.290803600000004,{"$f":"SUM(P241:P243)","v":55.977009000000002},118.62556935000001,118.62556935000001,387.13311599999992,387.13311599999992,387.13311599999992,387.13311599999992,387.13311599999992,393.05038469999994,393.05038469999994,393.05038469999994,393.05038469999994,393.05038469999994,393.05038469999994,393.05038469999994,198.18577463999998,0,0,0,0,0,0,0,0,0,0,0,0,0,0,0,0,{"$f":"SUM(AV241:AV243)","v":0}]
[]
[null,"Proejct cashflow"]
[null,null,null,null,{"$f":"E81","v":"Project after tax Cashflow"},null,{"$f":"G81","v":"US$ mn"},0,10344.662667174485,0,-247.29999999999998,-247.29999999999998,9.2114048153589394,59.097024076794831,138.61878924676463,366.96387440299981,776.13257996645007,628.88257996645007,654.69424232623987,662.44424232623987,670.19424232623987,825.19424232623987,670.19424232623987,678.44385843752048,678.44385843752048,678.44385843752048,833.44385843752048,678.44385843752048,678.44385843752048,825.69385843752048,441.27819400582393,-11.5,-11.5,-11.5,-11.5,-11.5,-11.5,-11.5,-11.5,-11.5,-11.5,0,0,0,0,0,0,0]
[null,null,null,null,"Project equity cashflow",null,"US$ mn",null,{"$f":" SUM(K248:AV248)","v":10344.662667174485},null,{"$f":"K247-K257","v":-247.29999999999998},-247.29999999999998,9.2114048153589394,59.097024076794831,{"$f":"O247-O257","v":138.61878924676463},366.96387440299981,776.13257996645007,628.88257996645007,654.69424232623987,662.44424232623987,670.19424232623987,825.19424232623987,670.19424232623987,678.44385843752048,678.44385843752048,678.44385843752048,833.44385843752048,678.44385843752048,678.44385843752048,825.69385843752048,441.27819400582393,-11.5,-11.5,-11.5,-11.5,-11.5,-11.5,-11.5,-11.5,-11.5,-11.5,0,0,0,0,0,0,{"$f":"AV247-AV257","v":0}]
[]
[null,"Sponsoring states"]
[null,null,null,null,{"$f":"+E180","v":"Corporate Income Taxes - Sponsoring State"},0,"US$ mn",0,3486.5542223914963,0,0,0,2.0704682717863134,3.3123413589316133,29.819596415588215,105.93462480099994,242.32419332214999,234.57419332214999,232.84474744207995,225.09474744207995,217.34474744207995,217.34474744207995,217.34474744207995,236.48128614584016,236.48128614584016,236.48128614584016,236.48128614584016,236.48128614584016,236.48128614584016,244.23128614584016,95.426064668607978,0,0,0,0,0,0,0,0,0,0,0,0,0,0,0,0,0]
[null,null,null,null,{"$f":"E228","v":"Nauru Continuity Benefits Payment"},null,{"$f":"G228","v":"US$ mn"},null,{"$f":"I228","v":196.92000000000004},null,{"$f":"K228","v":0},0,0.24,1.2,2.4,6,12.9,12.9,12.9,12.9,12.9,12.9,12.9,12.9,12.9,12.9,12.9,12.9,12.9,12.9,6.48,0,0,0,0,0,0,0,0,0,0,0,0,0,0,0,0,0]
[null,null,null,null,{"$f":"E229","v":"Tonga Continuity Benefits Payment"},null,{"$f":"G229","v":"US$ mn"},null,{"$f":"I229","v":0},null,{"$f":"K229","v":0},0,0,0,0,0,0,0,0,0,0,0,0,0,0,0,0,0,0,0,0,0,0,0,0,0,0,0,0,0,0,0,0,0,0,0,0,0]
[null,null,null,null,"Sponsoring State Revenue",null,"US$ mn",null,{"$f":" SUM(K254:AV254)","v":3683.4742223914936},null,{"$f":"SUM(K251:K253)","v":0},{"$f":"SUM(L251:L253)","v":0},2.3104682717863136,4.5123413589316135,32.219596415588214,111.93462480099994,255.22419332215,247.47419332215,245.74474744207996,237.99474744207996,230.24474744207996,230.24474744207996,230.24474744207996,249.38128614584016,249.38128614584016,249.38128614584016,249.38128614584016,249.38128614584016,249.38128614584016,257.13128614584014,101.90606466860798,0,0,0,0,0,0,0,0,0,0,0,0,0,0,0,0,0]
[]
[null,"Loan provider"]
[null,null,null,null,"Loan provider cashflow",null,"US$ mn",null,{"$f":" SUM(K257:AV257)","v":0},null,{"$f":"-K77+K78+K79","v":0},0,0,0,0,0,0,0,0,0,0,0,0,0,0,0,0,0,0,0,0,0,0,0,0,0,0,0,0,0,0,0,0,0,0,0,0,0]
[]
[null,null,null,null,"Total Cashflow - for all stakeholders",null,"US$ mn",null,{"$f":"+I244+I248+I257+I254","v":19248.934370565978},null,{"$f":"+K244+K248+K257+K254","v":-245.79999999999998},-245.79999999999998,15.200953447145253,76.004767235726447,{"$f":"+O244+O248+O257+O254","v":194.12918926235284},534.87550820399974,1149.9823426386001,994.98234263860002,1287.5721057683197,1287.5721057683197,1287.5721057683197,1442.5721057683197,1287.5721057683197,1320.8755292833607,1320.8755292833607,1320.8755292833607,1475.8755292833607,1320.8755292833607,1320.8755292833607,1475.8755292833607,741.37003331443191,-11.5,-11.5,-11.5,-11.5,-11.5,-11.5,-11.5,-11.5,-11.5,-11.5,0,0,0,0,0,0,{"$f":"+AV244+AV248+AV257+AV254","v":0}]
[null,null,null,null,{"$f":"+'Project Cashflows'!E390","v":"Project Pre-tax cashflow"},{"$f":"+'Project Cashflows'!F390","v":0},{"$f":"+'Project Cashflows'!G390","v":"US$ mn"},{"$f":"+'Project Cashflows'!H390","v":0},{"$f":"+'Project Cashflows'!I390+'Project Cashflows'!I387+'Project Cashflows'!I371+'Project Cashflows'!I368","v":19248.934370565981},{"$f":"+'Project Cashflows'!J390","v":0},{"$f":"+'Project Cashflows'!K390+'Project Cashflows'!K387+'Project Cashflows'!K371+'Project Cashflows'!K368","v":-245.79999999999998},{"$f":"+'Project Cashflows'!L390+'Project Cashflows'!L387+'Project Cashflows'!L371+'Project Cashflows'!L368","v":-245.79999999999998},{"$f":"+'Project Cashflows'!M390+'Project Cashflows'!M387+'Project Cashflows'!M371+'Project Cashflows'!M368","v":15.200953447145254},{"$f":"+'Project Cashflows'!N390+'Project Cashflows'!N387+'Project Cashflows'!N371+'Project Cashflows'!N368","v":76.004767235726447},{"$f":"+'Project Cashflows'!O390+'Project Cashflows'!O387+'Project Cashflows'!O371+'Project Cashflows'!O368","v":194.12918926235287},{"$f":"+'Project Cashflows'!P390+'Project Cashflows'!P387+'Project Cashflows'!P371+'Project Cashflows'!P368","v":534.87550820399974},{"$f":"+'Project Cashflows'!Q390+'Project Cashflows'!Q387+'Project Cashflows'!Q371+'Project Cashflows'!Q368","v":1149.9823426386001},{"$f":"+'Project Cashflows'!R390+'Project Cashflows'!R387+'Project Cashflows'!R371+'Project Cashflows'!R368","v":994.98234263860002},{"$f":"+'Project Cashflows'!S390+'Project Cashflows'!S387+'Project Cashflows'!S371+'Project Cashflows'!S368","v":1287.5721057683199},{"$f":"+'Project Cashflows'!T390+'Project Cashflows'!T387+'Project Cashflows'!T371+'Project Cashflows'!T368","v":1287.5721057683199},{"$f":"+'Project Cashflows'!U390+'Project Cashflows'!U387+'Project Cashflows'!U371+'Project Cashflows'!U368","v":1287.5721057683199},{"$f":"+'Project Cashflows'!V390+'Project Cashflows'!V387+'Project Cashflows'!V371+'Project Cashflows'!V368","v":1442.5721057683199},{"$f":"+'Project Cashflows'!W390+'Project Cashflows'!W387+'Project Cashflows'!W371+'Project Cashflows'!W368","v":1287.5721057683199},{"$f":"+'Project Cashflows'!X390+'Project Cashflows'!X387+'Project Cashflows'!X371+'Project Cashflows'!X368","v":1320.8755292833607},{"$f":"+'Project Cashflows'!Y390+'Project Cashflows'!Y387+'Project Cashflows'!Y371+'Project Cashflows'!Y368","v":1320.8755292833607},{"$f":"+'Project Cashflows'!Z390+'Project Cashflows'!Z387+'Project Cashflows'!Z371+'Project Cashflows'!Z368","v":1320.8755292833607},{"$f":"+'Project Cashflows'!AA390+'Project Cashflows'!AA387+'Project Cashflows'!AA371+'Project Cashflows'!AA368","v":1475.8755292833607},{"$f":"+'Project Cashflows'!AB390+'Project Cashflows'!AB387+'Project Cashflows'!AB371+'Project Cashflows'!AB368","v":1320.8755292833607},{"$f":"+'Project Cashflows'!AC390+'Project Cashflows'!AC387+'Project Cashflows'!AC371+'Project Cashflows'!AC368","v":1320.8755292833607},{"$f":"+'Project Cashflows'!AD390+'Project Cashflows'!AD387+'Project Cashflows'!AD371+'Project Cashflows'!AD368","v":1475.8755292833607},{"$f":"+'Project Cashflows'!AE390+'Project Cashflows'!AE387+'Project Cashflows'!AE371+'Project Cashflows'!AE368","v":741.37003331443191},{"$f":"+'Project Cashflows'!AF390+'Project Cashflows'!AF387+'Project Cashflows'!AF371+'Project Cashflows'!AF368","v":-11.5},{"$f":"+'Project Cashflows'!AG390+'Project Cashflows'!AG387+'Project Cashflows'!AG371+'Project Cashflows'!AG368","v":-11.5},{"$f":"+'Project Cashflows'!AH390+'Project Cashflows'!AH387+'Project Cashflows'!AH371+'Project Cashflows'!AH368","v":-11.5},{"$f":"+'Project Cashflows'!AI390+'Project Cashflows'!AI387+'Project Cashflows'!AI371+'Project Cashflows'!AI368","v":-11.5},{"$f":"+'Project Cashflows'!AJ390+'Project Cashflows'!AJ387+'Project Cashflows'!AJ371+'Project Cashflows'!AJ368","v":-11.5},{"$f":"+'Project Cashflows'!AK390+'Project Cashflows'!AK387+'Project Cashflows'!AK371+'Project Cashflows'!AK368","v":-11.5},{"$f":"+'Project Cashflows'!AL390+'Project Cashflows'!AL387+'Project Cashflows'!AL371+'Project Cashflows'!AL368","v":-11.5},{"$f":"+'Project Cashflows'!AM390+'Project Cashflows'!AM387+'Project Cashflows'!AM371+'Project Cashflows'!AM368","v":-11.5},{"$f":"+'Project Cashflows'!AN390+'Project Cashflows'!AN387+'Project Cashflows'!AN371+'Project Cashflows'!AN368","v":-11.5},{"$f":"+'Project Cashflows'!AO390+'Project Cashflows'!AO387+'Project Cashflows'!AO371+'Project Cashflows'!AO368","v":-11.5},{"$f":"+'Project Cashflows'!AP390+'Project Cashflows'!AP387+'Project Cashflows'!AP371+'Project Cashflows'!AP368","v":0},{"$f":"+'Project Cashflows'!AQ390+'Project Cashflows'!AQ387+'Project Cashflows'!AQ371+'Project Cashflows'!AQ368","v":0},{"$f":"+'Project Cashflows'!AR390+'Project Cashflows'!AR387+'Project Cashflows'!AR371+'Project Cashflows'!AR368","v":0},{"$f":"+'Project Cashflows'!AS390+'Project Cashflows'!AS387+'Project Cashflows'!AS371+'Project Cashflows'!AS368","v":0},{"$f":"+'Project Cashflows'!AT390+'Project Cashflows'!AT387+'Project Cashflows'!AT371+'Project Cashflows'!AT368","v":0},{"$f":"+'Project Cashflows'!AU390+'Project Cashflows'!AU387+'Project Cashflows'!AU371+'Project Cashflows'!AU368","v":0},{"$f":"+'Project Cashflows'!AV390+'Project Cashflows'!AV387+'Project Cashflows'!AV371+'Project Cashflows'!AV368","v":0}]
[null,null,null,null,"Check Total project cashflow to different stakeholders",null,"US$ mn",null,{"$f":"+I259-I260","v":0},null,{"$f":"+K259-K260","v":0},0,0,0,{"$f":"+O259-O260","v":0},0,0,0,0,0,0,0,0,0,0,0,0,0,0,0,0,0,0,0,0,0,0,0,0,0,0,0,0,0,0,0,0,{"$f":"+AV259-AV260","v":0}]
[]
[null,null,null,null,"Check: Total project cashflow to different stakeholders",{"$f":" MIN( 1, SUM(K263:AU263))","v":0},null,null,null,null,{"$f":" IF( ABS(K261) > CHK_TOL, 1, 0)","v":0},0,0,0,{"$f":" IF( ABS(O261) > CHK_TOL, 1, 0)","v":0},0,0,0,0,0,0,0,0,0,0,0,0,0,0,0,0,0,0,0,0,0,0,0,0,0,0,0,0,0,0,0,0,{"$f":" IF( ABS(AV261) > CHK_TOL, 1, 0)","v":0}]
[]
["END MODEL"]

{"sheet":"Results","index":8,"n_rows":77,"n_cols":48,"rows_kept":77,"cut":false,"hidden":false,"merged":[[45,5,45,6],[45,7,45,8]]}
[{"$f":" RIGHT( CELL(\"filename\",$A$1), LEN( CELL(\"filename\",$A$1)) - SEARCH(\"]\", CELL(\"filename\",$A$1)))","v":"Results"},null,null,null,"Project selected",{"$f":"Dashboard!C5","v":"NORI-D"},null,null,null,null,{"$f":"'T&E'!K10","v":1},{"$f":"'T&E'!L10","v":2},{"$f":"'T&E'!M10","v":3},{"$f":"'T&E'!N10","v":4},{"$f":"'T&E'!O10","v":5},{"$f":"'T&E'!P10","v":6},{"$f":"'T&E'!Q10","v":7},{"$f":"'T&E'!R10","v":8},{"$f":"'T&E'!S10","v":9},{"$f":"'T&E'!T10","v":10},{"$f":"'T&E'!U10","v":11},{"$f":"'T&E'!V10","v":12},{"$f":"'T&E'!W10","v":13},{"$f":"'T&E'!X10","v":14},{"$f":"'T&E'!Y10","v":15},{"$f":"'T&E'!Z10","v":16},{"$f":"'T&E'!AA10","v":17},{"$f":"'T&E'!AB10","v":18},{"$f":"'T&E'!AC10","v":19},{"$f":"'T&E'!AD10","v":20},{"$f":"'T&E'!AE10","v":21},{"$f":"'T&E'!AF10","v":22},{"$f":"'T&E'!AG10","v":23},{"$f":"'T&E'!AH10","v":24},{"$f":"'T&E'!AI10","v":25},{"$f":"'T&E'!AJ10","v":26},{"$f":"'T&E'!AK10","v":27},{"$f":"'T&E'!AL10","v":28},{"$f":"'T&E'!AM10","v":29},{"$f":"'T&E'!AN10","v":30},{"$f":"'T&E'!AO10","v":31},{"$f":"'T&E'!AP10","v":32},{"$f":"'T&E'!AQ10","v":33},{"$f":"'T&E'!AR10","v":34},{"$f":"'T&E'!AS10","v":35},{"$f":"'T&E'!AT10","v":36},{"$f":"'T&E'!AU10","v":37},{"$f":"'T&E'!AV10","v":38}]
[null,null,null,null,{"$f":"'T&E'!E12","v":"Project year"},null,{"$f":"'T&E'!G12","v":"year"},null,null,null,{"$f":"'T&E'!K12","v":2025},{"$f":"'T&E'!L12","v":2026},{"$f":"'T&E'!M12","v":2027},{"$f":"'T&E'!N12","v":2028},{"$f":"'T&E'!O12","v":2029},{"$f":"'T&E'!P12","v":2030},{"$f":"'T&E'!Q12","v":2031},{"$f":"'T&E'!R12","v":2032},{"$f":"'T&E'!S12","v":2033},{"$f":"'T&E'!T12","v":2034},{"$f":"'T&E'!U12","v":2035},{"$f":"'T&E'!V12","v":2036},{"$f":"'T&E'!W12","v":2037},{"$f":"'T&E'!X12","v":2038},{"$f":"'T&E'!Y12","v":2039},{"$f":"'T&E'!Z12","v":2040},{"$f":"'T&E'!AA12","v":2041},{"$f":"'T&E'!AB12","v":2042},{"$f":"'T&E'!AC12","v":2043},{"$f":"'T&E'!AD12","v":2044},{"$f":"'T&E'!AE12","v":2045},{"$f":"'T&E'!AF12","v":2046},{"$f":"'T&E'!AG12","v":2047},{"$f":"'T&E'!AH12","v":2048},{"$f":"'T&E'!AI12","v":2049},{"$f":"'T&E'!AJ12","v":2050},{"$f":"'T&E'!AK12","v":2051},{"$f":"'T&E'!AL12","v":2052},{"$f":"'T&E'!AM12","v":2053},{"$f":"'T&E'!AN12","v":2054},{"$f":"'T&E'!AO12","v":2055},{"$f":"'T&E'!AP12","v":2056},{"$f":"'T&E'!AQ12","v":2057},{"$f":"'T&E'!AR12","v":2058},{"$f":"'T&E'!AS12","v":2059},{"$f":"'T&E'!AT12","v":2060},{"$f":"'T&E'!AU12","v":2061},{"$f":"'T&E'!AV12","v":2062}]
[null,null,null,null,"Row description","Constant","Units","Comments","Total"]
[null,null,null,null,"Sheet Check:",{"$f":" IF( ABS(F27+F44 ) > CHK_TOL, 1, 0)","v":0},"Checks"]
["Project Cash Flow Allocation"]
[]
[null,null,"Cash Flow Allocation"]
[null,null,null,null,{"$f":"'Fiscal Model'!E$244","v":"ISA Revenue"},null,{"$f":"'Fiscal Model'!G$244","v":"US$ mn"},null,{"$f":" SUM(K8:AV8)","v":5220.7974809999996},null,{"$f":"'Fiscal Model'!K$244","v":1.5},{"$f":"'Fiscal Model'!L$244","v":1.5},{"$f":"'Fiscal Model'!M$244","v":3.6790803599999999},{"$f":"'Fiscal Model'!N$244","v":12.395401800000002},{"$f":"'Fiscal Model'!O$244","v":23.290803600000004},{"$f":"'Fiscal Model'!P$244","v":55.977009000000002},{"$f":"'Fiscal Model'!Q$244","v":118.62556935000001},{"$f":"'Fiscal Model'!R$244","v":118.62556935000001},{"$f":"'Fiscal Model'!S$244","v":387.13311599999992},{"$f":"'Fiscal Model'!T$244","v":387.13311599999992},{"$f":"'Fiscal Model'!U$244","v":387.13311599999992},{"$f":"'Fiscal Model'!V$244","v":387.13311599999992},{"$f":"'Fiscal Model'!W$244","v":387.13311599999992},{"$f":"'Fiscal Model'!X$244","v":393.05038469999994},{"$f":"'Fiscal Model'!Y$244","v":393.05038469999994},{"$f":"'Fiscal Model'!Z$244","v":393.05038469999994},{"$f":"'Fiscal Model'!AA$244","v":393.05038469999994},{"$f":"'Fiscal Model'!AB$244","v":393.05038469999994},{"$f":"'Fiscal Model'!AC$244","v":393.05038469999994},{"$f":"'Fiscal Model'!AD$244","v":393.05038469999994},{"$f":"'Fiscal Model'!AE$244","v":198.18577463999998},{"$f":"'Fiscal Model'!AF$244","v":0},{"$f":"'Fiscal Model'!AG$244","v":0},{"$f":"'Fiscal Model'!AH$244","v":0},{"$f":"'Fiscal Model'!AI$244","v":0},{"$f":"'Fiscal Model'!AJ$244","v":0},{"$f":"'Fiscal Model'!AK$244","v":0},{"$f":"'Fiscal Model'!AL$244","v":0},{"$f":"'Fiscal Model'!AM$244","v":0},{"$f":"'Fiscal Model'!AN$244","v":0},{"$f":"'Fiscal Model'!AO$244","v":0},{"$f":"'Fiscal Model'!AP$244","v":0},{"$f":"'Fiscal Model'!AQ$244","v":0},{"$f":"'Fiscal Model'!AR$244","v":0},{"$f":"'Fiscal Model'!AS$244","v":0},{"$f":"'Fiscal Model'!AT$244","v":0},{"$f":"'Fiscal Model'!AU$244","v":0},{"$f":"'Fiscal Model'!AV$244","v":0}]
[null,null,null,null,{"$f":"'Fiscal Model'!E$248","v":"Project equity cashflow"},null,{"$f":"'Fiscal Model'!G$248","v":"US$ mn"},null,{"$f":" SUM(K9:AV9)","v":10344.662667174485},null,{"$f":"'Fiscal Model'!K$248","v":-247.29999999999998},{"$f":"'Fiscal Model'!L$248","v":-247.29999999999998},{"$f":"'Fiscal Model'!M$248","v":9.2114048153589394},{"$f":"'Fiscal Model'!N$248","v":59.097024076794831},{"$f":"'Fiscal Model'!O$248","v":138.61878924676463},{"$f":"'Fiscal Model'!P$248","v":366.96387440299981},{"$f":"'Fiscal Model'!Q$248","v":776.13257996645007},{"$f":"'Fiscal Model'!R$248","v":628.88257996645007},{"$f":"'Fiscal Model'!S$248","v":654.69424232623987},{"$f":"'Fiscal Model'!T$248","v":662.44424232623987},{"$f":"'Fiscal Model'!U$248","v":670.19424232623987},{"$f":"'Fiscal Model'!V$248","v":825.19424232623987},{"$f":"'Fiscal Model'!W$248","v":670.19424232623987},{"$f":"'Fiscal Model'!X$248","v":678.44385843752048},{"$f":"'Fiscal Model'!Y$248","v":678.44385843752048},{"$f":"'Fiscal Model'!Z$248","v":678.44385843752048},{"$f":"'Fiscal Model'!AA$248","v":833.44385843752048},{"$f":"'Fiscal Model'!AB$248","v":678.44385843752048},{"$f":"'Fiscal Model'!AC$248","v":678.44385843752048},{"$f":"'Fiscal Model'!AD$248","v":825.69385843752048},{"$f":"'Fiscal Model'!AE$248","v":441.27819400582393},{"$f":"'Fiscal Model'!AF$248","v":-11.5},{"$f":"'Fiscal Model'!AG$248","v":-11.5},{"$f":"'Fiscal Model'!AH$248","v":-11.5},{"$f":"'Fiscal Model'!AI$248","v":-11.5},{"$f":"'Fiscal Model'!AJ$248","v":-11.5},{"$f":"'Fiscal Model'!AK$248","v":-11.5},{"$f":"'Fiscal Model'!AL$248","v":-11.5},{"$f":"'Fiscal Model'!AM$248","v":-11.5},{"$f":"'Fiscal Model'!AN$248","v":-11.5},{"$f":"'Fiscal Model'!AO$248","v":-11.5},{"$f":"'Fiscal Model'!AP$248","v":0},{"$f":"'Fiscal Model'!AQ$248","v":0},{"$f":"'Fiscal Model'!AR$248","v":0},{"$f":"'Fiscal Model'!AS$248","v":0},{"$f":"'Fiscal Model'!AT$248","v":0},{"$f":"'Fiscal Model'!AU$248","v":0},{"$f":"'Fiscal Model'!AV$248","v":0}]
[null,null,null,null,{"$f":"'Fiscal Model'!E254","v":"Sponsoring State Revenue"},null,{"$f":"'Fiscal Model'!G254","v":"US$ mn"},null,{"$f":"'Fiscal Model'!I254","v":3683.4742223914936},null,{"$f":"'Fiscal Model'!K254","v":0},{"$f":"'Fiscal Model'!L254","v":0},{"$f":"'Fiscal Model'!M254","v":2.3104682717863136},{"$f":"'Fiscal Model'!N254","v":4.5123413589316135},{"$f":"'Fiscal Model'!O254","v":32.219596415588214},{"$f":"'Fiscal Model'!P254","v":111.93462480099994},{"$f":"'Fiscal Model'!Q254","v":255.22419332215},{"$f":"'Fiscal Model'!R254","v":247.47419332215},{"$f":"'Fiscal Model'!S254","v":245.74474744207996},{"$f":"'Fiscal Model'!T254","v":237.99474744207996},{"$f":"'Fiscal Model'!U254","v":230.24474744207996},{"$f":"'Fiscal Model'!V254","v":230.24474744207996},{"$f":"'Fiscal Model'!W254","v":230.24474744207996},{"$f":"'Fiscal Model'!X254","v":249.38128614584016},{"$f":"'Fiscal Model'!Y254","v":249.38128614584016},{"$f":"'Fiscal Model'!Z254","v":249.38128614584016},{"$f":"'Fiscal Model'!AA254","v":249.38128614584016},{"$f":"'Fiscal Model'!AB254","v":249.38128614584016},{"$f":"'Fiscal Model'!AC254","v":249.38128614584016},{"$f":"'Fiscal Model'!AD254","v":257.13128614584014},{"$f":"'Fiscal Model'!AE254","v":101.90606466860798},{"$f":"'Fiscal Model'!AF254","v":0},{"$f":"'Fiscal Model'!AG254","v":0},{"$f":"'Fiscal Model'!AH254","v":0},{"$f":"'Fiscal Model'!AI254","v":0},{"$f":"'Fiscal Model'!AJ254","v":0},{"$f":"'Fiscal Model'!AK254","v":0},{"$f":"'Fiscal Model'!AL254","v":0},{"$f":"'Fiscal Model'!AM254","v":0},{"$f":"'Fiscal Model'!AN254","v":0},{"$f":"'Fiscal Model'!AO254","v":0},{"$f":"'Fiscal Model'!AP254","v":0},{"$f":"'Fiscal Model'!AQ254","v":0},{"$f":"'Fiscal Model'!AR254","v":0},{"$f":"'Fiscal Model'!AS254","v":0},{"$f":"'Fiscal Model'!AT254","v":0},{"$f":"'Fiscal Model'!AU254","v":0},{"$f":"'Fiscal Model'!AV254","v":0}]
[null,null,null,null,{"$f":"'Fiscal Model'!E$257","v":"Loan provider cashflow"},null,{"$f":"'Fiscal Model'!G$257","v":"US$ mn"},null,{"$f":" SUM(K11:AV11)","v":0},null,{"$f":"'Fiscal Model'!K$257","v":0},{"$f":"'Fiscal Model'!L$257","v":0},{"$f":"'Fiscal Model'!M$257","v":0},{"$f":"'Fiscal Model'!N$257","v":0},{"$f":"'Fiscal Model'!O$257","v":0},{"$f":"'Fiscal Model'!P$257","v":0},{"$f":"'Fiscal Model'!Q$257","v":0},{"$f":"'Fiscal Model'!R$257","v":0},{"$f":"'Fiscal Model'!S$257","v":0},{"$f":"'Fiscal Model'!T$257","v":0},{"$f":"'Fiscal Model'!U$257","v":0},{"$f":"'Fiscal Model'!V$257","v":0},{"$f":"'Fiscal Model'!W$257","v":0},{"$f":"'Fiscal Model'!X$257","v":0},{"$f":"'Fiscal Model'!Y$257","v":0},{"$f":"'Fiscal Model'!Z$257","v":0},{"$f":"'Fiscal Model'!AA$257","v":0},{"$f":"'Fiscal Model'!AB$257","v":0},{"$f":"'Fiscal Model'!AC$257","v":0},{"$f":"'Fiscal Model'!AD$257","v":0},{"$f":"'Fiscal Model'!AE$257","v":0},{"$f":"'Fiscal Model'!AF$257","v":0},{"$f":"'Fiscal Model'!AG$257","v":0},{"$f":"'Fiscal Model'!AH$257","v":0},{"$f":"'Fiscal Model'!AI$257","v":0},{"$f":"'Fiscal Model'!AJ$257","v":0},{"$f":"'Fiscal Model'!AK$257","v":0},{"$f":"'Fiscal Model'!AL$257","v":0},{"$f":"'Fiscal Model'!AM$257","v":0},{"$f":"'Fiscal Model'!AN$257","v":0},{"$f":"'Fiscal Model'!AO$257","v":0},{"$f":"'Fiscal Model'!AP$257","v":0},{"$f":"'Fiscal Model'!AQ$257","v":0},{"$f":"'Fiscal Model'!AR$257","v":0},{"$f":"'Fiscal Model'!AS$257","v":0},{"$f":"'Fiscal Model'!AT$257","v":0},{"$f":"'Fiscal Model'!AU$257","v":0},{"$f":"'Fiscal Model'!AV$257","v":0}]
[null,null,null,null,"Total Project Cashflow",null,"US$ mn",null,{"$f":" SUM(K12:AV12)","v":19248.934370565981},null,{"$f":"K8+K9+K10+K11","v":-245.79999999999998},-245.79999999999998,15.200953447145253,76.004767235726447,194.12918926235284,534.87550820399974,1149.9823426386001,994.98234263860002,1287.5721057683197,1287.5721057683197,1287.5721057683197,1442.5721057683197,1287.5721057683197,1320.8755292833607,1320.8755292833607,1320.8755292833607,1475.8755292833607,1320.8755292833607,1320.8755292833607,1475.8755292833607,741.37003331443191,-11.5,-11.5,-11.5,-11.5,-11.5,-11.5,-11.5,-11.5,-11.5,-11.5,0,0,0,0,0,0,{"$f":"AV8+AV9+AV10+AV11","v":0}]
[]
[null,null,"ISA Revenue Composition Nominal"]
[null,null,null,null,{"$f":"E8","v":"ISA Revenue"},null,{"$f":"G8","v":"US$ mn"},null,{"$f":" SUM(K15:AV15)","v":5220.7974809999996},null,{"$f":"K8","v":1.5},1.5,3.6790803599999999,12.395401800000002,23.290803600000004,55.977009000000002,118.62556935000001,118.62556935000001,387.13311599999992,387.13311599999992,387.13311599999992,387.13311599999992,387.13311599999992,393.05038469999994,393.05038469999994,393.05038469999994,393.05038469999994,393.05038469999994,393.05038469999994,393.05038469999994,198.18577463999998,0,0,0,0,0,0,0,0,0,0,0,0,0,0,0,0,{"$f":"AV8","v":0}]
[null,null,"Of which"]
[null,null,null,null,{"$f":"'Fiscal Model'!E241","v":"Royalty Payables"},null,{"$f":"'Fiscal Model'!G241","v":"US$ mn"},null,{"$f":" SUM(K17:AV17)","v":5189.2974809999996},null,{"$f":"'Fiscal Model'!K241","v":0},{"$f":"'Fiscal Model'!L241","v":0},{"$f":"'Fiscal Model'!M241","v":2.1790803599999999},{"$f":"'Fiscal Model'!N241","v":10.895401800000002},{"$f":"'Fiscal Model'!O241","v":21.790803600000004},{"$f":"'Fiscal Model'!P241","v":54.477009000000002},{"$f":"'Fiscal Model'!Q241","v":117.12556935000001},{"$f":"'Fiscal Model'!R241","v":117.12556935000001},{"$f":"'Fiscal Model'!S241","v":385.63311599999992},{"$f":"'Fiscal Model'!T241","v":385.63311599999992},{"$f":"'Fiscal Model'!U241","v":385.63311599999992},{"$f":"'Fiscal Model'!V241","v":385.63311599999992},{"$f":"'Fiscal Model'!W241","v":385.63311599999992},{"$f":"'Fiscal Model'!X241","v":391.55038469999994},{"$f":"'Fiscal Model'!Y241","v":391.55038469999994},{"$f":"'Fiscal Model'!Z241","v":391.55038469999994},{"$f":"'Fiscal Model'!AA241","v":391.55038469999994},{"$f":"'Fiscal Model'!AB241","v":391.55038469999994},{"$f":"'Fiscal Model'!AC241","v":391.55038469999994},{"$f":"'Fiscal Model'!AD241","v":391.55038469999994},{"$f":"'Fiscal Model'!AE241","v":196.68577463999998},{"$f":"'Fiscal Model'!AF241","v":0},{"$f":"'Fiscal Model'!AG241","v":0},{"$f":"'Fiscal Model'!AH241","v":0},{"$f":"'Fiscal Model'!AI241","v":0},{"$f":"'Fiscal Model'!AJ241","v":0},{"$f":"'Fiscal Model'!AK241","v":0},{"$f":"'Fiscal Model'!AL241","v":0},{"$f":"'Fiscal Model'!AM241","v":0},{"$f":"'Fiscal Model'!AN241","v":0},{"$f":"'Fiscal Model'!AO241","v":0},{"$f":"'Fiscal Model'!AP241","v":0},{"$f":"'Fiscal Model'!AQ241","v":0},{"$f":"'Fiscal Model'!AR241","v":0},{"$f":"'Fiscal Model'!AS241","v":0},{"$f":"'Fiscal Model'!AT241","v":0},{"$f":"'Fiscal Model'!AU241","v":0},{"$f":"'Fiscal Model'!AV241","v":0}]
[null,null,null,null,{"$f":"'Fiscal Model'!E242","v":"Additional Profit share payables"},null,"US$ mn",null,{"$f":" SUM(K18:AV18)","v":0},null,{"$f":"'Fiscal Model'!K242","v":0},{"$f":"'Fiscal Model'!L242","v":0},{"$f":"'Fiscal Model'!M242","v":0},{"$f":"'Fiscal Model'!N242","v":0},{"$f":"'Fiscal Model'!O242","v":0},{"$f":"'Fiscal Model'!P242","v":0},{"$f":"'Fiscal Model'!Q242","v":0},{"$f":"'Fiscal Model'!R242","v":0},{"$f":"'Fiscal Model'!S242","v":0},{"$f":"'Fiscal Model'!T242","v":0},{"$f":"'Fiscal Model'!U242","v":0},{"$f":"'Fiscal Model'!V242","v":0},{"$f":"'Fiscal Model'!W242","v":0},{"$f":"'Fiscal Model'!X242","v":0},{"$f":"'Fiscal Model'!Y242","v":0},{"$f":"'Fiscal Model'!Z242","v":0},{"$f":"'Fiscal Model'!AA242","v":0},{"$f":"'Fiscal Model'!AB242","v":0},{"$f":"'Fiscal Model'!AC242","v":0},{"$f":"'Fiscal Model'!AD242","v":0},{"$f":"'Fiscal Model'!AE242","v":0},{"$f":"'Fiscal Model'!AF242","v":0},{"$f":"'Fiscal Model'!AG242","v":0},{"$f":"'Fiscal Model'!AH242","v":0},{"$f":"'Fiscal Model'!AI242","v":0},{"$f":"'Fiscal Model'!AJ242","v":0},{"$f":"'Fiscal Model'!AK242","v":0},{"$f":"'Fiscal Model'!AL242","v":0},{"$f":"'Fiscal Model'!AM242","v":0},{"$f":"'Fiscal Model'!AN242","v":0},{"$f":"'Fiscal Model'!AO242","v":0},{"$f":"'Fiscal Model'!AP242","v":0},{"$f":"'Fiscal Model'!AQ242","v":0},{"$f":"'Fiscal Model'!AR242","v":0},{"$f":"'Fiscal Model'!AS242","v":0},{"$f":"'Fiscal Model'!AT242","v":0},{"$f":"'Fiscal Model'!AU242","v":0},{"$f":"'Fiscal Model'!AV242","v":0}]
[null,null,null,null,{"$f":"'Fiscal Model'!E243","v":"Annual fees to ISA"},null,"US$ mn",null,{"$f":" SUM(K19:AV19)","v":31.5},null,{"$f":"'Fiscal Model'!K243","v":1.5},{"$f":"'Fiscal Model'!L243","v":1.5},{"$f":"'Fiscal Model'!M243","v":1.5},{"$f":"'Fiscal Model'!N243","v":1.5},{"$f":"'Fiscal Model'!O243","v":1.5},{"$f":"'Fiscal Model'!P243","v":1.5},{"$f":"'Fiscal Model'!Q243","v":1.5},{"$f":"'Fiscal Model'!R243","v":1.5},{"$f":"'Fiscal Model'!S243","v":1.5},{"$f":"'Fiscal Model'!T243","v":1.5},{"$f":"'Fiscal Model'!U243","v":1.5},{"$f":"'Fiscal Model'!V243","v":1.5},{"$f":"'Fiscal Model'!W243","v":1.5},{"$f":"'Fiscal Model'!X243","v":1.5},{"$f":"'Fiscal Model'!Y243","v":1.5},{"$f":"'Fiscal Model'!Z243","v":1.5},{"$f":"'Fiscal Model'!AA243","v":1.5},{"$f":"'Fiscal Model'!AB243","v":1.5},{"$f":"'Fiscal Model'!AC243","v":1.5},{"$f":"'Fiscal Model'!AD243","v":1.5},{"$f":"'Fiscal Model'!AE243","v":1.5},{"$f":"'Fiscal Model'!AF243","v":0},{"$f":"'Fiscal Model'!AG243","v":0},{"$f":"'Fiscal Model'!AH243","v":0},{"$f":"'Fiscal Model'!AI243","v":0},{"$f":"'Fiscal Model'!AJ243","v":0},{"$f":"'Fiscal Model'!AK243","v":0},{"$f":"'Fiscal Model'!AL243","v":0},{"$f":"'Fiscal Model'!AM243","v":0},{"$f":"'Fiscal Model'!AN243","v":0},{"$f":"'Fiscal Model'!AO243","v":0},{"$f":"'Fiscal Model'!AP243","v":0},{"$f":"'Fiscal Model'!AQ243","v":0},{"$f":"'Fiscal Model'!AR243","v":0},{"$f":"'Fiscal Model'!AS243","v":0},{"$f":"'Fiscal Model'!AT243","v":0},{"$f":"'Fiscal Model'!AU243","v":0},{"$f":"'Fiscal Model'!AV243","v":0}]
[]
[null,null,null,null,{"$f":"'Working Inputs'!E237","v":"ISA Discount Rate"},{"$f":"'Working Inputs'!F237","v":0.08},{"$f":"'Working Inputs'!G237","v":"%"}]
[null,null,null,null,{"$f":"'Working Inputs'!E239","v":"Sponsoring State Discount Rate"},{"$f":"'Working Inputs'!F239","v":0.08},{"$f":"'Working Inputs'!G239","v":"%"}]
[]
[null,null,null,null,"ISA Revenue NPV",{"$f":"NPV(F21,K8:AU8)","v":1826.0537368732887}]
[null,null,null,null,"Sponsoring State Revenue NPV",{"$f":"NPV(F22,K10:AU10)","v":1387.5686824838008}]
[]
[null,null,null,null,"Check: ISA Revenue Composition Check",{"$f":" IF( ABS(SUM(I17:I19)-I8 ) > CHK_TOL, 1, 0)","v":0},"Check"]
[]
["Project Cashflow"]
[]
[null,null,"Project Net Cashflow"]
[null,null,null,null,{"$f":"'Project Cashflows'!E409","v":"Total Sales Revenue"},null,{"$f":"'Project Cashflows'!G409","v":"US$ mn"},null,{"$f":"'Project Cashflows'!I409","v":58574.18437056597},null,{"$f":"'Project Cashflows'!K409","v":0},{"$f":"'Project Cashflows'!L409","v":0},{"$f":"'Project Cashflows'!M409","v":60.500953447145264},{"$f":"'Project Cashflows'!N409","v":302.50476723572643},{"$f":"'Project Cashflows'!O409","v":647.12918926235284},{"$f":"'Project Cashflows'!P409","v":1667.3755082039997},{"$f":"'Project Cashflows'!Q409","v":3584.8573426385997},{"$f":"'Project Cashflows'!R409","v":3584.8573426385997},{"$f":"'Project Cashflows'!S409","v":3877.4471057683195},{"$f":"'Project Cashflows'!T409","v":3877.4471057683195},{"$f":"'Project Cashflows'!U409","v":3877.4471057683195},{"$f":"'Project Cashflows'!V409","v":3877.4471057683195},{"$f":"'Project Cashflows'!W409","v":3877.4471057683195},{"$f":"'Project Cashflows'!X409","v":3910.7505292833603},{"$f":"'Project Cashflows'!Y409","v":3910.7505292833603},{"$f":"'Project Cashflows'!Z409","v":3910.7505292833603},{"$f":"'Project Cashflows'!AA409","v":3910.7505292833603},{"$f":"'Project Cashflows'!AB409","v":3910.7505292833603},{"$f":"'Project Cashflows'!AC409","v":3910.7505292833603},{"$f":"'Project Cashflows'!AD409","v":3910.7505292833603},{"$f":"'Project Cashflows'!AE409","v":1964.4700333144319},{"$f":"'Project Cashflows'!AF409","v":0},{"$f":"'Project Cashflows'!AG409","v":0},{"$f":"'Project Cashflows'!AH409","v":0},{"$f":"'Project Cashflows'!AI409","v":0},{"$f":"'Project Cashflows'!AJ409","v":0},{"$f":"'Project Cashflows'!AK409","v":0},{"$f":"'Project Cashflows'!AL409","v":0},{"$f":"'Project Cashflows'!AM409","v":0},{"$f":"'Project Cashflows'!AN409","v":0},{"$f":"'Project Cashflows'!AO409","v":0},{"$f":"'Project Cashflows'!AP409","v":0},{"$f":"'Project Cashflows'!AQ409","v":0},{"$f":"'Project Cashflows'!AR409","v":0},{"$f":"'Project Cashflows'!AS409","v":0},{"$f":"'Project Cashflows'!AT409","v":0},{"$f":"'Project Cashflows'!AU409","v":0},{"$f":"'Project Cashflows'!AV409","v":0}]
[null,null,null,null,{"$f":"+'Project Cashflows'!E412","v":"Operating costs"},null,{"$f":"+'Project Cashflows'!G412","v":"US$ mn"},null,{"$f":"+'Project Cashflows'!I412","v":36709.170000000013},null,{"$f":"+'Project Cashflows'!K412","v":0},{"$f":"+'Project Cashflows'!L412","v":0},{"$f":"+'Project Cashflows'!M412","v":44.740000000000009},{"$f":"+'Project Cashflows'!N412","v":223.7},{"$f":"+'Project Cashflows'!O412","v":447.4},{"$f":"+'Project Cashflows'!P412","v":1118.5},{"$f":"+'Project Cashflows'!Q412","v":2404.7749999999996},{"$f":"+'Project Cashflows'!R412","v":2404.7749999999996},{"$f":"+'Project Cashflows'!S412","v":2404.7749999999996},{"$f":"+'Project Cashflows'!T412","v":2404.7749999999996},{"$f":"+'Project Cashflows'!U412","v":2404.7749999999996},{"$f":"+'Project Cashflows'!V412","v":2404.7749999999996},{"$f":"+'Project Cashflows'!W412","v":2404.7749999999996},{"$f":"+'Project Cashflows'!X412","v":2404.7749999999996},{"$f":"+'Project Cashflows'!Y412","v":2404.7749999999996},{"$f":"+'Project Cashflows'!Z412","v":2404.7749999999996},{"$f":"+'Project Cashflows'!AA412","v":2404.7749999999996},{"$f":"+'Project Cashflows'!AB412","v":2404.7749999999996},{"$f":"+'Project Cashflows'!AC412","v":2404.7749999999996},{"$f":"+'Project Cashflows'!AD412","v":2404.7749999999996},{"$f":"+'Project Cashflows'!AE412","v":1207.98},{"$f":"+'Project Cashflows'!AF412","v":0},{"$f":"+'Project Cashflows'!AG412","v":0},{"$f":"+'Project Cashflows'!AH412","v":0},{"$f":"+'Project Cashflows'!AI412","v":0},{"$f":"+'Project Cashflows'!AJ412","v":0},{"$f":"+'Project Cashflows'!AK412","v":0},{"$f":"+'Project Cashflows'!AL412","v":0},{"$f":"+'Project Cashflows'!AM412","v":0},{"$f":"+'Project Cashflows'!AN412","v":0},{"$f":"+'Project Cashflows'!AO412","v":0},{"$f":"+'Project Cashflows'!AP412","v":0},{"$f":"+'Project Cashflows'!AQ412","v":0},{"$f":"+'Project Cashflows'!AR412","v":0},{"$f":"+'Project Cashflows'!AS412","v":0},{"$f":"+'Project Cashflows'!AT412","v":0},{"$f":"+'Project Cashflows'!AU412","v":0},{"$f":"+'Project Cashflows'!AV412","v":0}]
[null,null,null,null,{"$f":"+'Project Cashflows'!E413","v":"Capital expenditure"},null,{"$f":"+'Project Cashflows'!G413","v":"US$ mn"},null,{"$f":"+'Project Cashflows'!I413+'Project Cashflows'!I414+'Project Cashflows'!I415","v":2156.6},null,{"$f":"+'Project Cashflows'!K413+'Project Cashflows'!K414+'Project Cashflows'!K415","v":245.79999999999998},{"$f":"+'Project Cashflows'!L413+'Project Cashflows'!L414+'Project Cashflows'!L415","v":245.79999999999998},{"$f":"+'Project Cashflows'!M413+'Project Cashflows'!M414+'Project Cashflows'!M415","v":0},{"$f":"+'Project Cashflows'!N413+'Project Cashflows'!N414+'Project Cashflows'!N415","v":0},{"$f":"+'Project Cashflows'!O413+'Project Cashflows'!O414+'Project Cashflows'!O415","v":0},{"$f":"+'Project Cashflows'!P413+'Project Cashflows'!P414+'Project Cashflows'!P415","v":0},{"$f":"+'Project Cashflows'!Q413+'Project Cashflows'!Q414+'Project Cashflows'!Q415","v":0},{"$f":"+'Project Cashflows'!R413+'Project Cashflows'!R414+'Project Cashflows'!R415","v":155},{"$f":"+'Project Cashflows'!S413+'Project Cashflows'!S414+'Project Cashflows'!S415","v":155},{"$f":"+'Project Cashflows'!T413+'Project Cashflows'!T414+'Project Cashflows'!T415","v":155},{"$f":"+'Project Cashflows'!U413+'Project Cashflows'!U414+'Project Cashflows'!U415","v":155},{"$f":"+'Project Cashflows'!V413+'Project Cashflows'!V414+'Project Cashflows'!V415","v":0},{"$f":"+'Project Cashflows'!W413+'Project Cashflows'!W414+'Project Cashflows'!W415","v":155},{"$f":"+'Project Cashflows'!X413+'Project Cashflows'!X414+'Project Cashflows'!X415","v":155},{"$f":"+'Project Cashflows'!Y413+'Project Cashflows'!Y414+'Project Cashflows'!Y415","v":155},{"$f":"+'Project Cashflows'!Z413+'Project Cashflows'!Z414+'Project Cashflows'!Z415","v":155},{"$f":"+'Project Cashflows'!AA413+'Project Cashflows'!AA414+'Project Cashflows'!AA415","v":0},{"$f":"+'Project Cashflows'!AB413+'Project Cashflows'!AB414+'Project Cashflows'!AB415","v":155},{"$f":"+'Project Cashflows'!AC413+'Project Cashflows'!AC414+'Project Cashflows'!AC415","v":155},{"$f":"+'Project Cashflows'!AD413+'Project Cashflows'!AD414+'Project Cashflows'!AD415","v":0},{"$f":"+'Project Cashflows'!AE413+'Project Cashflows'!AE414+'Project Cashflows'!AE415","v":0},{"$f":"+'Project Cashflows'!AF413+'Project Cashflows'!AF414+'Project Cashflows'!AF415","v":11.5},{"$f":"+'Project Cashflows'!AG413+'Project Cashflows'!AG414+'Project Cashflows'!AG415","v":11.5},{"$f":"+'Project Cashflows'!AH413+'Project Cashflows'!AH414+'Project Cashflows'!AH415","v":11.5},{"$f":"+'Project Cashflows'!AI413+'Project Cashflows'!AI414+'Project Cashflows'!AI415","v":11.5},{"$f":"+'Project Cashflows'!AJ413+'Project Cashflows'!AJ414+'Project Cashflows'!AJ415","v":11.5},{"$f":"+'Project Cashflows'!AK413+'Project Cashflows'!AK414+'Project Cashflows'!AK415","v":11.5},{"$f":"+'Project Cashflows'!AL413+'Project Cashflows'!AL414+'Project Cashflows'!AL415","v":11.5},{"$f":"+'Project Cashflows'!AM413+'Project Cashflows'!AM414+'Project Cashflows'!AM415","v":11.5},{"$f":"+'Project Cashflows'!AN413+'Project Cashflows'!AN414+'Project Cashflows'!AN415","v":11.5},{"$f":"+'Project Cashflows'!AO413+'Project Cashflows'!AO414+'Project Cashflows'!AO415","v":11.5},{"$f":"+'Project Cashflows'!AP413+'Project Cashflows'!AP414+'Project Cashflows'!AP415","v":0},{"$f":"+'Project Cashflows'!AQ413+'Project Cashflows'!AQ414+'Project Cashflows'!AQ415","v":0},{"$f":"+'Project Cashflows'!AR413+'Project Cashflows'!AR414+'Project Cashflows'!AR415","v":0},{"$f":"+'Project Cashflows'!AS413+'Project Cashflows'!AS414+'Project Cashflows'!AS415","v":0},{"$f":"+'Project Cashflows'!AT413+'Project Cashflows'!AT414+'Project Cashflows'!AT415","v":0},{"$f":"+'Project Cashflows'!AU413+'Project Cashflows'!AU414+'Project Cashflows'!AU415","v":0},{"$f":"+'Project Cashflows'!AV413+'Project Cashflows'!AV414+'Project Cashflows'!AV415","v":0}]
[null,null,null,null,"Fees, Royalties and Taxes ",null,{"$f":"+'Project Cashflows'!G416","v":"US$ mn"},null,{"$f":"SUM(K35:AV35)","v":9363.7517033914937},null,{"$f":"SUM('Project Cashflows'!K420+'Project Cashflows'!K421+'Project Cashflows'!K422)+'Project Cashflows'!K424+'Project Cashflows'!K425+'Project Cashflows'!K426","v":1.5},{"$f":"SUM('Project Cashflows'!L420+'Project Cashflows'!L421+'Project Cashflows'!L422)+'Project Cashflows'!L424+'Project Cashflows'!L425+'Project Cashflows'!L426","v":1.5},{"$f":"SUM('Project Cashflows'!M420+'Project Cashflows'!M421+'Project Cashflows'!M422)+'Project Cashflows'!M424+'Project Cashflows'!M425+'Project Cashflows'!M426","v":6.5495486317863127},{"$f":"SUM('Project Cashflows'!N420+'Project Cashflows'!N421+'Project Cashflows'!N422)+'Project Cashflows'!N424+'Project Cashflows'!N425+'Project Cashflows'!N426","v":19.707743158931613},{"$f":"SUM('Project Cashflows'!O420+'Project Cashflows'!O421+'Project Cashflows'!O422)+'Project Cashflows'!O424+'Project Cashflows'!O425+'Project Cashflows'!O426","v":61.110400015588219},{"$f":"SUM('Project Cashflows'!P420+'Project Cashflows'!P421+'Project Cashflows'!P422)+'Project Cashflows'!P424+'Project Cashflows'!P425+'Project Cashflows'!P426","v":181.91163380099994},{"$f":"SUM('Project Cashflows'!Q420+'Project Cashflows'!Q421+'Project Cashflows'!Q422)+'Project Cashflows'!Q424+'Project Cashflows'!Q425+'Project Cashflows'!Q426","v":403.94976267214997},{"$f":"SUM('Project Cashflows'!R420+'Project Cashflows'!R421+'Project Cashflows'!R422)+'Project Cashflows'!R424+'Project Cashflows'!R425+'Project Cashflows'!R426","v":396.19976267214997},{"$f":"SUM('Project Cashflows'!S420+'Project Cashflows'!S421+'Project Cashflows'!S422)+'Project Cashflows'!S424+'Project Cashflows'!S425+'Project Cashflows'!S426","v":662.97786344207987},{"$f":"SUM('Project Cashflows'!T420+'Project Cashflows'!T421+'Project Cashflows'!T422)+'Project Cashflows'!T424+'Project Cashflows'!T425+'Project Cashflows'!T426","v":655.22786344207987},{"$f":"SUM('Project Cashflows'!U420+'Project Cashflows'!U421+'Project Cashflows'!U422)+'Project Cashflows'!U424+'Project Cashflows'!U425+'Project Cashflows'!U426","v":647.47786344207987},{"$f":"SUM('Project Cashflows'!V420+'Project Cashflows'!V421+'Project Cashflows'!V422)+'Project Cashflows'!V424+'Project Cashflows'!V425+'Project Cashflows'!V426","v":647.47786344207987},{"$f":"SUM('Project Cashflows'!W420+'Project Cashflows'!W421+'Project Cashflows'!W422)+'Project Cashflows'!W424+'Project Cashflows'!W425+'Project Cashflows'!W426","v":647.47786344207987},{"$f":"SUM('Project Cashflows'!X420+'Project Cashflows'!X421+'Project Cashflows'!X422)+'Project Cashflows'!X424+'Project Cashflows'!X425+'Project Cashflows'!X426","v":672.53167084584015},{"$f":"SUM('Project Cashflows'!Y420+'Project Cashflows'!Y421+'Project Cashflows'!Y422)+'Project Cashflows'!Y424+'Project Cashflows'!Y425+'Project Cashflows'!Y426","v":672.53167084584015},{"$f":"SUM('Project Cashflows'!Z420+'Project Cashflows'!Z421+'Project Cashflows'!Z422)+'Project Cashflows'!Z424+'Project Cashflows'!Z425+'Project Cashflows'!Z426","v":672.53167084584015},{"$f":"SUM('Project Cashflows'!AA420+'Project Cashflows'!AA421+'Project Cashflows'!AA422)+'Project Cashflows'!AA424+'Project Cashflows'!AA425+'Project Cashflows'!AA426","v":672.53167084584015},{"$f":"SUM('Project Cashflows'!AB420+'Project Cashflows'!AB421+'Project Cashflows'!AB422)+'Project Cashflows'!AB424+'Project Cashflows'!AB425+'Project Cashflows'!AB426","v":672.53167084584015},{"$f":"SUM('Project Cashflows'!AC420+'Project Cashflows'!AC421+'Project Cashflows'!AC422)+'Project Cashflows'!AC424+'Project Cashflows'!AC425+'Project Cashflows'!AC426","v":672.53167084584015},{"$f":"SUM('Project Cashflows'!AD420+'Project Cashflows'!AD421+'Project Cashflows'!AD422)+'Project Cashflows'!AD424+'Project Cashflows'!AD425+'Project Cashflows'!AD426","v":680.28167084584015},{"$f":"SUM('Project Cashflows'!AE420+'Project Cashflows'!AE421+'Project Cashflows'!AE422)+'Project Cashflows'!AE424+'Project Cashflows'!AE425+'Project Cashflows'!AE426","v":315.21183930860798},{"$f":"SUM('Project Cashflows'!AF420+'Project Cashflows'!AF421+'Project Cashflows'!AF422)+'Project Cashflows'!AF424+'Project Cashflows'!AF425+'Project Cashflows'!AF426","v":0},{"$f":"SUM('Project Cashflows'!AG420+'Project Cashflows'!AG421+'Project Cashflows'!AG422)+'Project Cashflows'!AG424+'Project Cashflows'!AG425+'Project Cashflows'!AG426","v":0},{"$f":"SUM('Project Cashflows'!AH420+'Project Cashflows'!AH421+'Project Cashflows'!AH422)+'Project Cashflows'!AH424+'Project Cashflows'!AH425+'Project Cashflows'!AH426","v":0},{"$f":"SUM('Project Cashflows'!AI420+'Project Cashflows'!AI421+'Project Cashflows'!AI422)+'Project Cashflows'!AI424+'Project Cashflows'!AI425+'Project Cashflows'!AI426","v":0},{"$f":"SUM('Project Cashflows'!AJ420+'Project Cashflows'!AJ421+'Project Cashflows'!AJ422)+'Project Cashflows'!AJ424+'Project Cashflows'!AJ425+'Project Cashflows'!AJ426","v":0},{"$f":"SUM('Project Cashflows'!AK420+'Project Cashflows'!AK421+'Project Cashflows'!AK422)+'Project Cashflows'!AK424+'Project Cashflows'!AK425+'Project Cashflows'!AK426","v":0},{"$f":"SUM('Project Cashflows'!AL420+'Project Cashflows'!AL421+'Project Cashflows'!AL422)+'Project Cashflows'!AL424+'Project Cashflows'!AL425+'Project Cashflows'!AL426","v":0},{"$f":"SUM('Project Cashflows'!AM420+'Project Cashflows'!AM421+'Project Cashflows'!AM422)+'Project Cashflows'!AM424+'Project Cashflows'!AM425+'Project Cashflows'!AM426","v":0},{"$f":"SUM('Project Cashflows'!AN420+'Project Cashflows'!AN421+'Project Cashflows'!AN422)+'Project Cashflows'!AN424+'Project Cashflows'!AN425+'Project Cashflows'!AN426","v":0},{"$f":"SUM('Project Cashflows'!AO420+'Project Cashflows'!AO421+'Project Cashflows'!AO422)+'Project Cashflows'!AO424+'Project Cashflows'!AO425+'Project Cashflows'!AO426","v":0},{"$f":"SUM('Project Cashflows'!AP420+'Project Cashflows'!AP421+'Project Cashflows'!AP422)+'Project Cashflows'!AP424+'Project Cashflows'!AP425+'Project Cashflows'!AP426","v":0},{"$f":"SUM('Project Cashflows'!AQ420+'Project Cashflows'!AQ421+'Project Cashflows'!AQ422)+'Project Cashflows'!AQ424+'Project Cashflows'!AQ425+'Project Cashflows'!AQ426","v":0},{"$f":"SUM('Project Cashflows'!AR420+'Project Cashflows'!AR421+'Project Cashflows'!AR422)+'Project Cashflows'!AR424+'Project Cashflows'!AR425+'Project Cashflows'!AR426","v":0},{"$f":"SUM('Project Cashflows'!AS420+'Project Cashflows'!AS421+'Project Cashflows'!AS422)+'Project Cashflows'!AS424+'Project Cashflows'!AS425+'Project Cashflows'!AS426","v":0},{"$f":"SUM('Project Cashflows'!AT420+'Project Cashflows'!AT421+'Project Cashflows'!AT422)+'Project Cashflows'!AT424+'Project Cashflows'!AT425+'Project Cashflows'!AT426","v":0},{"$f":"SUM('Project Cashflows'!AU420+'Project Cashflows'!AU421+'Project Cashflows'!AU422)+'Project Cashflows'!AU424+'Project Cashflows'!AU425+'Project Cashflows'!AU426","v":0},{"$f":"SUM('Project Cashflows'!AV420+'Project Cashflows'!AV421+'Project Cashflows'!AV422)+'Project Cashflows'!AV424+'Project Cashflows'!AV425+'Project Cashflows'!AV426","v":0}]
[null,null,null,null,"Project Net Cashflow",null,{"$f":"'Project Cashflows'!G426","v":"US$ mn"},null,{"$f":"'Project Cashflows'!I428","v":10344.662667174485},null,{"$f":"'Project Cashflows'!K428","v":-247.29999999999998},{"$f":"'Project Cashflows'!L428","v":-247.29999999999998},{"$f":"'Project Cashflows'!M428","v":9.2114048153589394},{"$f":"'Project Cashflows'!N428","v":59.097024076794831},{"$f":"'Project Cashflows'!O428","v":138.61878924676463},{"$f":"'Project Cashflows'!P428","v":366.96387440299981},{"$f":"'Project Cashflows'!Q428","v":776.13257996645007},{"$f":"'Project Cashflows'!R428","v":628.88257996645007},{"$f":"'Project Cashflows'!S428","v":654.69424232623987},{"$f":"'Project Cashflows'!T428","v":662.44424232623987},{"$f":"'Project Cashflows'!U428","v":670.19424232623987},{"$f":"'Project Cashflows'!V428","v":825.19424232623987},{"$f":"'Project Cashflows'!W428","v":670.19424232623987},{"$f":"'Project Cashflows'!X428","v":678.44385843752048},{"$f":"'Project Cashflows'!Y428","v":678.44385843752048},{"$f":"'Project Cashflows'!Z428","v":678.44385843752048},{"$f":"'Project Cashflows'!AA428","v":833.44385843752048},{"$f":"'Project Cashflows'!AB428","v":678.44385843752048},{"$f":"'Project Cashflows'!AC428","v":678.44385843752048},{"$f":"'Project Cashflows'!AD428","v":825.69385843752048},{"$f":"'Project Cashflows'!AE428","v":441.27819400582393},{"$f":"'Project Cashflows'!AF428","v":-11.5},{"$f":"'Project Cashflows'!AG428","v":-11.5},{"$f":"'Project Cashflows'!AH428","v":-11.5},{"$f":"'Project Cashflows'!AI428","v":-11.5},{"$f":"'Project Cashflows'!AJ428","v":-11.5},{"$f":"'Project Cashflows'!AK428","v":-11.5},{"$f":"'Project Cashflows'!AL428","v":-11.5},{"$f":"'Project Cashflows'!AM428","v":-11.5},{"$f":"'Project Cashflows'!AN428","v":-11.5},{"$f":"'Project Cashflows'!AO428","v":-11.5},{"$f":"'Project Cashflows'!AP428","v":0},{"$f":"'Project Cashflows'!AQ428","v":0},{"$f":"'Project Cashflows'!AR428","v":0},{"$f":"'Project Cashflows'!AS428","v":0},{"$f":"'Project Cashflows'!AT428","v":0},{"$f":"'Project Cashflows'!AU428","v":0},{"$f":"'Project Cashflows'!AV428","v":0}]
[]
[null,null,null,null,"Accumulated project net cashflow",null,null,null,null,null,{"$f":"K36+J38","v":-247.29999999999998},{"$f":"L36+K38","v":-494.59999999999997},{"$f":"M36+L38","v":-485.38859518464102},-426.29157110784621,-287.6727818610816,79.291092541918204,855.42367250836833,1484.3062524748184,2139.0004948010583,2801.4447371272981,3471.638979453538,4296.8332217797779,4967.0274641060178,5645.471322543538,6323.9151809810583,7002.3590394185785,7835.8028978560988,8514.2467562936199,9192.6906147311402,10018.38447316866,10459.662667174485,10448.162667174485,10436.662667174485,10425.162667174485,10413.662667174485,10402.162667174485,10390.662667174485,10379.162667174485,10367.662667174485,10356.162667174485,10344.662667174485,10344.662667174485,10344.662667174485,10344.662667174485,10344.662667174485,10344.662667174485,10344.662667174485,10344.662667174485]
[null,null,null,null,{"$f":"'Working Inputs'!E238","v":"Project  Shareholder Discount Rate"},{"$f":"'Working Inputs'!F238","v":0.08},{"$f":"'Working Inputs'!G238","v":"%"}]
[null,null,null,null,"Project NPV 8",{"$f":"NPV($F$39,K36:AU36)","v":3668.4920052265015},"US$ mn"]
[null,null,null,null,"Project IRR",{"$f":"IRR(K36:AU36)","v":0.41413745697278181},"%"]
[null,null,null,null,"Payback period",{"$f":"INDEX(K1:AU1,MATCH(0,K38:AU38,1)+1)","v":6}]
[]
[null,null,null,null,{"$f":"\"Check: \"&C31","v":"Check: Project Net Cashflow"},{"$f":" IF( ABS(I32-I33-I34-I35-I36 ) > CHK_TOL, 1, 0)","v":0},"Check"]
["Projects comparison"]
[null,null,null,null,null,"NORI-D",null,"NORI - TOML (excl. NORI-D)"]
[null,null,null,null,null,"US$ mn","% as of total revenue","US$ mn","% as of total revenue"]
[null,null,null,null,"Total Revenue",{"$f":"Dashboard!V38","v":58574.18437056597},null,{"$f":"Dashboard!W38","v":231455.57088643668}]
[null,null,null,null,"Total Capital Expenditure",{"$f":"Dashboard!V39","v":2156.6},{"$f":"F49/$F$48","v":3.6818267692067259E-2},{"$f":"Dashboard!W39","v":5428},{"$f":"H49/$H$48","v":2.3451585024338171E-2}]
[null,null,null,null,"Operating Expenditure",{"$f":"Dashboard!V40","v":36709.170000000013},{"$f":"F50/$F$48","v":0.62671243986534597},{"$f":"Dashboard!W40","v":110221.57999999997},{"$f":"H50/$H$48","v":0.47621052964017885}]
[null,null,null,null,"Cashflow before fees, royalties and taxes",{"$f":"F48-F49-F50","v":19708.414370565959},{"$f":"F51/$F$48","v":0.33646929244258683},{"$f":"H48-H49-H50","v":115805.9908864367},{"$f":"H51/$H$48","v":0.50033788533548296}]
[null,null,null,null,"Total fees, Royalties, taxes",{"$f":"Dashboard!V41","v":9363.7517033914937},0.15986141000534118,{"$f":"Dashboard!W41","v":46517.935677094734},{"$f":"H52/$H$48","v":0.20097997857186461}]
[null,null,null,null,"Project Net Cashflow",{"$f":"Dashboard!V42","v":10344.662667174485},0.17660788243724598,{"$f":"Dashboard!W42","v":69288.055209341954},{"$f":"H53/$H$48","v":0.29935790676361829}]
[]
[null,null,null,null,"Participant cashflows"]
[null,null,null,null,"ISA Revenue",{"$f":"Dashboard!V45","v":5220.7974809999996},8.9131373097249569E-2,{"$f":"Dashboard!W45","v":22423.966091897415},{"$f":"H56/$H$48","v":9.6882377926862259E-2}]
[null,null,null,null,"Sponsoring State Revenue",{"$f":"Dashboard!V46","v":3683.4742223914936},6.2885625501641146E-2,{"$f":"Dashboard!W46","v":23423.929585197322},{"$f":"H57/$H$48","v":0.10120270380828396}]
[null,null,null,null,"All payments to public entities",{"$f":"Dashboard!V47","v":8904.2717033914923},0.1520169985988907,{"$f":"Dashboard!W47","v":45847.895677094741},{"$f":"H58/$H$48","v":0.19808508173514622}]
[null,null,null,null,"Project equity cashflow",{"$f":"Dashboard!V48","v":10344.662667174485},0.17660788243724598,{"$f":"Dashboard!W48","v":69288.055209341954},{"$f":"H59/$H$48","v":0.29935790676361829}]
[null,null,null,null,"Loan provider cashflow",{"$f":"Dashboard!V49","v":0},0,{"$f":"Dashboard!W49","v":0},{"$f":"H60/$H$48","v":0}]
[]
[null,null,null,null,"Participant cashflows %"]
[null,null,null,null,"ISA %",{"$f":"Dashboard!V52","v":0.2712252730719083},null,{"$f":"Dashboard!W52","v":0.19476076689560751}]
[null,null,null,null,"Sponsoring State %",{"$f":"Dashboard!V53","v":0.19135990343569276},null,{"$f":"Dashboard!W53","v":0.20344583429289867}]
[null,null,null,null,"AETR",{"$f":"Dashboard!V54","v":0.46258517650760106},null,{"$f":"Dashboard!W54","v":0.39820660118850615}]
[null,null,null,null,"Project Equity Shareholder %",{"$f":"Dashboard!V55","v":0.53741482349239877},null,{"$f":"Dashboard!W55","v":0.60179339881149363}]
[null,null,null,null,"Loan provider %",{"$f":"Dashboard!V56","v":0},0,{"$f":"Dashboard!W56","v":0}]
[]
[null,null,null,null,"ISA Revenue Composition"]
[null,null,null,null,"Royalty",{"$f":"Dashboard!V59","v":5189.2974809999996},8.8593593521853045E-2,{"$f":"Dashboard!W59","v":22136.369745647418},{"$f":"H70/$H$48","v":9.5639822627162405E-2}]
[null,null,null,null,"Additional profit share",{"$f":"Dashboard!V60","v":0},0,{"$f":"Dashboard!W60","v":245.59634624999751},{"$f":"H71/$H$48","v":1.0610949881629723E-3}]
[null,null,null,null,"Annual fees",{"$f":"Dashboard!V61","v":31.5},5.3777957539651239E-4,{"$f":"Dashboard!W61","v":42},{"$f":"H72/$H$48","v":1.8146031153688341E-4}]
[]
[]
[]
[]
["END MODEL"]

{"sheet":"Charts","index":9,"n_rows":119,"n_cols":45,"rows_kept":119,"cut":false,"hidden":false,"merged":[]}
[{"$f":" RIGHT( CELL(\"filename\",$A$1), LEN( CELL(\"filename\",$A$1)) - SEARCH(\"]\", CELL(\"filename\",$A$1)))","v":"Charts"}]
[]
[]
["Participants Cashflows"]
[]
[null,null,null,null,"Participants Cash Flow Allocation"]
[null,null,null,null,"Participants Cash Flow Share %"]
[]
[null,null,null,null,"Model counter (Year)/US$ mn","Share%","Total",{"$f":"'T&E'!K$10","v":1},{"$f":"'T&E'!L$10","v":2},{"$f":"'T&E'!M$10","v":3},{"$f":"'T&E'!N$10","v":4},{"$f":"'T&E'!O$10","v":5},{"$f":"'T&E'!P$10","v":6},{"$f":"'T&E'!Q$10","v":7},{"$f":"'T&E'!R$10","v":8},{"$f":"'T&E'!S$10","v":9},{"$f":"'T&E'!T$10","v":10},{"$f":"'T&E'!U$10","v":11},{"$f":"'T&E'!V$10","v":12},{"$f":"'T&E'!W$10","v":13},{"$f":"'T&E'!X$10","v":14},{"$f":"'T&E'!Y$10","v":15},{"$f":"'T&E'!Z$10","v":16},{"$f":"'T&E'!AA$10","v":17},{"$f":"'T&E'!AB$10","v":18},{"$f":"'T&E'!AC$10","v":19},{"$f":"'T&E'!AD$10","v":20},{"$f":"'T&E'!AE$10","v":21},{"$f":"'T&E'!AF$10","v":22},{"$f":"'T&E'!AG$10","v":23},{"$f":"'T&E'!AH$10","v":24},{"$f":"'T&E'!AI$10","v":25},{"$f":"'T&E'!AJ$10","v":26},{"$f":"'T&E'!AK$10","v":27},{"$f":"'T&E'!AL$10","v":28},{"$f":"'T&E'!AM$10","v":29},{"$f":"'T&E'!AN$10","v":30},{"$f":"'T&E'!AO$10","v":31},{"$f":"'T&E'!AP$10","v":32},{"$f":"'T&E'!AQ$10","v":33},{"$f":"'T&E'!AR$10","v":34},{"$f":"'T&E'!AS$10","v":35},{"$f":"'T&E'!AT$10","v":36},{"$f":"'T&E'!AU$10","v":37}]
[null,null,null,null,"ISA Revenue",{"$f":"G10/$G$14","v":0.2712252730719083},{"$f":"Results!I8","v":5220.7974809999996},{"$f":"Results!K8","v":1.5},{"$f":"Results!L8","v":1.5},{"$f":"Results!M8","v":3.6790803599999999},{"$f":"Results!N8","v":12.395401800000002},{"$f":"Results!O8","v":23.290803600000004},{"$f":"Results!P8","v":55.977009000000002},{"$f":"Results!Q8","v":118.62556935000001},{"$f":"Results!R8","v":118.62556935000001},{"$f":"Results!S8","v":387.13311599999992},{"$f":"Results!T8","v":387.13311599999992},{"$f":"Results!U8","v":387.13311599999992},{"$f":"Results!V8","v":387.13311599999992},{"$f":"Results!W8","v":387.13311599999992},{"$f":"Results!X8","v":393.05038469999994},{"$f":"Results!Y8","v":393.05038469999994},{"$f":"Results!Z8","v":393.05038469999994},{"$f":"Results!AA8","v":393.05038469999994},{"$f":"Results!AB8","v":393.05038469999994},{"$f":"Results!AC8","v":393.05038469999994},{"$f":"Results!AD8","v":393.05038469999994},{"$f":"Results!AE8","v":198.18577463999998},{"$f":"Results!AF8","v":0},{"$f":"Results!AG8","v":0},{"$f":"Results!AH8","v":0},{"$f":"Results!AI8","v":0},{"$f":"Results!AJ8","v":0},{"$f":"Results!AK8","v":0},{"$f":"Results!AL8","v":0},{"$f":"Results!AM8","v":0},{"$f":"Results!AN8","v":0},{"$f":"Results!AO8","v":0},{"$f":"Results!AP8","v":0},{"$f":"Results!AQ8","v":0},{"$f":"Results!AR8","v":0},{"$f":"Results!AS8","v":0},{"$f":"Results!AT8","v":0},{"$f":"Results!AU8","v":0}]
[null,null,null,null,"Project equity Shareholder",{"$f":"G11/$G$14","v":0.53741482349239877},{"$f":"Results!I9","v":10344.662667174485},{"$f":"Results!K9","v":-247.29999999999998},{"$f":"Results!L9","v":-247.29999999999998},{"$f":"Results!M9","v":9.2114048153589394},{"$f":"Results!N9","v":59.097024076794831},{"$f":"Results!O9","v":138.61878924676463},{"$f":"Results!P9","v":366.96387440299981},{"$f":"Results!Q9","v":776.13257996645007},{"$f":"Results!R9","v":628.88257996645007},{"$f":"Results!S9","v":654.69424232623987},{"$f":"Results!T9","v":662.44424232623987},{"$f":"Results!U9","v":670.19424232623987},{"$f":"Results!V9","v":825.19424232623987},{"$f":"Results!W9","v":670.19424232623987},{"$f":"Results!X9","v":678.44385843752048},{"$f":"Results!Y9","v":678.44385843752048},{"$f":"Results!Z9","v":678.44385843752048},{"$f":"Results!AA9","v":833.44385843752048},{"$f":"Results!AB9","v":678.44385843752048},{"$f":"Results!AC9","v":678.44385843752048},{"$f":"Results!AD9","v":825.69385843752048},{"$f":"Results!AE9","v":441.27819400582393},{"$f":"Results!AF9","v":-11.5},{"$f":"Results!AG9","v":-11.5},{"$f":"Results!AH9","v":-11.5},{"$f":"Results!AI9","v":-11.5},{"$f":"Results!AJ9","v":-11.5},{"$f":"Results!AK9","v":-11.5},{"$f":"Results!AL9","v":-11.5},{"$f":"Results!AM9","v":-11.5},{"$f":"Results!AN9","v":-11.5},{"$f":"Results!AO9","v":-11.5},{"$f":"Results!AP9","v":0},{"$f":"Results!AQ9","v":0},{"$f":"Results!AR9","v":0},{"$f":"Results!AS9","v":0},{"$f":"Results!AT9","v":0},{"$f":"Results!AU9","v":0}]
[null,null,null,null,"Sponsoring State",{"$f":"G12/$G$14","v":0.19135990343569276},{"$f":"Results!I10","v":3683.4742223914936},{"$f":"Results!K10","v":0},{"$f":"Results!L10","v":0},{"$f":"Results!M10","v":2.3104682717863136},{"$f":"Results!N10","v":4.5123413589316135},{"$f":"Results!O10","v":32.219596415588214},{"$f":"Results!P10","v":111.93462480099994},{"$f":"Results!Q10","v":255.22419332215},{"$f":"Results!R10","v":247.47419332215},{"$f":"Results!S10","v":245.74474744207996},{"$f":"Results!T10","v":237.99474744207996},{"$f":"Results!U10","v":230.24474744207996},{"$f":"Results!V10","v":230.24474744207996},{"$f":"Results!W10","v":230.24474744207996},{"$f":"Results!X10","v":249.38128614584016},{"$f":"Results!Y10","v":249.38128614584016},{"$f":"Results!Z10","v":249.38128614584016},{"$f":"Results!AA10","v":249.38128614584016},{"$f":"Results!AB10","v":249.38128614584016},{"$f":"Results!AC10","v":249.38128614584016},{"$f":"Results!AD10","v":257.13128614584014},{"$f":"Results!AE10","v":101.90606466860798},{"$f":"Results!AF10","v":0},{"$f":"Results!AG10","v":0},{"$f":"Results!AH10","v":0},{"$f":"Results!AI10","v":0},{"$f":"Results!AJ10","v":0},{"$f":"Results!AK10","v":0},{"$f":"Results!AL10","v":0},{"$f":"Results!AM10","v":0},{"$f":"Results!AN10","v":0},{"$f":"Results!AO10","v":0},{"$f":"Results!AP10","v":0},{"$f":"Results!AQ10","v":0},{"$f":"Results!AR10","v":0},{"$f":"Results!AS10","v":0},{"$f":"Results!AT10","v":0},{"$f":"Results!AU10","v":0}]
[null,null,null,null,"Loan provider",{"$f":"G13/$G$14","v":0},{"$f":"Results!I11","v":0},{"$f":"Results!K11","v":0},{"$f":"Results!L11","v":0},{"$f":"Results!M11","v":0},{"$f":"Results!N11","v":0},{"$f":"Results!O11","v":0},{"$f":"Results!P11","v":0},{"$f":"Results!Q11","v":0},{"$f":"Results!R11","v":0},{"$f":"Results!S11","v":0},{"$f":"Results!T11","v":0},{"$f":"Results!U11","v":0},{"$f":"Results!V11","v":0},{"$f":"Results!W11","v":0},{"$f":"Results!X11","v":0},{"$f":"Results!Y11","v":0},{"$f":"Results!Z11","v":0},{"$f":"Results!AA11","v":0},{"$f":"Results!AB11","v":0},{"$f":"Results!AC11","v":0},{"$f":"Results!AD11","v":0},{"$f":"Results!AE11","v":0},{"$f":"Results!AF11","v":0},{"$f":"Results!AG11","v":0},{"$f":"Results!AH11","v":0},{"$f":"Results!AI11","v":0},{"$f":"Results!AJ11","v":0},{"$f":"Results!AK11","v":0},{"$f":"Results!AL11","v":0},{"$f":"Results!AM11","v":0},{"$f":"Results!AN11","v":0},{"$f":"Results!AO11","v":0},{"$f":"Results!AP11","v":0},{"$f":"Results!AQ11","v":0},{"$f":"Results!AR11","v":0},{"$f":"Results!AS11","v":0},{"$f":"Results!AT11","v":0},{"$f":"Results!AU11","v":0}]
[null,null,null,null,"Total Participants Cashflow",{"$f":"SUM(F10:F13)","v":0.99999999999999978},{"$f":"Results!I12","v":19248.934370565981},{"$f":"Results!K12","v":-245.79999999999998},{"$f":"Results!L12","v":-245.79999999999998},{"$f":"Results!M12","v":15.200953447145253},{"$f":"Results!N12","v":76.004767235726447},{"$f":"Results!O12","v":194.12918926235284},{"$f":"Results!P12","v":534.87550820399974},{"$f":"Results!Q12","v":1149.9823426386001},{"$f":"Results!R12","v":994.98234263860002},{"$f":"Results!S12","v":1287.5721057683197},{"$f":"Results!T12","v":1287.5721057683197},{"$f":"Results!U12","v":1287.5721057683197},{"$f":"Results!V12","v":1442.5721057683197},{"$f":"Results!W12","v":1287.5721057683197},{"$f":"Results!X12","v":1320.8755292833607},{"$f":"Results!Y12","v":1320.8755292833607},{"$f":"Results!Z12","v":1320.8755292833607},{"$f":"Results!AA12","v":1475.8755292833607},{"$f":"Results!AB12","v":1320.8755292833607},{"$f":"Results!AC12","v":1320.8755292833607},{"$f":"Results!AD12","v":1475.8755292833607},{"$f":"Results!AE12","v":741.37003331443191},{"$f":"Results!AF12","v":-11.5},{"$f":"Results!AG12","v":-11.5},{"$f":"Results!AH12","v":-11.5},{"$f":"Results!AI12","v":-11.5},{"$f":"Results!AJ12","v":-11.5},{"$f":"Results!AK12","v":-11.5},{"$f":"Results!AL12","v":-11.5},{"$f":"Results!AM12","v":-11.5},{"$f":"Results!AN12","v":-11.5},{"$f":"Results!AO12","v":-11.5},{"$f":"Results!AP12","v":0},{"$f":"Results!AQ12","v":0},{"$f":"Results!AR12","v":0},{"$f":"Results!AS12","v":0},{"$f":"Results!AT12","v":0},{"$f":"Results!AU12","v":0}]
[]
[]
[]
[]
[]
[]
[]
[]
[]
[]
[]
[]
[]
[]
[]
[]
[]
[]
[]
[]
[]
[]
[]
[]
[]
["Project Cashflow "]
[]
[null,null,null,null,"Project Cashflow "]
[null,null,null,null,"Model counter (Year)/US$ mn","Total",{"$f":"'T&E'!K$10","v":1},{"$f":"'T&E'!L$10","v":2},{"$f":"'T&E'!M$10","v":3},{"$f":"'T&E'!N$10","v":4},{"$f":"'T&E'!O$10","v":5},{"$f":"'T&E'!P$10","v":6},{"$f":"'T&E'!Q$10","v":7},{"$f":"'T&E'!R$10","v":8},{"$f":"'T&E'!S$10","v":9},{"$f":"'T&E'!T$10","v":10},{"$f":"'T&E'!U$10","v":11},{"$f":"'T&E'!V$10","v":12},{"$f":"'T&E'!W$10","v":13},{"$f":"'T&E'!X$10","v":14},{"$f":"'T&E'!Y$10","v":15},{"$f":"'T&E'!Z$10","v":16},{"$f":"'T&E'!AA$10","v":17},{"$f":"'T&E'!AB$10","v":18},{"$f":"'T&E'!AC$10","v":19},{"$f":"'T&E'!AD$10","v":20},{"$f":"'T&E'!AE$10","v":21},{"$f":"'T&E'!AF$10","v":22},{"$f":"'T&E'!AG$10","v":23},{"$f":"'T&E'!AH$10","v":24},{"$f":"'T&E'!AI$10","v":25},{"$f":"'T&E'!AJ$10","v":26},{"$f":"'T&E'!AK$10","v":27},{"$f":"'T&E'!AL$10","v":28},{"$f":"'T&E'!AM$10","v":29},{"$f":"'T&E'!AN$10","v":30},{"$f":"'T&E'!AO$10","v":31},{"$f":"'T&E'!AP$10","v":32},{"$f":"'T&E'!AQ$10","v":33},{"$f":"'T&E'!AR$10","v":34},{"$f":"'T&E'!AS$10","v":35},{"$f":"'T&E'!AT$10","v":36},{"$f":"'T&E'!AU$10","v":37},{"$f":"'T&E'!AV$10","v":38}]
[null,null,null,null,{"$f":"Results!E32","v":"Total Sales Revenue"},{"$f":"SUM(G44:AR44)","v":58574.18437056597},{"$f":"Results!K32","v":0},{"$f":"Results!L32","v":0},{"$f":"Results!M32","v":60.500953447145264},{"$f":"Results!N32","v":302.50476723572643},{"$f":"Results!O32","v":647.12918926235284},{"$f":"Results!P32","v":1667.3755082039997},{"$f":"Results!Q32","v":3584.8573426385997},{"$f":"Results!R32","v":3584.8573426385997},{"$f":"Results!S32","v":3877.4471057683195},{"$f":"Results!T32","v":3877.4471057683195},{"$f":"Results!U32","v":3877.4471057683195},{"$f":"Results!V32","v":3877.4471057683195},{"$f":"Results!W32","v":3877.4471057683195},{"$f":"Results!X32","v":3910.7505292833603},{"$f":"Results!Y32","v":3910.7505292833603},{"$f":"Results!Z32","v":3910.7505292833603},{"$f":"Results!AA32","v":3910.7505292833603},{"$f":"Results!AB32","v":3910.7505292833603},{"$f":"Results!AC32","v":3910.7505292833603},{"$f":"Results!AD32","v":3910.7505292833603},{"$f":"Results!AE32","v":1964.4700333144319},{"$f":"Results!AF32","v":0},{"$f":"Results!AG32","v":0},{"$f":"Results!AH32","v":0},{"$f":"Results!AI32","v":0},{"$f":"Results!AJ32","v":0},{"$f":"Results!AK32","v":0},{"$f":"Results!AL32","v":0},{"$f":"Results!AM32","v":0},{"$f":"Results!AN32","v":0},{"$f":"Results!AO32","v":0},{"$f":"Results!AP32","v":0},{"$f":"Results!AQ32","v":0},{"$f":"Results!AR32","v":0},{"$f":"Results!AS32","v":0},{"$f":"Results!AT32","v":0},{"$f":"Results!AU32","v":0},{"$f":"Results!AV32","v":0}]
[null,null,null,null,{"$f":"Results!E33","v":"Operating costs"},-36709.170000000013,{"$f":"-Results!K33","v":0},{"$f":"-Results!L33","v":0},{"$f":"-Results!M33","v":-44.740000000000009},{"$f":"-Results!N33","v":-223.7},{"$f":"-Results!O33","v":-447.4},{"$f":"-Results!P33","v":-1118.5},{"$f":"-Results!Q33","v":-2404.7749999999996},{"$f":"-Results!R33","v":-2404.7749999999996},{"$f":"-Results!S33","v":-2404.7749999999996},{"$f":"-Results!T33","v":-2404.7749999999996},{"$f":"-Results!U33","v":-2404.7749999999996},{"$f":"-Results!V33","v":-2404.7749999999996},{"$f":"-Results!W33","v":-2404.7749999999996},{"$f":"-Results!X33","v":-2404.7749999999996},{"$f":"-Results!Y33","v":-2404.7749999999996},{"$f":"-Results!Z33","v":-2404.7749999999996},{"$f":"-Results!AA33","v":-2404.7749999999996},{"$f":"-Results!AB33","v":-2404.7749999999996},{"$f":"-Results!AC33","v":-2404.7749999999996},{"$f":"-Results!AD33","v":-2404.7749999999996},{"$f":"-Results!AE33","v":-1207.98},{"$f":"-Results!AF33","v":0},{"$f":"-Results!AG33","v":0},{"$f":"-Results!AH33","v":0},{"$f":"-Results!AI33","v":0},{"$f":"-Results!AJ33","v":0},{"$f":"-Results!AK33","v":0},{"$f":"-Results!AL33","v":0},{"$f":"-Results!AM33","v":0},{"$f":"-Results!AN33","v":0},{"$f":"-Results!AO33","v":0},{"$f":"-Results!AP33","v":0},{"$f":"-Results!AQ33","v":0},{"$f":"-Results!AR33","v":0},{"$f":"-Results!AS33","v":0},{"$f":"-Results!AT33","v":0},{"$f":"-Results!AU33","v":0},{"$f":"-Results!AV33","v":0}]
[null,null,null,null,{"$f":"Results!E34","v":"Capital expenditure"},{"$f":"SUM(G46:AR46)","v":-2156.6},{"$f":"-Results!K34","v":-245.79999999999998},{"$f":"-Results!L34","v":-245.79999999999998},{"$f":"-Results!M34","v":0},{"$f":"-Results!N34","v":0},{"$f":"-Results!O34","v":0},{"$f":"-Results!P34","v":0},{"$f":"-Results!Q34","v":0},{"$f":"-Results!R34","v":-155},{"$f":"-Results!S34","v":-155},{"$f":"-Results!T34","v":-155},{"$f":"-Results!U34","v":-155},{"$f":"-Results!V34","v":0},{"$f":"-Results!W34","v":-155},{"$f":"-Results!X34","v":-155},{"$f":"-Results!Y34","v":-155},{"$f":"-Results!Z34","v":-155},{"$f":"-Results!AA34","v":0},{"$f":"-Results!AB34","v":-155},{"$f":"-Results!AC34","v":-155},{"$f":"-Results!AD34","v":0},{"$f":"-Results!AE34","v":0},{"$f":"-Results!AF34","v":-11.5},{"$f":"-Results!AG34","v":-11.5},{"$f":"-Results!AH34","v":-11.5},{"$f":"-Results!AI34","v":-11.5},{"$f":"-Results!AJ34","v":-11.5},{"$f":"-Results!AK34","v":-11.5},{"$f":"-Results!AL34","v":-11.5},{"$f":"-Results!AM34","v":-11.5},{"$f":"-Results!AN34","v":-11.5},{"$f":"-Results!AO34","v":-11.5},{"$f":"-Results!AP34","v":0},{"$f":"-Results!AQ34","v":0},{"$f":"-Results!AR34","v":0},{"$f":"-Results!AS34","v":0},{"$f":"-Results!AT34","v":0},{"$f":"-Results!AU34","v":0},{"$f":"-Results!AV34","v":0}]
[null,null,null,null,{"$f":"Results!E35","v":"Fees, Royalties and Taxes "},{"$f":"SUM(G47:AR47)","v":-9363.7517033914937},{"$f":"-Results!K35","v":-1.5},{"$f":"-Results!L35","v":-1.5},{"$f":"-Results!M35","v":-6.5495486317863127},{"$f":"-Results!N35","v":-19.707743158931613},{"$f":"-Results!O35","v":-61.110400015588219},{"$f":"-Results!P35","v":-181.91163380099994},{"$f":"-Results!Q35","v":-403.94976267214997},{"$f":"-Results!R35","v":-396.19976267214997},{"$f":"-Results!S35","v":-662.97786344207987},{"$f":"-Results!T35","v":-655.22786344207987},{"$f":"-Results!U35","v":-647.47786344207987},{"$f":"-Results!V35","v":-647.47786344207987},{"$f":"-Results!W35","v":-647.47786344207987},{"$f":"-Results!X35","v":-672.53167084584015},{"$f":"-Results!Y35","v":-672.53167084584015},{"$f":"-Results!Z35","v":-672.53167084584015},{"$f":"-Results!AA35","v":-672.53167084584015},{"$f":"-Results!AB35","v":-672.53167084584015},{"$f":"-Results!AC35","v":-672.53167084584015},{"$f":"-Results!AD35","v":-680.28167084584015},{"$f":"-Results!AE35","v":-315.21183930860798},{"$f":"-Results!AF35","v":0},{"$f":"-Results!AG35","v":0},{"$f":"-Results!AH35","v":0},{"$f":"-Results!AI35","v":0},{"$f":"-Results!AJ35","v":0},{"$f":"-Results!AK35","v":0},{"$f":"-Results!AL35","v":0},{"$f":"-Results!AM35","v":0},{"$f":"-Results!AN35","v":0},{"$f":"-Results!AO35","v":0},{"$f":"-Results!AP35","v":0},{"$f":"-Results!AQ35","v":0},{"$f":"-Results!AR35","v":0},{"$f":"-Results!AS35","v":0},{"$f":"-Results!AT35","v":0},{"$f":"-Results!AU35","v":0},{"$f":"-Results!AV35","v":0}]
[null,null,null,null,{"$f":"'Project Cashflows'!E428","v":"Project Net Cashflow"},{"$f":"SUM(G48:AR48)","v":10344.662667174485},{"$f":"Results!K36","v":-247.29999999999998},{"$f":"Results!L36","v":-247.29999999999998},{"$f":"Results!M36","v":9.2114048153589394},{"$f":"Results!N36","v":59.097024076794831},{"$f":"Results!O36","v":138.61878924676463},{"$f":"Results!P36","v":366.96387440299981},{"$f":"Results!Q36","v":776.13257996645007},{"$f":"Results!R36","v":628.88257996645007},{"$f":"Results!S36","v":654.69424232623987},{"$f":"Results!T36","v":662.44424232623987},{"$f":"Results!U36","v":670.19424232623987},{"$f":"Results!V36","v":825.19424232623987},{"$f":"Results!W36","v":670.19424232623987},{"$f":"Results!X36","v":678.44385843752048},{"$f":"Results!Y36","v":678.44385843752048},{"$f":"Results!Z36","v":678.44385843752048},{"$f":"Results!AA36","v":833.44385843752048},{"$f":"Results!AB36","v":678.44385843752048},{"$f":"Results!AC36","v":678.44385843752048},{"$f":"Results!AD36","v":825.69385843752048},{"$f":"Results!AE36","v":441.27819400582393},{"$f":"Results!AF36","v":-11.5},{"$f":"Results!AG36","v":-11.5},{"$f":"Results!AH36","v":-11.5},{"$f":"Results!AI36","v":-11.5},{"$f":"Results!AJ36","v":-11.5},{"$f":"Results!AK36","v":-11.5},{"$f":"Results!AL36","v":-11.5},{"$f":"Results!AM36","v":-11.5},{"$f":"Results!AN36","v":-11.5},{"$f":"Results!AO36","v":-11.5},{"$f":"Results!AP36","v":0},{"$f":"Results!AQ36","v":0},{"$f":"Results!AR36","v":0},{"$f":"Results!AS36","v":0},{"$f":"Results!AT36","v":0},{"$f":"Results!AU36","v":0},{"$f":"Results!AV36","v":0}]
[]
[]
[]
[]
[]
[]
[]
[]
[]
[]
[]
[]
[]
[]
[]
[]
[]
[]
[]
[]
[]
[]
[]
[]
[]
[]
[]
[]
[]
[]
["Revenue source cashflow"]
[]
[null,null,null,null,"Revenue sources Cashflow "]
[null,null,null,null,"Model counter (Year)/US$ mn","Total",{"$f":"'T&E'!K$10","v":1},{"$f":"'T&E'!L$10","v":2},{"$f":"'T&E'!M$10","v":3},{"$f":"'T&E'!N$10","v":4},{"$f":"'T&E'!O$10","v":5},{"$f":"'T&E'!P$10","v":6},{"$f":"'T&E'!Q$10","v":7},{"$f":"'T&E'!R$10","v":8},{"$f":"'T&E'!S$10","v":9},{"$f":"'T&E'!T$10","v":10},{"$f":"'T&E'!U$10","v":11},{"$f":"'T&E'!V$10","v":12},{"$f":"'T&E'!W$10","v":13},{"$f":"'T&E'!X$10","v":14},{"$f":"'T&E'!Y$10","v":15},{"$f":"'T&E'!Z$10","v":16},{"$f":"'T&E'!AA$10","v":17},{"$f":"'T&E'!AB$10","v":18},{"$f":"'T&E'!AC$10","v":19},{"$f":"'T&E'!AD$10","v":20},{"$f":"'T&E'!AE$10","v":21},{"$f":"'T&E'!AF$10","v":22},{"$f":"'T&E'!AG$10","v":23},{"$f":"'T&E'!AH$10","v":24},{"$f":"'T&E'!AI$10","v":25},{"$f":"'T&E'!AJ$10","v":26},{"$f":"'T&E'!AK$10","v":27},{"$f":"'T&E'!AL$10","v":28},{"$f":"'T&E'!AM$10","v":29},{"$f":"'T&E'!AN$10","v":30},{"$f":"'T&E'!AO$10","v":31},{"$f":"'T&E'!AP$10","v":32},{"$f":"'T&E'!AQ$10","v":33},{"$f":"'T&E'!AR$10","v":34},{"$f":"'T&E'!AS$10","v":35},{"$f":"'T&E'!AT$10","v":36},{"$f":"'T&E'!AU$10","v":37},{"$f":"'T&E'!AV$10","v":38}]
[null,null,null,null,{"$f":"Results!E17","v":"Royalty Payables"},{"$f":"SUM(G83:AR83)","v":5189.2974809999996},{"$f":"Results!K17","v":0},{"$f":"Results!L17","v":0},{"$f":"Results!M17","v":2.1790803599999999},{"$f":"Results!N17","v":10.895401800000002},{"$f":"Results!O17","v":21.790803600000004},{"$f":"Results!P17","v":54.477009000000002},{"$f":"Results!Q17","v":117.12556935000001},{"$f":"Results!R17","v":117.12556935000001},{"$f":"Results!S17","v":385.63311599999992},{"$f":"Results!T17","v":385.63311599999992},{"$f":"Results!U17","v":385.63311599999992},{"$f":"Results!V17","v":385.63311599999992},{"$f":"Results!W17","v":385.63311599999992},{"$f":"Results!X17","v":391.55038469999994},{"$f":"Results!Y17","v":391.55038469999994},{"$f":"Results!Z17","v":391.55038469999994},{"$f":"Results!AA17","v":391.55038469999994},{"$f":"Results!AB17","v":391.55038469999994},{"$f":"Results!AC17","v":391.55038469999994},{"$f":"Results!AD17","v":391.55038469999994},{"$f":"Results!AE17","v":196.68577463999998},{"$f":"Results!AF17","v":0},{"$f":"Results!AG17","v":0},{"$f":"Results!AH17","v":0},{"$f":"Results!AI17","v":0},{"$f":"Results!AJ17","v":0},{"$f":"Results!AK17","v":0},{"$f":"Results!AL17","v":0},{"$f":"Results!AM17","v":0},{"$f":"Results!AN17","v":0},{"$f":"Results!AO17","v":0},{"$f":"Results!AP17","v":0},{"$f":"Results!AQ17","v":0},{"$f":"Results!AR17","v":0},{"$f":"Results!AS17","v":0},{"$f":"Results!AT17","v":0},{"$f":"Results!AU17","v":0},{"$f":"Results!AV17","v":0}]
[null,null,null,null,{"$f":"Results!E18","v":"Additional Profit share payables"},0,{"$f":"Results!K18","v":0},{"$f":"Results!L18","v":0},{"$f":"Results!M18","v":0},{"$f":"Results!N18","v":0},{"$f":"Results!O18","v":0},{"$f":"Results!P18","v":0},{"$f":"Results!Q18","v":0},{"$f":"Results!R18","v":0},{"$f":"Results!S18","v":0},{"$f":"Results!T18","v":0},{"$f":"Results!U18","v":0},{"$f":"Results!V18","v":0},{"$f":"Results!W18","v":0},{"$f":"Results!X18","v":0},{"$f":"Results!Y18","v":0},{"$f":"Results!Z18","v":0},{"$f":"Results!AA18","v":0},{"$f":"Results!AB18","v":0},{"$f":"Results!AC18","v":0},{"$f":"Results!AD18","v":0},{"$f":"Results!AE18","v":0},{"$f":"Results!AF18","v":0},{"$f":"Results!AG18","v":0},{"$f":"Results!AH18","v":0},{"$f":"Results!AI18","v":0},{"$f":"Results!AJ18","v":0},{"$f":"Results!AK18","v":0},{"$f":"Results!AL18","v":0},{"$f":"Results!AM18","v":0},{"$f":"Results!AN18","v":0},{"$f":"Results!AO18","v":0},{"$f":"Results!AP18","v":0},{"$f":"Results!AQ18","v":0},{"$f":"Results!AR18","v":0},{"$f":"Results!AS18","v":0},{"$f":"Results!AT18","v":0},{"$f":"Results!AU18","v":0},{"$f":"Results!AV18","v":0}]
[null,null,null,null,{"$f":"Results!E19","v":"Annual fees to ISA"},{"$f":"SUM(G85:AR85)","v":31.5},{"$f":"Results!K19","v":1.5},{"$f":"Results!L19","v":1.5},{"$f":"Results!M19","v":1.5},{"$f":"Results!N19","v":1.5},{"$f":"Results!O19","v":1.5},{"$f":"Results!P19","v":1.5},{"$f":"Results!Q19","v":1.5},{"$f":"Results!R19","v":1.5},{"$f":"Results!S19","v":1.5},{"$f":"Results!T19","v":1.5},{"$f":"Results!U19","v":1.5},{"$f":"Results!V19","v":1.5},{"$f":"Results!W19","v":1.5},{"$f":"Results!X19","v":1.5},{"$f":"Results!Y19","v":1.5},{"$f":"Results!Z19","v":1.5},{"$f":"Results!AA19","v":1.5},{"$f":"Results!AB19","v":1.5},{"$f":"Results!AC19","v":1.5},{"$f":"Results!AD19","v":1.5},{"$f":"Results!AE19","v":1.5},{"$f":"Results!AF19","v":0},{"$f":"Results!AG19","v":0},{"$f":"Results!AH19","v":0},{"$f":"Results!AI19","v":0},{"$f":"Results!AJ19","v":0},{"$f":"Results!AK19","v":0},{"$f":"Results!AL19","v":0},{"$f":"Results!AM19","v":0},{"$f":"Results!AN19","v":0},{"$f":"Results!AO19","v":0},{"$f":"Results!AP19","v":0},{"$f":"Results!AQ19","v":0},{"$f":"Results!AR19","v":0},{"$f":"Results!AS19","v":0},{"$f":"Results!AT19","v":0},{"$f":"Results!AU19","v":0},{"$f":"Results!AV19","v":0}]
[null,null,null,null,"Benefits payment",{"$f":"SUM(G86:AR86)","v":196.92000000000004},{"$f":"'Fiscal Model'!K252+'Fiscal Model'!K253","v":0},{"$f":"'Fiscal Model'!L252+'Fiscal Model'!L253","v":0},{"$f":"'Fiscal Model'!M252+'Fiscal Model'!M253","v":0.24},{"$f":"'Fiscal Model'!N252+'Fiscal Model'!N253","v":1.2},{"$f":"'Fiscal Model'!O252+'Fiscal Model'!O253","v":2.4},{"$f":"'Fiscal Model'!P252+'Fiscal Model'!P253","v":6},{"$f":"'Fiscal Model'!Q252+'Fiscal Model'!Q253","v":12.9},{"$f":"'Fiscal Model'!R252+'Fiscal Model'!R253","v":12.9},{"$f":"'Fiscal Model'!S252+'Fiscal Model'!S253","v":12.9},{"$f":"'Fiscal Model'!T252+'Fiscal Model'!T253","v":12.9},{"$f":"'Fiscal Model'!U252+'Fiscal Model'!U253","v":12.9},{"$f":"'Fiscal Model'!V252+'Fiscal Model'!V253","v":12.9},{"$f":"'Fiscal Model'!W252+'Fiscal Model'!W253","v":12.9},{"$f":"'Fiscal Model'!X252+'Fiscal Model'!X253","v":12.9},{"$f":"'Fiscal Model'!Y252+'Fiscal Model'!Y253","v":12.9},{"$f":"'Fiscal Model'!Z252+'Fiscal Model'!Z253","v":12.9},{"$f":"'Fiscal Model'!AA252+'Fiscal Model'!AA253","v":12.9},{"$f":"'Fiscal Model'!AB252+'Fiscal Model'!AB253","v":12.9},{"$f":"'Fiscal Model'!AC252+'Fiscal Model'!AC253","v":12.9},{"$f":"'Fiscal Model'!AD252+'Fiscal Model'!AD253","v":12.9},{"$f":"'Fiscal Model'!AE252+'Fiscal Model'!AE253","v":6.48},{"$f":"'Fiscal Model'!AF252+'Fiscal Model'!AF253","v":0},{"$f":"'Fiscal Model'!AG252+'Fiscal Model'!AG253","v":0},{"$f":"'Fiscal Model'!AH252+'Fiscal Model'!AH253","v":0},{"$f":"'Fiscal Model'!AI252+'Fiscal Model'!AI253","v":0},{"$f":"'Fiscal Model'!AJ252+'Fiscal Model'!AJ253","v":0},{"$f":"'Fiscal Model'!AK252+'Fiscal Model'!AK253","v":0},{"$f":"'Fiscal Model'!AL252+'Fiscal Model'!AL253","v":0},{"$f":"'Fiscal Model'!AM252+'Fiscal Model'!AM253","v":0},{"$f":"'Fiscal Model'!AN252+'Fiscal Model'!AN253","v":0},{"$f":"'Fiscal Model'!AO252+'Fiscal Model'!AO253","v":0},{"$f":"'Fiscal Model'!AP252+'Fiscal Model'!AP253","v":0},{"$f":"'Fiscal Model'!AQ252+'Fiscal Model'!AQ253","v":0},{"$f":"'Fiscal Model'!AR252+'Fiscal Model'!AR253","v":0},{"$f":"'Fiscal Model'!AS252+'Fiscal Model'!AS253","v":0},{"$f":"'Fiscal Model'!AT252+'Fiscal Model'!AT253","v":0},{"$f":"'Fiscal Model'!AU252+'Fiscal Model'!AU253","v":0},{"$f":"'Fiscal Model'!AV252+'Fiscal Model'!AV253","v":0}]
[null,null,null,null,{"$f":"'Fiscal Model'!E251","v":"Corporate Income Taxes - Sponsoring State"},3486.5542223914963,{"$f":"'Fiscal Model'!K251","v":0},{"$f":"'Fiscal Model'!L251","v":0},{"$f":"'Fiscal Model'!M251","v":2.0704682717863134},{"$f":"'Fiscal Model'!N251","v":3.3123413589316133},{"$f":"'Fiscal Model'!O251","v":29.819596415588215},{"$f":"'Fiscal Model'!P251","v":105.93462480099994},{"$f":"'Fiscal Model'!Q251","v":242.32419332214999},{"$f":"'Fiscal Model'!R251","v":234.57419332214999},{"$f":"'Fiscal Model'!S251","v":232.84474744207995},{"$f":"'Fiscal Model'!T251","v":225.09474744207995},{"$f":"'Fiscal Model'!U251","v":217.34474744207995},{"$f":"'Fiscal Model'!V251","v":217.34474744207995},{"$f":"'Fiscal Model'!W251","v":217.34474744207995},{"$f":"'Fiscal Model'!X251","v":236.48128614584016},{"$f":"'Fiscal Model'!Y251","v":236.48128614584016},{"$f":"'Fiscal Model'!Z251","v":236.48128614584016},{"$f":"'Fiscal Model'!AA251","v":236.48128614584016},{"$f":"'Fiscal Model'!AB251","v":236.48128614584016},{"$f":"'Fiscal Model'!AC251","v":236.48128614584016},{"$f":"'Fiscal Model'!AD251","v":244.23128614584016},{"$f":"'Fiscal Model'!AE251","v":95.426064668607978},{"$f":"'Fiscal Model'!AF251","v":0},{"$f":"'Fiscal Model'!AG251","v":0},{"$f":"'Fiscal Model'!AH251","v":0},{"$f":"'Fiscal Model'!AI251","v":0},{"$f":"'Fiscal Model'!AJ251","v":0},{"$f":"'Fiscal Model'!AK251","v":0},{"$f":"'Fiscal Model'!AL251","v":0},{"$f":"'Fiscal Model'!AM251","v":0},{"$f":"'Fiscal Model'!AN251","v":0},{"$f":"'Fiscal Model'!AO251","v":0},{"$f":"'Fiscal Model'!AP251","v":0},{"$f":"'Fiscal Model'!AQ251","v":0},{"$f":"'Fiscal Model'!AR251","v":0},{"$f":"'Fiscal Model'!AS251","v":0},{"$f":"'Fiscal Model'!AT251","v":0},{"$f":"'Fiscal Model'!AU251","v":0},{"$f":"'Fiscal Model'!AV251","v":0},{"$f":"'Fiscal Model'!AW251","v":0}]
[null,null,null,null,"Total",8904.2717033914942,{"$f":"SUM(G83:G87)","v":1.5},{"$f":"SUM(H83:H87)","v":1.5},5.9895486317863131,16.907743158931616,55.510400015588218,167.91163380099994,373.84976267215001,366.09976267215001,632.87786344207984,625.12786344207984,617.37786344207984,617.37786344207984,617.37786344207984,642.43167084584002,642.43167084584002,642.43167084584002,642.43167084584002,642.43167084584002,642.43167084584002,650.18167084584002,300.09183930860797,0,0,0,0,0,0,0,0,0,0,0,0,0,0,0,0,0]
[]
[null,null,null,null,"Royalty/revenue",null,{"$f":"G83/G44","v":{"$error":"#DIV/0!"}},{"$f":"H83/H44","v":{"$error":"#DIV/0!"}},3.6017289577158225E-2,3.6017289577158218E-2,{"$f":"K83/K44","v":3.3673034629822247E-2},3.2672309705855926E-2,3.2672309705855926E-2,3.2672309705855926E-2,9.9455416277970443E-2,9.9455416277970443E-2,9.9455416277970443E-2,9.9455416277970443E-2,9.9455416277970443E-2,0.10012154489735529,0.10012154489735529,0.10012154489735529,0.10012154489735529,0.10012154489735529,0.10012154489735529,0.10012154489735529,0.10012154489735531,{"$error":"#DIV/0!"},{"$error":"#DIV/0!"},{"$error":"#DIV/0!"},{"$error":"#DIV/0!"},{"$error":"#DIV/0!"},{"$error":"#DIV/0!"},{"$error":"#DIV/0!"},{"$error":"#DIV/0!"},{"$error":"#DIV/0!"},{"$error":"#DIV/0!"},{"$error":"#DIV/0!"},{"$error":"#DIV/0!"},{"$error":"#DIV/0!"},{"$error":"#DIV/0!"},{"$error":"#DIV/0!"},{"$error":"#DIV/0!"},{"$error":"#DIV/0!"}]
[]
[]
[]
[]
[]
[]
[]
[]
[]
[]
[]
[]
[]
[]
[]
[]
[]
[]
[]
[]
[]
[]
[]
[]
[]
[]
[]
[]
["END MODEL"]